{"text_format":"3","workbook":"xlsx","n_sheets":4,"sheets":["Програм","ПА-0002","Пројекат","Упутство"],"not_rendered":{"macros":1,"defined_names":257},"read":"whole","date_system":"1900"}

{"sheet":"Програм","index":0,"n_rows":125,"n_cols":22,"rows_kept":125,"merged":[[0,0,0,14],[1,0,1,14],[3,0,3,2],[3,3,3,10],[4,0,4,2],[5,0,5,2],[5,3,5,10],[6,0,6,2],[6,3,6,14],[7,0,7,2],[7,3,7,14],[8,0,8,2],[8,3,8,14],[9,0,9,2],[9,3,9,14],[10,0,10,2],[10,3,10,14],[12,0,13,0],[12,1,13,2],[12,3,12,14],[13,3,13,5],[13,11,13,14],[14,0,16,0],[14,1,16,2],[14,3,14,5],[14,11,14,14],[15,3,15,5],[15,11,15,14],[16,3,16,5],[16,11,16,14],[18,0,19,0],[18,1,19,2],[18,3,18,14],[19,3,19,5],[19,11,19,14],[20,0,22,0],[20,1,22,2],[20,3,20,5],[20,11,20,14],[21,3,21,5],[21,11,21,14],[22,3,22,5],[22,11,22,14],[24,0,25,0],[24,1,25,2],[24,3,24,14],[25,3,25,5],[25,11,25,14],[26,0,28,0],[26,1,28,2],[26,3,26,5],[26,11,26,14],[27,3,27,5],[27,11,27,14],[28,3,28,5],[28,11,28,14],[30,0,31,0],[30,1,31,2],[30,3,30,14],[31,3,31,5],[31,11,31,14],[32,0,34,0],[32,1,34,2],[32,3,32,5],[32,11,32,14],[33,3,33,5],[33,11,33,14],[34,3,34,5],[34,11,34,14],[36,0,37,0],[36,1,37,2],[36,3,36,14],[37,3,37,5],[37,11,37,14],[38,0,40,0],[38,1,40,2],[38,3,38,5],[38,11,38,14],[39,3,39,5],[39,11,39,14],[40,3,40,5],[40,11,40,14],[42,0,43,0],[42,1,43,2],[42,3,42,4],[42,5,42,6],[42,7,42,8],[42,9,42,10],[42,11,42,12],[42,13,42,14],[44,1,44,2],[45,1,45,2],[46,1,46,2],[47,1,47,2],[48,1,48,2],[49,1,49,2],[50,1,50,2],[51,1,51,2],[52,1,52,2],[53,1,53,2],[54,1,54,2],[55,1,55,2],[56,1,56,2],[57,1,57,2],[58,1,58,2],[59,1,59,2],[60,1,60,2],[61,1,61,2],[62,1,62,2],[63,1,63,2],[64,1,64,2],[65,1,65,2],[66,1,66,2],[67,1,67,2],[68,1,68,2],[69,1,69,2],[70,1,70,2],[71,1,71,2],[72,1,72,2],[73,1,73,2],[74,1,74,2],[75,1,75,2],[76,1,76,2],[77,1,77,2],[78,1,78,2],[79,1,79,2],[80,1,80,2],[81,1,81,2],[82,1,82,2],[83,1,83,2],[84,1,84,2],[85,1,85,2],[86,1,86,2],[87,1,87,2],[88,1,88,2],[89,1,89,2],[90,1,90,2],[91,1,91,2],[92,1,92,2],[93,1,93,2],[94,1,94,2],[95,1,95,2],[96,0,96,1],[98,1,98,2],[98,3,98,4],[98,5,98,6],[98,7,98,8],[98,9,98,10],[98,11,98,12],[98,13,98,14],[99,1,99,2],[99,3,99,4],[99,5,99,6],[99,7,99,8],[99,9,99,10],[99,11,99,12],[99,13,99,14],[100,1,100,2],[100,3,100,4],[100,5,100,6],[100,7,100,8],[100,9,100,10],[100,11,100,12],[100,13,100,14],[101,1,101,2],[101,3,101,4],[101,5,101,6],[101,7,101,8],[101,9,101,10],[101,11,101,12],[101,13,101,14],[102,1,102,2],[102,3,102,4],[102,5,102,6],[102,7,102,8],[102,9,102,10],[102,11,102,12],[102,13,102,14],[103,1,103,2],[103,3,103,4],[103,5,103,6],[103,7,103,8],[103,9,103,10],[103,11,103,12],[103,13,103,14],[104,1,104,2],[104,3,104,4],[104,5,104,6],[104,7,104,8],[104,9,104,10],[104,11,104,12],[104,13,104,14],[105,1,105,2],[105,3,105,4],[105,5,105,6],[105,7,105,8],[105,9,105,10],[105,11,105,12],[105,13,105,14],[106,1,106,2],[106,3,106,4],[106,5,106,6],[106,7,106,8],[106,9,106,10],[106,11,106,12],[106,13,106,14],[107,1,107,2],[107,3,107,4],[107,5,107,6],[107,7,107,8],[107,9,107,10],[107,11,107,12],[107,13,107,14],[108,1,108,2],[108,3,108,4],[108,5,108,6],[108,7,108,8],[108,9,108,10],[108,11,108,12],[108,13,108,14],[109,1,109,2],[109,3,109,4],[109,5,109,6],[109,7,109,8],[109,9,109,10],[109,11,109,12],[109,13,109,14],[110,1,110,2],[110,3,110,4],[110,5,110,6],[110,7,110,8],[110,9,110,10],[110,11,110,12],[110,13,110,14],[111,1,111,2],[111,3,111,4],[111,5,111,6],[111,7,111,8],[111,9,111,10],[111,11,111,12],[111,13,111,14],[112,1,112,2],[112,3,112,4],[112,5,112,6],[112,7,112,8],[112,9,112,10],[112,11,112,12],[112,13,112,14],[113,1,113,2],[113,3,113,4],[113,5,113,6],[113,7,113,8],[113,9,113,10],[113,11,113,12],[113,13,113,14],[114,1,114,2],[114,3,114,4],[114,5,114,6],[114,7,114,8],[114,9,114,10],[114,11,114,12],[114,13,114,14],[115,1,115,2],[115,3,115,4],[115,5,115,6],[115,7,115,8],[115,9,115,10],[115,11,115,12],[115,13,115,14],[116,0,116,1],[116,3,116,4],[116,5,116,6],[116,7,116,8],[116,9,116,10],[116,11,116,12],[116,13,116,14],[122,12,122,13]]}
["Обрасци за припрему програмског буџета"]
["1. ПРОГРАМ "]
[{"$nulls":21},{"$f":"VLOOKUP($D$4,Упутство!$B$38:$C$54,2,FALSE)","v":"п15"}]
["Назив програма:",null,null,"Програм 15.  Опште услуге локалне самоуправе",{"$nulls":17},{"$f":"VLOOKUP($D$5,Упутство!$A$76:$B$92,2,FALSE)","v":"ПГ_15"}]
["Шифра програма:",null,null,{"$f":"IF(D4=\"\",\"\",VLOOKUP(D4,Упутство!A2:B20,2,FALSE))","v":"0602"},{"$nulls":17},{"$f":"VLOOKUP($B$15,Упутство!$A$93:$B$131,2,FALSE)","v":{"$error":"#N/A"}}]
["Сектор:",null,null,{"$f":"IF(D4=\"\",\"\",VLOOKUP(D4,Упутство!$A$354:$B$370,2,FALSE))","v":"Опште услуге јавне управе"},{"$nulls":17},{"$f":"VLOOKUP($B$21,Упутство!$A$93:$B$131,2,FALSE)","v":{"$error":"#N/A"}}]
["Сврха:",null,null,{"$f":"IF(D5=\"\",\"\",VLOOKUP(D5,Упутство!$B$2:$C$20,2,FALSE))","v":"Обезбеђивање услова за остварење права грађана на лакши и бржи начин у граду/општини"},{"$nulls":17},{"$f":"VLOOKUP($B$27,Упутство!$A$93:$B$131,2,FALSE)","v":{"$error":"#N/A"}}]
["Основ:",null,null,"Закон о локалној самоуправи, Статут Месне заједнице",{"$nulls":17},{"$f":"VLOOKUP($B$27,Упутство!$A$93:$B$131,2,FALSE)","v":{"$error":"#N/A"}}]
["Опис: ",null,null,"Задоволљење потреба и интереса локалног становништва, кроз очуванје и унапређенје квалитета живота у делу надлежности Месне заједнице",{"$nulls":17},{"$f":"VLOOKUP($B$39,Упутство!$A$93:$B$131,2,FALSE)","v":{"$error":"#N/A"}}]
["Назив организационе јединице/Буџетски корисник:",null,null,"Месна заједница Остојићево"]
["Одговорно лице за спровођење програмa:",null,null,"Јосип Чешљар, председник Савета Месне заједнице Остојићево"]
[]
[null,"Циљ*",null,"Индикатори**"]
[{"$nulls":3},"Назив индикатора",null,null,"Вредност у базној години (2015)","Очекивана вредност у 2016. години","Циљана вредност у 2017. години","Циљана вредност у 2018. години","Циљана вредност у 2019. години","Извор верификације"]
[1,"0602-0002  Функционисање месних заједница",null,"Степен остварења финансијских планова месних заједница",null,null,"70%","87%","87%","87%","87%"]
[]
[]
[]
[null,"Циљ",null,"Индикатори "]
[{"$nulls":3},"Назив индикатора",null,null,"Вредност у базној години (2015)","Очекивана вредност у 2016. години","Циљана вредност у 2017. години","Циљана вредност у 2018. години","Циљана вредност у 2019. години","Извор верификације"]
[2]
[]
[]
[]
[null,"Циљ",null,"Индикатори"]
[{"$nulls":3},"Назив индикатора",null,null,"Вредност у базној години (2015.)","Очекивана вредност у 2016. години","Циљана вредност 2017.","Циљана вредност 2018.","Циљана вредност 2019.","Извор верификације"]
[3]
[]
[{"$nulls":16},"Између 30. и 42. реда се налазе још 2 циља уколико је потребно . Активирају се маркирањем целог  30. и 42. реда > десни клик> опција \"Unhide\". Графичку илустрацију поступка видети у Упутству."]
[]
[null,"Циљ",null,"Индикатори"]
[{"$nulls":3},"Назив индикатора",null,null,"Вредност у базној години (2015.)","Очекивана вредност у 2016. години","Циљана вредност у 2017. години","Циљана вредност у 2018. години","Циљана вредност у 2019. години","Извор верификације"]
[4]
[]
[]
[]
[null,"Циљ",null,"Индикатори"]
[{"$nulls":3},"Назив индикатора",null,null,"Вредност у базној години (2015.)","Очекивана вредност у 2016. години","Циљана вредност у 2017. години","Циљана вредност у 2018. години","Циљана вредност у 2019. години","Извор верификације"]
[5]
[]
[]
[]
["Рбр.","Списак програмских активности и пројеката у оквиру програма по буџетским корисницима",null,"Вредност у базној години (2015)",null,"Очекивана вредност у 2016. години",null,"Вредност у 2017. години",null,"Вредност у 2018. години",null,"Вредност у 2019. години",null,"Укупно (2017-2019)"]
[{"$nulls":3},"Буџетска средства","Средства из осталих извора","Буџетска средства","Средства из осталих извора","Буџетска средства","Средства из осталих извора","Буџетска средства","Средства из осталих извора","Буџетска средства","Средства из осталих извора","Буџетска средства","Средства из осталих извора"]
[1,{"$f":"IFERROR(VLOOKUP(ROWS($B$45:B45),Упутство!$B$374:$D$473,3,FALSE),\"\")","v":"0 (Месна заједница Остојићево)"},null,{"$f":"IFERROR(VLOOKUP(ROWS(D$45:D45),Упутство!$B$374:$N$473,4,FALSE),\"\")","v":{"v":3750000,"d":"3,750,000"}},{"$f":"IFERROR(VLOOKUP(ROWS(E$45:E45),Упутство!$B$374:$N$473,5,FALSE),\"\")","v":{"v":1748000,"d":"1,748,000"}},{"$f":"IFERROR(VLOOKUP(ROWS(F$45:F45),Упутство!$B$374:$N$473,6,FALSE),\"\")","v":{"v":1502000,"d":"1,502,000"}},{"$f":"IFERROR(VLOOKUP(ROWS(G$45:G45),Упутство!$B$374:$N$473,7,FALSE),\"\")","v":{"v":2507500,"d":"2,507,500"}},{"$f":"IFERROR(VLOOKUP(ROWS(H$45:H45),Упутство!$B$374:$N$473,8,FALSE),\"\")","v":{"v":1760000,"d":"1,760,000"}},{"$f":"IFERROR(VLOOKUP(ROWS(I$45:I45),Упутство!$B$374:$N$473,9,FALSE),\"\")","v":{"v":1510000,"d":"1,510,000"}},{"$f":"IFERROR(VLOOKUP(ROWS(J$45:J45),Упутство!$B$374:$N$473,10,FALSE),\"\")","v":{"v":1500000,"d":"1,500,000"}},{"$f":"IFERROR(VLOOKUP(ROWS(K$45:K45),Упутство!$B$374:$N$473,11,FALSE),\"\")","v":0},{"$f":"IFERROR(VLOOKUP(ROWS(L$45:L45),Упутство!$B$374:$N$473,12,FALSE),\"\")","v":{"v":1500000,"d":"1,500,000"}},{"$f":"IFERROR(VLOOKUP(ROWS(M$45:M45),Упутство!$B$374:$N$473,13,FALSE),\"\")","v":0},{"$f":"SUM(H45,J45,L45)","v":{"v":4760000,"d":"4,760,000"}},{"$f":"SUM(I45,K45,M45)","v":{"v":1510000,"d":"1,510,000"}}]
[{"$f":"A45+1","v":2},{"$f":"IFERROR(VLOOKUP(ROWS($B$45:B46),Упутство!$B$374:$D$473,3,FALSE),\"\")","v":""},null,{"$f":"IFERROR(VLOOKUP(ROWS(D$45:D46),Упутство!$B$374:$N$473,4,FALSE),\"\")","v":""},{"$f":"IFERROR(VLOOKUP(ROWS(E$45:E46),Упутство!$B$374:$N$473,5,FALSE),\"\")","v":""},{"$f":"IFERROR(VLOOKUP(ROWS(F$45:F46),Упутство!$B$374:$N$473,6,FALSE),\"\")","v":""},{"$f":"IFERROR(VLOOKUP(ROWS(G$45:G46),Упутство!$B$374:$N$473,7,FALSE),\"\")","v":""},{"$f":"IFERROR(VLOOKUP(ROWS(H$45:H46),Упутство!$B$374:$N$473,8,FALSE),\"\")","v":""},{"$f":"IFERROR(VLOOKUP(ROWS(I$45:I46),Упутство!$B$374:$N$473,9,FALSE),\"\")","v":""},{"$f":"IFERROR(VLOOKUP(ROWS(J$45:J46),Упутство!$B$374:$N$473,10,FALSE),\"\")","v":""},{"$f":"IFERROR(VLOOKUP(ROWS(K$45:K46),Упутство!$B$374:$N$473,11,FALSE),\"\")","v":""},{"$f":"IFERROR(VLOOKUP(ROWS(L$45:L46),Упутство!$B$374:$N$473,12,FALSE),\"\")","v":""},{"$f":"IFERROR(VLOOKUP(ROWS(M$45:M46),Упутство!$B$374:$N$473,13,FALSE),\"\")","v":""},{"$f":"SUM(H46,J46,L46)","v":0},{"$f":"SUM(I46,K46,M46)","v":0}]
[{"$f":"A46+1","v":3},{"$f":"IFERROR(VLOOKUP(ROWS($B$45:B47),Упутство!$B$374:$D$473,3,FALSE),\"\")","v":""},null,{"$f":"IFERROR(VLOOKUP(ROWS(D$45:D47),Упутство!$B$374:$N$473,4,FALSE),\"\")","v":""},{"$f":"IFERROR(VLOOKUP(ROWS(E$45:E47),Упутство!$B$374:$N$473,5,FALSE),\"\")","v":""},{"$f":"IFERROR(VLOOKUP(ROWS(F$45:F47),Упутство!$B$374:$N$473,6,FALSE),\"\")","v":""},{"$f":"IFERROR(VLOOKUP(ROWS(G$45:G47),Упутство!$B$374:$N$473,7,FALSE),\"\")","v":""},{"$f":"IFERROR(VLOOKUP(ROWS(H$45:H47),Упутство!$B$374:$N$473,8,FALSE),\"\")","v":""},{"$f":"IFERROR(VLOOKUP(ROWS(I$45:I47),Упутство!$B$374:$N$473,9,FALSE),\"\")","v":""},{"$f":"IFERROR(VLOOKUP(ROWS(J$45:J47),Упутство!$B$374:$N$473,10,FALSE),\"\")","v":""},{"$f":"IFERROR(VLOOKUP(ROWS(K$45:K47),Упутство!$B$374:$N$473,11,FALSE),\"\")","v":""},{"$f":"IFERROR(VLOOKUP(ROWS(L$45:L47),Упутство!$B$374:$N$473,12,FALSE),\"\")","v":""},{"$f":"IFERROR(VLOOKUP(ROWS(M$45:M47),Упутство!$B$374:$N$473,13,FALSE),\"\")","v":""},0,0]
[{"$f":"A47+1","v":4},{"$f":"IFERROR(VLOOKUP(ROWS($B$45:B48),Упутство!$B$374:$D$473,3,FALSE),\"\")","v":""},null,{"$f":"IFERROR(VLOOKUP(ROWS(D$45:D48),Упутство!$B$374:$N$473,4,FALSE),\"\")","v":""},{"$f":"IFERROR(VLOOKUP(ROWS(E$45:E48),Упутство!$B$374:$N$473,5,FALSE),\"\")","v":""},{"$f":"IFERROR(VLOOKUP(ROWS(F$45:F48),Упутство!$B$374:$N$473,6,FALSE),\"\")","v":""},{"$f":"IFERROR(VLOOKUP(ROWS(G$45:G48),Упутство!$B$374:$N$473,7,FALSE),\"\")","v":""},{"$f":"IFERROR(VLOOKUP(ROWS(H$45:H48),Упутство!$B$374:$N$473,8,FALSE),\"\")","v":""},{"$f":"IFERROR(VLOOKUP(ROWS(I$45:I48),Упутство!$B$374:$N$473,9,FALSE),\"\")","v":""},{"$f":"IFERROR(VLOOKUP(ROWS(J$45:J48),Упутство!$B$374:$N$473,10,FALSE),\"\")","v":""},{"$f":"IFERROR(VLOOKUP(ROWS(K$45:K48),Упутство!$B$374:$N$473,11,FALSE),\"\")","v":""},{"$f":"IFERROR(VLOOKUP(ROWS(L$45:L48),Упутство!$B$374:$N$473,12,FALSE),\"\")","v":""},{"$f":"IFERROR(VLOOKUP(ROWS(M$45:M48),Упутство!$B$374:$N$473,13,FALSE),\"\")","v":""},0,0]
[{"$f":"A48+1","v":5},{"$f":"IFERROR(VLOOKUP(ROWS($B$45:B49),Упутство!$B$374:$D$473,3,FALSE),\"\")","v":""},null,{"$f":"IFERROR(VLOOKUP(ROWS(D$45:D49),Упутство!$B$374:$N$473,4,FALSE),\"\")","v":""},{"$f":"IFERROR(VLOOKUP(ROWS(E$45:E49),Упутство!$B$374:$N$473,5,FALSE),\"\")","v":""},{"$f":"IFERROR(VLOOKUP(ROWS(F$45:F49),Упутство!$B$374:$N$473,6,FALSE),\"\")","v":""},{"$f":"IFERROR(VLOOKUP(ROWS(G$45:G49),Упутство!$B$374:$N$473,7,FALSE),\"\")","v":""},{"$f":"IFERROR(VLOOKUP(ROWS(H$45:H49),Упутство!$B$374:$N$473,8,FALSE),\"\")","v":""},{"$f":"IFERROR(VLOOKUP(ROWS(I$45:I49),Упутство!$B$374:$N$473,9,FALSE),\"\")","v":""},{"$f":"IFERROR(VLOOKUP(ROWS(J$45:J49),Упутство!$B$374:$N$473,10,FALSE),\"\")","v":""},{"$f":"IFERROR(VLOOKUP(ROWS(K$45:K49),Упутство!$B$374:$N$473,11,FALSE),\"\")","v":""},{"$f":"IFERROR(VLOOKUP(ROWS(L$45:L49),Упутство!$B$374:$N$473,12,FALSE),\"\")","v":""},{"$f":"IFERROR(VLOOKUP(ROWS(M$45:M49),Упутство!$B$374:$N$473,13,FALSE),\"\")","v":""},0,0]
[6,{"$f":"IFERROR(VLOOKUP(ROWS($B$45:B50),Упутство!$B$374:$D$473,3,FALSE),\"\")","v":""},null,{"$f":"IFERROR(VLOOKUP(ROWS(D$45:D50),Упутство!$B$374:$N$473,4,FALSE),\"\")","v":""},{"$f":"IFERROR(VLOOKUP(ROWS(E$45:E50),Упутство!$B$374:$N$473,5,FALSE),\"\")","v":""},{"$f":"IFERROR(VLOOKUP(ROWS(F$45:F50),Упутство!$B$374:$N$473,6,FALSE),\"\")","v":""},{"$f":"IFERROR(VLOOKUP(ROWS(G$45:G50),Упутство!$B$374:$N$473,7,FALSE),\"\")","v":""},{"$f":"IFERROR(VLOOKUP(ROWS(H$45:H50),Упутство!$B$374:$N$473,8,FALSE),\"\")","v":""},{"$f":"IFERROR(VLOOKUP(ROWS(I$45:I50),Упутство!$B$374:$N$473,9,FALSE),\"\")","v":""},{"$f":"IFERROR(VLOOKUP(ROWS(J$45:J50),Упутство!$B$374:$N$473,10,FALSE),\"\")","v":""},{"$f":"IFERROR(VLOOKUP(ROWS(K$45:K50),Упутство!$B$374:$N$473,11,FALSE),\"\")","v":""},{"$f":"IFERROR(VLOOKUP(ROWS(L$45:L50),Упутство!$B$374:$N$473,12,FALSE),\"\")","v":""},{"$f":"IFERROR(VLOOKUP(ROWS(M$45:M50),Упутство!$B$374:$N$473,13,FALSE),\"\")","v":""},0,0]
[7,{"$f":"IFERROR(VLOOKUP(ROWS($B$45:B51),Упутство!$B$374:$D$473,3,FALSE),\"\")","v":""},null,{"$f":"IFERROR(VLOOKUP(ROWS(D$45:D51),Упутство!$B$374:$N$473,4,FALSE),\"\")","v":""},{"$f":"IFERROR(VLOOKUP(ROWS(E$45:E51),Упутство!$B$374:$N$473,5,FALSE),\"\")","v":""},{"$f":"IFERROR(VLOOKUP(ROWS(F$45:F51),Упутство!$B$374:$N$473,6,FALSE),\"\")","v":""},{"$f":"IFERROR(VLOOKUP(ROWS(G$45:G51),Упутство!$B$374:$N$473,7,FALSE),\"\")","v":""},{"$f":"IFERROR(VLOOKUP(ROWS(H$45:H51),Упутство!$B$374:$N$473,8,FALSE),\"\")","v":""},{"$f":"IFERROR(VLOOKUP(ROWS(I$45:I51),Упутство!$B$374:$N$473,9,FALSE),\"\")","v":""},{"$f":"IFERROR(VLOOKUP(ROWS(J$45:J51),Упутство!$B$374:$N$473,10,FALSE),\"\")","v":""},{"$f":"IFERROR(VLOOKUP(ROWS(K$45:K51),Упутство!$B$374:$N$473,11,FALSE),\"\")","v":""},{"$f":"IFERROR(VLOOKUP(ROWS(L$45:L51),Упутство!$B$374:$N$473,12,FALSE),\"\")","v":""},{"$f":"IFERROR(VLOOKUP(ROWS(M$45:M51),Упутство!$B$374:$N$473,13,FALSE),\"\")","v":""},0,0]
[8,{"$f":"IFERROR(VLOOKUP(ROWS($B$45:B52),Упутство!$B$374:$D$473,3,FALSE),\"\")","v":""},null,{"$f":"IFERROR(VLOOKUP(ROWS(D$45:D52),Упутство!$B$374:$N$473,4,FALSE),\"\")","v":""},{"$f":"IFERROR(VLOOKUP(ROWS(E$45:E52),Упутство!$B$374:$N$473,5,FALSE),\"\")","v":""},{"$f":"IFERROR(VLOOKUP(ROWS(F$45:F52),Упутство!$B$374:$N$473,6,FALSE),\"\")","v":""},{"$f":"IFERROR(VLOOKUP(ROWS(G$45:G52),Упутство!$B$374:$N$473,7,FALSE),\"\")","v":""},{"$f":"IFERROR(VLOOKUP(ROWS(H$45:H52),Упутство!$B$374:$N$473,8,FALSE),\"\")","v":""},{"$f":"IFERROR(VLOOKUP(ROWS(I$45:I52),Упутство!$B$374:$N$473,9,FALSE),\"\")","v":""},{"$f":"IFERROR(VLOOKUP(ROWS(J$45:J52),Упутство!$B$374:$N$473,10,FALSE),\"\")","v":""},{"$f":"IFERROR(VLOOKUP(ROWS(K$45:K52),Упутство!$B$374:$N$473,11,FALSE),\"\")","v":""},{"$f":"IFERROR(VLOOKUP(ROWS(L$45:L52),Упутство!$B$374:$N$473,12,FALSE),\"\")","v":""},{"$f":"IFERROR(VLOOKUP(ROWS(M$45:M52),Упутство!$B$374:$N$473,13,FALSE),\"\")","v":""},0,0]
[9,{"$f":"IFERROR(VLOOKUP(ROWS($B$45:B53),Упутство!$B$374:$D$473,3,FALSE),\"\")","v":""},null,{"$f":"IFERROR(VLOOKUP(ROWS(D$45:D53),Упутство!$B$374:$N$473,4,FALSE),\"\")","v":""},{"$f":"IFERROR(VLOOKUP(ROWS(E$45:E53),Упутство!$B$374:$N$473,5,FALSE),\"\")","v":""},{"$f":"IFERROR(VLOOKUP(ROWS(F$45:F53),Упутство!$B$374:$N$473,6,FALSE),\"\")","v":""},{"$f":"IFERROR(VLOOKUP(ROWS(G$45:G53),Упутство!$B$374:$N$473,7,FALSE),\"\")","v":""},{"$f":"IFERROR(VLOOKUP(ROWS(H$45:H53),Упутство!$B$374:$N$473,8,FALSE),\"\")","v":""},{"$f":"IFERROR(VLOOKUP(ROWS(I$45:I53),Упутство!$B$374:$N$473,9,FALSE),\"\")","v":""},{"$f":"IFERROR(VLOOKUP(ROWS(J$45:J53),Упутство!$B$374:$N$473,10,FALSE),\"\")","v":""},{"$f":"IFERROR(VLOOKUP(ROWS(K$45:K53),Упутство!$B$374:$N$473,11,FALSE),\"\")","v":""},{"$f":"IFERROR(VLOOKUP(ROWS(L$45:L53),Упутство!$B$374:$N$473,12,FALSE),\"\")","v":""},{"$f":"IFERROR(VLOOKUP(ROWS(M$45:M53),Упутство!$B$374:$N$473,13,FALSE),\"\")","v":""},0,0]
[10,{"$f":"IFERROR(VLOOKUP(ROWS($B$45:B54),Упутство!$B$374:$D$473,3,FALSE),\"\")","v":""},null,{"$f":"IFERROR(VLOOKUP(ROWS(D$45:D54),Упутство!$B$374:$N$473,4,FALSE),\"\")","v":""},{"$f":"IFERROR(VLOOKUP(ROWS(E$45:E54),Упутство!$B$374:$N$473,5,FALSE),\"\")","v":""},{"$f":"IFERROR(VLOOKUP(ROWS(F$45:F54),Упутство!$B$374:$N$473,6,FALSE),\"\")","v":""},{"$f":"IFERROR(VLOOKUP(ROWS(G$45:G54),Упутство!$B$374:$N$473,7,FALSE),\"\")","v":""},{"$f":"IFERROR(VLOOKUP(ROWS(H$45:H54),Упутство!$B$374:$N$473,8,FALSE),\"\")","v":""},{"$f":"IFERROR(VLOOKUP(ROWS(I$45:I54),Упутство!$B$374:$N$473,9,FALSE),\"\")","v":""},{"$f":"IFERROR(VLOOKUP(ROWS(J$45:J54),Упутство!$B$374:$N$473,10,FALSE),\"\")","v":""},{"$f":"IFERROR(VLOOKUP(ROWS(K$45:K54),Упутство!$B$374:$N$473,11,FALSE),\"\")","v":""},{"$f":"IFERROR(VLOOKUP(ROWS(L$45:L54),Упутство!$B$374:$N$473,12,FALSE),\"\")","v":""},{"$f":"IFERROR(VLOOKUP(ROWS(M$45:M54),Упутство!$B$374:$N$473,13,FALSE),\"\")","v":""},0,0]
[11,{"$f":"IFERROR(VLOOKUP(ROWS($B$45:B55),Упутство!$B$374:$D$473,3,FALSE),\"\")","v":""},null,{"$f":"IFERROR(VLOOKUP(ROWS(D$45:D55),Упутство!$B$374:$N$473,4,FALSE),\"\")","v":""},{"$f":"IFERROR(VLOOKUP(ROWS(E$45:E55),Упутство!$B$374:$N$473,5,FALSE),\"\")","v":""},{"$f":"IFERROR(VLOOKUP(ROWS(F$45:F55),Упутство!$B$374:$N$473,6,FALSE),\"\")","v":""},{"$f":"IFERROR(VLOOKUP(ROWS(G$45:G55),Упутство!$B$374:$N$473,7,FALSE),\"\")","v":""},{"$f":"IFERROR(VLOOKUP(ROWS(H$45:H55),Упутство!$B$374:$N$473,8,FALSE),\"\")","v":""},{"$f":"IFERROR(VLOOKUP(ROWS(I$45:I55),Упутство!$B$374:$N$473,9,FALSE),\"\")","v":""},{"$f":"IFERROR(VLOOKUP(ROWS(J$45:J55),Упутство!$B$374:$N$473,10,FALSE),\"\")","v":""},{"$f":"IFERROR(VLOOKUP(ROWS(K$45:K55),Упутство!$B$374:$N$473,11,FALSE),\"\")","v":""},{"$f":"IFERROR(VLOOKUP(ROWS(L$45:L55),Упутство!$B$374:$N$473,12,FALSE),\"\")","v":""},{"$f":"IFERROR(VLOOKUP(ROWS(M$45:M55),Упутство!$B$374:$N$473,13,FALSE),\"\")","v":""},0,0]
[12,{"$f":"IFERROR(VLOOKUP(ROWS($B$45:B56),Упутство!$B$374:$D$473,3,FALSE),\"\")","v":""},null,{"$f":"IFERROR(VLOOKUP(ROWS(D$45:D56),Упутство!$B$374:$N$473,4,FALSE),\"\")","v":""},{"$f":"IFERROR(VLOOKUP(ROWS(E$45:E56),Упутство!$B$374:$N$473,5,FALSE),\"\")","v":""},{"$f":"IFERROR(VLOOKUP(ROWS(F$45:F56),Упутство!$B$374:$N$473,6,FALSE),\"\")","v":""},{"$f":"IFERROR(VLOOKUP(ROWS(G$45:G56),Упутство!$B$374:$N$473,7,FALSE),\"\")","v":""},{"$f":"IFERROR(VLOOKUP(ROWS(H$45:H56),Упутство!$B$374:$N$473,8,FALSE),\"\")","v":""},{"$f":"IFERROR(VLOOKUP(ROWS(I$45:I56),Упутство!$B$374:$N$473,9,FALSE),\"\")","v":""},{"$f":"IFERROR(VLOOKUP(ROWS(J$45:J56),Упутство!$B$374:$N$473,10,FALSE),\"\")","v":""},{"$f":"IFERROR(VLOOKUP(ROWS(K$45:K56),Упутство!$B$374:$N$473,11,FALSE),\"\")","v":""},{"$f":"IFERROR(VLOOKUP(ROWS(L$45:L56),Упутство!$B$374:$N$473,12,FALSE),\"\")","v":""},{"$f":"IFERROR(VLOOKUP(ROWS(M$45:M56),Упутство!$B$374:$N$473,13,FALSE),\"\")","v":""},0,0]
[13,{"$f":"IFERROR(VLOOKUP(ROWS($B$45:B57),Упутство!$B$374:$D$473,3,FALSE),\"\")","v":""},null,{"$f":"IFERROR(VLOOKUP(ROWS(D$45:D57),Упутство!$B$374:$N$473,4,FALSE),\"\")","v":""},{"$f":"IFERROR(VLOOKUP(ROWS(E$45:E57),Упутство!$B$374:$N$473,5,FALSE),\"\")","v":""},{"$f":"IFERROR(VLOOKUP(ROWS(F$45:F57),Упутство!$B$374:$N$473,6,FALSE),\"\")","v":""},{"$f":"IFERROR(VLOOKUP(ROWS(G$45:G57),Упутство!$B$374:$N$473,7,FALSE),\"\")","v":""},{"$f":"IFERROR(VLOOKUP(ROWS(H$45:H57),Упутство!$B$374:$N$473,8,FALSE),\"\")","v":""},{"$f":"IFERROR(VLOOKUP(ROWS(I$45:I57),Упутство!$B$374:$N$473,9,FALSE),\"\")","v":""},{"$f":"IFERROR(VLOOKUP(ROWS(J$45:J57),Упутство!$B$374:$N$473,10,FALSE),\"\")","v":""},{"$f":"IFERROR(VLOOKUP(ROWS(K$45:K57),Упутство!$B$374:$N$473,11,FALSE),\"\")","v":""},{"$f":"IFERROR(VLOOKUP(ROWS(L$45:L57),Упутство!$B$374:$N$473,12,FALSE),\"\")","v":""},{"$f":"IFERROR(VLOOKUP(ROWS(M$45:M57),Упутство!$B$374:$N$473,13,FALSE),\"\")","v":""},0,0]
[14,{"$f":"IFERROR(VLOOKUP(ROWS($B$45:B58),Упутство!$B$374:$D$473,3,FALSE),\"\")","v":""},null,{"$f":"IFERROR(VLOOKUP(ROWS(D$45:D58),Упутство!$B$374:$N$473,4,FALSE),\"\")","v":""},{"$f":"IFERROR(VLOOKUP(ROWS(E$45:E58),Упутство!$B$374:$N$473,5,FALSE),\"\")","v":""},{"$f":"IFERROR(VLOOKUP(ROWS(F$45:F58),Упутство!$B$374:$N$473,6,FALSE),\"\")","v":""},{"$f":"IFERROR(VLOOKUP(ROWS(G$45:G58),Упутство!$B$374:$N$473,7,FALSE),\"\")","v":""},{"$f":"IFERROR(VLOOKUP(ROWS(H$45:H58),Упутство!$B$374:$N$473,8,FALSE),\"\")","v":""},{"$f":"IFERROR(VLOOKUP(ROWS(I$45:I58),Упутство!$B$374:$N$473,9,FALSE),\"\")","v":""},{"$f":"IFERROR(VLOOKUP(ROWS(J$45:J58),Упутство!$B$374:$N$473,10,FALSE),\"\")","v":""},{"$f":"IFERROR(VLOOKUP(ROWS(K$45:K58),Упутство!$B$374:$N$473,11,FALSE),\"\")","v":""},{"$f":"IFERROR(VLOOKUP(ROWS(L$45:L58),Упутство!$B$374:$N$473,12,FALSE),\"\")","v":""},{"$f":"IFERROR(VLOOKUP(ROWS(M$45:M58),Упутство!$B$374:$N$473,13,FALSE),\"\")","v":""},0,0]
[{"$f":"A58+1","v":15},{"$f":"IFERROR(VLOOKUP(ROWS($B$45:B59),Упутство!$B$374:$D$473,3,FALSE),\"\")","v":""},null,{"$f":"IFERROR(VLOOKUP(ROWS(D$45:D59),Упутство!$B$374:$N$473,4,FALSE),\"\")","v":""},{"$f":"IFERROR(VLOOKUP(ROWS(E$45:E59),Упутство!$B$374:$N$473,5,FALSE),\"\")","v":""},{"$f":"IFERROR(VLOOKUP(ROWS(F$45:F59),Упутство!$B$374:$N$473,6,FALSE),\"\")","v":""},{"$f":"IFERROR(VLOOKUP(ROWS(G$45:G59),Упутство!$B$374:$N$473,7,FALSE),\"\")","v":""},{"$f":"IFERROR(VLOOKUP(ROWS(H$45:H59),Упутство!$B$374:$N$473,8,FALSE),\"\")","v":""},{"$f":"IFERROR(VLOOKUP(ROWS(I$45:I59),Упутство!$B$374:$N$473,9,FALSE),\"\")","v":""},{"$f":"IFERROR(VLOOKUP(ROWS(J$45:J59),Упутство!$B$374:$N$473,10,FALSE),\"\")","v":""},{"$f":"IFERROR(VLOOKUP(ROWS(K$45:K59),Упутство!$B$374:$N$473,11,FALSE),\"\")","v":""},{"$f":"IFERROR(VLOOKUP(ROWS(L$45:L59),Упутство!$B$374:$N$473,12,FALSE),\"\")","v":""},{"$f":"IFERROR(VLOOKUP(ROWS(M$45:M59),Упутство!$B$374:$N$473,13,FALSE),\"\")","v":""},0,0]
[16,{"$f":"IFERROR(VLOOKUP(ROWS($B$45:B60),Упутство!$B$374:$D$473,3,FALSE),\"\")","v":""},null,{"$f":"IFERROR(VLOOKUP(ROWS(D$45:D60),Упутство!$B$374:$N$473,4,FALSE),\"\")","v":""},{"$f":"IFERROR(VLOOKUP(ROWS(E$45:E60),Упутство!$B$374:$N$473,5,FALSE),\"\")","v":""},{"$f":"IFERROR(VLOOKUP(ROWS(F$45:F60),Упутство!$B$374:$N$473,6,FALSE),\"\")","v":""},{"$f":"IFERROR(VLOOKUP(ROWS(G$45:G60),Упутство!$B$374:$N$473,7,FALSE),\"\")","v":""},{"$f":"IFERROR(VLOOKUP(ROWS(H$45:H60),Упутство!$B$374:$N$473,8,FALSE),\"\")","v":""},{"$f":"IFERROR(VLOOKUP(ROWS(I$45:I60),Упутство!$B$374:$N$473,9,FALSE),\"\")","v":""},{"$f":"IFERROR(VLOOKUP(ROWS(J$45:J60),Упутство!$B$374:$N$473,10,FALSE),\"\")","v":""},{"$f":"IFERROR(VLOOKUP(ROWS(K$45:K60),Упутство!$B$374:$N$473,11,FALSE),\"\")","v":""},{"$f":"IFERROR(VLOOKUP(ROWS(L$45:L60),Упутство!$B$374:$N$473,12,FALSE),\"\")","v":""},{"$f":"IFERROR(VLOOKUP(ROWS(M$45:M60),Упутство!$B$374:$N$473,13,FALSE),\"\")","v":""},0,0]
[17,{"$f":"IFERROR(VLOOKUP(ROWS($B$45:B61),Упутство!$B$374:$D$473,3,FALSE),\"\")","v":""},null,{"$f":"IFERROR(VLOOKUP(ROWS(D$45:D61),Упутство!$B$374:$N$473,4,FALSE),\"\")","v":""},{"$f":"IFERROR(VLOOKUP(ROWS(E$45:E61),Упутство!$B$374:$N$473,5,FALSE),\"\")","v":""},{"$f":"IFERROR(VLOOKUP(ROWS(F$45:F61),Упутство!$B$374:$N$473,6,FALSE),\"\")","v":""},{"$f":"IFERROR(VLOOKUP(ROWS(G$45:G61),Упутство!$B$374:$N$473,7,FALSE),\"\")","v":""},{"$f":"IFERROR(VLOOKUP(ROWS(H$45:H61),Упутство!$B$374:$N$473,8,FALSE),\"\")","v":""},{"$f":"IFERROR(VLOOKUP(ROWS(I$45:I61),Упутство!$B$374:$N$473,9,FALSE),\"\")","v":""},{"$f":"IFERROR(VLOOKUP(ROWS(J$45:J61),Упутство!$B$374:$N$473,10,FALSE),\"\")","v":""},{"$f":"IFERROR(VLOOKUP(ROWS(K$45:K61),Упутство!$B$374:$N$473,11,FALSE),\"\")","v":""},{"$f":"IFERROR(VLOOKUP(ROWS(L$45:L61),Упутство!$B$374:$N$473,12,FALSE),\"\")","v":""},{"$f":"IFERROR(VLOOKUP(ROWS(M$45:M61),Упутство!$B$374:$N$473,13,FALSE),\"\")","v":""},0,0]
[18,{"$f":"IFERROR(VLOOKUP(ROWS($B$45:B62),Упутство!$B$374:$D$473,3,FALSE),\"\")","v":""},null,{"$f":"IFERROR(VLOOKUP(ROWS(D$45:D62),Упутство!$B$374:$N$473,4,FALSE),\"\")","v":""},{"$f":"IFERROR(VLOOKUP(ROWS(E$45:E62),Упутство!$B$374:$N$473,5,FALSE),\"\")","v":""},{"$f":"IFERROR(VLOOKUP(ROWS(F$45:F62),Упутство!$B$374:$N$473,6,FALSE),\"\")","v":""},{"$f":"IFERROR(VLOOKUP(ROWS(G$45:G62),Упутство!$B$374:$N$473,7,FALSE),\"\")","v":""},{"$f":"IFERROR(VLOOKUP(ROWS(H$45:H62),Упутство!$B$374:$N$473,8,FALSE),\"\")","v":""},{"$f":"IFERROR(VLOOKUP(ROWS(I$45:I62),Упутство!$B$374:$N$473,9,FALSE),\"\")","v":""},{"$f":"IFERROR(VLOOKUP(ROWS(J$45:J62),Упутство!$B$374:$N$473,10,FALSE),\"\")","v":""},{"$f":"IFERROR(VLOOKUP(ROWS(K$45:K62),Упутство!$B$374:$N$473,11,FALSE),\"\")","v":""},{"$f":"IFERROR(VLOOKUP(ROWS(L$45:L62),Упутство!$B$374:$N$473,12,FALSE),\"\")","v":""},{"$f":"IFERROR(VLOOKUP(ROWS(M$45:M62),Упутство!$B$374:$N$473,13,FALSE),\"\")","v":""},0,0]
[19,{"$f":"IFERROR(VLOOKUP(ROWS($B$45:B63),Упутство!$B$374:$D$473,3,FALSE),\"\")","v":""},null,{"$f":"IFERROR(VLOOKUP(ROWS(D$45:D63),Упутство!$B$374:$N$473,4,FALSE),\"\")","v":""},{"$f":"IFERROR(VLOOKUP(ROWS(E$45:E63),Упутство!$B$374:$N$473,5,FALSE),\"\")","v":""},{"$f":"IFERROR(VLOOKUP(ROWS(F$45:F63),Упутство!$B$374:$N$473,6,FALSE),\"\")","v":""},{"$f":"IFERROR(VLOOKUP(ROWS(G$45:G63),Упутство!$B$374:$N$473,7,FALSE),\"\")","v":""},{"$f":"IFERROR(VLOOKUP(ROWS(H$45:H63),Упутство!$B$374:$N$473,8,FALSE),\"\")","v":""},{"$f":"IFERROR(VLOOKUP(ROWS(I$45:I63),Упутство!$B$374:$N$473,9,FALSE),\"\")","v":""},{"$f":"IFERROR(VLOOKUP(ROWS(J$45:J63),Упутство!$B$374:$N$473,10,FALSE),\"\")","v":""},{"$f":"IFERROR(VLOOKUP(ROWS(K$45:K63),Упутство!$B$374:$N$473,11,FALSE),\"\")","v":""},{"$f":"IFERROR(VLOOKUP(ROWS(L$45:L63),Упутство!$B$374:$N$473,12,FALSE),\"\")","v":""},{"$f":"IFERROR(VLOOKUP(ROWS(M$45:M63),Упутство!$B$374:$N$473,13,FALSE),\"\")","v":""},0,0]
[20,{"$f":"IFERROR(VLOOKUP(ROWS($B$45:B64),Упутство!$B$374:$D$473,3,FALSE),\"\")","v":""},null,{"$f":"IFERROR(VLOOKUP(ROWS(D$45:D64),Упутство!$B$374:$N$473,4,FALSE),\"\")","v":""},{"$f":"IFERROR(VLOOKUP(ROWS(E$45:E64),Упутство!$B$374:$N$473,5,FALSE),\"\")","v":""},{"$f":"IFERROR(VLOOKUP(ROWS(F$45:F64),Упутство!$B$374:$N$473,6,FALSE),\"\")","v":""},{"$f":"IFERROR(VLOOKUP(ROWS(G$45:G64),Упутство!$B$374:$N$473,7,FALSE),\"\")","v":""},{"$f":"IFERROR(VLOOKUP(ROWS(H$45:H64),Упутство!$B$374:$N$473,8,FALSE),\"\")","v":""},{"$f":"IFERROR(VLOOKUP(ROWS(I$45:I64),Упутство!$B$374:$N$473,9,FALSE),\"\")","v":""},{"$f":"IFERROR(VLOOKUP(ROWS(J$45:J64),Упутство!$B$374:$N$473,10,FALSE),\"\")","v":""},{"$f":"IFERROR(VLOOKUP(ROWS(K$45:K64),Упутство!$B$374:$N$473,11,FALSE),\"\")","v":""},{"$f":"IFERROR(VLOOKUP(ROWS(L$45:L64),Упутство!$B$374:$N$473,12,FALSE),\"\")","v":""},{"$f":"IFERROR(VLOOKUP(ROWS(M$45:M64),Упутство!$B$374:$N$473,13,FALSE),\"\")","v":""},0,0]
[21,{"$f":"IFERROR(VLOOKUP(ROWS($B$45:B65),Упутство!$B$374:$D$473,3,FALSE),\"\")","v":""},null,{"$f":"IFERROR(VLOOKUP(ROWS(D$45:D65),Упутство!$B$374:$N$473,4,FALSE),\"\")","v":""},{"$f":"IFERROR(VLOOKUP(ROWS(E$45:E65),Упутство!$B$374:$N$473,5,FALSE),\"\")","v":""},{"$f":"IFERROR(VLOOKUP(ROWS(F$45:F65),Упутство!$B$374:$N$473,6,FALSE),\"\")","v":""},{"$f":"IFERROR(VLOOKUP(ROWS(G$45:G65),Упутство!$B$374:$N$473,7,FALSE),\"\")","v":""},{"$f":"IFERROR(VLOOKUP(ROWS(H$45:H65),Упутство!$B$374:$N$473,8,FALSE),\"\")","v":""},{"$f":"IFERROR(VLOOKUP(ROWS(I$45:I65),Упутство!$B$374:$N$473,9,FALSE),\"\")","v":""},{"$f":"IFERROR(VLOOKUP(ROWS(J$45:J65),Упутство!$B$374:$N$473,10,FALSE),\"\")","v":""},{"$f":"IFERROR(VLOOKUP(ROWS(K$45:K65),Упутство!$B$374:$N$473,11,FALSE),\"\")","v":""},{"$f":"IFERROR(VLOOKUP(ROWS(L$45:L65),Упутство!$B$374:$N$473,12,FALSE),\"\")","v":""},{"$f":"IFERROR(VLOOKUP(ROWS(M$45:M65),Упутство!$B$374:$N$473,13,FALSE),\"\")","v":""},0,0]
[22,{"$f":"IFERROR(VLOOKUP(ROWS($B$45:B66),Упутство!$B$374:$D$473,3,FALSE),\"\")","v":""},null,{"$f":"IFERROR(VLOOKUP(ROWS(D$45:D66),Упутство!$B$374:$N$473,4,FALSE),\"\")","v":""},{"$f":"IFERROR(VLOOKUP(ROWS(E$45:E66),Упутство!$B$374:$N$473,5,FALSE),\"\")","v":""},{"$f":"IFERROR(VLOOKUP(ROWS(F$45:F66),Упутство!$B$374:$N$473,6,FALSE),\"\")","v":""},{"$f":"IFERROR(VLOOKUP(ROWS(G$45:G66),Упутство!$B$374:$N$473,7,FALSE),\"\")","v":""},{"$f":"IFERROR(VLOOKUP(ROWS(H$45:H66),Упутство!$B$374:$N$473,8,FALSE),\"\")","v":""},{"$f":"IFERROR(VLOOKUP(ROWS(I$45:I66),Упутство!$B$374:$N$473,9,FALSE),\"\")","v":""},{"$f":"IFERROR(VLOOKUP(ROWS(J$45:J66),Упутство!$B$374:$N$473,10,FALSE),\"\")","v":""},{"$f":"IFERROR(VLOOKUP(ROWS(K$45:K66),Упутство!$B$374:$N$473,11,FALSE),\"\")","v":""},{"$f":"IFERROR(VLOOKUP(ROWS(L$45:L66),Упутство!$B$374:$N$473,12,FALSE),\"\")","v":""},{"$f":"IFERROR(VLOOKUP(ROWS(M$45:M66),Упутство!$B$374:$N$473,13,FALSE),\"\")","v":""},0,0]
[23,{"$f":"IFERROR(VLOOKUP(ROWS($B$45:B67),Упутство!$B$374:$D$473,3,FALSE),\"\")","v":""},null,{"$f":"IFERROR(VLOOKUP(ROWS(D$45:D67),Упутство!$B$374:$N$473,4,FALSE),\"\")","v":""},{"$f":"IFERROR(VLOOKUP(ROWS(E$45:E67),Упутство!$B$374:$N$473,5,FALSE),\"\")","v":""},{"$f":"IFERROR(VLOOKUP(ROWS(F$45:F67),Упутство!$B$374:$N$473,6,FALSE),\"\")","v":""},{"$f":"IFERROR(VLOOKUP(ROWS(G$45:G67),Упутство!$B$374:$N$473,7,FALSE),\"\")","v":""},{"$f":"IFERROR(VLOOKUP(ROWS(H$45:H67),Упутство!$B$374:$N$473,8,FALSE),\"\")","v":""},{"$f":"IFERROR(VLOOKUP(ROWS(I$45:I67),Упутство!$B$374:$N$473,9,FALSE),\"\")","v":""},{"$f":"IFERROR(VLOOKUP(ROWS(J$45:J67),Упутство!$B$374:$N$473,10,FALSE),\"\")","v":""},{"$f":"IFERROR(VLOOKUP(ROWS(K$45:K67),Упутство!$B$374:$N$473,11,FALSE),\"\")","v":""},{"$f":"IFERROR(VLOOKUP(ROWS(L$45:L67),Упутство!$B$374:$N$473,12,FALSE),\"\")","v":""},{"$f":"IFERROR(VLOOKUP(ROWS(M$45:M67),Упутство!$B$374:$N$473,13,FALSE),\"\")","v":""},0,0]
[24,{"$f":"IFERROR(VLOOKUP(ROWS($B$45:B68),Упутство!$B$374:$D$473,3,FALSE),\"\")","v":""},null,{"$f":"IFERROR(VLOOKUP(ROWS(D$45:D68),Упутство!$B$374:$N$473,4,FALSE),\"\")","v":""},{"$f":"IFERROR(VLOOKUP(ROWS(E$45:E68),Упутство!$B$374:$N$473,5,FALSE),\"\")","v":""},{"$f":"IFERROR(VLOOKUP(ROWS(F$45:F68),Упутство!$B$374:$N$473,6,FALSE),\"\")","v":""},{"$f":"IFERROR(VLOOKUP(ROWS(G$45:G68),Упутство!$B$374:$N$473,7,FALSE),\"\")","v":""},{"$f":"IFERROR(VLOOKUP(ROWS(H$45:H68),Упутство!$B$374:$N$473,8,FALSE),\"\")","v":""},{"$f":"IFERROR(VLOOKUP(ROWS(I$45:I68),Упутство!$B$374:$N$473,9,FALSE),\"\")","v":""},{"$f":"IFERROR(VLOOKUP(ROWS(J$45:J68),Упутство!$B$374:$N$473,10,FALSE),\"\")","v":""},{"$f":"IFERROR(VLOOKUP(ROWS(K$45:K68),Упутство!$B$374:$N$473,11,FALSE),\"\")","v":""},{"$f":"IFERROR(VLOOKUP(ROWS(L$45:L68),Упутство!$B$374:$N$473,12,FALSE),\"\")","v":""},{"$f":"IFERROR(VLOOKUP(ROWS(M$45:M68),Упутство!$B$374:$N$473,13,FALSE),\"\")","v":""},0,0]
[25,{"$f":"IFERROR(VLOOKUP(ROWS($B$45:B69),Упутство!$B$374:$D$473,3,FALSE),\"\")","v":""},null,{"$f":"IFERROR(VLOOKUP(ROWS(D$45:D69),Упутство!$B$374:$N$473,4,FALSE),\"\")","v":""},{"$f":"IFERROR(VLOOKUP(ROWS(E$45:E69),Упутство!$B$374:$N$473,5,FALSE),\"\")","v":""},{"$f":"IFERROR(VLOOKUP(ROWS(F$45:F69),Упутство!$B$374:$N$473,6,FALSE),\"\")","v":""},{"$f":"IFERROR(VLOOKUP(ROWS(G$45:G69),Упутство!$B$374:$N$473,7,FALSE),\"\")","v":""},{"$f":"IFERROR(VLOOKUP(ROWS(H$45:H69),Упутство!$B$374:$N$473,8,FALSE),\"\")","v":""},{"$f":"IFERROR(VLOOKUP(ROWS(I$45:I69),Упутство!$B$374:$N$473,9,FALSE),\"\")","v":""},{"$f":"IFERROR(VLOOKUP(ROWS(J$45:J69),Упутство!$B$374:$N$473,10,FALSE),\"\")","v":""},{"$f":"IFERROR(VLOOKUP(ROWS(K$45:K69),Упутство!$B$374:$N$473,11,FALSE),\"\")","v":""},{"$f":"IFERROR(VLOOKUP(ROWS(L$45:L69),Упутство!$B$374:$N$473,12,FALSE),\"\")","v":""},{"$f":"IFERROR(VLOOKUP(ROWS(M$45:M69),Упутство!$B$374:$N$473,13,FALSE),\"\")","v":""},0,0]
[26,{"$f":"IFERROR(VLOOKUP(ROWS($B$45:B70),Упутство!$B$374:$D$473,3,FALSE),\"\")","v":""},null,{"$f":"IFERROR(VLOOKUP(ROWS(D$45:D70),Упутство!$B$374:$N$473,4,FALSE),\"\")","v":""},{"$f":"IFERROR(VLOOKUP(ROWS(E$45:E70),Упутство!$B$374:$N$473,5,FALSE),\"\")","v":""},{"$f":"IFERROR(VLOOKUP(ROWS(F$45:F70),Упутство!$B$374:$N$473,6,FALSE),\"\")","v":""},{"$f":"IFERROR(VLOOKUP(ROWS(G$45:G70),Упутство!$B$374:$N$473,7,FALSE),\"\")","v":""},{"$f":"IFERROR(VLOOKUP(ROWS(H$45:H70),Упутство!$B$374:$N$473,8,FALSE),\"\")","v":""},{"$f":"IFERROR(VLOOKUP(ROWS(I$45:I70),Упутство!$B$374:$N$473,9,FALSE),\"\")","v":""},{"$f":"IFERROR(VLOOKUP(ROWS(J$45:J70),Упутство!$B$374:$N$473,10,FALSE),\"\")","v":""},{"$f":"IFERROR(VLOOKUP(ROWS(K$45:K70),Упутство!$B$374:$N$473,11,FALSE),\"\")","v":""},{"$f":"IFERROR(VLOOKUP(ROWS(L$45:L70),Упутство!$B$374:$N$473,12,FALSE),\"\")","v":""},{"$f":"IFERROR(VLOOKUP(ROWS(M$45:M70),Упутство!$B$374:$N$473,13,FALSE),\"\")","v":""},0,0]
[27,{"$f":"IFERROR(VLOOKUP(ROWS($B$45:B71),Упутство!$B$374:$D$473,3,FALSE),\"\")","v":""},null,{"$f":"IFERROR(VLOOKUP(ROWS(D$45:D71),Упутство!$B$374:$N$473,4,FALSE),\"\")","v":""},{"$f":"IFERROR(VLOOKUP(ROWS(E$45:E71),Упутство!$B$374:$N$473,5,FALSE),\"\")","v":""},{"$f":"IFERROR(VLOOKUP(ROWS(F$45:F71),Упутство!$B$374:$N$473,6,FALSE),\"\")","v":""},{"$f":"IFERROR(VLOOKUP(ROWS(G$45:G71),Упутство!$B$374:$N$473,7,FALSE),\"\")","v":""},{"$f":"IFERROR(VLOOKUP(ROWS(H$45:H71),Упутство!$B$374:$N$473,8,FALSE),\"\")","v":""},{"$f":"IFERROR(VLOOKUP(ROWS(I$45:I71),Упутство!$B$374:$N$473,9,FALSE),\"\")","v":""},{"$f":"IFERROR(VLOOKUP(ROWS(J$45:J71),Упутство!$B$374:$N$473,10,FALSE),\"\")","v":""},{"$f":"IFERROR(VLOOKUP(ROWS(K$45:K71),Упутство!$B$374:$N$473,11,FALSE),\"\")","v":""},{"$f":"IFERROR(VLOOKUP(ROWS(L$45:L71),Упутство!$B$374:$N$473,12,FALSE),\"\")","v":""},{"$f":"IFERROR(VLOOKUP(ROWS(M$45:M71),Упутство!$B$374:$N$473,13,FALSE),\"\")","v":""},0,0]
[28,{"$f":"IFERROR(VLOOKUP(ROWS($B$45:B72),Упутство!$B$374:$D$473,3,FALSE),\"\")","v":""},null,{"$f":"IFERROR(VLOOKUP(ROWS(D$45:D72),Упутство!$B$374:$N$473,4,FALSE),\"\")","v":""},{"$f":"IFERROR(VLOOKUP(ROWS(E$45:E72),Упутство!$B$374:$N$473,5,FALSE),\"\")","v":""},{"$f":"IFERROR(VLOOKUP(ROWS(F$45:F72),Упутство!$B$374:$N$473,6,FALSE),\"\")","v":""},{"$f":"IFERROR(VLOOKUP(ROWS(G$45:G72),Упутство!$B$374:$N$473,7,FALSE),\"\")","v":""},{"$f":"IFERROR(VLOOKUP(ROWS(H$45:H72),Упутство!$B$374:$N$473,8,FALSE),\"\")","v":""},{"$f":"IFERROR(VLOOKUP(ROWS(I$45:I72),Упутство!$B$374:$N$473,9,FALSE),\"\")","v":""},{"$f":"IFERROR(VLOOKUP(ROWS(J$45:J72),Упутство!$B$374:$N$473,10,FALSE),\"\")","v":""},{"$f":"IFERROR(VLOOKUP(ROWS(K$45:K72),Упутство!$B$374:$N$473,11,FALSE),\"\")","v":""},{"$f":"IFERROR(VLOOKUP(ROWS(L$45:L72),Упутство!$B$374:$N$473,12,FALSE),\"\")","v":""},{"$f":"IFERROR(VLOOKUP(ROWS(M$45:M72),Упутство!$B$374:$N$473,13,FALSE),\"\")","v":""},0,0]
[29,{"$f":"IFERROR(VLOOKUP(ROWS($B$45:B73),Упутство!$B$374:$D$473,3,FALSE),\"\")","v":""},null,{"$f":"IFERROR(VLOOKUP(ROWS(D$45:D73),Упутство!$B$374:$N$473,4,FALSE),\"\")","v":""},{"$f":"IFERROR(VLOOKUP(ROWS(E$45:E73),Упутство!$B$374:$N$473,5,FALSE),\"\")","v":""},{"$f":"IFERROR(VLOOKUP(ROWS(F$45:F73),Упутство!$B$374:$N$473,6,FALSE),\"\")","v":""},{"$f":"IFERROR(VLOOKUP(ROWS(G$45:G73),Упутство!$B$374:$N$473,7,FALSE),\"\")","v":""},{"$f":"IFERROR(VLOOKUP(ROWS(H$45:H73),Упутство!$B$374:$N$473,8,FALSE),\"\")","v":""},{"$f":"IFERROR(VLOOKUP(ROWS(I$45:I73),Упутство!$B$374:$N$473,9,FALSE),\"\")","v":""},{"$f":"IFERROR(VLOOKUP(ROWS(J$45:J73),Упутство!$B$374:$N$473,10,FALSE),\"\")","v":""},{"$f":"IFERROR(VLOOKUP(ROWS(K$45:K73),Упутство!$B$374:$N$473,11,FALSE),\"\")","v":""},{"$f":"IFERROR(VLOOKUP(ROWS(L$45:L73),Упутство!$B$374:$N$473,12,FALSE),\"\")","v":""},{"$f":"IFERROR(VLOOKUP(ROWS(M$45:M73),Упутство!$B$374:$N$473,13,FALSE),\"\")","v":""},0,0]
[30,{"$f":"IFERROR(VLOOKUP(ROWS($B$45:B74),Упутство!$B$374:$D$473,3,FALSE),\"\")","v":""},null,{"$f":"IFERROR(VLOOKUP(ROWS(D$45:D74),Упутство!$B$374:$N$473,4,FALSE),\"\")","v":""},{"$f":"IFERROR(VLOOKUP(ROWS(E$45:E74),Упутство!$B$374:$N$473,5,FALSE),\"\")","v":""},{"$f":"IFERROR(VLOOKUP(ROWS(F$45:F74),Упутство!$B$374:$N$473,6,FALSE),\"\")","v":""},{"$f":"IFERROR(VLOOKUP(ROWS(G$45:G74),Упутство!$B$374:$N$473,7,FALSE),\"\")","v":""},{"$f":"IFERROR(VLOOKUP(ROWS(H$45:H74),Упутство!$B$374:$N$473,8,FALSE),\"\")","v":""},{"$f":"IFERROR(VLOOKUP(ROWS(I$45:I74),Упутство!$B$374:$N$473,9,FALSE),\"\")","v":""},{"$f":"IFERROR(VLOOKUP(ROWS(J$45:J74),Упутство!$B$374:$N$473,10,FALSE),\"\")","v":""},{"$f":"IFERROR(VLOOKUP(ROWS(K$45:K74),Упутство!$B$374:$N$473,11,FALSE),\"\")","v":""},{"$f":"IFERROR(VLOOKUP(ROWS(L$45:L74),Упутство!$B$374:$N$473,12,FALSE),\"\")","v":""},{"$f":"IFERROR(VLOOKUP(ROWS(M$45:M74),Упутство!$B$374:$N$473,13,FALSE),\"\")","v":""},0,0]
[31,{"$f":"IFERROR(VLOOKUP(ROWS($B$45:B75),Упутство!$B$374:$D$473,3,FALSE),\"\")","v":""},null,{"$f":"IFERROR(VLOOKUP(ROWS(D$45:D75),Упутство!$B$374:$N$473,4,FALSE),\"\")","v":""},{"$f":"IFERROR(VLOOKUP(ROWS(E$45:E75),Упутство!$B$374:$N$473,5,FALSE),\"\")","v":""},{"$f":"IFERROR(VLOOKUP(ROWS(F$45:F75),Упутство!$B$374:$N$473,6,FALSE),\"\")","v":""},{"$f":"IFERROR(VLOOKUP(ROWS(G$45:G75),Упутство!$B$374:$N$473,7,FALSE),\"\")","v":""},{"$f":"IFERROR(VLOOKUP(ROWS(H$45:H75),Упутство!$B$374:$N$473,8,FALSE),\"\")","v":""},{"$f":"IFERROR(VLOOKUP(ROWS(I$45:I75),Упутство!$B$374:$N$473,9,FALSE),\"\")","v":""},{"$f":"IFERROR(VLOOKUP(ROWS(J$45:J75),Упутство!$B$374:$N$473,10,FALSE),\"\")","v":""},{"$f":"IFERROR(VLOOKUP(ROWS(K$45:K75),Упутство!$B$374:$N$473,11,FALSE),\"\")","v":""},{"$f":"IFERROR(VLOOKUP(ROWS(L$45:L75),Упутство!$B$374:$N$473,12,FALSE),\"\")","v":""},{"$f":"IFERROR(VLOOKUP(ROWS(M$45:M75),Упутство!$B$374:$N$473,13,FALSE),\"\")","v":""},0,0]
[32,{"$f":"IFERROR(VLOOKUP(ROWS($B$45:B76),Упутство!$B$374:$D$473,3,FALSE),\"\")","v":""},null,{"$f":"IFERROR(VLOOKUP(ROWS(D$45:D76),Упутство!$B$374:$N$473,4,FALSE),\"\")","v":""},{"$f":"IFERROR(VLOOKUP(ROWS(E$45:E76),Упутство!$B$374:$N$473,5,FALSE),\"\")","v":""},{"$f":"IFERROR(VLOOKUP(ROWS(F$45:F76),Упутство!$B$374:$N$473,6,FALSE),\"\")","v":""},{"$f":"IFERROR(VLOOKUP(ROWS(G$45:G76),Упутство!$B$374:$N$473,7,FALSE),\"\")","v":""},{"$f":"IFERROR(VLOOKUP(ROWS(H$45:H76),Упутство!$B$374:$N$473,8,FALSE),\"\")","v":""},{"$f":"IFERROR(VLOOKUP(ROWS(I$45:I76),Упутство!$B$374:$N$473,9,FALSE),\"\")","v":""},{"$f":"IFERROR(VLOOKUP(ROWS(J$45:J76),Упутство!$B$374:$N$473,10,FALSE),\"\")","v":""},{"$f":"IFERROR(VLOOKUP(ROWS(K$45:K76),Упутство!$B$374:$N$473,11,FALSE),\"\")","v":""},{"$f":"IFERROR(VLOOKUP(ROWS(L$45:L76),Упутство!$B$374:$N$473,12,FALSE),\"\")","v":""},{"$f":"IFERROR(VLOOKUP(ROWS(M$45:M76),Упутство!$B$374:$N$473,13,FALSE),\"\")","v":""},0,0]
[33,{"$f":"IFERROR(VLOOKUP(ROWS($B$45:B77),Упутство!$B$374:$D$473,3,FALSE),\"\")","v":""},null,{"$f":"IFERROR(VLOOKUP(ROWS(D$45:D77),Упутство!$B$374:$N$473,4,FALSE),\"\")","v":""},{"$f":"IFERROR(VLOOKUP(ROWS(E$45:E77),Упутство!$B$374:$N$473,5,FALSE),\"\")","v":""},{"$f":"IFERROR(VLOOKUP(ROWS(F$45:F77),Упутство!$B$374:$N$473,6,FALSE),\"\")","v":""},{"$f":"IFERROR(VLOOKUP(ROWS(G$45:G77),Упутство!$B$374:$N$473,7,FALSE),\"\")","v":""},{"$f":"IFERROR(VLOOKUP(ROWS(H$45:H77),Упутство!$B$374:$N$473,8,FALSE),\"\")","v":""},{"$f":"IFERROR(VLOOKUP(ROWS(I$45:I77),Упутство!$B$374:$N$473,9,FALSE),\"\")","v":""},{"$f":"IFERROR(VLOOKUP(ROWS(J$45:J77),Упутство!$B$374:$N$473,10,FALSE),\"\")","v":""},{"$f":"IFERROR(VLOOKUP(ROWS(K$45:K77),Упутство!$B$374:$N$473,11,FALSE),\"\")","v":""},{"$f":"IFERROR(VLOOKUP(ROWS(L$45:L77),Упутство!$B$374:$N$473,12,FALSE),\"\")","v":""},{"$f":"IFERROR(VLOOKUP(ROWS(M$45:M77),Упутство!$B$374:$N$473,13,FALSE),\"\")","v":""},0,0]
[34,{"$f":"IFERROR(VLOOKUP(ROWS($B$45:B78),Упутство!$B$374:$D$473,3,FALSE),\"\")","v":""},null,{"$f":"IFERROR(VLOOKUP(ROWS(D$45:D78),Упутство!$B$374:$N$473,4,FALSE),\"\")","v":""},{"$f":"IFERROR(VLOOKUP(ROWS(E$45:E78),Упутство!$B$374:$N$473,5,FALSE),\"\")","v":""},{"$f":"IFERROR(VLOOKUP(ROWS(F$45:F78),Упутство!$B$374:$N$473,6,FALSE),\"\")","v":""},{"$f":"IFERROR(VLOOKUP(ROWS(G$45:G78),Упутство!$B$374:$N$473,7,FALSE),\"\")","v":""},{"$f":"IFERROR(VLOOKUP(ROWS(H$45:H78),Упутство!$B$374:$N$473,8,FALSE),\"\")","v":""},{"$f":"IFERROR(VLOOKUP(ROWS(I$45:I78),Упутство!$B$374:$N$473,9,FALSE),\"\")","v":""},{"$f":"IFERROR(VLOOKUP(ROWS(J$45:J78),Упутство!$B$374:$N$473,10,FALSE),\"\")","v":""},{"$f":"IFERROR(VLOOKUP(ROWS(K$45:K78),Упутство!$B$374:$N$473,11,FALSE),\"\")","v":""},{"$f":"IFERROR(VLOOKUP(ROWS(L$45:L78),Упутство!$B$374:$N$473,12,FALSE),\"\")","v":""},{"$f":"IFERROR(VLOOKUP(ROWS(M$45:M78),Упутство!$B$374:$N$473,13,FALSE),\"\")","v":""},0,0]
[35,{"$f":"IFERROR(VLOOKUP(ROWS($B$45:B79),Упутство!$B$374:$D$473,3,FALSE),\"\")","v":""},null,{"$f":"IFERROR(VLOOKUP(ROWS(D$45:D79),Упутство!$B$374:$N$473,4,FALSE),\"\")","v":""},{"$f":"IFERROR(VLOOKUP(ROWS(E$45:E79),Упутство!$B$374:$N$473,5,FALSE),\"\")","v":""},{"$f":"IFERROR(VLOOKUP(ROWS(F$45:F79),Упутство!$B$374:$N$473,6,FALSE),\"\")","v":""},{"$f":"IFERROR(VLOOKUP(ROWS(G$45:G79),Упутство!$B$374:$N$473,7,FALSE),\"\")","v":""},{"$f":"IFERROR(VLOOKUP(ROWS(H$45:H79),Упутство!$B$374:$N$473,8,FALSE),\"\")","v":""},{"$f":"IFERROR(VLOOKUP(ROWS(I$45:I79),Упутство!$B$374:$N$473,9,FALSE),\"\")","v":""},{"$f":"IFERROR(VLOOKUP(ROWS(J$45:J79),Упутство!$B$374:$N$473,10,FALSE),\"\")","v":""},{"$f":"IFERROR(VLOOKUP(ROWS(K$45:K79),Упутство!$B$374:$N$473,11,FALSE),\"\")","v":""},{"$f":"IFERROR(VLOOKUP(ROWS(L$45:L79),Упутство!$B$374:$N$473,12,FALSE),\"\")","v":""},{"$f":"IFERROR(VLOOKUP(ROWS(M$45:M79),Упутство!$B$374:$N$473,13,FALSE),\"\")","v":""},0,0]
[36,{"$f":"IFERROR(VLOOKUP(ROWS($B$45:B80),Упутство!$B$374:$D$473,3,FALSE),\"\")","v":""},null,{"$f":"IFERROR(VLOOKUP(ROWS(D$45:D80),Упутство!$B$374:$N$473,4,FALSE),\"\")","v":""},{"$f":"IFERROR(VLOOKUP(ROWS(E$45:E80),Упутство!$B$374:$N$473,5,FALSE),\"\")","v":""},{"$f":"IFERROR(VLOOKUP(ROWS(F$45:F80),Упутство!$B$374:$N$473,6,FALSE),\"\")","v":""},{"$f":"IFERROR(VLOOKUP(ROWS(G$45:G80),Упутство!$B$374:$N$473,7,FALSE),\"\")","v":""},{"$f":"IFERROR(VLOOKUP(ROWS(H$45:H80),Упутство!$B$374:$N$473,8,FALSE),\"\")","v":""},{"$f":"IFERROR(VLOOKUP(ROWS(I$45:I80),Упутство!$B$374:$N$473,9,FALSE),\"\")","v":""},{"$f":"IFERROR(VLOOKUP(ROWS(J$45:J80),Упутство!$B$374:$N$473,10,FALSE),\"\")","v":""},{"$f":"IFERROR(VLOOKUP(ROWS(K$45:K80),Упутство!$B$374:$N$473,11,FALSE),\"\")","v":""},{"$f":"IFERROR(VLOOKUP(ROWS(L$45:L80),Упутство!$B$374:$N$473,12,FALSE),\"\")","v":""},{"$f":"IFERROR(VLOOKUP(ROWS(M$45:M80),Упутство!$B$374:$N$473,13,FALSE),\"\")","v":""},0,0]
[37,{"$f":"IFERROR(VLOOKUP(ROWS($B$45:B81),Упутство!$B$374:$D$473,3,FALSE),\"\")","v":""},null,{"$f":"IFERROR(VLOOKUP(ROWS(D$45:D81),Упутство!$B$374:$N$473,4,FALSE),\"\")","v":""},{"$f":"IFERROR(VLOOKUP(ROWS(E$45:E81),Упутство!$B$374:$N$473,5,FALSE),\"\")","v":""},{"$f":"IFERROR(VLOOKUP(ROWS(F$45:F81),Упутство!$B$374:$N$473,6,FALSE),\"\")","v":""},{"$f":"IFERROR(VLOOKUP(ROWS(G$45:G81),Упутство!$B$374:$N$473,7,FALSE),\"\")","v":""},{"$f":"IFERROR(VLOOKUP(ROWS(H$45:H81),Упутство!$B$374:$N$473,8,FALSE),\"\")","v":""},{"$f":"IFERROR(VLOOKUP(ROWS(I$45:I81),Упутство!$B$374:$N$473,9,FALSE),\"\")","v":""},{"$f":"IFERROR(VLOOKUP(ROWS(J$45:J81),Упутство!$B$374:$N$473,10,FALSE),\"\")","v":""},{"$f":"IFERROR(VLOOKUP(ROWS(K$45:K81),Упутство!$B$374:$N$473,11,FALSE),\"\")","v":""},{"$f":"IFERROR(VLOOKUP(ROWS(L$45:L81),Упутство!$B$374:$N$473,12,FALSE),\"\")","v":""},{"$f":"IFERROR(VLOOKUP(ROWS(M$45:M81),Упутство!$B$374:$N$473,13,FALSE),\"\")","v":""},0,0]
[38,{"$f":"IFERROR(VLOOKUP(ROWS($B$45:B82),Упутство!$B$374:$D$473,3,FALSE),\"\")","v":""},null,{"$f":"IFERROR(VLOOKUP(ROWS(D$45:D82),Упутство!$B$374:$N$473,4,FALSE),\"\")","v":""},{"$f":"IFERROR(VLOOKUP(ROWS(E$45:E82),Упутство!$B$374:$N$473,5,FALSE),\"\")","v":""},{"$f":"IFERROR(VLOOKUP(ROWS(F$45:F82),Упутство!$B$374:$N$473,6,FALSE),\"\")","v":""},{"$f":"IFERROR(VLOOKUP(ROWS(G$45:G82),Упутство!$B$374:$N$473,7,FALSE),\"\")","v":""},{"$f":"IFERROR(VLOOKUP(ROWS(H$45:H82),Упутство!$B$374:$N$473,8,FALSE),\"\")","v":""},{"$f":"IFERROR(VLOOKUP(ROWS(I$45:I82),Упутство!$B$374:$N$473,9,FALSE),\"\")","v":""},{"$f":"IFERROR(VLOOKUP(ROWS(J$45:J82),Упутство!$B$374:$N$473,10,FALSE),\"\")","v":""},{"$f":"IFERROR(VLOOKUP(ROWS(K$45:K82),Упутство!$B$374:$N$473,11,FALSE),\"\")","v":""},{"$f":"IFERROR(VLOOKUP(ROWS(L$45:L82),Упутство!$B$374:$N$473,12,FALSE),\"\")","v":""},{"$f":"IFERROR(VLOOKUP(ROWS(M$45:M82),Упутство!$B$374:$N$473,13,FALSE),\"\")","v":""},0,0]
[39,{"$f":"IFERROR(VLOOKUP(ROWS($B$45:B83),Упутство!$B$374:$D$473,3,FALSE),\"\")","v":""},null,{"$f":"IFERROR(VLOOKUP(ROWS(D$45:D83),Упутство!$B$374:$N$473,4,FALSE),\"\")","v":""},{"$f":"IFERROR(VLOOKUP(ROWS(E$45:E83),Упутство!$B$374:$N$473,5,FALSE),\"\")","v":""},{"$f":"IFERROR(VLOOKUP(ROWS(F$45:F83),Упутство!$B$374:$N$473,6,FALSE),\"\")","v":""},{"$f":"IFERROR(VLOOKUP(ROWS(G$45:G83),Упутство!$B$374:$N$473,7,FALSE),\"\")","v":""},{"$f":"IFERROR(VLOOKUP(ROWS(H$45:H83),Упутство!$B$374:$N$473,8,FALSE),\"\")","v":""},{"$f":"IFERROR(VLOOKUP(ROWS(I$45:I83),Упутство!$B$374:$N$473,9,FALSE),\"\")","v":""},{"$f":"IFERROR(VLOOKUP(ROWS(J$45:J83),Упутство!$B$374:$N$473,10,FALSE),\"\")","v":""},{"$f":"IFERROR(VLOOKUP(ROWS(K$45:K83),Упутство!$B$374:$N$473,11,FALSE),\"\")","v":""},{"$f":"IFERROR(VLOOKUP(ROWS(L$45:L83),Упутство!$B$374:$N$473,12,FALSE),\"\")","v":""},{"$f":"IFERROR(VLOOKUP(ROWS(M$45:M83),Упутство!$B$374:$N$473,13,FALSE),\"\")","v":""},0,0]
[40,{"$f":"IFERROR(VLOOKUP(ROWS($B$45:B84),Упутство!$B$374:$D$473,3,FALSE),\"\")","v":""},null,{"$f":"IFERROR(VLOOKUP(ROWS(D$45:D84),Упутство!$B$374:$N$473,4,FALSE),\"\")","v":""},{"$f":"IFERROR(VLOOKUP(ROWS(E$45:E84),Упутство!$B$374:$N$473,5,FALSE),\"\")","v":""},{"$f":"IFERROR(VLOOKUP(ROWS(F$45:F84),Упутство!$B$374:$N$473,6,FALSE),\"\")","v":""},{"$f":"IFERROR(VLOOKUP(ROWS(G$45:G84),Упутство!$B$374:$N$473,7,FALSE),\"\")","v":""},{"$f":"IFERROR(VLOOKUP(ROWS(H$45:H84),Упутство!$B$374:$N$473,8,FALSE),\"\")","v":""},{"$f":"IFERROR(VLOOKUP(ROWS(I$45:I84),Упутство!$B$374:$N$473,9,FALSE),\"\")","v":""},{"$f":"IFERROR(VLOOKUP(ROWS(J$45:J84),Упутство!$B$374:$N$473,10,FALSE),\"\")","v":""},{"$f":"IFERROR(VLOOKUP(ROWS(K$45:K84),Упутство!$B$374:$N$473,11,FALSE),\"\")","v":""},{"$f":"IFERROR(VLOOKUP(ROWS(L$45:L84),Упутство!$B$374:$N$473,12,FALSE),\"\")","v":""},{"$f":"IFERROR(VLOOKUP(ROWS(M$45:M84),Упутство!$B$374:$N$473,13,FALSE),\"\")","v":""},0,0]
[41,{"$f":"IFERROR(VLOOKUP(ROWS($B$45:B85),Упутство!$B$374:$D$473,3,FALSE),\"\")","v":""},null,{"$f":"IFERROR(VLOOKUP(ROWS(D$45:D85),Упутство!$B$374:$N$473,4,FALSE),\"\")","v":""},{"$f":"IFERROR(VLOOKUP(ROWS(E$45:E85),Упутство!$B$374:$N$473,5,FALSE),\"\")","v":""},{"$f":"IFERROR(VLOOKUP(ROWS(F$45:F85),Упутство!$B$374:$N$473,6,FALSE),\"\")","v":""},{"$f":"IFERROR(VLOOKUP(ROWS(G$45:G85),Упутство!$B$374:$N$473,7,FALSE),\"\")","v":""},{"$f":"IFERROR(VLOOKUP(ROWS(H$45:H85),Упутство!$B$374:$N$473,8,FALSE),\"\")","v":""},{"$f":"IFERROR(VLOOKUP(ROWS(I$45:I85),Упутство!$B$374:$N$473,9,FALSE),\"\")","v":""},{"$f":"IFERROR(VLOOKUP(ROWS(J$45:J85),Упутство!$B$374:$N$473,10,FALSE),\"\")","v":""},{"$f":"IFERROR(VLOOKUP(ROWS(K$45:K85),Упутство!$B$374:$N$473,11,FALSE),\"\")","v":""},{"$f":"IFERROR(VLOOKUP(ROWS(L$45:L85),Упутство!$B$374:$N$473,12,FALSE),\"\")","v":""},{"$f":"IFERROR(VLOOKUP(ROWS(M$45:M85),Упутство!$B$374:$N$473,13,FALSE),\"\")","v":""},0,0]
[42,{"$f":"IFERROR(VLOOKUP(ROWS($B$45:B86),Упутство!$B$374:$D$473,3,FALSE),\"\")","v":""},null,{"$f":"IFERROR(VLOOKUP(ROWS(D$45:D86),Упутство!$B$374:$N$473,4,FALSE),\"\")","v":""},{"$f":"IFERROR(VLOOKUP(ROWS(E$45:E86),Упутство!$B$374:$N$473,5,FALSE),\"\")","v":""},{"$f":"IFERROR(VLOOKUP(ROWS(F$45:F86),Упутство!$B$374:$N$473,6,FALSE),\"\")","v":""},{"$f":"IFERROR(VLOOKUP(ROWS(G$45:G86),Упутство!$B$374:$N$473,7,FALSE),\"\")","v":""},{"$f":"IFERROR(VLOOKUP(ROWS(H$45:H86),Упутство!$B$374:$N$473,8,FALSE),\"\")","v":""},{"$f":"IFERROR(VLOOKUP(ROWS(I$45:I86),Упутство!$B$374:$N$473,9,FALSE),\"\")","v":""},{"$f":"IFERROR(VLOOKUP(ROWS(J$45:J86),Упутство!$B$374:$N$473,10,FALSE),\"\")","v":""},{"$f":"IFERROR(VLOOKUP(ROWS(K$45:K86),Упутство!$B$374:$N$473,11,FALSE),\"\")","v":""},{"$f":"IFERROR(VLOOKUP(ROWS(L$45:L86),Упутство!$B$374:$N$473,12,FALSE),\"\")","v":""},{"$f":"IFERROR(VLOOKUP(ROWS(M$45:M86),Упутство!$B$374:$N$473,13,FALSE),\"\")","v":""},0,0]
[43,{"$f":"IFERROR(VLOOKUP(ROWS($B$45:B87),Упутство!$B$374:$D$473,3,FALSE),\"\")","v":""},null,{"$f":"IFERROR(VLOOKUP(ROWS(D$45:D87),Упутство!$B$374:$N$473,4,FALSE),\"\")","v":""},{"$f":"IFERROR(VLOOKUP(ROWS(E$45:E87),Упутство!$B$374:$N$473,5,FALSE),\"\")","v":""},{"$f":"IFERROR(VLOOKUP(ROWS(F$45:F87),Упутство!$B$374:$N$473,6,FALSE),\"\")","v":""},{"$f":"IFERROR(VLOOKUP(ROWS(G$45:G87),Упутство!$B$374:$N$473,7,FALSE),\"\")","v":""},{"$f":"IFERROR(VLOOKUP(ROWS(H$45:H87),Упутство!$B$374:$N$473,8,FALSE),\"\")","v":""},{"$f":"IFERROR(VLOOKUP(ROWS(I$45:I87),Упутство!$B$374:$N$473,9,FALSE),\"\")","v":""},{"$f":"IFERROR(VLOOKUP(ROWS(J$45:J87),Упутство!$B$374:$N$473,10,FALSE),\"\")","v":""},{"$f":"IFERROR(VLOOKUP(ROWS(K$45:K87),Упутство!$B$374:$N$473,11,FALSE),\"\")","v":""},{"$f":"IFERROR(VLOOKUP(ROWS(L$45:L87),Упутство!$B$374:$N$473,12,FALSE),\"\")","v":""},{"$f":"IFERROR(VLOOKUP(ROWS(M$45:M87),Упутство!$B$374:$N$473,13,FALSE),\"\")","v":""},0,0]
[44,{"$f":"IFERROR(VLOOKUP(ROWS($B$45:B88),Упутство!$B$374:$D$473,3,FALSE),\"\")","v":""},null,{"$f":"IFERROR(VLOOKUP(ROWS(D$45:D88),Упутство!$B$374:$N$473,4,FALSE),\"\")","v":""},{"$f":"IFERROR(VLOOKUP(ROWS(E$45:E88),Упутство!$B$374:$N$473,5,FALSE),\"\")","v":""},{"$f":"IFERROR(VLOOKUP(ROWS(F$45:F88),Упутство!$B$374:$N$473,6,FALSE),\"\")","v":""},{"$f":"IFERROR(VLOOKUP(ROWS(G$45:G88),Упутство!$B$374:$N$473,7,FALSE),\"\")","v":""},{"$f":"IFERROR(VLOOKUP(ROWS(H$45:H88),Упутство!$B$374:$N$473,8,FALSE),\"\")","v":""},{"$f":"IFERROR(VLOOKUP(ROWS(I$45:I88),Упутство!$B$374:$N$473,9,FALSE),\"\")","v":""},{"$f":"IFERROR(VLOOKUP(ROWS(J$45:J88),Упутство!$B$374:$N$473,10,FALSE),\"\")","v":""},{"$f":"IFERROR(VLOOKUP(ROWS(K$45:K88),Упутство!$B$374:$N$473,11,FALSE),\"\")","v":""},{"$f":"IFERROR(VLOOKUP(ROWS(L$45:L88),Упутство!$B$374:$N$473,12,FALSE),\"\")","v":""},{"$f":"IFERROR(VLOOKUP(ROWS(M$45:M88),Упутство!$B$374:$N$473,13,FALSE),\"\")","v":""},0,0]
[45,{"$f":"IFERROR(VLOOKUP(ROWS($B$45:B89),Упутство!$B$374:$D$473,3,FALSE),\"\")","v":""},null,{"$f":"IFERROR(VLOOKUP(ROWS(D$45:D89),Упутство!$B$374:$N$473,4,FALSE),\"\")","v":""},{"$f":"IFERROR(VLOOKUP(ROWS(E$45:E89),Упутство!$B$374:$N$473,5,FALSE),\"\")","v":""},{"$f":"IFERROR(VLOOKUP(ROWS(F$45:F89),Упутство!$B$374:$N$473,6,FALSE),\"\")","v":""},{"$f":"IFERROR(VLOOKUP(ROWS(G$45:G89),Упутство!$B$374:$N$473,7,FALSE),\"\")","v":""},{"$f":"IFERROR(VLOOKUP(ROWS(H$45:H89),Упутство!$B$374:$N$473,8,FALSE),\"\")","v":""},{"$f":"IFERROR(VLOOKUP(ROWS(I$45:I89),Упутство!$B$374:$N$473,9,FALSE),\"\")","v":""},{"$f":"IFERROR(VLOOKUP(ROWS(J$45:J89),Упутство!$B$374:$N$473,10,FALSE),\"\")","v":""},{"$f":"IFERROR(VLOOKUP(ROWS(K$45:K89),Упутство!$B$374:$N$473,11,FALSE),\"\")","v":""},{"$f":"IFERROR(VLOOKUP(ROWS(L$45:L89),Упутство!$B$374:$N$473,12,FALSE),\"\")","v":""},{"$f":"IFERROR(VLOOKUP(ROWS(M$45:M89),Упутство!$B$374:$N$473,13,FALSE),\"\")","v":""},0,0]
[46,{"$f":"IFERROR(VLOOKUP(ROWS($B$45:B90),Упутство!$B$374:$D$473,3,FALSE),\"\")","v":""},null,{"$f":"IFERROR(VLOOKUP(ROWS(D$45:D90),Упутство!$B$374:$N$473,4,FALSE),\"\")","v":""},{"$f":"IFERROR(VLOOKUP(ROWS(E$45:E90),Упутство!$B$374:$N$473,5,FALSE),\"\")","v":""},{"$f":"IFERROR(VLOOKUP(ROWS(F$45:F90),Упутство!$B$374:$N$473,6,FALSE),\"\")","v":""},{"$f":"IFERROR(VLOOKUP(ROWS(G$45:G90),Упутство!$B$374:$N$473,7,FALSE),\"\")","v":""},{"$f":"IFERROR(VLOOKUP(ROWS(H$45:H90),Упутство!$B$374:$N$473,8,FALSE),\"\")","v":""},{"$f":"IFERROR(VLOOKUP(ROWS(I$45:I90),Упутство!$B$374:$N$473,9,FALSE),\"\")","v":""},{"$f":"IFERROR(VLOOKUP(ROWS(J$45:J90),Упутство!$B$374:$N$473,10,FALSE),\"\")","v":""},{"$f":"IFERROR(VLOOKUP(ROWS(K$45:K90),Упутство!$B$374:$N$473,11,FALSE),\"\")","v":""},{"$f":"IFERROR(VLOOKUP(ROWS(L$45:L90),Упутство!$B$374:$N$473,12,FALSE),\"\")","v":""},{"$f":"IFERROR(VLOOKUP(ROWS(M$45:M90),Упутство!$B$374:$N$473,13,FALSE),\"\")","v":""},0,0]
[47,{"$f":"IFERROR(VLOOKUP(ROWS($B$45:B91),Упутство!$B$374:$D$473,3,FALSE),\"\")","v":""},null,{"$f":"IFERROR(VLOOKUP(ROWS(D$45:D91),Упутство!$B$374:$N$473,4,FALSE),\"\")","v":""},{"$f":"IFERROR(VLOOKUP(ROWS(E$45:E91),Упутство!$B$374:$N$473,5,FALSE),\"\")","v":""},{"$f":"IFERROR(VLOOKUP(ROWS(F$45:F91),Упутство!$B$374:$N$473,6,FALSE),\"\")","v":""},{"$f":"IFERROR(VLOOKUP(ROWS(G$45:G91),Упутство!$B$374:$N$473,7,FALSE),\"\")","v":""},{"$f":"IFERROR(VLOOKUP(ROWS(H$45:H91),Упутство!$B$374:$N$473,8,FALSE),\"\")","v":""},{"$f":"IFERROR(VLOOKUP(ROWS(I$45:I91),Упутство!$B$374:$N$473,9,FALSE),\"\")","v":""},{"$f":"IFERROR(VLOOKUP(ROWS(J$45:J91),Упутство!$B$374:$N$473,10,FALSE),\"\")","v":""},{"$f":"IFERROR(VLOOKUP(ROWS(K$45:K91),Упутство!$B$374:$N$473,11,FALSE),\"\")","v":""},{"$f":"IFERROR(VLOOKUP(ROWS(L$45:L91),Упутство!$B$374:$N$473,12,FALSE),\"\")","v":""},{"$f":"IFERROR(VLOOKUP(ROWS(M$45:M91),Упутство!$B$374:$N$473,13,FALSE),\"\")","v":""},0,0]
[48,{"$f":"IFERROR(VLOOKUP(ROWS($B$45:B92),Упутство!$B$374:$D$473,3,FALSE),\"\")","v":""},null,{"$f":"IFERROR(VLOOKUP(ROWS(D$45:D92),Упутство!$B$374:$N$473,4,FALSE),\"\")","v":""},{"$f":"IFERROR(VLOOKUP(ROWS(E$45:E92),Упутство!$B$374:$N$473,5,FALSE),\"\")","v":""},{"$f":"IFERROR(VLOOKUP(ROWS(F$45:F92),Упутство!$B$374:$N$473,6,FALSE),\"\")","v":""},{"$f":"IFERROR(VLOOKUP(ROWS(G$45:G92),Упутство!$B$374:$N$473,7,FALSE),\"\")","v":""},{"$f":"IFERROR(VLOOKUP(ROWS(H$45:H92),Упутство!$B$374:$N$473,8,FALSE),\"\")","v":""},{"$f":"IFERROR(VLOOKUP(ROWS(I$45:I92),Упутство!$B$374:$N$473,9,FALSE),\"\")","v":""},{"$f":"IFERROR(VLOOKUP(ROWS(J$45:J92),Упутство!$B$374:$N$473,10,FALSE),\"\")","v":""},{"$f":"IFERROR(VLOOKUP(ROWS(K$45:K92),Упутство!$B$374:$N$473,11,FALSE),\"\")","v":""},{"$f":"IFERROR(VLOOKUP(ROWS(L$45:L92),Упутство!$B$374:$N$473,12,FALSE),\"\")","v":""},{"$f":"IFERROR(VLOOKUP(ROWS(M$45:M92),Упутство!$B$374:$N$473,13,FALSE),\"\")","v":""},0,0]
[49,{"$f":"IFERROR(VLOOKUP(ROWS($B$45:B93),Упутство!$B$374:$D$473,3,FALSE),\"\")","v":""},null,{"$f":"IFERROR(VLOOKUP(ROWS(D$45:D93),Упутство!$B$374:$N$473,4,FALSE),\"\")","v":""},{"$f":"IFERROR(VLOOKUP(ROWS(E$45:E93),Упутство!$B$374:$N$473,5,FALSE),\"\")","v":""},{"$f":"IFERROR(VLOOKUP(ROWS(F$45:F93),Упутство!$B$374:$N$473,6,FALSE),\"\")","v":""},{"$f":"IFERROR(VLOOKUP(ROWS(G$45:G93),Упутство!$B$374:$N$473,7,FALSE),\"\")","v":""},{"$f":"IFERROR(VLOOKUP(ROWS(H$45:H93),Упутство!$B$374:$N$473,8,FALSE),\"\")","v":""},{"$f":"IFERROR(VLOOKUP(ROWS(I$45:I93),Упутство!$B$374:$N$473,9,FALSE),\"\")","v":""},{"$f":"IFERROR(VLOOKUP(ROWS(J$45:J93),Упутство!$B$374:$N$473,10,FALSE),\"\")","v":""},{"$f":"IFERROR(VLOOKUP(ROWS(K$45:K93),Упутство!$B$374:$N$473,11,FALSE),\"\")","v":""},{"$f":"IFERROR(VLOOKUP(ROWS(L$45:L93),Упутство!$B$374:$N$473,12,FALSE),\"\")","v":""},{"$f":"IFERROR(VLOOKUP(ROWS(M$45:M93),Упутство!$B$374:$N$473,13,FALSE),\"\")","v":""},0,0]
[50,{"$f":"IFERROR(VLOOKUP(ROWS($B$45:B94),Упутство!$B$374:$D$473,3,FALSE),\"\")","v":""},null,{"$f":"IFERROR(VLOOKUP(ROWS(D$45:D94),Упутство!$B$374:$N$473,4,FALSE),\"\")","v":""},{"$f":"IFERROR(VLOOKUP(ROWS(E$45:E94),Упутство!$B$374:$N$473,5,FALSE),\"\")","v":""},{"$f":"IFERROR(VLOOKUP(ROWS(F$45:F94),Упутство!$B$374:$N$473,6,FALSE),\"\")","v":""},{"$f":"IFERROR(VLOOKUP(ROWS(G$45:G94),Упутство!$B$374:$N$473,7,FALSE),\"\")","v":""},{"$f":"IFERROR(VLOOKUP(ROWS(H$45:H94),Упутство!$B$374:$N$473,8,FALSE),\"\")","v":""},{"$f":"IFERROR(VLOOKUP(ROWS(I$45:I94),Упутство!$B$374:$N$473,9,FALSE),\"\")","v":""},{"$f":"IFERROR(VLOOKUP(ROWS(J$45:J94),Упутство!$B$374:$N$473,10,FALSE),\"\")","v":""},{"$f":"IFERROR(VLOOKUP(ROWS(K$45:K94),Упутство!$B$374:$N$473,11,FALSE),\"\")","v":""},{"$f":"IFERROR(VLOOKUP(ROWS(L$45:L94),Упутство!$B$374:$N$473,12,FALSE),\"\")","v":""},{"$f":"IFERROR(VLOOKUP(ROWS(M$45:M94),Упутство!$B$374:$N$473,13,FALSE),\"\")","v":""},0,0]
[51,{"$f":"IFERROR(VLOOKUP(ROWS($B$45:B95),Упутство!$B$374:$D$473,3,FALSE),\"\")","v":""},null,{"$f":"IFERROR(VLOOKUP(ROWS(D$45:D95),Упутство!$B$374:$N$473,4,FALSE),\"\")","v":""},{"$f":"IFERROR(VLOOKUP(ROWS(E$45:E95),Упутство!$B$374:$N$473,5,FALSE),\"\")","v":""},{"$f":"IFERROR(VLOOKUP(ROWS(F$45:F95),Упутство!$B$374:$N$473,6,FALSE),\"\")","v":""},{"$f":"IFERROR(VLOOKUP(ROWS(G$45:G95),Упутство!$B$374:$N$473,7,FALSE),\"\")","v":""},{"$f":"IFERROR(VLOOKUP(ROWS(H$45:H95),Упутство!$B$374:$N$473,8,FALSE),\"\")","v":""},{"$f":"IFERROR(VLOOKUP(ROWS(I$45:I95),Упутство!$B$374:$N$473,9,FALSE),\"\")","v":""},{"$f":"IFERROR(VLOOKUP(ROWS(J$45:J95),Упутство!$B$374:$N$473,10,FALSE),\"\")","v":""},{"$f":"IFERROR(VLOOKUP(ROWS(K$45:K95),Упутство!$B$374:$N$473,11,FALSE),\"\")","v":""},{"$f":"IFERROR(VLOOKUP(ROWS(L$45:L95),Упутство!$B$374:$N$473,12,FALSE),\"\")","v":""},{"$f":"IFERROR(VLOOKUP(ROWS(M$45:M95),Упутство!$B$374:$N$473,13,FALSE),\"\")","v":""},0,0]
[52,{"$f":"IFERROR(VLOOKUP(ROWS($B$45:B96),Упутство!$B$374:$D$473,3,FALSE),\"\")","v":""},null,{"$f":"IFERROR(VLOOKUP(ROWS(D$45:D96),Упутство!$B$374:$N$473,4,FALSE),\"\")","v":""},{"$f":"IFERROR(VLOOKUP(ROWS(E$45:E96),Упутство!$B$374:$N$473,5,FALSE),\"\")","v":""},{"$f":"IFERROR(VLOOKUP(ROWS(F$45:F96),Упутство!$B$374:$N$473,6,FALSE),\"\")","v":""},{"$f":"IFERROR(VLOOKUP(ROWS(G$45:G96),Упутство!$B$374:$N$473,7,FALSE),\"\")","v":""},{"$f":"IFERROR(VLOOKUP(ROWS(H$45:H96),Упутство!$B$374:$N$473,8,FALSE),\"\")","v":""},{"$f":"IFERROR(VLOOKUP(ROWS(I$45:I96),Упутство!$B$374:$N$473,9,FALSE),\"\")","v":""},{"$f":"IFERROR(VLOOKUP(ROWS(J$45:J96),Упутство!$B$374:$N$473,10,FALSE),\"\")","v":""},{"$f":"IFERROR(VLOOKUP(ROWS(K$45:K96),Упутство!$B$374:$N$473,11,FALSE),\"\")","v":""},{"$f":"IFERROR(VLOOKUP(ROWS(L$45:L96),Упутство!$B$374:$N$473,12,FALSE),\"\")","v":""},{"$f":"IFERROR(VLOOKUP(ROWS(M$45:M96),Упутство!$B$374:$N$473,13,FALSE),\"\")","v":""},0,0]
["УКУПНО ЗА:",null,{"$f":"$D$4","v":"Програм 15.  Опште услуге локалне самоуправе"},{"$f":"SUM(D45:D96)","v":{"v":3750000,"d":"3,750,000"}},{"v":1748000,"d":"1,748,000"},{"v":1502000,"d":"1,502,000"},{"v":2507500,"d":"2,507,500"},{"v":1760000,"d":"1,760,000"},{"v":1510000,"d":"1,510,000"},{"v":1500000,"d":"1,500,000"},0,{"v":1500000,"d":"1,500,000"},0,{"v":4760000,"d":"4,760,000"},{"v":1510000,"d":"1,510,000"}]
[]
["Рбр.","Извори финансирања програма",null,"Вредност у базној години (2015)",null,"Очекивана вредност у 2016. години",null,"Вредност у 2017. години",null,"Вредност у 2018. години",null,"Вредност у 2019. години",null,"Укупно (2017-2019)"]
["1",{"$f":"IFERROR(VLOOKUP(ROWS($B$100:B100),Упутство!$FQ$1789:$FX$1805,2,FALSE),\"\")","v":"01 - Приходи из буџета"},null,{"$f":"IFERROR(VLOOKUP(ROWS($D$100:D100),Упутство!$FQ$1789:$FY$1805,5,FALSE),\"\")","v":{"v":3750000,"d":"3,750,000"}},null,{"$f":"IFERROR(VLOOKUP(ROWS($F$100:F100),Упутство!$FQ$1789:$FY$1805,6,FALSE),\"\")","v":{"v":1502000,"d":"1,502,000"}},null,{"$f":"IFERROR(VLOOKUP(ROWS($H$100:H100),Упутство!$FQ$1789:$FY$1805,7,FALSE),\"\")","v":{"v":1760000,"d":"1,760,000"}},null,{"$f":"IFERROR(VLOOKUP(ROWS($J$100:J100),Упутство!$FQ$1789:$FY$1805,8,FALSE),\"\")","v":{"v":1500000,"d":"1,500,000"}},null,{"$f":"IFERROR(VLOOKUP(ROWS($L$100:L100),Упутство!$FQ$1789:$FY$1805,9,FALSE),\"\")","v":{"v":1500000,"d":"1,500,000"}},null,{"$f":"SUM(H100,J100,L100)","v":{"v":4760000,"d":"4,760,000"}}]
["2",{"$f":"IFERROR(VLOOKUP(ROWS($B$100:B101),Упутство!$FQ$1789:$FX$1805,2,FALSE),\"\")","v":"13 - Нераспоређени вишак прихода из ранијих година"},null,{"$f":"IFERROR(VLOOKUP(ROWS($D$100:D101),Упутство!$FQ$1789:$FY$1805,5,FALSE),\"\")","v":{"v":1748000,"d":"1,748,000"}},null,{"$f":"IFERROR(VLOOKUP(ROWS($F$100:F101),Упутство!$FQ$1789:$FY$1805,6,FALSE),\"\")","v":{"v":2507500,"d":"2,507,500"}},null,{"$f":"IFERROR(VLOOKUP(ROWS($H$100:H101),Упутство!$FQ$1789:$FY$1805,7,FALSE),\"\")","v":{"v":1510000,"d":"1,510,000"}},null,{"$f":"IFERROR(VLOOKUP(ROWS($J$100:J101),Упутство!$FQ$1789:$FY$1805,8,FALSE),\"\")","v":0},null,{"$f":"IFERROR(VLOOKUP(ROWS($L$100:L101),Упутство!$FQ$1789:$FY$1805,9,FALSE),\"\")","v":0},null,{"$f":"SUM(H101,J101,L101)","v":{"v":1510000,"d":"1,510,000"}}]
["3",{"$f":"IFERROR(VLOOKUP(ROWS($B$100:B102),Упутство!$FQ$1789:$FX$1805,2,FALSE),\"\")","v":""},null,{"$f":"IFERROR(VLOOKUP(ROWS($D$100:D102),Упутство!$FQ$1789:$FY$1805,5,FALSE),\"\")","v":""},null,{"$f":"IFERROR(VLOOKUP(ROWS($F$100:F102),Упутство!$FQ$1789:$FY$1805,6,FALSE),\"\")","v":""},null,{"$f":"IFERROR(VLOOKUP(ROWS($H$100:H102),Упутство!$FQ$1789:$FY$1805,7,FALSE),\"\")","v":""},null,{"$f":"IFERROR(VLOOKUP(ROWS($J$100:J102),Упутство!$FQ$1789:$FY$1805,8,FALSE),\"\")","v":""},null,{"$f":"IFERROR(VLOOKUP(ROWS($L$100:L102),Упутство!$FQ$1789:$FY$1805,9,FALSE),\"\")","v":""},null,0]
["4",{"$f":"IFERROR(VLOOKUP(ROWS($B$100:B103),Упутство!$FQ$1789:$FX$1805,2,FALSE),\"\")","v":""},null,{"$f":"IFERROR(VLOOKUP(ROWS($D$100:D103),Упутство!$FQ$1789:$FY$1805,5,FALSE),\"\")","v":""},null,{"$f":"IFERROR(VLOOKUP(ROWS($F$100:F103),Упутство!$FQ$1789:$FY$1805,6,FALSE),\"\")","v":""},null,{"$f":"IFERROR(VLOOKUP(ROWS($H$100:H103),Упутство!$FQ$1789:$FY$1805,7,FALSE),\"\")","v":""},null,{"$f":"IFERROR(VLOOKUP(ROWS($J$100:J103),Упутство!$FQ$1789:$FY$1805,8,FALSE),\"\")","v":""},null,{"$f":"IFERROR(VLOOKUP(ROWS($L$100:L103),Упутство!$FQ$1789:$FY$1805,9,FALSE),\"\")","v":""},null,0]
["5",{"$f":"IFERROR(VLOOKUP(ROWS($B$100:B104),Упутство!$FQ$1789:$FX$1805,2,FALSE),\"\")","v":""},null,{"$f":"IFERROR(VLOOKUP(ROWS($D$100:D104),Упутство!$FQ$1789:$FY$1805,5,FALSE),\"\")","v":""},null,{"$f":"IFERROR(VLOOKUP(ROWS($F$100:F104),Упутство!$FQ$1789:$FY$1805,6,FALSE),\"\")","v":""},null,{"$f":"IFERROR(VLOOKUP(ROWS($H$100:H104),Упутство!$FQ$1789:$FY$1805,7,FALSE),\"\")","v":""},null,{"$f":"IFERROR(VLOOKUP(ROWS($J$100:J104),Упутство!$FQ$1789:$FY$1805,8,FALSE),\"\")","v":""},null,{"$f":"IFERROR(VLOOKUP(ROWS($L$100:L104),Упутство!$FQ$1789:$FY$1805,9,FALSE),\"\")","v":""},null,0]
["6",{"$f":"IFERROR(VLOOKUP(ROWS($B$100:B105),Упутство!$FQ$1789:$FX$1805,2,FALSE),\"\")","v":""},null,{"$f":"IFERROR(VLOOKUP(ROWS($D$100:D105),Упутство!$FQ$1789:$FY$1805,5,FALSE),\"\")","v":""},null,{"$f":"IFERROR(VLOOKUP(ROWS($F$100:F105),Упутство!$FQ$1789:$FY$1805,6,FALSE),\"\")","v":""},null,{"$f":"IFERROR(VLOOKUP(ROWS($H$100:H105),Упутство!$FQ$1789:$FY$1805,7,FALSE),\"\")","v":""},null,{"$f":"IFERROR(VLOOKUP(ROWS($J$100:J105),Упутство!$FQ$1789:$FY$1805,8,FALSE),\"\")","v":""},null,{"$f":"IFERROR(VLOOKUP(ROWS($L$100:L105),Упутство!$FQ$1789:$FY$1805,9,FALSE),\"\")","v":""},null,0]
["7",{"$f":"IFERROR(VLOOKUP(ROWS($B$100:B106),Упутство!$FQ$1789:$FX$1805,2,FALSE),\"\")","v":""},null,{"$f":"IFERROR(VLOOKUP(ROWS($D$100:D106),Упутство!$FQ$1789:$FY$1805,5,FALSE),\"\")","v":""},null,{"$f":"IFERROR(VLOOKUP(ROWS($F$100:F106),Упутство!$FQ$1789:$FY$1805,6,FALSE),\"\")","v":""},null,{"$f":"IFERROR(VLOOKUP(ROWS($H$100:H106),Упутство!$FQ$1789:$FY$1805,7,FALSE),\"\")","v":""},null,{"$f":"IFERROR(VLOOKUP(ROWS($J$100:J106),Упутство!$FQ$1789:$FY$1805,8,FALSE),\"\")","v":""},null,{"$f":"IFERROR(VLOOKUP(ROWS($L$100:L106),Упутство!$FQ$1789:$FY$1805,9,FALSE),\"\")","v":""},null,0]
["8",{"$f":"IFERROR(VLOOKUP(ROWS($B$100:B107),Упутство!$FQ$1789:$FX$1805,2,FALSE),\"\")","v":""},null,{"$f":"IFERROR(VLOOKUP(ROWS($D$100:D107),Упутство!$FQ$1789:$FY$1805,5,FALSE),\"\")","v":""},null,{"$f":"IFERROR(VLOOKUP(ROWS($F$100:F107),Упутство!$FQ$1789:$FY$1805,6,FALSE),\"\")","v":""},null,{"$f":"IFERROR(VLOOKUP(ROWS($H$100:H107),Упутство!$FQ$1789:$FY$1805,7,FALSE),\"\")","v":""},null,{"$f":"IFERROR(VLOOKUP(ROWS($J$100:J107),Упутство!$FQ$1789:$FY$1805,8,FALSE),\"\")","v":""},null,{"$f":"IFERROR(VLOOKUP(ROWS($L$100:L107),Упутство!$FQ$1789:$FY$1805,9,FALSE),\"\")","v":""},null,0]
["9",{"$f":"IFERROR(VLOOKUP(ROWS($B$100:B108),Упутство!$FQ$1789:$FX$1805,2,FALSE),\"\")","v":""},null,{"$f":"IFERROR(VLOOKUP(ROWS($D$100:D108),Упутство!$FQ$1789:$FY$1805,5,FALSE),\"\")","v":""},null,{"$f":"IFERROR(VLOOKUP(ROWS($F$100:F108),Упутство!$FQ$1789:$FY$1805,6,FALSE),\"\")","v":""},null,{"$f":"IFERROR(VLOOKUP(ROWS($H$100:H108),Упутство!$FQ$1789:$FY$1805,7,FALSE),\"\")","v":""},null,{"$f":"IFERROR(VLOOKUP(ROWS($J$100:J108),Упутство!$FQ$1789:$FY$1805,8,FALSE),\"\")","v":""},null,{"$f":"IFERROR(VLOOKUP(ROWS($L$100:L108),Упутство!$FQ$1789:$FY$1805,9,FALSE),\"\")","v":""},null,0]
["10",{"$f":"IFERROR(VLOOKUP(ROWS($B$100:B109),Упутство!$FQ$1789:$FX$1805,2,FALSE),\"\")","v":""},null,{"$f":"IFERROR(VLOOKUP(ROWS($D$100:D109),Упутство!$FQ$1789:$FY$1805,5,FALSE),\"\")","v":""},null,{"$f":"IFERROR(VLOOKUP(ROWS($F$100:F109),Упутство!$FQ$1789:$FY$1805,6,FALSE),\"\")","v":""},null,{"$f":"IFERROR(VLOOKUP(ROWS($H$100:H109),Упутство!$FQ$1789:$FY$1805,7,FALSE),\"\")","v":""},null,{"$f":"IFERROR(VLOOKUP(ROWS($J$100:J109),Упутство!$FQ$1789:$FY$1805,8,FALSE),\"\")","v":""},null,{"$f":"IFERROR(VLOOKUP(ROWS($L$100:L109),Упутство!$FQ$1789:$FY$1805,9,FALSE),\"\")","v":""},null,0]
["11",{"$f":"IFERROR(VLOOKUP(ROWS($B$100:B110),Упутство!$FQ$1789:$FX$1805,2,FALSE),\"\")","v":""},null,{"$f":"IFERROR(VLOOKUP(ROWS($D$100:D110),Упутство!$FQ$1789:$FY$1805,5,FALSE),\"\")","v":""},null,{"$f":"IFERROR(VLOOKUP(ROWS($F$100:F110),Упутство!$FQ$1789:$FY$1805,6,FALSE),\"\")","v":""},null,{"$f":"IFERROR(VLOOKUP(ROWS($H$100:H110),Упутство!$FQ$1789:$FY$1805,7,FALSE),\"\")","v":""},null,{"$f":"IFERROR(VLOOKUP(ROWS($J$100:J110),Упутство!$FQ$1789:$FY$1805,8,FALSE),\"\")","v":""},null,{"$f":"IFERROR(VLOOKUP(ROWS($L$100:L110),Упутство!$FQ$1789:$FY$1805,9,FALSE),\"\")","v":""},null,0]
["12",{"$f":"IFERROR(VLOOKUP(ROWS($B$100:B111),Упутство!$FQ$1789:$FX$1805,2,FALSE),\"\")","v":""},null,{"$f":"IFERROR(VLOOKUP(ROWS($D$100:D111),Упутство!$FQ$1789:$FY$1805,5,FALSE),\"\")","v":""},null,{"$f":"IFERROR(VLOOKUP(ROWS($F$100:F111),Упутство!$FQ$1789:$FY$1805,6,FALSE),\"\")","v":""},null,{"$f":"IFERROR(VLOOKUP(ROWS($H$100:H111),Упутство!$FQ$1789:$FY$1805,7,FALSE),\"\")","v":""},null,{"$f":"IFERROR(VLOOKUP(ROWS($J$100:J111),Упутство!$FQ$1789:$FY$1805,8,FALSE),\"\")","v":""},null,{"$f":"IFERROR(VLOOKUP(ROWS($L$100:L111),Упутство!$FQ$1789:$FY$1805,9,FALSE),\"\")","v":""},null,0]
["13",{"$f":"IFERROR(VLOOKUP(ROWS($B$100:B112),Упутство!$FQ$1789:$FX$1805,2,FALSE),\"\")","v":""},null,{"$f":"IFERROR(VLOOKUP(ROWS($D$100:D112),Упутство!$FQ$1789:$FY$1805,5,FALSE),\"\")","v":""},null,{"$f":"IFERROR(VLOOKUP(ROWS($F$100:F112),Упутство!$FQ$1789:$FY$1805,6,FALSE),\"\")","v":""},null,{"$f":"IFERROR(VLOOKUP(ROWS($H$100:H112),Упутство!$FQ$1789:$FY$1805,7,FALSE),\"\")","v":""},null,{"$f":"IFERROR(VLOOKUP(ROWS($J$100:J112),Упутство!$FQ$1789:$FY$1805,8,FALSE),\"\")","v":""},null,{"$f":"IFERROR(VLOOKUP(ROWS($L$100:L112),Упутство!$FQ$1789:$FY$1805,9,FALSE),\"\")","v":""},null,0]
["14",{"$f":"IFERROR(VLOOKUP(ROWS($B$100:B113),Упутство!$FQ$1789:$FX$1805,2,FALSE),\"\")","v":""},null,{"$f":"IFERROR(VLOOKUP(ROWS($D$100:D113),Упутство!$FQ$1789:$FY$1805,5,FALSE),\"\")","v":""},null,{"$f":"IFERROR(VLOOKUP(ROWS($F$100:F113),Упутство!$FQ$1789:$FY$1805,6,FALSE),\"\")","v":""},null,{"$f":"IFERROR(VLOOKUP(ROWS($H$100:H113),Упутство!$FQ$1789:$FY$1805,7,FALSE),\"\")","v":""},null,{"$f":"IFERROR(VLOOKUP(ROWS($J$100:J113),Упутство!$FQ$1789:$FY$1805,8,FALSE),\"\")","v":""},null,{"$f":"IFERROR(VLOOKUP(ROWS($L$100:L113),Упутство!$FQ$1789:$FY$1805,9,FALSE),\"\")","v":""},null,0]
["15",{"$f":"IFERROR(VLOOKUP(ROWS($B$100:B114),Упутство!$FQ$1789:$FX$1805,2,FALSE),\"\")","v":""},null,{"$f":"IFERROR(VLOOKUP(ROWS($D$100:D114),Упутство!$FQ$1789:$FY$1805,5,FALSE),\"\")","v":""},null,{"$f":"IFERROR(VLOOKUP(ROWS($F$100:F114),Упутство!$FQ$1789:$FY$1805,6,FALSE),\"\")","v":""},null,{"$f":"IFERROR(VLOOKUP(ROWS($H$100:H114),Упутство!$FQ$1789:$FY$1805,7,FALSE),\"\")","v":""},null,{"$f":"IFERROR(VLOOKUP(ROWS($J$100:J114),Упутство!$FQ$1789:$FY$1805,8,FALSE),\"\")","v":""},null,{"$f":"IFERROR(VLOOKUP(ROWS($L$100:L114),Упутство!$FQ$1789:$FY$1805,9,FALSE),\"\")","v":""},null,0]
["16",{"$f":"IFERROR(VLOOKUP(ROWS($B$100:B115),Упутство!$FQ$1789:$FX$1805,2,FALSE),\"\")","v":""},null,{"$f":"IFERROR(VLOOKUP(ROWS($D$100:D115),Упутство!$FQ$1789:$FY$1805,5,FALSE),\"\")","v":""},null,{"$f":"IFERROR(VLOOKUP(ROWS($F$100:F115),Упутство!$FQ$1789:$FY$1805,6,FALSE),\"\")","v":""},null,{"$f":"IFERROR(VLOOKUP(ROWS($H$100:H115),Упутство!$FQ$1789:$FY$1805,7,FALSE),\"\")","v":""},null,{"$f":"IFERROR(VLOOKUP(ROWS($J$100:J115),Упутство!$FQ$1789:$FY$1805,8,FALSE),\"\")","v":""},null,{"$f":"IFERROR(VLOOKUP(ROWS($L$100:L115),Упутство!$FQ$1789:$FY$1805,9,FALSE),\"\")","v":""},null,0]
["17",{"$f":"IFERROR(VLOOKUP(ROWS($B$100:B116),Упутство!$FQ$1789:$FX$1805,2,FALSE),\"\")","v":""},null,{"$f":"IFERROR(VLOOKUP(ROWS($D$100:D116),Упутство!$FQ$1789:$FY$1805,5,FALSE),\"\")","v":""},null,{"$f":"IFERROR(VLOOKUP(ROWS($F$100:F116),Упутство!$FQ$1789:$FY$1805,6,FALSE),\"\")","v":""},null,{"$f":"IFERROR(VLOOKUP(ROWS($H$100:H116),Упутство!$FQ$1789:$FY$1805,7,FALSE),\"\")","v":""},null,{"$f":"IFERROR(VLOOKUP(ROWS($J$100:J116),Упутство!$FQ$1789:$FY$1805,8,FALSE),\"\")","v":""},null,{"$f":"IFERROR(VLOOKUP(ROWS($L$100:L116),Упутство!$FQ$1789:$FY$1805,9,FALSE),\"\")","v":""},null,0]
["УКУПНО  ЗА:",null,{"$f":"$D$4","v":"Програм 15.  Опште услуге локалне самоуправе"},{"$f":"SUM(D100:E116)","v":{"v":5498000,"d":"5,498,000"}},null,{"$f":"SUM(F100:G116)","v":{"v":4009500,"d":"4,009,500"}},null,{"$f":"SUM(H100:I116)","v":{"v":3270000,"d":"3,270,000"}},null,{"$f":"SUM(J100:K116)","v":{"v":1500000,"d":"1,500,000"}},null,{"$f":"SUM(L100:M116)","v":{"v":1500000,"d":"1,500,000"}},null,{"$f":"SUM(H117:M117)","v":{"v":6270000,"d":"6,270,000"}}]
[]
["*","1-5 циља за сваки програм"]
["**","1-3 индикатора за сваки циљ"]
[]
[]
[{"$nulls":12},"Одговорно лице"]
[]
[null,"Датум:","04.09.2017."]

{"sheet":"ПА-0002","index":1,"n_rows":351,"n_cols":39,"rows_kept":351,"merged":[[0,0,0,14],[0,25,0,26],[0,27,0,28],[0,29,0,30],[0,31,0,32],[0,33,0,34],[0,40,0,41],[1,0,1,14],[2,25,2,26],[2,27,2,28],[2,29,2,30],[2,31,2,32],[2,33,2,34],[3,0,3,2],[3,3,3,14],[3,25,3,26],[3,27,3,28],[3,29,3,30],[3,31,3,32],[3,33,3,34],[4,0,4,2],[4,3,4,10],[4,25,4,26],[4,27,4,28],[4,29,4,30],[4,31,4,32],[4,33,4,34],[5,0,5,2],[5,3,5,10],[5,25,5,26],[5,27,5,28],[5,29,5,30],[5,31,5,32],[5,33,5,34],[6,0,6,2],[6,3,6,14],[6,25,6,26],[6,27,6,28],[6,29,6,30],[6,31,6,32],[6,33,6,34],[7,0,7,2],[7,3,7,14],[7,25,7,26],[7,27,7,28],[7,29,7,30],[7,31,7,32],[7,33,7,34],[8,0,8,2],[8,3,8,14],[8,25,8,26],[8,27,8,28],[8,29,8,30],[8,31,8,32],[8,33,8,34],[9,0,9,2],[9,3,9,14],[9,25,9,26],[9,27,9,28],[9,29,9,30],[9,31,9,32],[9,33,9,34],[10,0,10,2],[10,3,10,14],[10,25,10,26],[10,27,10,28],[10,29,10,30],[10,31,10,32],[10,33,10,34],[11,0,11,2],[11,3,11,14],[11,25,11,26],[11,27,11,28],[11,29,11,30],[11,31,11,32],[11,33,11,34],[12,25,12,26],[12,27,12,28],[12,29,12,30],[12,31,12,32],[12,33,12,34],[13,0,14,0],[13,1,14,2],[13,3,13,14],[13,25,13,26],[13,27,13,28],[13,29,13,30],[13,31,13,32],[13,33,13,34],[14,3,14,5],[14,11,14,14],[14,25,14,26],[14,27,14,28],[14,29,14,30],[14,31,14,32],[14,33,14,34],[15,0,17,0],[15,1,17,2],[15,3,15,5],[15,11,15,14],[15,25,15,26],[15,27,15,28],[15,29,15,30],[15,31,15,32],[15,33,15,34],[16,3,16,5],[16,11,16,14],[16,25,16,26],[16,27,16,28],[16,29,16,30],[16,31,16,32],[16,33,16,34],[17,3,17,5],[17,11,17,14],[17,25,17,26],[17,27,17,28],[17,29,17,30],[17,31,17,32],[17,33,17,34],[18,25,18,26],[18,27,18,28],[18,29,18,30],[18,31,18,32],[18,33,18,34],[19,0,20,0],[19,1,20,2],[19,3,19,14],[20,3,20,5],[20,11,20,14],[21,0,23,0],[21,1,23,2],[21,3,21,5],[21,11,21,14],[22,3,22,5],[22,11,22,14],[23,3,23,5],[23,11,23,14],[25,0,26,0],[25,1,26,2],[25,3,25,14],[26,3,26,5],[26,11,26,14],[27,0,29,0],[27,1,29,2],[27,3,27,5],[27,11,27,14],[28,3,28,5],[28,11,28,14],[29,3,29,5],[29,11,29,14],[31,0,32,0],[31,1,32,2],[31,3,31,14],[32,3,32,5],[32,11,32,14],[33,0,35,0],[33,1,35,2],[33,3,33,5],[33,11,33,14],[34,3,34,5],[34,11,34,14],[35,3,35,5],[35,11,35,14],[37,0,38,0],[37,1,38,2],[37,3,37,14],[38,3,38,5],[38,11,38,14],[39,0,41,0],[39,1,41,2],[39,3,39,5],[39,11,39,14],[40,3,40,5],[40,11,40,14],[41,3,41,5],[41,11,41,14],[43,0,44,0],[43,1,44,1],[43,2,44,2],[43,3,43,4],[43,5,43,6],[43,7,43,8],[43,9,43,10],[43,11,43,12],[43,13,43,14],[43,16,44,20],[322,0,322,1],[324,1,324,2],[324,3,324,4],[324,5,324,6],[324,7,324,8],[324,9,324,10],[324,11,324,12],[324,13,324,14],[325,1,325,2],[325,3,325,4],[325,5,325,6],[325,7,325,8],[325,9,325,10],[325,11,325,12],[325,13,325,14],[326,1,326,2],[326,3,326,4],[326,5,326,6],[326,7,326,8],[326,9,326,10],[326,11,326,12],[326,13,326,14],[327,1,327,2],[327,3,327,4],[327,5,327,6],[327,7,327,8],[327,9,327,10],[327,11,327,12],[327,13,327,14],[328,1,328,2],[328,3,328,4],[328,5,328,6],[328,7,328,8],[328,9,328,10],[328,11,328,12],[328,13,328,14],[329,1,329,2],[329,3,329,4],[329,5,329,6],[329,7,329,8],[329,9,329,10],[329,11,329,12],[329,13,329,14],[330,1,330,2],[330,3,330,4],[330,5,330,6],[330,7,330,8],[330,9,330,10],[330,11,330,12],[330,13,330,14],[331,1,331,2],[331,3,331,4],[331,5,331,6],[331,7,331,8],[331,9,331,10],[331,11,331,12],[331,13,331,14],[332,1,332,2],[332,3,332,4],[332,5,332,6],[332,7,332,8],[332,9,332,10],[332,11,332,12],[332,13,332,14],[333,1,333,2],[333,3,333,4],[333,5,333,6],[333,7,333,8],[333,9,333,10],[333,11,333,12],[333,13,333,14],[334,1,334,2],[334,3,334,4],[334,5,334,6],[334,7,334,8],[334,9,334,10],[334,11,334,12],[334,13,334,14],[335,1,335,2],[335,3,335,4],[335,5,335,6],[335,7,335,8],[335,9,335,10],[335,11,335,12],[335,13,335,14],[336,1,336,2],[336,3,336,4],[336,5,336,6],[336,7,336,8],[336,9,336,10],[336,11,336,12],[336,13,336,14],[337,1,337,2],[337,3,337,4],[337,5,337,6],[337,7,337,8],[337,9,337,10],[337,11,337,12],[337,13,337,14],[338,1,338,2],[338,3,338,4],[338,5,338,6],[338,7,338,8],[338,9,338,10],[338,11,338,12],[338,13,338,14],[339,1,339,2],[339,3,339,4],[339,5,339,6],[339,7,339,8],[339,9,339,10],[339,11,339,12],[339,13,339,14],[340,1,340,2],[340,3,340,4],[340,5,340,6],[340,7,340,8],[340,9,340,10],[340,11,340,12],[340,13,340,14],[341,1,341,2],[341,3,341,4],[341,5,341,6],[341,7,341,8],[341,9,341,10],[341,11,341,12],[341,13,341,14],[342,0,342,1],[342,3,342,4],[342,5,342,6],[342,7,342,8],[342,9,342,10],[342,11,342,12],[342,13,342,14],[348,12,348,13]]}
["Обрасци за припрему програмског буџета",{"$nulls":24},2015,null,2016,null,2017,null,2018,null,2019,null,"2. ПРОГРАМСКА АКТИВНОСТ",null,null,{"$f":"IF(A2=AJ1,\"\",\" - захтев за додатна средства\")","v":""}]
["2. ПРОГРАМСКА АКТИВНОСТ",{"$nulls":20},{"$f":"VLOOKUP($D$4,Упутство!$B$38:$C$54,2,FALSE)","v":{"$error":"#N/A"}},null,"suma",{"$f":"$C$323&AM1&\" (\"&$D$7&\")\"","v":"0 (Месна заједница Остојићево)"},{"$f":"$D$323","v":{"v":3750000,"d":"3,750,000"}},{"$f":"$E$323","v":{"v":1748000,"d":"1,748,000"}},{"$f":"$F$323","v":{"v":1502000,"d":"1,502,000"}},{"$f":"$G$323","v":{"v":2507500,"d":"2,507,500"}},{"$f":"$H$323","v":{"v":1760000,"d":"1,760,000"}},{"$f":"$I$323","v":{"v":1510000,"d":"1,510,000"}},{"$f":"$J$323","v":{"v":1500000,"d":"1,500,000"}},{"$f":"$K$323","v":0},{"$f":"$L$323","v":{"v":1500000,"d":"1,500,000"}},{"$f":"$M$323","v":0},"2. ПРОГРАМСКА АКТИВНОСТ - ЗАХТЕВ ЗА ДОДАТНА СРЕДСТВА"]
[{"$nulls":21},{"$f":"VLOOKUP($D$5,Упутство!$A$134:$B$205,2,FALSE)","v":{"$error":"#N/A"}},null,"izvori",{"$f":"$B$326","v":"01 - Приходи из буџета"},{"$f":"$D$326","v":{"v":3750000,"d":"3,750,000"}},null,{"$f":"$F$326","v":{"v":1502000,"d":"1,502,000"}},null,{"$f":"$H$326","v":{"v":1760000,"d":"1,760,000"}},null,{"$f":"$J$326","v":{"v":1500000,"d":"1,500,000"}},null,{"$f":"$L$326","v":{"v":1500000,"d":"1,500,000"}}]
["Програм коме припада:",null,null,"Програм 15 Локална самоуправа",{"$nulls":17},{"$f":"VLOOKUP($B$16,Упутство!$A$218:$B$314,2,FALSE)","v":{"$error":"#N/A"}},null,null,{"$f":"$B$327","v":"13 - Нераспоређени вишак прихода из ранијих година"},{"$f":"$D$327","v":{"v":1748000,"d":"1,748,000"}},null,{"$f":"$F$327","v":{"v":2507500,"d":"2,507,500"}},null,{"$f":"$H$327","v":{"v":1510000,"d":"1,510,000"}},null,{"$f":"$J$327","v":0},null,{"$f":"$L$327","v":0}]
["Шифра и назив:",{"$nulls":20},{"$f":"VLOOKUP($B$22,Упутство!$A$218:$B$314,2,FALSE)","v":{"$error":"#N/A"}},null,null,{"$f":"$B$328","v":0},{"$f":"$D$328","v":0},null,{"$f":"$F$328","v":0},null,{"$f":"$H$328","v":0},null,{"$f":"$J$328","v":0},null,{"$f":"$L$328","v":0}]
["Функција:",null,null,"160 - Опште јавне услуге некласификоване на другом месту",{"$nulls":17},{"$f":"VLOOKUP($B$28,Упутство!$A$218:$B$314,2,FALSE)","v":{"$error":"#N/A"}},null,null,{"$f":"$B$329","v":0},{"$f":"$D$329","v":0},null,{"$f":"$F$329","v":0},null,{"$f":"$H$329","v":0},null,{"$f":"$J$329","v":0},null,{"$f":"$L$329","v":0}]
["Назив организационе јединице/Буџетски корисник:",null,null,"Месна заједница Остојићево",{"$nulls":17},{"$f":"VLOOKUP($B$34,Упутство!$A$218:$B$314,2,FALSE)","v":{"$error":"#N/A"}},null,null,{"$f":"$B$330","v":0},{"$f":"$D$330","v":0},null,{"$f":"$F$330","v":0},null,{"$f":"$H$330","v":0},null,{"$f":"$J$330","v":0},null,{"$f":"$L$330","v":0}]
["Сврхa:",null,null,"Обезбеђење услова за остварење права грађана на лакши и бржи начин у ЈЛС",{"$nulls":17},{"$f":"VLOOKUP($B$40,Упутство!$A$218:$B$314,2,FALSE)","v":{"$error":"#N/A"}},null,null,{"$f":"$B$331","v":0},{"$f":"$D$331","v":0},null,{"$f":"$F$331","v":0},null,{"$f":"$H$331","v":0},null,{"$f":"$J$331","v":0},null,{"$f":"$L$331","v":0}]
["Основ:",null,null,"Закон о локалној самоуправи, Статут Месне заједнице",{"$nulls":20},{"$f":"$B$332","v":0},{"$f":"$D$332","v":0},null,{"$f":"$F$332","v":0},null,{"$f":"$H$332","v":0},null,{"$f":"$J$332","v":0},null,{"$f":"$L$332","v":0}]
["Опис:",null,null,"Задоволљење потреба и интереса локалног становништва, кроз очуванје и унапређенје квалитета живота у делу надлежности Месне заједнице",{"$nulls":20},{"$f":"$B$333","v":0},{"$f":"$D$333","v":0},null,{"$f":"$F$333","v":0},null,{"$f":"$H$333","v":0},null,{"$f":"$J$333","v":0},null,{"$f":"$L$333","v":0}]
["Мере и поглавље преговора о приступању ЕУ:",null,null,"(Анекс 3 Упутства за израду програмског буџета) релевантно само за Републику Србију)",{"$nulls":20},{"$f":"$B$334","v":0},{"$f":"$D$334","v":0},null,{"$f":"$F$334","v":0},null,{"$f":"$H$334","v":0},null,{"$f":"$J$334","v":0},null,{"$f":"$L$334","v":0}]
["Одговорно лице за спровођење прог. aктивности:",null,null,"Јосип Чешљар, председник Савета Месне заједнице Остојићево",{"$nulls":20},{"$f":"$B$335","v":0},{"$f":"$D$335","v":0},null,{"$f":"$F$335","v":0},null,{"$f":"$H$335","v":0},null,{"$f":"$J$335","v":0},null,{"$f":"$L$335","v":0}]
[{"$nulls":24},{"$f":"$B$336","v":0},{"$f":"$D$336","v":0},null,{"$f":"$F$336","v":0},null,{"$f":"$H$336","v":0},null,{"$f":"$J$336","v":0},null,{"$f":"$L$336","v":0}]
[null,"Циљ*",null,"Индикатори**",{"$nulls":20},{"$f":"$B$337","v":0},{"$f":"$D$337","v":0},null,{"$f":"$F$337","v":0},null,{"$f":"$H$337","v":0},null,{"$f":"$J$337","v":0},null,{"$f":"$L$337","v":0}]
[{"$nulls":3},"Назив индикатора",null,null,"Вредност у базној години (2015)","Очекивана вредност у 2016. години","Циљана вредност у 2017. години","Циљана вредност у 2018. години","Циљана вредност у 2019. години","Извор верификације",{"$nulls":12},{"$f":"$B$338","v":0},{"$f":"$D$338","v":0},null,{"$f":"$F$338","v":0},null,{"$f":"$H$338","v":0},null,{"$f":"$J$338","v":0},null,{"$f":"$L$338","v":0}]
[1,"Обезбеђење задовољавање потреба и интереса локалног становништва деловањем месних заједница",null,"Степен остварења финансијских планова месних заједница",null,null,"70%","87%","87%","87%","87%","Kњиговодствена евиденција Месне заједнице",{"$nulls":12},{"$f":"$B$339","v":0},{"$f":"$D$339","v":0},null,{"$f":"$F$339","v":0},null,{"$f":"$H$339","v":0},null,{"$f":"$J$339","v":0},null,{"$f":"$L$339","v":0}]
[{"$nulls":24},{"$f":"$B$340","v":0},{"$f":"$D$340","v":0},null,{"$f":"$F$340","v":0},null,{"$f":"$H$340","v":0},null,{"$f":"$J$340","v":0},null,{"$f":"$L$340","v":0}]
[{"$nulls":24},{"$f":"$B$341","v":0},{"$f":"$D$341","v":0},null,{"$f":"$F$341","v":0},null,{"$f":"$H$341","v":0},null,{"$f":"$J$341","v":0},null,{"$f":"$L$341","v":0}]
[{"$nulls":24},{"$f":"$B$342","v":0},{"$f":"$D$342","v":0},null,{"$f":"$F$342","v":0},null,{"$f":"$H$342","v":0},null,{"$f":"$J$342","v":0},null,{"$f":"$L$342","v":0}]
[null,"Циљ",null,"Индикатори"]
[{"$nulls":3},"Назив индикатора",null,null,"Вредност у базној години (2015.)","Очекивана вредност у 2016. години","Циљана вредност у 2017. години","Циљана вредност у 2018. години","Циљана вредност у 2019. години","Извор верификације"]
[2]
[]
[]
[]
[null,"Циљ",null,"Индикатори"]
[{"$nulls":3},"Назив индикатора",null,null,"Вредност у базној години (2015.)","Очекивана вредност у 2016. години","Циљана вредност у 2017. години","Циљана вредност у 2018. години","Циљана вредност у 2019. години","Извор верификације"]
[3]
[]
[{"$nulls":16},"Између 31. и 43. реда се налазе још 2 циља уколико је потребно . Активирају се маркирањем целог  31. и 43. реда > десни клик> опција \"Unhide\". Графичку илустрацију поступка видети у Упутству"]
[]
[null,"Циљ",null,"Индикатори"]
[{"$nulls":3},"Назив индикатора",null,null,"Вредност у базној години (2015.)","Очекивана вредност у 2016. години","Циљана вредност у 2017. години","Циљана вредност у 2018. години","Циљана вредност у 2019. години","Извор верификације"]
[4]
[]
[]
[]
[null,"Циљ",null,"Индикатори"]
[{"$nulls":3},"Назив индикатора",null,null,"Вредност у базној години (2015.)","Очекивана вредност у 2016. години","Циљана вредност у 2017. години","Циљана вредност у 2018. години","Циљана вредност у 2019. години","Извор верификације"]
[5]
[]
[]
[]
["Рбр.","Конто","Расходи и издаци програмске активности","Вредност у базној години (2015)",null,"Очекивана вредност у 2016. години",null,"Вредност у 2017. години",null,"Вредност у 2018. години",null,"Вредност у 2019. години",null,"Укупно (2017-2019)",null,null,"Уколико желите користити опцију \"Σ \" (AutoSum) за измену међузбирова у складу са својим потребама, потребно је уклонити заштиту са документа кликом на  Review > Unprotect sheet."]
[{"$nulls":3},"Буџетска средства","Средства из осталих извора","Буџетска средства","Средства из осталих извора","Буџетска средства","Средства из осталих извора","Буџетска средства","Средства из осталих извора","Буџетска средства","Средства из осталих извора","Буџетска средства","Средства из осталих извора"]
["1",411000,{"$f":"IF(B46=\"\",\"\",VLOOKUP(B46,Упутство!$A$1912:$B$6831,2,FALSE))","v":"ПЛАТЕ, ДОДАЦИ И НАКНАДЕ ЗАПОСЛЕНИХ (ЗАРАДЕ)"},{"$f":"SUM(D47:D53)","v":{"v":484000,"d":"484,000"}},{"$f":"SUM(E47:E53)","v":0},{"$f":"SUM(F47:F53)","v":{"v":514000,"d":"514,000"}},{"$f":"SUM(G47:G53)","v":0},{"v":460000,"d":"460,000"},0,{"v":450000,"d":"450,000"},0,{"v":450000,"d":"450,000"},0,{"$f":"SUM(H46,J46,L46)","v":{"v":1360000,"d":"1,360,000"}},{"$f":"SUM(I46,K46,M46)","v":0}]
["2",411100,{"$f":"IF(B47=\"\",\"\",VLOOKUP(B47,Упутство!$A$1912:$B$6831,2,FALSE))","v":"Плате, додаци и накнаде запослених"},{"v":484000,"d":"484,000"},null,{"v":514000,"d":"514,000"},null,{"v":460000,"d":"460,000"},null,{"v":450000,"d":"450,000"},null,{"v":450000,"d":"450,000"},null,{"$f":"SUM(H47,J47,L47)","v":{"v":1360000,"d":"1,360,000"}},{"$f":"SUM(I47,K47,M47)","v":0}]
["3",null,{"$f":"IF(B48=\"\",\"\",VLOOKUP(B48,Упутство!$A$1912:$B$6831,2,FALSE))","v":""},{"$nulls":10},{"$f":"SUM(H48,J48,L48)","v":0},{"$f":"SUM(I48,K48,M48)","v":0}]
["4",null,{"$f":"IF(B49=\"\",\"\",VLOOKUP(B49,Упутство!$A$1912:$B$6831,2,FALSE))","v":""},{"$nulls":10},0,0]
["5",null,{"$f":"IF(B50=\"\",\"\",VLOOKUP(B50,Упутство!$A$1912:$B$6831,2,FALSE))","v":""},{"$nulls":10},0,0]
["6",null,{"$f":"IF(B51=\"\",\"\",VLOOKUP(B51,Упутство!$A$1912:$B$6831,2,FALSE))","v":""},{"$nulls":10},0,0]
["7",null,{"$f":"IF(B52=\"\",\"\",VLOOKUP(B52,Упутство!$A$1912:$B$6831,2,FALSE))","v":""},{"$nulls":10},0,0]
["8",null,{"$f":"IF(B53=\"\",\"\",VLOOKUP(B53,Упутство!$A$1912:$B$6831,2,FALSE))","v":""},{"$nulls":10},0,0]
["9",412000,{"$f":"IF(B54=\"\",\"\",VLOOKUP(B54,Упутство!$A$1912:$B$6831,2,FALSE))","v":"СОЦИЈАЛНИ ДОПРИНОСИ НА ТЕРЕТ ПОСЛОДАВЦА"},{"$f":"SUM(D55:D58)","v":{"v":87000,"d":"87,000"}},{"$f":"SUM(E55:E58)","v":0},{"$f":"SUM(F55:F58)","v":{"v":93000,"d":"93,000"}},{"$f":"SUM(G55:G58)","v":0},{"v":84000,"d":"84,000"},0,{"v":84000,"d":"84,000"},0,{"$f":"SUM(L55:L58)","v":{"v":84000,"d":"84,000"}},0,{"v":252000,"d":"252,000"},0]
["10",412100,{"$f":"IF(B55=\"\",\"\",VLOOKUP(B55,Упутство!$A$1912:$B$6831,2,FALSE))","v":"Допринос за пензијско и инвалидско осигурање"},{"v":51000,"d":"51,000"},null,{"v":55000,"d":"55,000"},null,{"v":54000,"d":"54,000"},null,{"v":54000,"d":"54,000"},null,{"v":54000,"d":"54,000"},null,{"v":162000,"d":"162,000"},0]
["11",412200,{"$f":"IF(B56=\"\",\"\",VLOOKUP(B56,Упутство!$A$1912:$B$6831,2,FALSE))","v":"Допринос за здравствено осигурање"},{"v":28000,"d":"28,000"},null,{"v":29000,"d":"29,000"},null,{"v":24000,"d":"24,000"},null,{"v":24000,"d":"24,000"},null,{"v":24000,"d":"24,000"},null,{"v":72000,"d":"72,000"},0]
["12",412300,{"$f":"IF(B57=\"\",\"\",VLOOKUP(B57,Упутство!$A$1912:$B$6831,2,FALSE))","v":"Допринос за незапосленост"},{"v":8000,"d":"8,000"},null,{"v":9000,"d":"9,000"},null,{"v":6000,"d":"6,000"},null,{"v":6000,"d":"6,000"},null,{"v":6000,"d":"6,000"},null,{"v":18000,"d":"18,000"},0]
["13",null,{"$f":"IF(B58=\"\",\"\",VLOOKUP(B58,Упутство!$A$1912:$B$6831,2,FALSE))","v":""},{"$nulls":10},0,0]
["13",413000,{"$f":"IF(B59=\"\",\"\",VLOOKUP(B59,Упутство!$A$1912:$B$6831,2,FALSE))","v":"НАКНАДЕ У НАТУРИ"},{"$f":"SUM(D60:D64)","v":0},{"$f":"SUM(E60:E64)","v":0},{"$f":"SUM(F60:F64)","v":0},{"$f":"SUM(G60:G64)","v":0},0,0,0,0,{"$f":"SUM(L60:L64)","v":0},0,0,0]
["14",413100,{"$f":"IF(B60=\"\",\"\",VLOOKUP(B60,Упутство!$A$1912:$B$6831,2,FALSE))","v":"Накнаде у натури"},{"$nulls":10},0,0]
["15",null,{"$f":"IF(B61=\"\",\"\",VLOOKUP(B61,Упутство!$A$1912:$B$6831,2,FALSE))","v":""},{"$nulls":10},0,0]
["16",null,{"$f":"IF(B62=\"\",\"\",VLOOKUP(B62,Упутство!$A$1912:$B$6831,2,FALSE))","v":""},{"$nulls":10},0,0]
["17",null,{"$f":"IF(B63=\"\",\"\",VLOOKUP(B63,Упутство!$A$1912:$B$6831,2,FALSE))","v":""},{"$nulls":10},0,0]
["18",null,{"$f":"IF(B64=\"\",\"\",VLOOKUP(B64,Упутство!$A$1912:$B$6831,2,FALSE))","v":""},{"$nulls":10},0,0]
["19",414000,{"$f":"IF(B65=\"\",\"\",VLOOKUP(B65,Упутство!$A$1912:$B$6831,2,FALSE))","v":"СОЦИЈАЛНА ДАВАЊА ЗАПОСЛЕНИМА"},{"$f":"SUM(D66:D72)","v":{"v":15000,"d":"15,000"}},{"$f":"SUM(E66:E72)","v":0},{"$f":"SUM(F66:F72)","v":{"v":1000,"d":"1,000"}},{"$f":"SUM(G66:G72)","v":0},0,0,0,0,{"$f":"SUM(L66:L72)","v":0},0,0,0]
["20",414100,{"$f":"IF(B66=\"\",\"\",VLOOKUP(B66,Упутство!$A$1912:$B$6831,2,FALSE))","v":"Исплата накнада за време одсуствовања с посла на терет фондова"},{"$nulls":10},0,0]
["21",414200,{"$f":"IF(B67=\"\",\"\",VLOOKUP(B67,Упутство!$A$1912:$B$6831,2,FALSE))","v":"Расходи за образовање деце запослених"},{"$nulls":10},0,0]
["22",414300,{"$f":"IF(B68=\"\",\"\",VLOOKUP(B68,Упутство!$A$1912:$B$6831,2,FALSE))","v":"Отпремнине и помоћи"},{"v":15000,"d":"15,000"},null,{"v":1000,"d":"1,000"},{"$nulls":7},0,0]
["23",414400,{"$f":"IF(B69=\"\",\"\",VLOOKUP(B69,Упутство!$A$1912:$B$6831,2,FALSE))","v":"Помоћ у медицинском лечењу запосленог или чланова уже породице и друге помоћи запосленом"},{"$nulls":10},0,0]
["24",null,{"$f":"IF(B70=\"\",\"\",VLOOKUP(B70,Упутство!$A$1912:$B$6831,2,FALSE))","v":""},{"$nulls":10},0,0]
["25",null,{"$f":"IF(B71=\"\",\"\",VLOOKUP(B71,Упутство!$A$1912:$B$6831,2,FALSE))","v":""},{"$nulls":10},0,0]
["26",null,{"$f":"IF(B72=\"\",\"\",VLOOKUP(B72,Упутство!$A$1912:$B$6831,2,FALSE))","v":""},{"$nulls":10},0,0]
["27",415000,{"$f":"IF(B73=\"\",\"\",VLOOKUP(B73,Упутство!$A$1912:$B$6831,2,FALSE))","v":"НАКНАДЕ ТРОШКОВА ЗА ЗАПОСЛЕНЕ"},{"$f":"SUM(D74:D77)","v":0},{"$f":"SUM(E74:E77)","v":0},{"$f":"SUM(F74:F77)","v":0},{"$f":"SUM(G74:G77)","v":0},0,0,0,0,{"$f":"SUM(L74:L77)","v":0},0,0,0]
["28",415100,{"$f":"IF(B74=\"\",\"\",VLOOKUP(B74,Упутство!$A$1912:$B$6831,2,FALSE))","v":"Накнаде трошкова за запослене"},{"$nulls":10},0,0]
["29",null,{"$f":"IF(B75=\"\",\"\",VLOOKUP(B75,Упутство!$A$1912:$B$6831,2,FALSE))","v":""},{"$nulls":10},0,0]
["30",null,{"$f":"IF(B76=\"\",\"\",VLOOKUP(B76,Упутство!$A$1912:$B$6831,2,FALSE))","v":""},{"$nulls":10},0,0]
["31",null,{"$f":"IF(B77=\"\",\"\",VLOOKUP(B77,Упутство!$A$1912:$B$6831,2,FALSE))","v":""},{"$nulls":10},0,0]
["32",416000,{"$f":"IF(B78=\"\",\"\",VLOOKUP(B78,Упутство!$A$1912:$B$6831,2,FALSE))","v":"НАГРАДЕ ЗАПОСЛЕНИМА И ОСТАЛИ ПОСЕБНИ РАСХОДИ"},{"$f":"SUM(D79:D82)","v":0},{"$f":"SUM(E79:E82)","v":0},{"$f":"SUM(F79:F82)","v":0},{"$f":"SUM(G79:G82)","v":0},0,0,0,0,{"$f":"SUM(L79:L82)","v":0},0,0,0]
["33",416100,{"$f":"IF(B79=\"\",\"\",VLOOKUP(B79,Упутство!$A$1912:$B$6831,2,FALSE))","v":"Награде запосленима и остали посебни расходи"},{"$nulls":10},0,0]
["34",null,{"$f":"IF(B80=\"\",\"\",VLOOKUP(B80,Упутство!$A$1912:$B$6831,2,FALSE))","v":""},{"$nulls":10},0,0]
["35",null,{"$f":"IF(B81=\"\",\"\",VLOOKUP(B81,Упутство!$A$1912:$B$6831,2,FALSE))","v":""},{"$nulls":10},0,0]
["36",null,{"$f":"IF(B82=\"\",\"\",VLOOKUP(B82,Упутство!$A$1912:$B$6831,2,FALSE))","v":""},{"$nulls":10},0,0]
["37",421000,{"$f":"IF(B83=\"\",\"\",VLOOKUP(B83,Упутство!$A$1912:$B$6831,2,FALSE))","v":"СТАЛНИ ТРОШКОВИ"},{"$f":"SUM(D84:D113)","v":{"v":149000,"d":"149,000"}},{"$f":"SUM(E84:E113)","v":{"v":225000,"d":"225,000"}},{"$f":"SUM(F84:F113)","v":{"v":136000,"d":"136,000"}},{"$f":"SUM(G84:G113)","v":{"v":150000,"d":"150,000"}},{"v":240000,"d":"240,000"},0,{"v":243000,"d":"243,000"},0,{"$f":"SUM(L84:L113)","v":{"v":243000,"d":"243,000"}},0,{"v":726000,"d":"726,000"},0]
["38",421100,{"$f":"IF(B84=\"\",\"\",VLOOKUP(B84,Упутство!$A$1912:$B$6831,2,FALSE))","v":"Трошкови платног промета и банкарских услуга"},{"v":9000,"d":"9,000"},{"v":5000,"d":"5,000"},{"v":10000,"d":"10,000"},{"v":2000,"d":"2,000"},{"v":10000,"d":"10,000"},null,{"v":10000,"d":"10,000"},null,{"v":10000,"d":"10,000"},null,{"v":30000,"d":"30,000"},0]
["39",421200,{"$f":"IF(B85=\"\",\"\",VLOOKUP(B85,Упутство!$A$1912:$B$6831,2,FALSE))","v":"Енергетске услуге"},{"v":80000,"d":"80,000"},{"v":80000,"d":"80,000"},{"v":95000,"d":"95,000"},{"v":94000,"d":"94,000"},{"v":150000,"d":"150,000"},null,{"v":158000,"d":"158,000"},null,{"v":158000,"d":"158,000"},null,{"v":466000,"d":"466,000"},0]
["40",421300,{"$f":"IF(B86=\"\",\"\",VLOOKUP(B86,Упутство!$A$1912:$B$6831,2,FALSE))","v":"Комуналне услуге"},{"v":20000,"d":"20,000"},{"v":30000,"d":"30,000"},null,null,{"v":5000,"d":"5,000"},null,{"v":20000,"d":"20,000"},null,{"v":20000,"d":"20,000"},null,{"v":45000,"d":"45,000"},0]
["41",421400,{"$f":"IF(B87=\"\",\"\",VLOOKUP(B87,Упутство!$A$1912:$B$6831,2,FALSE))","v":"Услуге комуникација"},{"v":30000,"d":"30,000"},{"v":20000,"d":"20,000"},{"v":30000,"d":"30,000"},{"v":21000,"d":"21,000"},{"v":40000,"d":"40,000"},null,{"v":50000,"d":"50,000"},null,{"v":50000,"d":"50,000"},null,{"v":140000,"d":"140,000"},0]
["42",421500,{"$f":"IF(B88=\"\",\"\",VLOOKUP(B88,Упутство!$A$1912:$B$6831,2,FALSE))","v":"Трошкови осигурања"},{"v":5000,"d":"5,000"},{"v":30000,"d":"30,000"},{"v":1000,"d":"1,000"},{"v":33000,"d":"33,000"},{"v":35000,"d":"35,000"},null,{"v":5000,"d":"5,000"},null,{"v":5000,"d":"5,000"},null,{"v":45000,"d":"45,000"},0]
["43",421600,{"$f":"IF(B89=\"\",\"\",VLOOKUP(B89,Упутство!$A$1912:$B$6831,2,FALSE))","v":"Закуп имовине и опреме"},null,{"v":25000,"d":"25,000"},{"$nulls":8},0,0]
["44",421900,{"$f":"IF(B90=\"\",\"\",VLOOKUP(B90,Упутство!$A$1912:$B$6831,2,FALSE))","v":"Остали трошкови"},{"v":5000,"d":"5,000"},{"v":35000,"d":"35,000"},{"$nulls":8},0,0]
["45",null,{"$f":"IF(B91=\"\",\"\",VLOOKUP(B91,Упутство!$A$1912:$B$6831,2,FALSE))","v":""},{"$nulls":10},0,0]
["46",null,{"$f":"IF(B92=\"\",\"\",VLOOKUP(B92,Упутство!$A$1912:$B$6831,2,FALSE))","v":""},{"$nulls":10},0,0]
["47",null,{"$f":"IF(B93=\"\",\"\",VLOOKUP(B93,Упутство!$A$1912:$B$6831,2,FALSE))","v":""},{"$nulls":10},0,0]
["48",null,{"$f":"IF(B94=\"\",\"\",VLOOKUP(B94,Упутство!$A$1912:$B$6831,2,FALSE))","v":""},{"$nulls":10},0,0]
["49",null,{"$f":"IF(B95=\"\",\"\",VLOOKUP(B95,Упутство!$A$1912:$B$6831,2,FALSE))","v":""},{"$nulls":10},0,0]
["50",null,{"$f":"IF(B96=\"\",\"\",VLOOKUP(B96,Упутство!$A$1912:$B$6831,2,FALSE))","v":""},{"$nulls":10},0,0]
["51",null,{"$f":"IF(B97=\"\",\"\",VLOOKUP(B97,Упутство!$A$1912:$B$6831,2,FALSE))","v":""},{"$nulls":10},0,0]
["52",null,{"$f":"IF(B98=\"\",\"\",VLOOKUP(B98,Упутство!$A$1912:$B$6831,2,FALSE))","v":""},{"$nulls":10},0,0]
["53",null,{"$f":"IF(B99=\"\",\"\",VLOOKUP(B99,Упутство!$A$1912:$B$6831,2,FALSE))","v":""},{"$nulls":10},0,0]
["54",null,{"$f":"IF(B100=\"\",\"\",VLOOKUP(B100,Упутство!$A$1912:$B$6831,2,FALSE))","v":""},{"$nulls":10},0,0]
["55",null,{"$f":"IF(B101=\"\",\"\",VLOOKUP(B101,Упутство!$A$1912:$B$6831,2,FALSE))","v":""},{"$nulls":10},0,0]
["56",null,{"$f":"IF(B102=\"\",\"\",VLOOKUP(B102,Упутство!$A$1912:$B$6831,2,FALSE))","v":""},{"$nulls":10},0,0]
["57",null,{"$f":"IF(B103=\"\",\"\",VLOOKUP(B103,Упутство!$A$1912:$B$6831,2,FALSE))","v":""},{"$nulls":10},0,0]
["58",null,{"$f":"IF(B104=\"\",\"\",VLOOKUP(B104,Упутство!$A$1912:$B$6831,2,FALSE))","v":""},{"$nulls":10},0,0]
["59",null,{"$f":"IF(B105=\"\",\"\",VLOOKUP(B105,Упутство!$A$1912:$B$6831,2,FALSE))","v":""},{"$nulls":10},0,0]
["60",null,{"$f":"IF(B106=\"\",\"\",VLOOKUP(B106,Упутство!$A$1912:$B$6831,2,FALSE))","v":""},{"$nulls":10},0,0]
["61",null,{"$f":"IF(B107=\"\",\"\",VLOOKUP(B107,Упутство!$A$1912:$B$6831,2,FALSE))","v":""},{"$nulls":10},0,0]
["62",null,{"$f":"IF(B108=\"\",\"\",VLOOKUP(B108,Упутство!$A$1912:$B$6831,2,FALSE))","v":""},{"$nulls":10},0,0]
["63",null,{"$f":"IF(B109=\"\",\"\",VLOOKUP(B109,Упутство!$A$1912:$B$6831,2,FALSE))","v":""},{"$nulls":10},0,0]
["64",null,{"$f":"IF(B110=\"\",\"\",VLOOKUP(B110,Упутство!$A$1912:$B$6831,2,FALSE))","v":""},{"$nulls":10},0,0]
["65",null,{"$f":"IF(B111=\"\",\"\",VLOOKUP(B111,Упутство!$A$1912:$B$6831,2,FALSE))","v":""},{"$nulls":10},0,0]
["66",null,{"$f":"IF(B112=\"\",\"\",VLOOKUP(B112,Упутство!$A$1912:$B$6831,2,FALSE))","v":""},{"$nulls":10},{"$f":"SUM(H112,J112,L112)","v":0},{"$f":"SUM(I112,K112,M112)","v":0}]
["67",null,{"$f":"IF(B113=\"\",\"\",VLOOKUP(B113,Упутство!$A$1912:$B$6831,2,FALSE))","v":""},{"$nulls":10},0,0]
["68",422000,{"$f":"IF(B114=\"\",\"\",VLOOKUP(B114,Упутство!$A$1912:$B$6831,2,FALSE))","v":"ТРОШКОВИ ПУТОВАЊА"},{"$f":"SUM(D115:D125)","v":{"v":50000,"d":"50,000"}},{"$f":"SUM(E115:E125)","v":{"v":50000,"d":"50,000"}},{"$f":"SUM(F115:F125)","v":{"v":1000,"d":"1,000"}},{"$f":"SUM(G115:G125)","v":0},0,0,0,0,{"$f":"SUM(L115:L125)","v":0},0,0,0]
["69",422100,{"$f":"IF(B115=\"\",\"\",VLOOKUP(B115,Упутство!$A$1912:$B$6831,2,FALSE))","v":"Трошкови службених путовања у земљи"},{"v":20000,"d":"20,000"},{"v":50000,"d":"50,000"},{"$nulls":8},0,0]
["70",422200,{"$f":"IF(B116=\"\",\"\",VLOOKUP(B116,Упутство!$A$1912:$B$6831,2,FALSE))","v":"Трошкови службених путовања у иностранство"},{"$nulls":10},0,0]
["71",422300,{"$f":"IF(B117=\"\",\"\",VLOOKUP(B117,Упутство!$A$1912:$B$6831,2,FALSE))","v":"Трошкови путовања у оквиру редовног рада"},{"$nulls":10},0,0]
["72",422400,{"$f":"IF(B118=\"\",\"\",VLOOKUP(B118,Упутство!$A$1912:$B$6831,2,FALSE))","v":"Трошкови путовања ученика"},{"$nulls":10},0,0]
["73",422900,{"$f":"IF(B119=\"\",\"\",VLOOKUP(B119,Упутство!$A$1912:$B$6831,2,FALSE))","v":"Остали трошкови транспорта"},{"v":30000,"d":"30,000"},null,{"v":1000,"d":"1,000"},{"$nulls":7},0,0]
["74",null,{"$f":"IF(B120=\"\",\"\",VLOOKUP(B120,Упутство!$A$1912:$B$6831,2,FALSE))","v":""},{"$nulls":10},0,0]
["75",null,{"$f":"IF(B121=\"\",\"\",VLOOKUP(B121,Упутство!$A$1912:$B$6831,2,FALSE))","v":""},{"$nulls":10},0,0]
["76",null,{"$f":"IF(B122=\"\",\"\",VLOOKUP(B122,Упутство!$A$1912:$B$6831,2,FALSE))","v":""},{"$nulls":10},0,0]
["77",null,{"$f":"IF(B123=\"\",\"\",VLOOKUP(B123,Упутство!$A$1912:$B$6831,2,FALSE))","v":""},{"$nulls":10},0,0]
["78",null,{"$f":"IF(B124=\"\",\"\",VLOOKUP(B124,Упутство!$A$1912:$B$6831,2,FALSE))","v":""},{"$nulls":10},0,0]
["79",null,{"$f":"IF(B125=\"\",\"\",VLOOKUP(B125,Упутство!$A$1912:$B$6831,2,FALSE))","v":""},{"$nulls":10},0,0]
["80",423000,{"$f":"IF(B126=\"\",\"\",VLOOKUP(B126,Упутство!$A$1912:$B$6831,2,FALSE))","v":"УСЛУГЕ ПО УГОВОРУ"},{"$f":"SUM(D127:D156)","v":{"v":350000,"d":"350,000"}},{"$f":"SUM(E127:E156)","v":{"v":323000,"d":"323,000"}},{"$f":"SUM(F127:F156)","v":{"v":311000,"d":"311,000"}},{"$f":"SUM(G127:G156)","v":{"v":117000,"d":"117,000"}},{"v":438000,"d":"438,000"},0,{"v":73000,"d":"73,000"},0,{"$f":"SUM(L127:L156)","v":{"v":73000,"d":"73,000"}},0,{"v":584000,"d":"584,000"},0]
["81",423100,{"$f":"IF(B127=\"\",\"\",VLOOKUP(B127,Упутство!$A$1912:$B$6831,2,FALSE))","v":"Административне услуге"},{"v":60000,"d":"60,000"},{"v":100000,"d":"100,000"},{"v":60000,"d":"60,000"},null,{"v":28000,"d":"28,000"},null,{"v":30000,"d":"30,000"},null,{"v":30000,"d":"30,000"},null,{"v":88000,"d":"88,000"},0]
["82",423200,{"$f":"IF(B128=\"\",\"\",VLOOKUP(B128,Упутство!$A$1912:$B$6831,2,FALSE))","v":"Компјутерске услуге"},null,{"v":10000,"d":"10,000"},null,null,{"v":5000,"d":"5,000"},{"$nulls":5},{"v":5000,"d":"5,000"},0]
["83",423300,{"$f":"IF(B129=\"\",\"\",VLOOKUP(B129,Упутство!$A$1912:$B$6831,2,FALSE))","v":"Услуге образовања и усавршавања запослених"},null,{"v":10000,"d":"10,000"},{"$nulls":8},0,0]
["84",423400,{"$f":"IF(B130=\"\",\"\",VLOOKUP(B130,Упутство!$A$1912:$B$6831,2,FALSE))","v":"Услуге информисања"},{"v":165000,"d":"165,000"},{"v":90000,"d":"90,000"},{"v":187000,"d":"187,000"},{"v":2000,"d":"2,000"},{"v":15000,"d":"15,000"},null,{"v":10000,"d":"10,000"},null,{"v":10000,"d":"10,000"},null,{"v":35000,"d":"35,000"},0]
["85",423500,{"$f":"IF(B131=\"\",\"\",VLOOKUP(B131,Упутство!$A$1912:$B$6831,2,FALSE))","v":"Стручне услуге"},{"v":20000,"d":"20,000"},{"v":10000,"d":"10,000"},{"v":59000,"d":"59,000"},null,{"v":240000,"d":"240,000"},null,{"v":33000,"d":"33,000"},null,{"v":33000,"d":"33,000"},null,{"v":306000,"d":"306,000"},0]
["86",423600,{"$f":"IF(B132=\"\",\"\",VLOOKUP(B132,Упутство!$A$1912:$B$6831,2,FALSE))","v":"Услуге за домаћинство и угоститељство"},null,{"v":10000,"d":"10,000"},{"$nulls":8},0,0]
["87",423700,{"$f":"IF(B133=\"\",\"\",VLOOKUP(B133,Упутство!$A$1912:$B$6831,2,FALSE))","v":"Репрезентација"},{"v":80000,"d":"80,000"},{"v":83000,"d":"83,000"},null,{"v":100000,"d":"100,000"},{"v":150000,"d":"150,000"},{"$nulls":5},{"v":150000,"d":"150,000"},0]
["88",423900,{"$f":"IF(B134=\"\",\"\",VLOOKUP(B134,Упутство!$A$1912:$B$6831,2,FALSE))","v":"Остале опште услуге"},{"v":25000,"d":"25,000"},{"v":10000,"d":"10,000"},{"v":5000,"d":"5,000"},{"v":15000,"d":"15,000"},{"$nulls":6},0,0]
["89",null,{"$f":"IF(B135=\"\",\"\",VLOOKUP(B135,Упутство!$A$1912:$B$6831,2,FALSE))","v":""},{"$nulls":10},0,0]
["90",null,{"$f":"IF(B136=\"\",\"\",VLOOKUP(B136,Упутство!$A$1912:$B$6831,2,FALSE))","v":""},{"$nulls":10},0,0]
["91",null,{"$f":"IF(B137=\"\",\"\",VLOOKUP(B137,Упутство!$A$1912:$B$6831,2,FALSE))","v":""},{"$nulls":10},0,0]
["92",null,{"$f":"IF(B138=\"\",\"\",VLOOKUP(B138,Упутство!$A$1912:$B$6831,2,FALSE))","v":""},{"$nulls":10},0,0]
["93",null,{"$f":"IF(B139=\"\",\"\",VLOOKUP(B139,Упутство!$A$1912:$B$6831,2,FALSE))","v":""},{"$nulls":10},0,0]
["94",null,{"$f":"IF(B140=\"\",\"\",VLOOKUP(B140,Упутство!$A$1912:$B$6831,2,FALSE))","v":""},{"$nulls":10},0,0]
["95",null,{"$f":"IF(B141=\"\",\"\",VLOOKUP(B141,Упутство!$A$1912:$B$6831,2,FALSE))","v":""},{"$nulls":10},0,0]
["96",null,{"$f":"IF(B142=\"\",\"\",VLOOKUP(B142,Упутство!$A$1912:$B$6831,2,FALSE))","v":""},{"$nulls":10},0,0]
["97",null,{"$f":"IF(B143=\"\",\"\",VLOOKUP(B143,Упутство!$A$1912:$B$6831,2,FALSE))","v":""},{"$nulls":10},0,0]
["98",null,{"$f":"IF(B144=\"\",\"\",VLOOKUP(B144,Упутство!$A$1912:$B$6831,2,FALSE))","v":""},{"$nulls":10},0,0]
["99",null,{"$f":"IF(B145=\"\",\"\",VLOOKUP(B145,Упутство!$A$1912:$B$6831,2,FALSE))","v":""},{"$nulls":10},0,0]
["100",null,{"$f":"IF(B146=\"\",\"\",VLOOKUP(B146,Упутство!$A$1912:$B$6831,2,FALSE))","v":""},{"$nulls":10},0,0]
["101",null,{"$f":"IF(B147=\"\",\"\",VLOOKUP(B147,Упутство!$A$1912:$B$6831,2,FALSE))","v":""},{"$nulls":10},0,0]
["102",null,{"$f":"IF(B148=\"\",\"\",VLOOKUP(B148,Упутство!$A$1912:$B$6831,2,FALSE))","v":""},{"$nulls":10},0,0]
["103",null,{"$f":"IF(B149=\"\",\"\",VLOOKUP(B149,Упутство!$A$1912:$B$6831,2,FALSE))","v":""},{"$nulls":10},0,0]
["104",null,{"$f":"IF(B150=\"\",\"\",VLOOKUP(B150,Упутство!$A$1912:$B$6831,2,FALSE))","v":""},{"$nulls":10},0,0]
["105",null,{"$f":"IF(B151=\"\",\"\",VLOOKUP(B151,Упутство!$A$1912:$B$6831,2,FALSE))","v":""},{"$nulls":10},0,0]
["106",null,{"$f":"IF(B152=\"\",\"\",VLOOKUP(B152,Упутство!$A$1912:$B$6831,2,FALSE))","v":""},{"$nulls":10},0,0]
["107",null,{"$f":"IF(B153=\"\",\"\",VLOOKUP(B153,Упутство!$A$1912:$B$6831,2,FALSE))","v":""},{"$nulls":10},0,0]
["108",null,{"$f":"IF(B154=\"\",\"\",VLOOKUP(B154,Упутство!$A$1912:$B$6831,2,FALSE))","v":""},{"$nulls":10},0,0]
["109",null,{"$f":"IF(B155=\"\",\"\",VLOOKUP(B155,Упутство!$A$1912:$B$6831,2,FALSE))","v":""},{"$nulls":10},0,0]
["110",null,{"$f":"IF(B156=\"\",\"\",VLOOKUP(B156,Упутство!$A$1912:$B$6831,2,FALSE))","v":""},{"$nulls":10},0,0]
["111",424000,{"$f":"IF(B157=\"\",\"\",VLOOKUP(B157,Упутство!$A$1912:$B$6831,2,FALSE))","v":"СПЕЦИЈАЛИЗОВАНЕ УСЛУГЕ"},{"$f":"SUM(D158:D166)","v":{"v":350000,"d":"350,000"}},{"$f":"SUM(E158:E166)","v":{"v":150000,"d":"150,000"}},{"$f":"SUM(F158:F166)","v":0},{"$f":"SUM(G158:G166)","v":{"v":288000,"d":"288,000"}},{"v":78000,"d":"78,000"},{"v":155000,"d":"155,000"},{"v":60000,"d":"60,000"},0,{"$f":"SUM(L158:L166)","v":{"v":60000,"d":"60,000"}},0,{"v":198000,"d":"198,000"},{"v":155000,"d":"155,000"}]
["112",424100,{"$f":"IF(B158=\"\",\"\",VLOOKUP(B158,Упутство!$A$1912:$B$6831,2,FALSE))","v":"Пољопривредне услуге"},{"$nulls":10},0,0]
["113",424200,{"$f":"IF(B159=\"\",\"\",VLOOKUP(B159,Упутство!$A$1912:$B$6831,2,FALSE))","v":"Услуге образовања, културе и спорта"},{"$nulls":10},0,0]
["114",424300,{"$f":"IF(B160=\"\",\"\",VLOOKUP(B160,Упутство!$A$1912:$B$6831,2,FALSE))","v":"Медицинске услуге"},{"$nulls":10},0,0]
["115",424400,{"$f":"IF(B161=\"\",\"\",VLOOKUP(B161,Упутство!$A$1912:$B$6831,2,FALSE))","v":"Услуге одржавања аутопутева"},{"$nulls":10},0,0]
["116",424500,{"$f":"IF(B162=\"\",\"\",VLOOKUP(B162,Упутство!$A$1912:$B$6831,2,FALSE))","v":"Услуге одржавања националних паркова и природних површина"},{"$nulls":10},0,0]
["117",424600,{"$f":"IF(B163=\"\",\"\",VLOOKUP(B163,Упутство!$A$1912:$B$6831,2,FALSE))","v":"Услуге очувања животне средине, науке и геодетске услуге"},{"v":250000,"d":"250,000"},{"v":100000,"d":"100,000"},null,{"v":288000,"d":"288,000"},{"v":28000,"d":"28,000"},{"$nulls":5},{"v":28000,"d":"28,000"},0]
["118",424900,{"$f":"IF(B164=\"\",\"\",VLOOKUP(B164,Упутство!$A$1912:$B$6831,2,FALSE))","v":"Остале специјализоване услуге"},{"v":100000,"d":"100,000"},{"v":50000,"d":"50,000"},null,null,{"v":50000,"d":"50,000"},{"v":155000,"d":"155,000"},{"v":60000,"d":"60,000"},null,{"v":60000,"d":"60,000"},null,{"v":170000,"d":"170,000"},{"v":155000,"d":"155,000"}]
["119",null,{"$f":"IF(B165=\"\",\"\",VLOOKUP(B165,Упутство!$A$1912:$B$6831,2,FALSE))","v":""},{"$nulls":10},0,0]
["120",null,{"$f":"IF(B166=\"\",\"\",VLOOKUP(B166,Упутство!$A$1912:$B$6831,2,FALSE))","v":""},{"$nulls":10},0,0]
["121",425000,{"$f":"IF(B167=\"\",\"\",VLOOKUP(B167,Упутство!$A$1912:$B$6831,2,FALSE))","v":"ТЕКУЋЕ ПОПРАВКЕ И ОДРЖАВАЊЕ"},{"$f":"SUM(D168:D187)","v":{"v":400000,"d":"400,000"}},{"$f":"SUM(E168:E187)","v":{"v":600000,"d":"600,000"}},{"$f":"SUM(F168:F187)","v":{"v":55000,"d":"55,000"}},{"$f":"SUM(G168:G187)","v":{"v":471000,"d":"471,000"}},{"v":110000,"d":"110,000"},{"v":1350000,"d":"1,350,000"},{"v":110000,"d":"110,000"},0,{"$f":"SUM(L168:L187)","v":{"v":110000,"d":"110,000"}},0,{"v":330000,"d":"330,000"},{"v":1350000,"d":"1,350,000"}]
["122",425100,{"$f":"IF(B168=\"\",\"\",VLOOKUP(B168,Упутство!$A$1912:$B$6831,2,FALSE))","v":"Текуће поправке и одржавање зграда и објеката"},{"v":300000,"d":"300,000"},{"v":600000,"d":"600,000"},{"v":34000,"d":"34,000"},{"v":471000,"d":"471,000"},{"v":90000,"d":"90,000"},{"v":1350000,"d":"1,350,000"},{"v":90000,"d":"90,000"},null,{"v":90000,"d":"90,000"},null,{"v":270000,"d":"270,000"},{"v":1350000,"d":"1,350,000"}]
["123",425200,{"$f":"IF(B169=\"\",\"\",VLOOKUP(B169,Упутство!$A$1912:$B$6831,2,FALSE))","v":"Текуће поправке и одржавање опреме"},{"v":100000,"d":"100,000"},null,{"v":21000,"d":"21,000"},null,{"v":20000,"d":"20,000"},null,{"v":20000,"d":"20,000"},null,{"v":20000,"d":"20,000"},null,{"v":60000,"d":"60,000"},0]
["124",null,{"$f":"IF(B170=\"\",\"\",VLOOKUP(B170,Упутство!$A$1912:$B$6831,2,FALSE))","v":""},{"$nulls":10},0,0]
["125",null,{"$f":"IF(B171=\"\",\"\",VLOOKUP(B171,Упутство!$A$1912:$B$6831,2,FALSE))","v":""},{"$nulls":10},0,0]
["126",null,{"$f":"IF(B172=\"\",\"\",VLOOKUP(B172,Упутство!$A$1912:$B$6831,2,FALSE))","v":""},{"$nulls":10},0,0]
["127",null,{"$f":"IF(B173=\"\",\"\",VLOOKUP(B173,Упутство!$A$1912:$B$6831,2,FALSE))","v":""},{"$nulls":10},0,0]
["128",null,{"$f":"IF(B174=\"\",\"\",VLOOKUP(B174,Упутство!$A$1912:$B$6831,2,FALSE))","v":""},{"$nulls":10},0,0]
["129",null,{"$f":"IF(B175=\"\",\"\",VLOOKUP(B175,Упутство!$A$1912:$B$6831,2,FALSE))","v":""},{"$nulls":10},0,0]
["130",null,{"$f":"IF(B176=\"\",\"\",VLOOKUP(B176,Упутство!$A$1912:$B$6831,2,FALSE))","v":""},{"$nulls":10},{"$f":"SUM(H176,J176,L176)","v":0},{"$f":"SUM(I176,K176,M176)","v":0}]
["131",null,{"$f":"IF(B177=\"\",\"\",VLOOKUP(B177,Упутство!$A$1912:$B$6831,2,FALSE))","v":""},{"$nulls":10},0,0]
["132",null,{"$f":"IF(B178=\"\",\"\",VLOOKUP(B178,Упутство!$A$1912:$B$6831,2,FALSE))","v":""},{"$nulls":10},0,0]
["133",null,{"$f":"IF(B179=\"\",\"\",VLOOKUP(B179,Упутство!$A$1912:$B$6831,2,FALSE))","v":""},{"$nulls":10},0,0]
["134",null,{"$f":"IF(B180=\"\",\"\",VLOOKUP(B180,Упутство!$A$1912:$B$6831,2,FALSE))","v":""},{"$nulls":10},0,0]
["135",null,{"$f":"IF(B181=\"\",\"\",VLOOKUP(B181,Упутство!$A$1912:$B$6831,2,FALSE))","v":""},{"$nulls":10},0,0]
["136",null,{"$f":"IF(B182=\"\",\"\",VLOOKUP(B182,Упутство!$A$1912:$B$6831,2,FALSE))","v":""},{"$nulls":10},0,0]
["137",null,{"$f":"IF(B183=\"\",\"\",VLOOKUP(B183,Упутство!$A$1912:$B$6831,2,FALSE))","v":""},{"$nulls":10},0,0]
["138",null,{"$f":"IF(B184=\"\",\"\",VLOOKUP(B184,Упутство!$A$1912:$B$6831,2,FALSE))","v":""},{"$nulls":10},0,0]
["139",null,{"$f":"IF(B185=\"\",\"\",VLOOKUP(B185,Упутство!$A$1912:$B$6831,2,FALSE))","v":""},{"$nulls":10},0,0]
["140",null,{"$f":"IF(B186=\"\",\"\",VLOOKUP(B186,Упутство!$A$1912:$B$6831,2,FALSE))","v":""},{"$nulls":10},0,0]
["141",null,{"$f":"IF(B187=\"\",\"\",VLOOKUP(B187,Упутство!$A$1912:$B$6831,2,FALSE))","v":""},{"$nulls":10},0,0]
["142",426000,{"$f":"IF(B188=\"\",\"\",VLOOKUP(B188,Упутство!$A$1912:$B$6831,2,FALSE))","v":"МАТЕРИЈАЛ"},{"$f":"SUM(D189:D213)","v":{"v":400000,"d":"400,000"}},{"$f":"SUM(E189:E213)","v":{"v":200000,"d":"200,000"}},{"$f":"SUM(F189:F213)","v":{"v":8000,"d":"8,000"}},{"$f":"SUM(G189:G213)","v":{"v":630500,"d":"630,500"}},{"v":280000,"d":"280,000"},0,{"v":224000,"d":"224,000"},0,{"$f":"SUM(L189:L213)","v":{"v":224000,"d":"224,000"}},0,{"v":728000,"d":"728,000"},0]
["143",426100,{"$f":"IF(B189=\"\",\"\",VLOOKUP(B189,Упутство!$A$1912:$B$6831,2,FALSE))","v":"Административни материјал"},{"v":90000,"d":"90,000"},{"v":40000,"d":"40,000"},{"v":5000,"d":"5,000"},{"v":10000,"d":"10,000"},{"v":20000,"d":"20,000"},null,{"v":25000,"d":"25,000"},null,{"v":25000,"d":"25,000"},null,{"v":70000,"d":"70,000"},0]
["144",426200,{"$f":"IF(B190=\"\",\"\",VLOOKUP(B190,Упутство!$A$1912:$B$6831,2,FALSE))","v":"Материјали за пољопривреду"},{"$nulls":6},{"v":70000,"d":"70,000"},null,{"v":70000,"d":"70,000"},null,{"v":140000,"d":"140,000"},0]
["145",426300,{"$f":"IF(B191=\"\",\"\",VLOOKUP(B191,Упутство!$A$1912:$B$6831,2,FALSE))","v":"Материјали за образовање и усавршавање запослених"},{"v":20000,"d":"20,000"},{"v":50000,"d":"50,000"},null,{"v":70000,"d":"70,000"},{"v":70000,"d":"70,000"},{"$nulls":5},{"v":70000,"d":"70,000"},0]
["146",426400,{"$f":"IF(B192=\"\",\"\",VLOOKUP(B192,Упутство!$A$1912:$B$6831,2,FALSE))","v":"Материјали за саобраћај"},null,{"v":10000,"d":"10,000"},null,{"v":9500,"d":"9,500"},{"$nulls":6},0,0]
["147",426500,{"$f":"IF(B193=\"\",\"\",VLOOKUP(B193,Упутство!$A$1912:$B$6831,2,FALSE))","v":"Материјали за очување животне средине и науку"},{"v":150000,"d":"150,000"},{"$nulls":3},{"v":10000,"d":"10,000"},null,{"v":10000,"d":"10,000"},null,{"v":10000,"d":"10,000"},null,{"v":30000,"d":"30,000"},0]
["148",426700,{"$f":"IF(B194=\"\",\"\",VLOOKUP(B194,Упутство!$A$1912:$B$6831,2,FALSE))","v":"Медицински и лабораторијски материјали"},{"$nulls":10},0,0]
["149",426800,{"$f":"IF(B195=\"\",\"\",VLOOKUP(B195,Упутство!$A$1912:$B$6831,2,FALSE))","v":"Материјали за одржавање хигијене и угоститељство"},{"v":90000,"d":"90,000"},{"v":50000,"d":"50,000"},null,{"v":375000,"d":"375,000"},{"v":140000,"d":"140,000"},null,{"v":100000,"d":"100,000"},null,{"v":100000,"d":"100,000"},null,{"v":340000,"d":"340,000"},0]
["150",426900,{"$f":"IF(B196=\"\",\"\",VLOOKUP(B196,Упутство!$A$1912:$B$6831,2,FALSE))","v":"Материјали за посебне намене"},{"v":50000,"d":"50,000"},{"v":50000,"d":"50,000"},{"v":3000,"d":"3,000"},{"v":166000,"d":"166,000"},{"v":40000,"d":"40,000"},null,{"v":19000,"d":"19,000"},null,{"v":19000,"d":"19,000"},null,{"v":78000,"d":"78,000"},0]
["151",null,{"$f":"IF(B197=\"\",\"\",VLOOKUP(B197,Упутство!$A$1912:$B$6831,2,FALSE))","v":""},{"$nulls":10},0,0]
["152",null,{"$f":"IF(B198=\"\",\"\",VLOOKUP(B198,Упутство!$A$1912:$B$6831,2,FALSE))","v":""},{"$nulls":10},0,0]
["153",null,{"$f":"IF(B199=\"\",\"\",VLOOKUP(B199,Упутство!$A$1912:$B$6831,2,FALSE))","v":""},{"$nulls":10},0,0]
["154",null,{"$f":"IF(B200=\"\",\"\",VLOOKUP(B200,Упутство!$A$1912:$B$6831,2,FALSE))","v":""},{"$nulls":10},0,0]
["155",null,{"$f":"IF(B201=\"\",\"\",VLOOKUP(B201,Упутство!$A$1912:$B$6831,2,FALSE))","v":""},{"$nulls":10},0,0]
["156",null,{"$f":"IF(B202=\"\",\"\",VLOOKUP(B202,Упутство!$A$1912:$B$6831,2,FALSE))","v":""},{"$nulls":10},0,0]
["157",null,{"$f":"IF(B203=\"\",\"\",VLOOKUP(B203,Упутство!$A$1912:$B$6831,2,FALSE))","v":""},{"$nulls":10},0,0]
["158",null,{"$f":"IF(B204=\"\",\"\",VLOOKUP(B204,Упутство!$A$1912:$B$6831,2,FALSE))","v":""},{"$nulls":10},0,0]
["159",null,{"$f":"IF(B205=\"\",\"\",VLOOKUP(B205,Упутство!$A$1912:$B$6831,2,FALSE))","v":""},{"$nulls":10},0,0]
["160",null,{"$f":"IF(B206=\"\",\"\",VLOOKUP(B206,Упутство!$A$1912:$B$6831,2,FALSE))","v":""},{"$nulls":10},0,0]
["161",null,{"$f":"IF(B207=\"\",\"\",VLOOKUP(B207,Упутство!$A$1912:$B$6831,2,FALSE))","v":""},{"$nulls":10},0,0]
["162",null,{"$f":"IF(B208=\"\",\"\",VLOOKUP(B208,Упутство!$A$1912:$B$6831,2,FALSE))","v":""},{"$nulls":10},0,0]
["163",null,{"$f":"IF(B209=\"\",\"\",VLOOKUP(B209,Упутство!$A$1912:$B$6831,2,FALSE))","v":""},{"$nulls":10},0,0]
["164",null,{"$f":"IF(B210=\"\",\"\",VLOOKUP(B210,Упутство!$A$1912:$B$6831,2,FALSE))","v":""},{"$nulls":10},0,0]
["165",null,{"$f":"IF(B211=\"\",\"\",VLOOKUP(B211,Упутство!$A$1912:$B$6831,2,FALSE))","v":""},{"$nulls":10},0,0]
["166",null,{"$f":"IF(B212=\"\",\"\",VLOOKUP(B212,Упутство!$A$1912:$B$6831,2,FALSE))","v":""},{"$nulls":10},0,0]
["167",null,{"$f":"IF(B213=\"\",\"\",VLOOKUP(B213,Упутство!$A$1912:$B$6831,2,FALSE))","v":""},{"$nulls":10},0,0]
["168",430000,{"$f":"IF(B214=\"\",\"\",VLOOKUP(B214,Упутство!$A$1912:$B$6831,2,FALSE))","v":"АМОРТИЗАЦИЈА И УПОТРЕБА СРЕДСТАВА ЗА РАД"},{"$f":"SUM(D215:D218)","v":0},{"$f":"SUM(E215:E218)","v":0},{"$f":"SUM(F215:F218)","v":0},{"$f":"SUM(G215:G218)","v":0},0,0,0,0,{"$f":"SUM(L215:L218)","v":0},0,0,0]
["169",null,{"$f":"IF(B215=\"\",\"\",VLOOKUP(B215,Упутство!$A$1912:$B$6831,2,FALSE))","v":""},{"$nulls":10},0,0]
["170",null,{"$f":"IF(B216=\"\",\"\",VLOOKUP(B216,Упутство!$A$1912:$B$6831,2,FALSE))","v":""},{"$nulls":10},0,0]
["171",null,{"$f":"IF(B217=\"\",\"\",VLOOKUP(B217,Упутство!$A$1912:$B$6831,2,FALSE))","v":""},{"$nulls":10},0,0]
["172",null,{"$f":"IF(B218=\"\",\"\",VLOOKUP(B218,Упутство!$A$1912:$B$6831,2,FALSE))","v":""},{"$nulls":10},0,0]
["173",441000,{"$f":"IF(B219=\"\",\"\",VLOOKUP(B219,Упутство!$A$1912:$B$6831,2,FALSE))","v":"ОТПЛАТА ДОМАЋИХ КАМАТА"},{"$f":"SUM(D220:D223)","v":0},{"$f":"SUM(E220:E223)","v":0},{"$f":"SUM(F220:F223)","v":0},{"$f":"SUM(G220:G223)","v":0},0,0,0,0,{"$f":"SUM(L220:L223)","v":0},0,0,0]
["174",null,{"$f":"IF(B220=\"\",\"\",VLOOKUP(B220,Упутство!$A$1912:$B$6831,2,FALSE))","v":""},{"$nulls":10},0,0]
["175",null,{"$f":"IF(B221=\"\",\"\",VLOOKUP(B221,Упутство!$A$1912:$B$6831,2,FALSE))","v":""},{"$nulls":10},0,0]
["176",null,{"$f":"IF(B222=\"\",\"\",VLOOKUP(B222,Упутство!$A$1912:$B$6831,2,FALSE))","v":""},{"$nulls":10},0,0]
["177",null,{"$f":"IF(B223=\"\",\"\",VLOOKUP(B223,Упутство!$A$1912:$B$6831,2,FALSE))","v":""},{"$nulls":10},0,0]
["178",444000,{"$f":"IF(B224=\"\",\"\",VLOOKUP(B224,Упутство!$A$1912:$B$6831,2,FALSE))","v":"ПРАТЕЋИ ТРОШКОВИ ЗАДУЖИВАЊА"},{"$f":"SUM(D225:D227)","v":0},{"$f":"SUM(E225:E227)","v":0},{"$f":"SUM(F225:F227)","v":0},{"$f":"SUM(G225:G227)","v":0},0,0,0,0,{"$f":"SUM(L225:L227)","v":0},0,0,0]
["179",444100,{"$f":"IF(B225=\"\",\"\",VLOOKUP(B225,Упутство!$A$1912:$B$6831,2,FALSE))","v":"Негативне курсне разлике"},{"$nulls":10},0,0]
["180",444200,{"$f":"IF(B226=\"\",\"\",VLOOKUP(B226,Упутство!$A$1912:$B$6831,2,FALSE))","v":"Казне за кашњење"},{"$nulls":10},0,0]
["181",444300,{"$f":"IF(B227=\"\",\"\",VLOOKUP(B227,Упутство!$A$1912:$B$6831,2,FALSE))","v":"Остали пратећи трошкови задуживања"},{"$nulls":10},0,0]
["182",451000,{"$f":"IF(B228=\"\",\"\",VLOOKUP(B228,Упутство!$A$1912:$B$6831,2,FALSE))","v":"СУБВЕНЦИЈЕ ЈАВНИМ НЕФИНАНСИЈСКИМ ПРЕДУЗЕЋИМА И ОРГАНИЗАЦИЈАМА"},{"$f":"SUM(D229:D230)","v":0},{"$f":"SUM(E229:E230)","v":0},{"$f":"SUM(F229:F230)","v":0},{"$f":"SUM(G229:G230)","v":0},0,0,0,0,{"$f":"SUM(L229:L230)","v":0},0,0,0]
["183",451100,{"$f":"IF(B229=\"\",\"\",VLOOKUP(B229,Упутство!$A$1912:$B$6831,2,FALSE))","v":"Текуће субвенције јавним нефинансијским предузећима и организацијама"},{"$nulls":10},0,0]
["184",451200,{"$f":"IF(B230=\"\",\"\",VLOOKUP(B230,Упутство!$A$1912:$B$6831,2,FALSE))","v":"Капиталне субвенције јавним нефинансијским предузећима и организацијама"},{"$nulls":10},0,0]
["185",454000,{"$f":"IF(B231=\"\",\"\",VLOOKUP(B231,Упутство!$A$1912:$B$6831,2,FALSE))","v":"СУБВЕНЦИЈЕ ПРИВАТНИМ ПРЕДУЗЕЋИМА"},{"$f":"SUM(D232:D233)","v":0},{"$f":"SUM(E232:E233)","v":0},{"$f":"SUM(F232:F233)","v":0},{"$f":"SUM(G232:G233)","v":0},0,0,0,0,{"$f":"SUM(L232:L233)","v":0},0,0,0]
["186",454100,{"$f":"IF(B232=\"\",\"\",VLOOKUP(B232,Упутство!$A$1912:$B$6831,2,FALSE))","v":"Текуће субвенције приватним предузећима"},{"$nulls":10},0,0]
["187",454200,{"$f":"IF(B233=\"\",\"\",VLOOKUP(B233,Упутство!$A$1912:$B$6831,2,FALSE))","v":"Капиталне субвенције приватним предузећима"},{"$nulls":10},0,0]
["188",463000,{"$f":"IF(B234=\"\",\"\",VLOOKUP(B234,Упутство!$A$1912:$B$6831,2,FALSE))","v":"ТРАНСФЕРИ ОСТАЛИМ НИВОИМА ВЛАСТИ"},{"$f":"SUM(D235:D236)","v":0},{"$f":"SUM(E235:E236)","v":0},{"$f":"SUM(F235:F236)","v":0},{"$f":"SUM(G235:G236)","v":0},0,0,0,0,{"$f":"SUM(L235:L236)","v":0},0,0,0]
["189",463100,{"$f":"IF(B235=\"\",\"\",VLOOKUP(B235,Упутство!$A$1912:$B$6831,2,FALSE))","v":"Текући трансфери осталим нивоима власти"},{"$nulls":10},0,0]
["190",463200,{"$f":"IF(B236=\"\",\"\",VLOOKUP(B236,Упутство!$A$1912:$B$6831,2,FALSE))","v":"Капитални трансфери осталим нивоима власти"},{"$nulls":10},0,0]
["191",465000,{"$f":"IF(B237=\"\",\"\",VLOOKUP(B237,Упутство!$A$1912:$B$6831,2,FALSE))","v":"ОСТАЛЕ ДОТАЦИЈЕ И ТРАНСФЕРИ"},{"$f":"SUM(D238:D239)","v":{"v":65000,"d":"65,000"}},{"$f":"SUM(E238:E239)","v":0},{"$f":"SUM(F238:F239)","v":{"v":65000,"d":"65,000"}},{"$f":"SUM(G238:G239)","v":0},{"v":65000,"d":"65,000"},0,{"v":65000,"d":"65,000"},0,{"$f":"SUM(L238:L239)","v":{"v":65000,"d":"65,000"}},0,{"v":195000,"d":"195,000"},0]
["192",465100,{"$f":"IF(B238=\"\",\"\",VLOOKUP(B238,Упутство!$A$1912:$B$6831,2,FALSE))","v":"Остале текуће дотације и трансфери"},{"v":65000,"d":"65,000"},null,{"v":65000,"d":"65,000"},null,{"v":65000,"d":"65,000"},null,{"v":65000,"d":"65,000"},null,{"v":65000,"d":"65,000"},null,{"v":195000,"d":"195,000"},0]
["193",465200,{"$f":"IF(B239=\"\",\"\",VLOOKUP(B239,Упутство!$A$1912:$B$6831,2,FALSE))","v":"Остале капиталне дотације и трансфери"},{"$nulls":10},0,0]
["194",472000,{"$f":"IF(B240=\"\",\"\",VLOOKUP(B240,Упутство!$A$1912:$B$6831,2,FALSE))","v":"НАКНАДЕ ЗА СОЦИЈАЛНУ ЗАШТИТУ ИЗ БУЏЕТА"},{"$f":"SUM(D241:D247)","v":0},{"$f":"SUM(E241:E247)","v":0},{"$f":"SUM(F241:F247)","v":0},{"$f":"SUM(G241:G247)","v":0},0,0,0,0,{"$f":"SUM(L241:L247)","v":0},0,{"$f":"SUM(H240,J240,L240)","v":0},{"$f":"SUM(I240,K240,M240)","v":0}]
["195",472100,{"$f":"IF(B241=\"\",\"\",VLOOKUP(B241,Упутство!$A$1912:$B$6831,2,FALSE))","v":"Накнаде из буџета у случају болести и инвалидности"},{"$nulls":10},0,0]
["196",472200,{"$f":"IF(B242=\"\",\"\",VLOOKUP(B242,Упутство!$A$1912:$B$6831,2,FALSE))","v":"Накнаде из буџета за породиљско одсуство"},{"$nulls":10},0,0]
["197",472300,{"$f":"IF(B243=\"\",\"\",VLOOKUP(B243,Упутство!$A$1912:$B$6831,2,FALSE))","v":"Накнаде из буџета за децу и породицу"},{"$nulls":10},0,0]
["198",472400,{"$f":"IF(B244=\"\",\"\",VLOOKUP(B244,Упутство!$A$1912:$B$6831,2,FALSE))","v":"Накнаде из буџета за случај незапослености"},{"$nulls":10},0,0]
["199",472500,{"$f":"IF(B245=\"\",\"\",VLOOKUP(B245,Упутство!$A$1912:$B$6831,2,FALSE))","v":"Старосне и породичне пензије из буџета"},{"$nulls":10},0,0]
["200",472600,{"$f":"IF(B246=\"\",\"\",VLOOKUP(B246,Упутство!$A$1912:$B$6831,2,FALSE))","v":"Накнаде из буџета у случају смрти"},{"$nulls":10},0,0]
["201",472700,{"$f":"IF(B247=\"\",\"\",VLOOKUP(B247,Упутство!$A$1912:$B$6831,2,FALSE))","v":"Накнаде из буџета за образовање, културу, науку и спорт"},{"$nulls":10},0,0]
["202",481000,{"$f":"IF(B248=\"\",\"\",VLOOKUP(B248,Упутство!$A$1912:$B$6831,2,FALSE))","v":"ДОТАЦИЈЕ НЕВЛАДИНИМ ОРГАНИЗАЦИЈАМА"},{"$f":"SUM(D249:D253)","v":{"v":1400000,"d":"1,400,000"}},{"$f":"SUM(E249:E253)","v":0},{"$f":"SUM(F249:F253)","v":{"v":250000,"d":"250,000"}},{"$f":"SUM(G249:G253)","v":{"v":667000,"d":"667,000"}},0,0,0,0,{"$f":"SUM(L249:L253)","v":0},0,0,0]
["203",481100,{"$f":"IF(B249=\"\",\"\",VLOOKUP(B249,Упутство!$A$1912:$B$6831,2,FALSE))","v":"Дотације непрофитним организацијама које пружају помоћ домаћинствима"},{"$nulls":10},0,0]
["204",481900,{"$f":"IF(B250=\"\",\"\",VLOOKUP(B250,Упутство!$A$1912:$B$6831,2,FALSE))","v":"Дотације осталим непрофитним институцијама"},{"v":1400000,"d":"1,400,000"},null,{"v":250000,"d":"250,000"},{"v":667000,"d":"667,000"},{"$nulls":6},0,0]
["205",null,{"$f":"IF(B251=\"\",\"\",VLOOKUP(B251,Упутство!$A$1912:$B$6831,2,FALSE))","v":""},{"$nulls":10},0,0]
["206",null,{"$f":"IF(B252=\"\",\"\",VLOOKUP(B252,Упутство!$A$1912:$B$6831,2,FALSE))","v":""},{"$nulls":10},0,0]
["207",null,{"$f":"IF(B253=\"\",\"\",VLOOKUP(B253,Упутство!$A$1912:$B$6831,2,FALSE))","v":""},{"$nulls":10},0,0]
["208",482000,{"$f":"IF(B254=\"\",\"\",VLOOKUP(B254,Упутство!$A$1912:$B$6831,2,FALSE))","v":"ПОРЕЗИ, ОБАВЕЗНЕ ТАКСЕ, КАЗНЕ И ПЕНАЛИ"},{"$f":"SUM(D255:D258)","v":0},{"$f":"SUM(E255:E258)","v":{"v":200000,"d":"200,000"}},{"$f":"SUM(F255:F258)","v":0},{"$f":"SUM(G255:G258)","v":0},{"v":5000,"d":"5,000"},{"v":5000,"d":"5,000"},{"v":191000,"d":"191,000"},0,{"$f":"SUM(L255:L258)","v":{"v":191000,"d":"191,000"}},0,{"v":387000,"d":"387,000"},{"v":5000,"d":"5,000"}]
["209",482100,{"$f":"IF(B255=\"\",\"\",VLOOKUP(B255,Упутство!$A$1912:$B$6831,2,FALSE))","v":"Остали порези"},null,{"v":200000,"d":"200,000"},null,null,{"v":5000,"d":"5,000"},{"v":5000,"d":"5,000"},{"v":191000,"d":"191,000"},null,{"v":191000,"d":"191,000"},null,{"v":387000,"d":"387,000"},{"v":5000,"d":"5,000"}]
["210",482200,{"$f":"IF(B256=\"\",\"\",VLOOKUP(B256,Упутство!$A$1912:$B$6831,2,FALSE))","v":"Обавезне таксе"},{"$nulls":10},0,0]
["211",482300,{"$f":"IF(B257=\"\",\"\",VLOOKUP(B257,Упутство!$A$1912:$B$6831,2,FALSE))","v":"Новчане казне и пенали"},{"$nulls":10},0,0]
["212",null,{"$f":"IF(B258=\"\",\"\",VLOOKUP(B258,Упутство!$A$1912:$B$6831,2,FALSE))","v":""},{"$nulls":10},0,0]
["213",483000,{"$f":"IF(B259=\"\",\"\",VLOOKUP(B259,Упутство!$A$1912:$B$6831,2,FALSE))","v":"НОВЧАНЕ КАЗНЕ И ПЕНАЛИ ПО РЕШЕЊУ СУДОВА"},{"$f":"SUM(D260)","v":0},{"$f":"SUM(E260)","v":0},{"$f":"SUM(F260)","v":0},{"$f":"SUM(G260)","v":0},0,0,0,0,0,0,0,0]
["214",null,{"$f":"IF(B260=\"\",\"\",VLOOKUP(B260,Упутство!$A$1912:$B$6831,2,FALSE))","v":""},{"$nulls":10},0,0]
["215",484000,{"$f":"IF(B261=\"\",\"\",VLOOKUP(B261,Упутство!$A$1912:$B$6831,2,FALSE))","v":"НАКНАДА ШТЕТЕ ЗА ПОВРЕДЕ ИЛИ ШТЕТУ НАСТАЛУ УСЛЕД ЕЛЕМЕНТАРНИХ НЕПОГОДА ИЛИ ДРУГИХ ПРИРОДНИХ УЗРОКА"},{"$f":"SUM(D262:D263)","v":0},{"$f":"SUM(E262:E263)","v":0},{"$f":"SUM(F262:F263)","v":0},{"$f":"SUM(G262:G263)","v":0},0,0,0,0,{"$f":"SUM(L262:L263)","v":0},0,0,0]
["216",null,{"$f":"IF(B262=\"\",\"\",VLOOKUP(B262,Упутство!$A$1912:$B$6831,2,FALSE))","v":""},{"$nulls":10},0,0]
["217",null,{"$f":"IF(B263=\"\",\"\",VLOOKUP(B263,Упутство!$A$1912:$B$6831,2,FALSE))","v":""},{"$nulls":10},0,0]
["218",485000,{"$f":"IF(B264=\"\",\"\",VLOOKUP(B264,Упутство!$A$1912:$B$6831,2,FALSE))","v":"НАКНАДА ШТЕТЕ ЗА ПОВРЕДЕ ИЛИ ШТЕТУ НАНЕТУ ОД СТРАНЕ ДРЖАВНИХ ОРГАНА"},{"$f":"SUM(D265:D266)","v":0},{"$f":"SUM(E265:E266)","v":0},{"$f":"SUM(F265:F266)","v":0},{"$f":"SUM(G265:G266)","v":0},0,0,0,0,{"$f":"SUM(L265:L266)","v":0},0,0,0]
["219",null,{"$f":"IF(B265=\"\",\"\",VLOOKUP(B265,Упутство!$A$1912:$B$6831,2,FALSE))","v":""},{"$nulls":10},0,0]
["220",null,{"$f":"IF(B266=\"\",\"\",VLOOKUP(B266,Упутство!$A$1912:$B$6831,2,FALSE))","v":""},{"$nulls":10},0,0]
["221",499000,{"$f":"IF(B267=\"\",\"\",VLOOKUP(B267,Упутство!$A$1912:$B$6831,2,FALSE))","v":"СРЕДСТВА РЕЗЕРВЕ"},{"$f":"SUM(D268:D269)","v":0},{"$f":"SUM(E268:E269)","v":0},{"$f":"SUM(F268:F269)","v":0},{"$f":"SUM(G268:G269)","v":0},0,0,0,0,{"$f":"SUM(L268:L269)","v":0},0,0,0]
["222",null,{"$f":"IF(B268=\"\",\"\",VLOOKUP(B268,Упутство!$A$1912:$B$6831,2,FALSE))","v":""},{"$nulls":10},0,0]
["223",null,{"$f":"IF(B269=\"\",\"\",VLOOKUP(B269,Упутство!$A$1912:$B$6831,2,FALSE))","v":""},{"$nulls":10},0,0]
["224",511000,{"$f":"IF(B270=\"\",\"\",VLOOKUP(B270,Упутство!$A$1912:$B$6831,2,FALSE))","v":"ЗГРАДЕ И ГРАЂЕВИНСКИ ОБЈЕКТИ"},{"$f":"SUM(D271:D276)","v":0},{"$f":"SUM(E271:E276)","v":0},{"$f":"SUM(F271:F276)","v":{"v":5000,"d":"5,000"}},{"$f":"SUM(G271:G276)","v":0},0,0,0,0,{"$f":"SUM(L271:L276)","v":0},0,0,0]
["225",511100,{"$f":"IF(B271=\"\",\"\",VLOOKUP(B271,Упутство!$A$1912:$B$6831,2,FALSE))","v":"Куповина зграда и објеката"},{"$nulls":10},0,0]
["226",511200,{"$f":"IF(B272=\"\",\"\",VLOOKUP(B272,Упутство!$A$1912:$B$6831,2,FALSE))","v":"Изградња зграда и објеката"},{"$nulls":10},0,0]
["227",511300,{"$f":"IF(B273=\"\",\"\",VLOOKUP(B273,Упутство!$A$1912:$B$6831,2,FALSE))","v":"Капитално одржавање зграда и објеката"},{"$nulls":10},0,0]
["228",511400,{"$f":"IF(B274=\"\",\"\",VLOOKUP(B274,Упутство!$A$1912:$B$6831,2,FALSE))","v":"Пројектно планирање"},null,null,{"v":5000,"d":"5,000"},{"$nulls":7},0,0]
["229",null,{"$f":"IF(B275=\"\",\"\",VLOOKUP(B275,Упутство!$A$1912:$B$6831,2,FALSE))","v":""},{"$nulls":10},0,0]
["230",null,{"$f":"IF(B276=\"\",\"\",VLOOKUP(B276,Упутство!$A$1912:$B$6831,2,FALSE))","v":""},{"$nulls":10},0,0]
["231",512000,{"$f":"IF(B277=\"\",\"\",VLOOKUP(B277,Упутство!$A$1912:$B$6831,2,FALSE))","v":"МАШИНЕ И ОПРЕМА"},{"$f":"SUM(D278:D291)","v":0},{"$f":"SUM(E278:E291)","v":0},{"$f":"SUM(F278:F291)","v":{"v":58000,"d":"58,000"}},{"$f":"SUM(G278:G291)","v":0},0,0,0,0,{"$f":"SUM(L278:L291)","v":0},0,0,0]
["232",512100,{"$f":"IF(B278=\"\",\"\",VLOOKUP(B278,Упутство!$A$1912:$B$6831,2,FALSE))","v":"Опрема за саобраћај"},{"$nulls":10},0,0]
["233",512200,{"$f":"IF(B279=\"\",\"\",VLOOKUP(B279,Упутство!$A$1912:$B$6831,2,FALSE))","v":"Административна опрема"},null,null,{"v":58000,"d":"58,000"},{"$nulls":7},0,0]
["234",null,{"$f":"IF(B280=\"\",\"\",VLOOKUP(B280,Упутство!$A$1912:$B$6831,2,FALSE))","v":""},{"$nulls":10},0,0]
["235",null,{"$f":"IF(B281=\"\",\"\",VLOOKUP(B281,Упутство!$A$1912:$B$6831,2,FALSE))","v":""},{"$nulls":10},0,0]
["236",null,{"$f":"IF(B282=\"\",\"\",VLOOKUP(B282,Упутство!$A$1912:$B$6831,2,FALSE))","v":""},{"$nulls":10},0,0]
["237",null,{"$f":"IF(B283=\"\",\"\",VLOOKUP(B283,Упутство!$A$1912:$B$6831,2,FALSE))","v":""},{"$nulls":10},0,0]
["238",null,{"$f":"IF(B284=\"\",\"\",VLOOKUP(B284,Упутство!$A$1912:$B$6831,2,FALSE))","v":""},{"$nulls":10},0,0]
["239",null,{"$f":"IF(B285=\"\",\"\",VLOOKUP(B285,Упутство!$A$1912:$B$6831,2,FALSE))","v":""},{"$nulls":10},0,0]
["240",null,{"$f":"IF(B286=\"\",\"\",VLOOKUP(B286,Упутство!$A$1912:$B$6831,2,FALSE))","v":""},{"$nulls":10},0,0]
["241",null,{"$f":"IF(B287=\"\",\"\",VLOOKUP(B287,Упутство!$A$1912:$B$6831,2,FALSE))","v":""},{"$nulls":10},0,0]
["242",null,{"$f":"IF(B288=\"\",\"\",VLOOKUP(B288,Упутство!$A$1912:$B$6831,2,FALSE))","v":""},{"$nulls":10},0,0]
["243",null,{"$f":"IF(B289=\"\",\"\",VLOOKUP(B289,Упутство!$A$1912:$B$6831,2,FALSE))","v":""},{"$nulls":10},0,0]
["244",null,{"$f":"IF(B290=\"\",\"\",VLOOKUP(B290,Упутство!$A$1912:$B$6831,2,FALSE))","v":""},{"$nulls":10},0,0]
["245",null,{"$f":"IF(B291=\"\",\"\",VLOOKUP(B291,Упутство!$A$1912:$B$6831,2,FALSE))","v":""},{"$nulls":10},0,0]
["246",513000,{"$f":"IF(B292=\"\",\"\",VLOOKUP(B292,Упутство!$A$1912:$B$6831,2,FALSE))","v":"ОСТАЛЕ НЕКРЕТНИНЕ И ОПРЕМА"},{"$f":"SUM(D293)","v":0},{"$f":"SUM(E293)","v":0},{"$f":"SUM(F293)","v":0},{"$f":"SUM(G293)","v":0},0,0,0,0,0,0,0,0]
["247",null,{"$f":"IF(B293=\"\",\"\",VLOOKUP(B293,Упутство!$A$1912:$B$6831,2,FALSE))","v":""},{"$nulls":10},0,0]
["248",514000,{"$f":"IF(B294=\"\",\"\",VLOOKUP(B294,Упутство!$A$1912:$B$6831,2,FALSE))","v":"КУЛТИВИСАНА ИМОВИНА"},{"$f":"SUM(D295:D298)","v":0},{"$f":"SUM(E295:E298)","v":0},{"$f":"SUM(F295:F298)","v":0},{"$f":"SUM(G295:G298)","v":0},0,0,0,0,{"$f":"SUM(L295:L298)","v":0},0,0,0]
["249",null,{"$f":"IF(B295=\"\",\"\",VLOOKUP(B295,Упутство!$A$1912:$B$6831,2,FALSE))","v":""},{"$nulls":10},0,0]
["250",null,{"$f":"IF(B296=\"\",\"\",VLOOKUP(B296,Упутство!$A$1912:$B$6831,2,FALSE))","v":""},{"$nulls":10},0,0]
["251",null,{"$f":"IF(B297=\"\",\"\",VLOOKUP(B297,Упутство!$A$1912:$B$6831,2,FALSE))","v":""},{"$nulls":10},0,0]
["252",null,{"$f":"IF(B298=\"\",\"\",VLOOKUP(B298,Упутство!$A$1912:$B$6831,2,FALSE))","v":""},{"$nulls":10},0,0]
["253",515000,{"$f":"IF(B299=\"\",\"\",VLOOKUP(B299,Упутство!$A$1912:$B$6831,2,FALSE))","v":"НЕМАТЕРИЈАЛНА ИМОВИНА"},{"$f":"SUM(D300:D304)","v":0},{"$f":"SUM(E300:E304)","v":0},{"$f":"SUM(F300:F304)","v":0},{"$f":"SUM(G300:G304)","v":0},0,0,0,0,{"$f":"SUM(L300:L304)","v":0},0,0,0]
["254",null,{"$f":"IF(B300=\"\",\"\",VLOOKUP(B300,Упутство!$A$1912:$B$6831,2,FALSE))","v":""},{"$nulls":10},0,0]
["255",null,{"$f":"IF(B301=\"\",\"\",VLOOKUP(B301,Упутство!$A$1912:$B$6831,2,FALSE))","v":""},{"$nulls":10},0,0]
["256",null,{"$f":"IF(B302=\"\",\"\",VLOOKUP(B302,Упутство!$A$1912:$B$6831,2,FALSE))","v":""},{"$nulls":10},0,0]
["257",null,{"$f":"IF(B303=\"\",\"\",VLOOKUP(B303,Упутство!$A$1912:$B$6831,2,FALSE))","v":""},{"$nulls":10},0,0]
["258",null,{"$f":"IF(B304=\"\",\"\",VLOOKUP(B304,Упутство!$A$1912:$B$6831,2,FALSE))","v":""},{"$nulls":10},{"$f":"SUM(H304,J304,L304)","v":0},{"$f":"SUM(I304,K304,M304)","v":0}]
["259",520000,{"$f":"IF(B305=\"\",\"\",VLOOKUP(B305,Упутство!$A$1912:$B$6831,2,FALSE))","v":"ЗАЛИХЕ"},{"$f":"SUM(D306:D308)","v":0},{"$f":"SUM(E306:E308)","v":0},{"$f":"SUM(F306:F308)","v":0},{"$f":"SUM(G306:G308)","v":0},0,0,0,0,{"$f":"SUM(L306:L308)","v":0},0,0,0]
["260",null,{"$f":"IF(B306=\"\",\"\",VLOOKUP(B306,Упутство!$A$1912:$B$6831,2,FALSE))","v":""},{"$nulls":10},0,0]
["261",null,{"$f":"IF(B307=\"\",\"\",VLOOKUP(B307,Упутство!$A$1912:$B$6831,2,FALSE))","v":""},{"$nulls":10},0,0]
["262",null,{"$f":"IF(B308=\"\",\"\",VLOOKUP(B308,Упутство!$A$1912:$B$6831,2,FALSE))","v":""},{"$nulls":10},0,0]
["263",541000,{"$f":"IF(B309=\"\",\"\",VLOOKUP(B309,Упутство!$A$1912:$B$6831,2,FALSE))","v":"ЗЕМЉИШТЕ"},{"$f":"SUM(D310:D312)","v":0},{"$f":"SUM(E310:E312)","v":0},{"$f":"SUM(F310:F312)","v":{"v":5000,"d":"5,000"}},{"$f":"SUM(G310:G312)","v":0},0,0,0,0,{"$f":"SUM(L310:L312)","v":0},0,0,0]
["264",541100,{"$f":"IF(B310=\"\",\"\",VLOOKUP(B310,Упутство!$A$1912:$B$6831,2,FALSE))","v":"Земљиште"},null,null,{"v":5000,"d":"5,000"},{"$nulls":7},0,0]
["265",null,{"$f":"IF(B311=\"\",\"\",VLOOKUP(B311,Упутство!$A$1912:$B$6831,2,FALSE))","v":""},{"$nulls":10},0,0]
["266",null,{"$f":"IF(B312=\"\",\"\",VLOOKUP(B312,Упутство!$A$1912:$B$6831,2,FALSE))","v":""},{"$nulls":10},0,0]
["267",543000,{"$f":"IF(B313=\"\",\"\",VLOOKUP(B313,Упутство!$A$1912:$B$6831,2,FALSE))","v":"ШУМЕ И ВОДЕ"},{"$f":"SUM(D314:D315)","v":0},{"$f":"SUM(E314:E315)","v":0},{"$f":"SUM(F314:F315)","v":0},{"$f":"SUM(G314:G315)","v":0},0,0,0,0,{"$f":"SUM(L314:L315)","v":0},0,0,0]
["268",null,{"$f":"IF(B314=\"\",\"\",VLOOKUP(B314,Упутство!$A$1912:$B$6831,2,FALSE))","v":""},{"$nulls":10},0,0]
["269",null,{"$f":"IF(B315=\"\",\"\",VLOOKUP(B315,Упутство!$A$1912:$B$6831,2,FALSE))","v":""},{"$nulls":10},0,0]
["270",611000,{"$f":"IF(B316=\"\",\"\",VLOOKUP(B316,Упутство!$A$1912:$B$6831,2,FALSE))","v":"ОТПЛАТА ГЛАВНИЦЕ ДОМАЋИМ КРЕДИТОРИМА"},{"$f":"SUM(D317:D318)","v":0},{"$f":"SUM(E317:E318)","v":0},{"$f":"SUM(F317:F318)","v":0},{"$f":"SUM(G317:G318)","v":0},0,0,0,0,{"$f":"SUM(L317:L318)","v":0},0,0,0]
["271",null,{"$f":"IF(B317=\"\",\"\",VLOOKUP(B317,Упутство!$A$1912:$B$6831,2,FALSE))","v":""},{"$nulls":10},0,0]
["272",null,{"$f":"IF(B318=\"\",\"\",VLOOKUP(B318,Упутство!$A$1912:$B$6831,2,FALSE))","v":""},{"$nulls":10},0,0]
["273",621000,{"$f":"IF(B319=\"\",\"\",VLOOKUP(B319,Упутство!$A$1912:$B$6831,2,FALSE))","v":"НАБАВКА ДОМАЋЕ ФИНАНСИЈСКЕ ИМОВИНЕ"},{"$f":"SUM(D320:D322)","v":0},{"$f":"SUM(E320:E322)","v":0},{"$f":"SUM(F320:F322)","v":0},{"$f":"SUM(G320:G322)","v":0},0,{"$f":"SUM(I320:I322)","v":0},0,0,{"$f":"SUM(L320:L322)","v":0},0,0,0]
["274",null,{"$f":"IF(B320=\"\",\"\",VLOOKUP(B320,Упутство!$A$1912:$B$6831,2,FALSE))","v":""},{"$nulls":10},0,0]
["275",null,{"$f":"IF(B321=\"\",\"\",VLOOKUP(B321,Упутство!$A$1912:$B$6831,2,FALSE))","v":""},{"$nulls":10},0,0]
["276",null,{"$f":"IF(B322=\"\",\"\",VLOOKUP(B322,Упутство!$A$1912:$B$6831,2,FALSE))","v":""},{"$nulls":10},0,0]
["УКУПНО ЗА:",null,{"$f":"$D$5","v":0},{"$f":"SUM(D46:D322)/2","v":{"v":3750000,"d":"3,750,000"}},{"v":1748000,"d":"1,748,000"},{"v":1502000,"d":"1,502,000"},{"v":2507500,"d":"2,507,500"},{"v":1760000,"d":"1,760,000"},{"v":1510000,"d":"1,510,000"},{"v":1500000,"d":"1,500,000"},0,{"v":1500000,"d":"1,500,000"},0,{"v":4760000,"d":"4,760,000"},{"v":1510000,"d":"1,510,000"}]
[]
["Рбр.","Извори финансирања програмске активности",null,"Вредност у базној години (2015)",null,"Очекивана вредност у 2016. години",null,"Вредност у 2017. години",null,"Вредност у 2018. години",null,"Вредност у 2019. години",null,"Укупно (2017-2019)"]
["1","01 - Приходи из буџета",null,{"v":3750000,"d":"3,750,000"},null,{"v":1502000,"d":"1,502,000"},null,{"v":1760000,"d":"1,760,000"},null,{"v":1500000,"d":"1,500,000"},null,{"v":1500000,"d":"1,500,000"},null,{"$f":"SUM(H326,J326,L326)","v":{"v":4760000,"d":"4,760,000"}}]
["2","13 - Нераспоређени вишак прихода из ранијих година",null,{"v":1748000,"d":"1,748,000"},null,{"v":2507500,"d":"2,507,500"},null,{"v":1510000,"d":"1,510,000"},{"$nulls":5},{"$f":"SUM(H327,J327,L327)","v":{"v":1510000,"d":"1,510,000"}}]
["3",{"$nulls":12},0]
["4",{"$nulls":12},0]
["5",{"$nulls":12},0]
["6",{"$nulls":12},0]
["7",{"$nulls":12},0]
["8",{"$nulls":12},0]
["9",{"$nulls":12},0]
["10",{"$nulls":12},0]
["11",{"$nulls":12},0]
["12",{"$nulls":12},0]
["13",{"$nulls":12},0]
["14",{"$nulls":12},0]
["15",{"$nulls":12},0]
["16",{"$nulls":12},0]
["17",{"$nulls":12},0]
["УКУПНО  ЗА:",null,{"$f":"$D$5","v":0},{"$f":"SUM(D326:E342)","v":{"v":5498000,"d":"5,498,000"}},null,{"$f":"SUM(F326:G342)","v":{"v":4009500,"d":"4,009,500"}},null,{"$f":"SUM(H326:I342)","v":{"v":3270000,"d":"3,270,000"}},null,{"$f":"SUM(J326:K342)","v":{"v":1500000,"d":"1,500,000"}},null,{"$f":"SUM(L326:M342)","v":{"v":1500000,"d":"1,500,000"}},null,{"$f":"SUM(N326:O342)","v":{"v":6270000,"d":"6,270,000"}}]
[]
["*","1-3 циља за сваку програмску активност"]
["**","1-3 индикатора исхода/излазног резултата за сваки циљ"]
[]
[]
[{"$nulls":12},"Одговорно лице"]
[]
[null,"Датум:","04.09.2017."]

{"sheet":"Пројекат","index":2,"n_rows":145,"n_cols":39,"rows_kept":145,"hidden":true,"merged":[[0,0,0,14],[0,25,0,26],[0,27,0,28],[0,29,0,30],[0,31,0,32],[0,33,0,34],[1,0,1,14],[2,25,2,26],[2,27,2,28],[2,29,2,30],[2,31,2,32],[2,33,2,34],[3,0,3,2],[3,3,3,14],[3,25,3,26],[3,27,3,28],[3,29,3,30],[3,31,3,32],[3,33,3,34],[4,0,4,2],[4,25,4,26],[4,27,4,28],[4,29,4,30],[4,31,4,32],[4,33,4,34],[5,0,5,2],[5,3,5,14],[5,25,5,26],[5,27,5,28],[5,29,5,30],[5,31,5,32],[5,33,5,34],[6,0,6,2],[6,3,6,10],[6,25,6,26],[6,27,6,28],[6,29,6,30],[6,31,6,32],[6,33,6,34],[7,0,7,2],[7,3,7,14],[7,25,7,26],[7,27,7,28],[7,29,7,30],[7,31,7,32],[7,33,7,34],[8,0,8,2],[8,3,8,14],[8,25,8,26],[8,27,8,28],[8,29,8,30],[8,31,8,32],[8,33,8,34],[9,0,9,2],[9,3,9,14],[9,25,9,26],[9,27,9,28],[9,29,9,30],[9,31,9,32],[9,33,9,34],[10,0,10,2],[10,3,10,14],[10,25,10,26],[10,27,10,28],[10,29,10,30],[10,31,10,32],[10,33,10,34],[11,0,11,2],[11,3,11,14],[11,25,11,26],[11,27,11,28],[11,29,11,30],[11,31,11,32],[11,33,11,34],[12,0,12,2],[12,3,12,14],[12,25,12,26],[12,27,12,28],[12,29,12,30],[12,31,12,32],[12,33,12,34],[13,0,13,2],[13,3,13,14],[13,25,13,26],[13,27,13,28],[13,29,13,30],[13,31,13,32],[13,33,13,34],[14,0,14,2],[14,3,14,14],[14,25,14,26],[14,27,14,28],[14,29,14,30],[14,31,14,32],[14,33,14,34],[15,0,15,2],[15,3,15,14],[15,25,15,26],[15,27,15,28],[15,29,15,30],[15,31,15,32],[15,33,15,34],[16,25,16,26],[16,27,16,28],[16,29,16,30],[16,31,16,32],[16,33,16,34],[17,0,18,0],[17,1,18,2],[17,3,17,14],[17,25,17,26],[17,27,17,28],[17,29,17,30],[17,31,17,32],[17,33,17,34],[18,3,18,5],[18,11,18,14],[18,25,18,26],[18,27,18,28],[18,29,18,30],[18,31,18,32],[18,33,18,34],[19,0,21,0],[19,1,21,2],[19,3,19,5],[19,11,19,14],[20,3,20,5],[20,11,20,14],[21,3,21,5],[21,11,21,14],[23,0,24,0],[23,1,24,2],[23,3,23,14],[24,3,24,5],[24,11,24,14],[25,0,27,0],[25,1,27,2],[25,3,25,5],[25,11,25,14],[26,3,26,5],[26,11,26,14],[27,3,27,5],[27,11,27,14],[29,0,30,0],[29,1,30,2],[29,3,29,14],[30,3,30,5],[30,11,30,14],[31,0,33,0],[31,1,33,2],[31,3,31,5],[31,11,31,14],[32,3,32,5],[32,11,32,14],[33,3,33,5],[33,11,33,14],[36,0,37,0],[36,1,37,1],[36,2,37,2],[36,3,36,4],[36,5,36,6],[36,7,36,8],[36,9,36,10],[36,11,36,12],[36,13,36,14],[36,16,37,20],[116,0,116,1],[118,1,118,2],[118,3,118,4],[118,5,118,6],[118,7,118,8],[118,9,118,10],[118,11,118,12],[118,13,118,14],[119,1,119,2],[119,3,119,4],[119,5,119,6],[119,7,119,8],[119,9,119,10],[119,11,119,12],[119,13,119,14],[120,1,120,2],[120,3,120,4],[120,5,120,6],[120,7,120,8],[120,9,120,10],[120,11,120,12],[120,13,120,14],[121,1,121,2],[121,3,121,4],[121,5,121,6],[121,7,121,8],[121,9,121,10],[121,11,121,12],[121,13,121,14],[122,1,122,2],[122,3,122,4],[122,5,122,6],[122,7,122,8],[122,9,122,10],[122,11,122,12],[122,13,122,14],[123,1,123,2],[123,3,123,4],[123,5,123,6],[123,7,123,8],[123,9,123,10],[123,11,123,12],[123,13,123,14],[124,1,124,2],[124,3,124,4],[124,5,124,6],[124,7,124,8],[124,9,124,10],[124,11,124,12],[124,13,124,14],[125,1,125,2],[125,3,125,4],[125,5,125,6],[125,7,125,8],[125,9,125,10],[125,11,125,12],[125,13,125,14],[126,1,126,2],[126,3,126,4],[126,5,126,6],[126,7,126,8],[126,9,126,10],[126,11,126,12],[126,13,126,14],[127,1,127,2],[127,3,127,4],[127,5,127,6],[127,7,127,8],[127,9,127,10],[127,11,127,12],[127,13,127,14],[128,1,128,2],[128,3,128,4],[128,5,128,6],[128,7,128,8],[128,9,128,10],[128,11,128,12],[128,13,128,14],[129,1,129,2],[129,3,129,4],[129,5,129,6],[129,7,129,8],[129,9,129,10],[129,11,129,12],[129,13,129,14],[130,1,130,2],[130,3,130,4],[130,5,130,6],[130,7,130,8],[130,9,130,10],[130,11,130,12],[130,13,130,14],[131,1,131,2],[131,3,131,4],[131,5,131,6],[131,7,131,8],[131,9,131,10],[131,11,131,12],[131,13,131,14],[132,1,132,2],[132,3,132,4],[132,5,132,6],[132,7,132,8],[132,9,132,10],[132,11,132,12],[132,13,132,14],[133,1,133,2],[133,3,133,4],[133,5,133,6],[133,7,133,8],[133,9,133,10],[133,11,133,12],[133,13,133,14],[134,1,134,2],[134,3,134,4],[134,5,134,6],[134,7,134,8],[134,9,134,10],[134,11,134,12],[134,13,134,14],[135,1,135,2],[135,3,135,4],[135,5,135,6],[135,7,135,8],[135,9,135,10],[135,11,135,12],[135,13,135,14],[136,0,136,1],[136,3,136,4],[136,5,136,6],[136,7,136,8],[136,9,136,10],[136,11,136,12],[136,13,136,14],[138,15,141,25],[142,12,142,13]]}
["Обрасци за припрему програмског буџета",{"$nulls":24},2015,null,2016,null,2017,null,2018,null,2019]
["3. ПРОЈЕКАТ",{"$nulls":22},"suma",{"$f":"C117&AM2&\" (\"&$D$8&\")\"","v":"0602-    ()"},{"$f":"$D$117","v":0},{"$f":"$E$117","v":0},{"$f":"$F$117","v":0},{"$f":"$G$117","v":0},{"$f":"$H$117","v":0},{"$f":"$I$117","v":0},{"$f":"$J$117","v":0},{"$f":"$K$117","v":0},{"$f":"$L$117","v":0},{"$f":"$M$117","v":0},"3. ПРОЈЕКАТ",null,null,{"$f":"IF(A2=AJ2,\"\",\" - захтев за додатна средства\")","v":""}]
[{"$nulls":23},"izvori",{"$f":"$B$120","v":0},{"$f":"$D$120","v":0},null,{"$f":"$F$120","v":0},null,{"$f":"$H$120","v":0},null,{"$f":"$J$120","v":0},null,{"$f":"$L$120","v":0},null,"3. ПРОЈЕКАТ - ЗАХТЕВ ЗА ДОДАТНА СРЕДСТВА"]
["Програм коме припада:",null,null,{"$f":"IF(Програм!$D$4=\"\",\"\",Програм!$D$4)","v":"Програм 15.  Опште услуге локалне самоуправе"},{"$nulls":20},{"$f":"$B$121","v":0},{"$f":"$D$121","v":0},null,{"$f":"$F$121","v":0},null,{"$f":"$H$121","v":0},null,{"$f":"$J$121","v":0},null,{"$f":"$L$121","v":0}]
["Шифра пројекта:",null,null,{"$f":"Програм!$D$5","v":"0602"},{"$nulls":20},{"$f":"$B$122","v":0},{"$f":"$D$122","v":0},null,{"$f":"$F$122","v":0},null,{"$f":"$H$122","v":0},null,{"$f":"$J$122","v":0},null,{"$f":"$L$122","v":0}]
["Назив пројекта:",{"$nulls":23},{"$f":"$B$123","v":0},{"$f":"$D$123","v":0},null,{"$f":"$F$123","v":0},null,{"$f":"$H$123","v":0},null,{"$f":"$J$123","v":0},null,{"$f":"$L$123","v":0}]
["Функција:",{"$nulls":23},{"$f":"$B$124","v":0},{"$f":"$D$124","v":0},null,{"$f":"$F$124","v":0},null,{"$f":"$H$124","v":0},null,{"$f":"$J$124","v":0},null,{"$f":"$L$124","v":0}]
["Назив организационе јединице/Буџетски корисник:",{"$nulls":23},{"$f":"$B$125","v":0},{"$f":"$D$125","v":0},null,{"$f":"$F$125","v":0},null,{"$f":"$H$125","v":0},null,{"$f":"$J$125","v":0},null,{"$f":"$L$125","v":0}]
["Сврха:",{"$nulls":23},{"$f":"$B$126","v":0},{"$f":"$D$126","v":0},null,{"$f":"$F$126","v":0},null,{"$f":"$H$126","v":0},null,{"$f":"$J$126","v":0},null,{"$f":"$L$126","v":0}]
["Основ:",{"$nulls":23},{"$f":"$B$127","v":0},{"$f":"$D$127","v":0},null,{"$f":"$F$127","v":0},null,{"$f":"$H$127","v":0},null,{"$f":"$J$127","v":0},null,{"$f":"$L$127","v":0}]
["Опис:",{"$nulls":23},{"$f":"$B$128","v":0},{"$f":"$D$128","v":0},null,{"$f":"$F$128","v":0},null,{"$f":"$H$128","v":0},null,{"$f":"$J$128","v":0},null,{"$f":"$L$128","v":0}]
["Трајање пројекта:",{"$nulls":23},{"$f":"$B$129","v":0},{"$f":"$D$129","v":0},null,{"$f":"$F$129","v":0},null,{"$f":"$H$129","v":0},null,{"$f":"$J$129","v":0},null,{"$f":"$L$129","v":0}]
["Ознака за капитални пројекат:",null,null,"(статус пројектно техничке документације, постоји или не постоји, статус имовинско правних односа, решени или нерешени)",{"$nulls":20},{"$f":"$B$130","v":0},{"$f":"$D$130","v":0},null,{"$f":"$F$130","v":0},null,{"$f":"$H$130","v":0},null,{"$f":"$J$130","v":0},null,{"$f":"$L$130","v":0}]
["Ознака да ли је ИПА пројекат:",null,null,"(бира се ИПА година финансирања и ИПА програм/мере из предефинисане листе коју у базу уноси Министарство финансија",{"$nulls":20},{"$f":"$B$131","v":0},{"$f":"$D$131","v":0},null,{"$f":"$F$131","v":0},null,{"$f":"$H$131","v":0},null,{"$f":"$J$131","v":0},null,{"$f":"$L$131","v":0}]
["Мере и поглавље преговора о приступању ЕУ:",null,null,"(Анекс 3 Упутства за израду програмског буџета- релевантно само за Републику Србију)",{"$nulls":20},{"$f":"$B$132","v":0},{"$f":"$D$132","v":0},null,{"$f":"$F$132","v":0},null,{"$f":"$H$132","v":0},null,{"$f":"$J$132","v":0},null,{"$f":"$L$132","v":0}]
["Одговорно лице за спровођење пројекта:",null,null,"Јосип Чешљар, председник Савета Месне заједнице Остојићево",{"$nulls":20},{"$f":"$B$133","v":0},{"$f":"$D$133","v":0},null,{"$f":"$F$133","v":0},null,{"$f":"$H$133","v":0},null,{"$f":"$J$133","v":0},null,{"$f":"$L$133","v":0}]
[{"$nulls":24},{"$f":"$B$134","v":0},{"$f":"$D$134","v":0},null,{"$f":"$F$134","v":0},null,{"$f":"$H$134","v":0},null,{"$f":"$J$134","v":0},null,{"$f":"$L$134","v":0}]
[null,"Циљ*",null,"Индикатори**",{"$nulls":20},{"$f":"$B$135","v":0},{"$f":"$D$135","v":0},null,{"$f":"$F$135","v":0},null,{"$f":"$H$135","v":0},null,{"$f":"$J$135","v":0},null,{"$f":"$L$135","v":0}]
[{"$nulls":3},"Назив индикатора",null,null,"Вредност у базној години (2015)","Очекивана вредност у 2016. години","Циљана вредност у 2017. години","Циљана вредност у 2018. години","Циљана вредност у 2019. години","Извор верификације",{"$nulls":12},{"$f":"$B$136","v":0},{"$f":"$D$136","v":0},null,{"$f":"$F$136","v":0},null,{"$f":"$H$136","v":0},null,{"$f":"$J$136","v":0},null,{"$f":"$L$136","v":0}]
[1]
[]
[]
[]
[null,"Циљ",null,"Индикатори"]
[{"$nulls":3},"Назив индикатора",null,null,"Вредност у базној години (2015.)","Очекивана вредност у 2016. години","Циљана вредност у 2017. години","Циљана вредност у 2018. години","Циљана вредност у 2019. години","Извор верификације"]
[2]
[]
[]
[]
[null,"Циљ",null,"Индикатори"]
[{"$nulls":3},"Назив индикатора",null,null,"Вредност у базној години (2015.)","Очекивана вредност у 2016. години","Циљана вредност у 2017. години","Циљана вредност у 2018. години","Циљана вредност у 2019. години","Извор верификације"]
[3]
[]
[]
[]
[]
["Рбр.","Конто","Расходи и издаци пројекта","Вредност у базној години (2015)",null,"Очекивана вредност у 2016. години",null,"Вредност у 2017. години",null,"Вредност у 2018. години",null,"Вредност у 2019. години",null,"Укупно (2017-2019)",null,null,"Уколико желите користити опцију \"Σ \" (AutoSum) за измену међузбирова у складу са својим потребама, потребно је уклонити заштиту са документа кликом на  Review > Unprotect sheet."]
[{"$nulls":3},"Буџетска средства","Средства из осталих извора","Буџетска средства","Средства из осталих извора","Буџетска средства","Средства из осталих извора","Буџетска средства","Средства из осталих извора","Буџетска средства","Средства из осталих извора","Буџетска средства","Средства из осталих извора"]
["1",421000,{"$f":"IF(B39=\"\",\"\",VLOOKUP(B39,Упутство!$A$1912:$B$6831,2,FALSE))","v":"СТАЛНИ ТРОШКОВИ"},{"$f":"SUM(D40:D42)","v":0},{"$f":"SUM(E40:E42)","v":0},0,{"$f":"SUM(G40:G42)","v":0},0,0,0,0,0,0,{"$f":"SUM(H39,J39,L39)","v":0},{"$f":"SUM(I39,K39,M39)","v":0}]
["2",null,{"$f":"IF(B40=\"\",\"\",VLOOKUP(B40,Упутство!$A$1912:$B$6831,2,FALSE))","v":""},{"$nulls":10},{"$f":"SUM(H40,J40,L40)","v":0},{"$f":"SUM(I40,K40,M40)","v":0}]
["3",null,{"$f":"IF(B41=\"\",\"\",VLOOKUP(B41,Упутство!$A$1912:$B$6831,2,FALSE))","v":""},{"$nulls":10},0,0]
["4",null,{"$f":"IF(B42=\"\",\"\",VLOOKUP(B42,Упутство!$A$1912:$B$6831,2,FALSE))","v":""},{"$nulls":10},0,0]
["5",422000,{"$f":"IF(B43=\"\",\"\",VLOOKUP(B43,Упутство!$A$1912:$B$6831,2,FALSE))","v":"ТРОШКОВИ ПУТОВАЊА"},{"$f":"SUM(D44:D46)","v":0},{"$f":"SUM(E44:E46)","v":0},0,{"$f":"SUM(G44:G46)","v":0},0,0,0,0,0,0,0,0]
["6",null,{"$f":"IF(B44=\"\",\"\",VLOOKUP(B44,Упутство!$A$1912:$B$6831,2,FALSE))","v":""},{"$nulls":10},0,0]
["7",null,{"$f":"IF(B45=\"\",\"\",VLOOKUP(B45,Упутство!$A$1912:$B$6831,2,FALSE))","v":""},{"$nulls":10},0,0]
["8",null,{"$f":"IF(B46=\"\",\"\",VLOOKUP(B46,Упутство!$A$1912:$B$6831,2,FALSE))","v":""},{"$nulls":10},0,0]
["9",423000,{"$f":"IF(B47=\"\",\"\",VLOOKUP(B47,Упутство!$A$1912:$B$6831,2,FALSE))","v":"УСЛУГЕ ПО УГОВОРУ"},{"$f":"SUM(D48:D55)","v":0},{"$f":"SUM(E48:E55)","v":0},0,{"$f":"SUM(G48:G55)","v":0},0,0,0,0,0,0,0,0]
["10",null,{"$f":"IF(B48=\"\",\"\",VLOOKUP(B48,Упутство!$A$1912:$B$6831,2,FALSE))","v":""},{"$nulls":10},0,0]
["11",null,{"$f":"IF(B49=\"\",\"\",VLOOKUP(B49,Упутство!$A$1912:$B$6831,2,FALSE))","v":""},{"$nulls":10},0,0]
["12",null,{"$f":"IF(B50=\"\",\"\",VLOOKUP(B50,Упутство!$A$1912:$B$6831,2,FALSE))","v":""},{"$nulls":10},0,0]
["13",null,{"$f":"IF(B51=\"\",\"\",VLOOKUP(B51,Упутство!$A$1912:$B$6831,2,FALSE))","v":""},{"$nulls":10},0,0]
["14",null,{"$f":"IF(B52=\"\",\"\",VLOOKUP(B52,Упутство!$A$1912:$B$6831,2,FALSE))","v":""},{"$nulls":10},0,0]
["15",null,{"$f":"IF(B53=\"\",\"\",VLOOKUP(B53,Упутство!$A$1912:$B$6831,2,FALSE))","v":""},{"$nulls":10},0,0]
["16",null,{"$f":"IF(B54=\"\",\"\",VLOOKUP(B54,Упутство!$A$1912:$B$6831,2,FALSE))","v":""},{"$nulls":10},0,0]
["17",null,{"$f":"IF(B55=\"\",\"\",VLOOKUP(B55,Упутство!$A$1912:$B$6831,2,FALSE))","v":""},{"$nulls":10},0,0]
["18",424000,{"$f":"IF(B56=\"\",\"\",VLOOKUP(B56,Упутство!$A$1912:$B$6831,2,FALSE))","v":"СПЕЦИЈАЛИЗОВАНЕ УСЛУГЕ"},{"$f":"SUM(D57:D59)","v":0},{"$f":"SUM(E57:E59)","v":0},0,{"$f":"SUM(G57:G59)","v":0},0,0,0,0,0,0,0,0]
["19",null,{"$f":"IF(B57=\"\",\"\",VLOOKUP(B57,Упутство!$A$1912:$B$6831,2,FALSE))","v":""},{"$nulls":10},0,0]
["20",null,{"$f":"IF(B58=\"\",\"\",VLOOKUP(B58,Упутство!$A$1912:$B$6831,2,FALSE))","v":""},{"$nulls":10},0,0]
["21",null,{"$f":"IF(B59=\"\",\"\",VLOOKUP(B59,Упутство!$A$1912:$B$6831,2,FALSE))","v":""},{"$nulls":10},0,0]
["22",425000,{"$f":"IF(B60=\"\",\"\",VLOOKUP(B60,Упутство!$A$1912:$B$6831,2,FALSE))","v":"ТЕКУЋЕ ПОПРАВКЕ И ОДРЖАВАЊЕ"},{"$f":"SUM(D61:D63)","v":0},{"$f":"SUM(E61:E63)","v":0},0,{"$f":"SUM(G61:G63)","v":0},0,0,0,0,0,0,0,0]
["23",null,{"$f":"IF(B61=\"\",\"\",VLOOKUP(B61,Упутство!$A$1912:$B$6831,2,FALSE))","v":""},{"$nulls":10},0,0]
["24",null,{"$f":"IF(B62=\"\",\"\",VLOOKUP(B62,Упутство!$A$1912:$B$6831,2,FALSE))","v":""},{"$nulls":10},0,0]
["25",null,{"$f":"IF(B63=\"\",\"\",VLOOKUP(B63,Упутство!$A$1912:$B$6831,2,FALSE))","v":""},{"$nulls":10},0,0]
["26",426000,{"$f":"IF(B64=\"\",\"\",VLOOKUP(B64,Упутство!$A$1912:$B$6831,2,FALSE))","v":"МАТЕРИЈАЛ"},{"$f":"SUM(D65:D70)","v":0},{"$f":"SUM(E65:E70)","v":0},0,{"$f":"SUM(G65:G70)","v":0},0,0,0,0,0,0,0,0]
["27",null,{"$f":"IF(B65=\"\",\"\",VLOOKUP(B65,Упутство!$A$1912:$B$6831,2,FALSE))","v":""},{"$nulls":10},0,0]
["28",null,{"$f":"IF(B66=\"\",\"\",VLOOKUP(B66,Упутство!$A$1912:$B$6831,2,FALSE))","v":""},{"$nulls":10},0,0]
["29",null,{"$f":"IF(B67=\"\",\"\",VLOOKUP(B67,Упутство!$A$1912:$B$6831,2,FALSE))","v":""},{"$nulls":10},0,0]
["30",null,{"$f":"IF(B68=\"\",\"\",VLOOKUP(B68,Упутство!$A$1912:$B$6831,2,FALSE))","v":""},{"$nulls":10},0,0]
["31",null,{"$f":"IF(B69=\"\",\"\",VLOOKUP(B69,Упутство!$A$1912:$B$6831,2,FALSE))","v":""},{"$nulls":10},0,0]
["32",null,{"$f":"IF(B70=\"\",\"\",VLOOKUP(B70,Упутство!$A$1912:$B$6831,2,FALSE))","v":""},{"$nulls":10},0,0]
["33",451000,{"$f":"IF(B71=\"\",\"\",VLOOKUP(B71,Упутство!$A$1912:$B$6831,2,FALSE))","v":"СУБВЕНЦИЈЕ ЈАВНИМ НЕФИНАНСИЈСКИМ ПРЕДУЗЕЋИМА И ОРГАНИЗАЦИЈАМА"},{"$f":"SUM(D72:D73)","v":0},{"$f":"SUM(E72:E73)","v":0},0,{"$f":"SUM(G72:G73)","v":0},0,0,0,0,0,0,0,0]
["34",null,{"$f":"IF(B72=\"\",\"\",VLOOKUP(B72,Упутство!$A$1912:$B$6831,2,FALSE))","v":""},{"$nulls":10},0,0]
["35",null,{"$f":"IF(B73=\"\",\"\",VLOOKUP(B73,Упутство!$A$1912:$B$6831,2,FALSE))","v":""},{"$nulls":10},0,0]
["36",454000,{"$f":"IF(B74=\"\",\"\",VLOOKUP(B74,Упутство!$A$1912:$B$6831,2,FALSE))","v":"СУБВЕНЦИЈЕ ПРИВАТНИМ ПРЕДУЗЕЋИМА"},{"$f":"SUM(D75:D76)","v":0},{"$f":"SUM(E75:E76)","v":0},0,{"$f":"SUM(G75:G76)","v":0},0,0,0,0,0,0,0,0]
["37",null,{"$f":"IF(B75=\"\",\"\",VLOOKUP(B75,Упутство!$A$1912:$B$6831,2,FALSE))","v":""},{"$nulls":10},0,0]
["38",null,{"$f":"IF(B76=\"\",\"\",VLOOKUP(B76,Упутство!$A$1912:$B$6831,2,FALSE))","v":""},{"$nulls":10},0,0]
["39",463000,{"$f":"IF(B77=\"\",\"\",VLOOKUP(B77,Упутство!$A$1912:$B$6831,2,FALSE))","v":"ТРАНСФЕРИ ОСТАЛИМ НИВОИМА ВЛАСТИ"},{"$f":"SUM(D78:D79)","v":0},{"$f":"SUM(E78:E79)","v":0},0,{"$f":"SUM(G78:G79)","v":0},0,{"$f":"SUM(I78:I79)","v":0},0,0,0,0,0,0]
["40",null,{"$f":"IF(B78=\"\",\"\",VLOOKUP(B78,Упутство!$A$1912:$B$6831,2,FALSE))","v":""},{"$nulls":10},0,0]
["41",null,{"$f":"IF(B79=\"\",\"\",VLOOKUP(B79,Упутство!$A$1912:$B$6831,2,FALSE))","v":""},{"$nulls":10},0,0]
["42",472000,{"$f":"IF(B80=\"\",\"\",VLOOKUP(B80,Упутство!$A$1912:$B$6831,2,FALSE))","v":"НАКНАДЕ ЗА СОЦИЈАЛНУ ЗАШТИТУ ИЗ БУЏЕТА"},{"$f":"SUM(D81:D85)","v":0},{"$f":"SUM(E81:E85)","v":0},0,{"$f":"SUM(G81:G85)","v":0},0,0,0,0,0,0,0,0]
["43",null,{"$f":"IF(B81=\"\",\"\",VLOOKUP(B81,Упутство!$A$1912:$B$6831,2,FALSE))","v":""},{"$nulls":10},0,0]
["44",null,{"$f":"IF(B82=\"\",\"\",VLOOKUP(B82,Упутство!$A$1912:$B$6831,2,FALSE))","v":""},{"$nulls":10},0,0]
["45",null,{"$f":"IF(B83=\"\",\"\",VLOOKUP(B83,Упутство!$A$1912:$B$6831,2,FALSE))","v":""},{"$nulls":10},0,0]
["46",null,{"$f":"IF(B84=\"\",\"\",VLOOKUP(B84,Упутство!$A$1912:$B$6831,2,FALSE))","v":""},{"$nulls":10},0,0]
["47",null,{"$f":"IF(B85=\"\",\"\",VLOOKUP(B85,Упутство!$A$1912:$B$6831,2,FALSE))","v":""},{"$nulls":10},0,0]
["48",481000,{"$f":"IF(B86=\"\",\"\",VLOOKUP(B86,Упутство!$A$1912:$B$6831,2,FALSE))","v":"ДОТАЦИЈЕ НЕВЛАДИНИМ ОРГАНИЗАЦИЈАМА"},{"$f":"SUM(D87:D93)","v":0},{"$f":"SUM(E87:E93)","v":0},0,{"$f":"SUM(G87:G93)","v":0},0,0,0,0,0,0,0,0]
["49",null,{"$f":"IF(B87=\"\",\"\",VLOOKUP(B87,Упутство!$A$1912:$B$6831,2,FALSE))","v":""},{"$nulls":10},0,0]
["50",null,{"$f":"IF(B88=\"\",\"\",VLOOKUP(B88,Упутство!$A$1912:$B$6831,2,FALSE))","v":""},{"$nulls":10},0,0]
["51",null,{"$f":"IF(B89=\"\",\"\",VLOOKUP(B89,Упутство!$A$1912:$B$6831,2,FALSE))","v":""},{"$nulls":10},0,0]
["52",null,{"$f":"IF(B90=\"\",\"\",VLOOKUP(B90,Упутство!$A$1912:$B$6831,2,FALSE))","v":""},{"$nulls":10},0,0]
["53",null,{"$f":"IF(B91=\"\",\"\",VLOOKUP(B91,Упутство!$A$1912:$B$6831,2,FALSE))","v":""},{"$nulls":10},0,0]
["54",null,{"$f":"IF(B92=\"\",\"\",VLOOKUP(B92,Упутство!$A$1912:$B$6831,2,FALSE))","v":""},{"$nulls":10},0,0]
["55",null,{"$f":"IF(B93=\"\",\"\",VLOOKUP(B93,Упутство!$A$1912:$B$6831,2,FALSE))","v":""},{"$nulls":10},0,0]
["56",482000,{"$f":"IF(B94=\"\",\"\",VLOOKUP(B94,Упутство!$A$1912:$B$6831,2,FALSE))","v":"ПОРЕЗИ, ОБАВЕЗНЕ ТАКСЕ, КАЗНЕ И ПЕНАЛИ"},{"$f":"SUM(D95:D96)","v":0},{"$f":"SUM(E95:E96)","v":0},0,{"$f":"SUM(G95:G96)","v":0},0,0,0,0,0,0,0,0]
["57",null,{"$f":"IF(B95=\"\",\"\",VLOOKUP(B95,Упутство!$A$1912:$B$6831,2,FALSE))","v":""},{"$nulls":10},0,0]
["58",null,{"$f":"IF(B96=\"\",\"\",VLOOKUP(B96,Упутство!$A$1912:$B$6831,2,FALSE))","v":""},{"$nulls":10},0,0]
["59",512000,{"$f":"IF(B97=\"\",\"\",VLOOKUP(B97,Упутство!$A$1912:$B$6831,2,FALSE))","v":"МАШИНЕ И ОПРЕМА"},{"$f":"SUM(D98:D100)","v":0},{"$f":"SUM(E98:E100)","v":0},0,{"$f":"SUM(G98:G100)","v":0},0,0,0,0,0,0,0,0]
["60",null,{"$f":"IF(B98=\"\",\"\",VLOOKUP(B98,Упутство!$A$1912:$B$6831,2,FALSE))","v":""},{"$nulls":10},0,0]
["61",null,{"$f":"IF(B99=\"\",\"\",VLOOKUP(B99,Упутство!$A$1912:$B$6831,2,FALSE))","v":""},{"$nulls":10},0,0]
["62",null,{"$f":"IF(B100=\"\",\"\",VLOOKUP(B100,Упутство!$A$1912:$B$6831,2,FALSE))","v":""},{"$nulls":10},0,0]
["63",513000,{"$f":"IF(B101=\"\",\"\",VLOOKUP(B101,Упутство!$A$1912:$B$6831,2,FALSE))","v":"ОСТАЛЕ НЕКРЕТНИНЕ И ОПРЕМА"},{"$f":"SUM(D102)","v":0},{"$f":"SUM(E102)","v":0},0,{"$f":"SUM(G102)","v":0},0,0,0,0,0,0,0,0]
["64",null,{"$f":"IF(B102=\"\",\"\",VLOOKUP(B102,Упутство!$A$1912:$B$6831,2,FALSE))","v":""},{"$nulls":10},0,0]
["65",514000,{"$f":"IF(B103=\"\",\"\",VLOOKUP(B103,Упутство!$A$1912:$B$6831,2,FALSE))","v":"КУЛТИВИСАНА ИМОВИНА"},{"$f":"SUM(D104:D107)","v":0},{"$f":"SUM(E104:E107)","v":0},0,{"$f":"SUM(G104:G107)","v":0},0,0,0,0,0,0,0,0]
["66",null,{"$f":"IF(B104=\"\",\"\",VLOOKUP(B104,Упутство!$A$1912:$B$6831,2,FALSE))","v":""},{"$nulls":10},{"$f":"SUM(H104,J104,L104)","v":0},{"$f":"SUM(I104,K104,M104)","v":0}]
["67",null,{"$f":"IF(B105=\"\",\"\",VLOOKUP(B105,Упутство!$A$1912:$B$6831,2,FALSE))","v":""},{"$nulls":10},0,0]
["68",null,{"$f":"IF(B106=\"\",\"\",VLOOKUP(B106,Упутство!$A$1912:$B$6831,2,FALSE))","v":""},{"$nulls":10},0,0]
["69",null,{"$f":"IF(B107=\"\",\"\",VLOOKUP(B107,Упутство!$A$1912:$B$6831,2,FALSE))","v":""},{"$nulls":10},0,0]
["70",515000,{"$f":"IF(B108=\"\",\"\",VLOOKUP(B108,Упутство!$A$1912:$B$6831,2,FALSE))","v":"НЕМАТЕРИЈАЛНА ИМОВИНА"},{"$f":"SUM(D109:D110)","v":0},{"$f":"SUM(E109:E110)","v":0},0,{"$f":"SUM(G109:G110)","v":0},0,0,0,0,0,0,0,0]
["71",null,{"$f":"IF(B109=\"\",\"\",VLOOKUP(B109,Упутство!$A$1912:$B$6831,2,FALSE))","v":""},{"$nulls":10},0,0]
["72",null,{"$f":"IF(B110=\"\",\"\",VLOOKUP(B110,Упутство!$A$1912:$B$6831,2,FALSE))","v":""},{"$nulls":10},0,0]
["73",541000,{"$f":"IF(B111=\"\",\"\",VLOOKUP(B111,Упутство!$A$1912:$B$6831,2,FALSE))","v":"ЗЕМЉИШТЕ"},{"$f":"SUM(D112:D113)","v":0},{"$f":"SUM(E112:E113)","v":0},0,{"$f":"SUM(G112:G113)","v":0},0,0,0,0,0,0,0,0]
["74",null,{"$f":"IF(B112=\"\",\"\",VLOOKUP(B112,Упутство!$A$1912:$B$6831,2,FALSE))","v":""},{"$nulls":10},0,0]
["75",null,{"$f":"IF(B113=\"\",\"\",VLOOKUP(B113,Упутство!$A$1912:$B$6831,2,FALSE))","v":""},{"$nulls":10},0,0]
["76",543000,{"$f":"IF(B114=\"\",\"\",VLOOKUP(B114,Упутство!$A$1912:$B$6831,2,FALSE))","v":"ШУМЕ И ВОДЕ"},{"$f":"SUM(D115:D116)","v":0},{"$f":"SUM(E115:E116)","v":0},0,{"$f":"SUM(G115:G116)","v":0},0,{"$f":"SUM(I115:I116)","v":0},0,0,0,0,0,0]
["77",null,{"$f":"IF(B115=\"\",\"\",VLOOKUP(B115,Упутство!$A$1912:$B$6831,2,FALSE))","v":""},{"$nulls":10},0,0]
["78",null,{"$f":"IF(B116=\"\",\"\",VLOOKUP(B116,Упутство!$A$1912:$B$6831,2,FALSE))","v":""},{"$nulls":10},0,0]
["УКУПНО ЗА:",null,{"$f":"$D$5&\"-\"&$E$5&\"   \"&$D$6","v":"0602-   "},{"$f":"SUM(D39:D116)/2","v":0},0,0,0,0,0,0,0,0,0,0,0]
[]
["Рбр.","Извори финансирања пројекта",null,"Вредност у базној години (2015)",null,"Очекивана вредност у 2016. години",null,"Вредност у 2017. години",null,"Вредност у 2018. години",null,"Вредност у 2019. години",null,"Укупно (2017-2019)"]
["1",{"$nulls":12},{"$f":"SUM(H120:M120)","v":0}]
["2",{"$nulls":12},0]
["3",{"$nulls":12},0]
["4",{"$nulls":12},0]
["5",{"$nulls":12},0]
["6",{"$nulls":12},0]
["7",{"$nulls":12},0]
["8",{"$nulls":12},0]
["9",{"$nulls":12},0]
["10",{"$nulls":12},0]
["11",{"$nulls":12},{"$f":"SUM(H130:M130)","v":0}]
["12",{"$nulls":12},0]
["13",{"$nulls":12},0]
["14",{"$nulls":12},0]
["15",{"$nulls":12},0]
["16",{"$nulls":12},0]
["17",{"$nulls":12},0]
["УКУПНО  ЗА:",null,{"$f":"$D$5&\"-\"&$E$5&\"   \"&$D$6","v":"0602-   "},{"$f":"SUM(D120:E136)","v":0},null,{"$f":"SUM(F120:G136)","v":0},null,{"$f":"SUM(H120:I136)","v":0},null,{"$f":"SUM(J120:K136)","v":0},null,{"$f":"SUM(L120:M136)","v":0},null,{"$f":"SUM(H137:M137)","v":0}]
[]
["*","1-3 циља за сваку програмску активност"]
["**","1-3 индикатора исхода/излазног резултата за сваки циљ"]
[]
[]
[{"$nulls":12},"Одговорно лице"]
[]
[null,"Датум:","04.09.2017."]

{"sheet":"Упутство","index":3,"n_rows":6831,"n_cols":182,"rows_kept":6831,"hidden":true,"merged":[[24,109,24,121],[29,109,29,121],[37,108,45,108],[48,108,49,108],[49,109,49,121],[51,108,52,108],[52,109,52,121],[1808,69,1808,70],[1809,69,1809,70],[1809,153,1809,154],[1809,155,1809,156],[1809,157,1809,158],[1809,159,1809,160],[1809,163,1809,164],[1809,165,1809,166],[1809,167,1809,168],[1809,169,1809,170],[1810,69,1810,70],[1810,153,1810,154],[1810,155,1810,156],[1810,157,1810,158],[1810,159,1810,160],[1810,163,1810,164],[1810,165,1810,166],[1810,167,1810,168],[1810,169,1810,170],[1811,69,1811,70],[1811,153,1811,154],[1811,155,1811,156],[1811,157,1811,158],[1811,159,1811,160],[1811,163,1811,164],[1811,165,1811,166],[1811,167,1811,168],[1811,169,1811,170],[1812,69,1812,70],[1812,153,1812,154],[1812,155,1812,156],[1812,157,1812,158],[1812,159,1812,160],[1812,163,1812,164],[1812,165,1812,166],[1812,167,1812,168],[1812,169,1812,170],[1813,69,1813,70],[1813,153,1813,154],[1813,155,1813,156],[1813,157,1813,158],[1813,159,1813,160],[1813,163,1813,164],[1813,165,1813,166],[1813,167,1813,168],[1813,169,1813,170],[1814,69,1814,70],[1814,153,1814,154],[1814,155,1814,156],[1814,157,1814,158],[1814,159,1814,160],[1814,163,1814,164],[1814,165,1814,166],[1814,167,1814,168],[1814,169,1814,170],[1815,69,1815,70],[1815,153,1815,154],[1815,155,1815,156],[1815,157,1815,158],[1815,159,1815,160],[1815,163,1815,164],[1815,165,1815,166],[1815,167,1815,168],[1815,169,1815,170],[1816,69,1816,70],[1816,153,1816,154],[1816,155,1816,156],[1816,157,1816,158],[1816,159,1816,160],[1816,163,1816,164],[1816,165,1816,166],[1816,167,1816,168],[1816,169,1816,170],[1817,69,1817,70],[1817,153,1817,154],[1817,155,1817,156],[1817,157,1817,158],[1817,159,1817,160],[1817,163,1817,164],[1817,165,1817,166],[1817,167,1817,168],[1817,169,1817,170],[1818,69,1818,70],[1818,153,1818,154],[1818,155,1818,156],[1818,157,1818,158],[1818,159,1818,160],[1818,163,1818,164],[1818,165,1818,166],[1818,167,1818,168],[1818,169,1818,170],[1819,69,1819,70],[1819,153,1819,154],[1819,155,1819,156],[1819,157,1819,158],[1819,159,1819,160],[1819,163,1819,164],[1819,165,1819,166],[1819,167,1819,168],[1819,169,1819,170],[1820,69,1820,70],[1820,153,1820,154],[1820,155,1820,156],[1820,157,1820,158],[1820,159,1820,160],[1820,163,1820,164],[1820,165,1820,166],[1820,167,1820,168],[1820,169,1820,170],[1821,69,1821,70],[1821,153,1821,154],[1821,155,1821,156],[1821,157,1821,158],[1821,159,1821,160],[1821,163,1821,164],[1821,165,1821,166],[1821,167,1821,168],[1821,169,1821,170],[1822,69,1822,70],[1822,153,1822,154],[1822,155,1822,156],[1822,157,1822,158],[1822,159,1822,160],[1822,163,1822,164],[1822,165,1822,166],[1822,167,1822,168],[1822,169,1822,170],[1823,69,1823,70],[1823,153,1823,154],[1823,155,1823,156],[1823,157,1823,158],[1823,159,1823,160],[1823,163,1823,164],[1823,165,1823,166],[1823,167,1823,168],[1823,169,1823,170],[1824,69,1824,70],[1824,153,1824,154],[1824,155,1824,156],[1824,157,1824,158],[1824,159,1824,160],[1824,163,1824,164],[1824,165,1824,166],[1824,167,1824,168],[1824,169,1824,170],[1825,69,1825,70],[1825,153,1825,154],[1825,155,1825,156],[1825,157,1825,158],[1825,159,1825,160],[1825,163,1825,164],[1825,165,1825,166],[1825,167,1825,168],[1825,169,1825,170],[1826,69,1826,70],[1826,153,1826,154],[1826,155,1826,156],[1826,157,1826,158],[1826,159,1826,160],[1826,163,1826,164],[1826,165,1826,166],[1826,167,1826,168],[1826,169,1826,170],[1827,69,1827,70],[1827,153,1827,154],[1827,155,1827,156],[1827,157,1827,158],[1827,159,1827,160],[1827,163,1827,164],[1827,165,1827,166],[1827,167,1827,168],[1827,169,1827,170],[1828,69,1828,70],[1828,153,1828,154],[1828,155,1828,156],[1828,157,1828,158],[1828,159,1828,160],[1828,163,1828,164],[1828,165,1828,166],[1828,167,1828,168],[1828,169,1828,170],[1829,69,1829,70],[1829,153,1829,154],[1829,155,1829,156],[1829,157,1829,158],[1829,159,1829,160],[1829,163,1829,164],[1829,165,1829,166],[1829,167,1829,168],[1829,169,1829,170],[1830,69,1830,70],[1830,153,1830,154],[1830,155,1830,156],[1830,157,1830,158],[1830,159,1830,160],[1830,163,1830,164],[1830,165,1830,166],[1830,167,1830,168],[1830,169,1830,170],[1831,69,1831,70],[1831,153,1831,154],[1831,155,1831,156],[1831,157,1831,158],[1831,159,1831,160],[1831,163,1831,164],[1831,165,1831,166],[1831,167,1831,168],[1831,169,1831,170],[1832,69,1832,70],[1832,153,1832,154],[1832,155,1832,156],[1832,157,1832,158],[1832,159,1832,160],[1832,163,1832,164],[1832,165,1832,166],[1832,167,1832,168],[1832,169,1832,170],[1833,69,1833,70],[1833,153,1833,154],[1833,155,1833,156],[1833,157,1833,158],[1833,159,1833,160],[1833,163,1833,164],[1833,165,1833,166],[1833,167,1833,168],[1833,169,1833,170],[1834,69,1834,70],[1834,153,1834,154],[1834,155,1834,156],[1834,157,1834,158],[1834,159,1834,160],[1834,163,1834,164],[1834,165,1834,166],[1834,167,1834,168],[1834,169,1834,170],[1835,69,1835,70],[1835,153,1835,154],[1835,155,1835,156],[1835,157,1835,158],[1835,159,1835,160],[1835,163,1835,164],[1835,165,1835,166],[1835,167,1835,168],[1835,169,1835,170],[1836,69,1836,70],[1836,153,1836,154],[1836,155,1836,156],[1836,157,1836,158],[1836,159,1836,160],[1836,163,1836,164],[1836,165,1836,166],[1836,167,1836,168],[1836,169,1836,170],[1837,69,1837,70],[1837,153,1837,154],[1837,155,1837,156],[1837,157,1837,158],[1837,159,1837,160],[1837,163,1837,164],[1837,165,1837,166],[1837,167,1837,168],[1837,169,1837,170],[1838,69,1838,70],[1838,153,1838,154],[1838,155,1838,156],[1838,157,1838,158],[1838,159,1838,160],[1838,163,1838,164],[1838,165,1838,166],[1838,167,1838,168],[1838,169,1838,170],[1839,69,1839,70],[1839,153,1839,154],[1839,155,1839,156],[1839,157,1839,158],[1839,159,1839,160],[1839,163,1839,164],[1839,165,1839,166],[1839,167,1839,168],[1839,169,1839,170],[1840,69,1840,70],[1840,153,1840,154],[1840,155,1840,156],[1840,157,1840,158],[1840,159,1840,160],[1840,163,1840,164],[1840,165,1840,166],[1840,167,1840,168],[1840,169,1840,170],[1841,69,1841,70],[1841,153,1841,154],[1841,155,1841,156],[1841,157,1841,158],[1841,159,1841,160],[1841,163,1841,164],[1841,165,1841,166],[1841,167,1841,168],[1841,169,1841,170],[1842,69,1842,70],[1842,153,1842,154],[1842,155,1842,156],[1842,157,1842,158],[1842,159,1842,160],[1842,163,1842,164],[1842,165,1842,166],[1842,167,1842,168],[1842,169,1842,170],[1843,69,1843,70],[1843,153,1843,154],[1843,155,1843,156],[1843,157,1843,158],[1843,159,1843,160],[1843,163,1843,164],[1843,165,1843,166],[1843,167,1843,168],[1843,169,1843,170],[1844,69,1844,70],[1844,153,1844,154],[1844,155,1844,156],[1844,157,1844,158],[1844,159,1844,160],[1844,163,1844,164],[1844,165,1844,166],[1844,167,1844,168],[1844,169,1844,170],[1845,69,1845,70],[1845,153,1845,154],[1845,155,1845,156],[1845,157,1845,158],[1845,159,1845,160],[1845,163,1845,164],[1845,165,1845,166],[1845,167,1845,168],[1845,169,1845,170],[1846,69,1846,70],[1846,153,1846,154],[1846,155,1846,156],[1846,157,1846,158],[1846,159,1846,160],[1846,163,1846,164],[1846,165,1846,166],[1846,167,1846,168],[1846,169,1846,170],[1847,69,1847,70],[1847,153,1847,154],[1847,155,1847,156],[1847,157,1847,158],[1847,159,1847,160],[1847,163,1847,164],[1847,165,1847,166],[1847,167,1847,168],[1847,169,1847,170],[1848,69,1848,70],[1848,153,1848,154],[1848,155,1848,156],[1848,157,1848,158],[1848,159,1848,160],[1848,163,1848,164],[1848,165,1848,166],[1848,167,1848,168],[1848,169,1848,170],[1849,69,1849,70],[1849,153,1849,154],[1849,155,1849,156],[1849,157,1849,158],[1849,159,1849,160],[1849,163,1849,164],[1849,165,1849,166],[1849,167,1849,168],[1849,169,1849,170],[1850,69,1850,70],[1850,153,1850,154],[1850,155,1850,156],[1850,157,1850,158],[1850,159,1850,160],[1850,163,1850,164],[1850,165,1850,166],[1850,167,1850,168],[1850,169,1850,170],[1851,69,1851,70],[1851,153,1851,154],[1851,155,1851,156],[1851,157,1851,158],[1851,159,1851,160],[1851,163,1851,164],[1851,165,1851,166],[1851,167,1851,168],[1851,169,1851,170],[1852,69,1852,70],[1852,153,1852,154],[1852,155,1852,156],[1852,157,1852,158],[1852,159,1852,160],[1852,163,1852,164],[1852,165,1852,166],[1852,167,1852,168],[1852,169,1852,170],[1853,69,1853,70],[1853,153,1853,154],[1853,155,1853,156],[1853,157,1853,158],[1853,159,1853,160],[1853,163,1853,164],[1853,165,1853,166],[1853,167,1853,168],[1853,169,1853,170],[1854,69,1854,70],[1854,153,1854,154],[1854,155,1854,156],[1854,157,1854,158],[1854,159,1854,160],[1854,163,1854,164],[1854,165,1854,166],[1854,167,1854,168],[1854,169,1854,170],[1855,69,1855,70],[1855,153,1855,154],[1855,155,1855,156],[1855,157,1855,158],[1855,159,1855,160],[1855,163,1855,164],[1855,165,1855,166],[1855,167,1855,168],[1855,169,1855,170],[1856,69,1856,70],[1856,153,1856,154],[1856,155,1856,156],[1856,157,1856,158],[1856,159,1856,160],[1856,163,1856,164],[1856,165,1856,166],[1856,167,1856,168],[1856,169,1856,170],[1857,69,1857,70],[1857,153,1857,154],[1857,155,1857,156],[1857,157,1857,158],[1857,159,1857,160],[1857,163,1857,164],[1857,165,1857,166],[1857,167,1857,168],[1857,169,1857,170],[1858,69,1858,70],[1858,153,1858,154],[1858,155,1858,156],[1858,157,1858,158],[1858,159,1858,160],[1858,163,1858,164],[1858,165,1858,166],[1858,167,1858,168],[1858,169,1858,170],[1859,69,1859,70],[1859,153,1859,154],[1859,155,1859,156],[1859,157,1859,158],[1859,159,1859,160],[1859,163,1859,164],[1859,165,1859,166],[1859,167,1859,168],[1859,169,1859,170],[1860,69,1860,70],[1860,153,1860,154],[1860,155,1860,156],[1860,157,1860,158],[1860,159,1860,160],[1860,163,1860,164],[1860,165,1860,166],[1860,167,1860,168],[1860,169,1860,170],[1861,69,1861,70],[1861,153,1861,154],[1861,155,1861,156],[1861,157,1861,158],[1861,159,1861,160],[1861,163,1861,164],[1861,165,1861,166],[1861,167,1861,168],[1861,169,1861,170],[1862,69,1862,70],[1862,153,1862,154],[1862,155,1862,156],[1862,157,1862,158],[1862,159,1862,160],[1862,163,1862,164],[1862,165,1862,166],[1862,167,1862,168],[1862,169,1862,170],[1863,69,1863,70],[1863,153,1863,154],[1863,155,1863,156],[1863,157,1863,158],[1863,159,1863,160],[1863,163,1863,164],[1863,165,1863,166],[1863,167,1863,168],[1863,169,1863,170],[1864,69,1864,70],[1864,153,1864,154],[1864,155,1864,156],[1864,157,1864,158],[1864,159,1864,160],[1864,163,1864,164],[1864,165,1864,166],[1864,167,1864,168],[1864,169,1864,170],[1865,69,1865,70],[1865,153,1865,154],[1865,155,1865,156],[1865,157,1865,158],[1865,159,1865,160],[1865,163,1865,164],[1865,165,1865,166],[1865,167,1865,168],[1865,169,1865,170],[1866,69,1866,70],[1866,153,1866,154],[1866,155,1866,156],[1866,157,1866,158],[1866,159,1866,160],[1866,163,1866,164],[1866,165,1866,166],[1866,167,1866,168],[1866,169,1866,170],[1867,69,1867,70],[1867,153,1867,154],[1867,155,1867,156],[1867,157,1867,158],[1867,159,1867,160],[1867,163,1867,164],[1867,165,1867,166],[1867,167,1867,168],[1867,169,1867,170],[1868,69,1868,70],[1868,153,1868,154],[1868,155,1868,156],[1868,157,1868,158],[1868,159,1868,160],[1868,163,1868,164],[1868,165,1868,166],[1868,167,1868,168],[1868,169,1868,170],[1869,69,1869,70],[1869,153,1869,154],[1869,155,1869,156],[1869,157,1869,158],[1869,159,1869,160],[1869,163,1869,164],[1869,165,1869,166],[1869,167,1869,168],[1869,169,1869,170],[1870,69,1870,70],[1870,153,1870,154],[1870,155,1870,156],[1870,157,1870,158],[1870,159,1870,160],[1870,163,1870,164],[1870,165,1870,166],[1870,167,1870,168],[1870,169,1870,170],[1871,69,1871,70],[1871,153,1871,154],[1871,155,1871,156],[1871,157,1871,158],[1871,159,1871,160],[1871,163,1871,164],[1871,165,1871,166],[1871,167,1871,168],[1871,169,1871,170],[1872,69,1872,70],[1872,153,1872,154],[1872,155,1872,156],[1872,157,1872,158],[1872,159,1872,160],[1872,163,1872,164],[1872,165,1872,166],[1872,167,1872,168],[1872,169,1872,170],[1873,69,1873,70],[1873,153,1873,154],[1873,155,1873,156],[1873,157,1873,158],[1873,159,1873,160],[1873,163,1873,164],[1873,165,1873,166],[1873,167,1873,168],[1873,169,1873,170],[1874,69,1874,70],[1874,153,1874,154],[1874,155,1874,156],[1874,157,1874,158],[1874,159,1874,160],[1874,163,1874,164],[1874,165,1874,166],[1874,167,1874,168],[1874,169,1874,170],[1875,69,1875,70],[1875,153,1875,154],[1875,155,1875,156],[1875,157,1875,158],[1875,159,1875,160],[1875,163,1875,164],[1875,165,1875,166],[1875,167,1875,168],[1875,169,1875,170],[1876,69,1876,70],[1876,153,1876,154],[1876,155,1876,156],[1876,157,1876,158],[1876,159,1876,160],[1876,163,1876,164],[1876,165,1876,166],[1876,167,1876,168],[1876,169,1876,170],[1877,69,1877,70],[1877,153,1877,154],[1877,155,1877,156],[1877,157,1877,158],[1877,159,1877,160],[1877,163,1877,164],[1877,165,1877,166],[1877,167,1877,168],[1877,169,1877,170],[1878,69,1878,70],[1878,153,1878,154],[1878,155,1878,156],[1878,157,1878,158],[1878,159,1878,160],[1878,163,1878,164],[1878,165,1878,166],[1878,167,1878,168],[1878,169,1878,170],[1879,69,1879,70],[1879,153,1879,154],[1879,155,1879,156],[1879,157,1879,158],[1879,159,1879,160],[1879,163,1879,164],[1879,165,1879,166],[1879,167,1879,168],[1879,169,1879,170],[1880,69,1880,70],[1880,153,1880,154],[1880,155,1880,156],[1880,157,1880,158],[1880,159,1880,160],[1880,163,1880,164],[1880,165,1880,166],[1880,167,1880,168],[1880,169,1880,170],[1881,69,1881,70],[1881,153,1881,154],[1881,155,1881,156],[1881,157,1881,158],[1881,159,1881,160],[1881,163,1881,164],[1881,165,1881,166],[1881,167,1881,168],[1881,169,1881,170],[1882,69,1882,70],[1882,153,1882,154],[1882,155,1882,156],[1882,157,1882,158],[1882,159,1882,160],[1882,163,1882,164],[1882,165,1882,166],[1882,167,1882,168],[1882,169,1882,170],[1883,69,1883,70],[1883,143,1883,144],[1883,145,1883,146],[1883,153,1883,154],[1883,155,1883,156],[1883,157,1883,158],[1883,159,1883,160],[1883,163,1883,164],[1883,165,1883,166],[1883,167,1883,168],[1883,169,1883,170],[1884,69,1884,70],[1884,153,1884,154],[1884,155,1884,156],[1884,157,1884,158],[1884,159,1884,160],[1884,163,1884,164],[1884,165,1884,166],[1884,167,1884,168],[1884,169,1884,170],[1885,69,1885,70],[1885,143,1885,144],[1885,145,1885,146],[1885,147,1885,148],[1885,149,1885,150],[1885,153,1885,154],[1885,155,1885,156],[1885,157,1885,158],[1885,159,1885,160],[1885,163,1885,164],[1885,165,1885,166],[1885,167,1885,168],[1885,169,1885,170],[1886,69,1886,70],[1886,143,1886,144],[1886,145,1886,146],[1886,147,1886,148],[1886,149,1886,150],[1886,153,1886,154],[1886,155,1886,156],[1886,157,1886,158],[1886,159,1886,160],[1886,163,1886,164],[1886,165,1886,166],[1886,167,1886,168],[1886,169,1886,170],[1887,69,1887,70],[1887,143,1887,144],[1887,145,1887,146],[1887,147,1887,148],[1887,149,1887,150],[1887,153,1887,154],[1887,155,1887,156],[1887,157,1887,158],[1887,159,1887,160],[1887,163,1887,164],[1887,165,1887,166],[1887,167,1887,168],[1887,169,1887,170],[1888,69,1888,70],[1888,143,1888,144],[1888,145,1888,146],[1888,147,1888,148],[1888,149,1888,150],[1888,153,1888,154],[1888,155,1888,156],[1888,157,1888,158],[1888,159,1888,160],[1888,163,1888,164],[1888,165,1888,166],[1888,167,1888,168],[1888,169,1888,170],[1889,69,1889,70],[1889,143,1889,144],[1889,145,1889,146],[1889,147,1889,148],[1889,149,1889,150],[1889,153,1889,154],[1889,155,1889,156],[1889,157,1889,158],[1889,159,1889,160],[1889,163,1889,164],[1889,165,1889,166],[1889,167,1889,168],[1889,169,1889,170],[1890,69,1890,70],[1890,143,1890,144],[1890,145,1890,146],[1890,147,1890,148],[1890,149,1890,150],[1890,153,1890,154],[1890,155,1890,156],[1890,157,1890,158],[1890,159,1890,160],[1890,163,1890,164],[1890,165,1890,166],[1890,167,1890,168],[1890,169,1890,170],[1891,69,1891,70],[1891,143,1891,144],[1891,145,1891,146],[1891,147,1891,148],[1891,149,1891,150],[1891,153,1891,154],[1891,155,1891,156],[1891,157,1891,158],[1891,159,1891,160],[1891,163,1891,164],[1891,165,1891,166],[1891,167,1891,168],[1891,169,1891,170],[1892,69,1892,70],[1892,143,1892,144],[1892,145,1892,146],[1892,147,1892,148],[1892,149,1892,150],[1892,153,1892,154],[1892,155,1892,156],[1892,157,1892,158],[1892,159,1892,160],[1892,163,1892,164],[1892,165,1892,166],[1892,167,1892,168],[1892,169,1892,170],[1893,69,1893,70],[1893,143,1893,144],[1893,145,1893,146],[1893,147,1893,148],[1893,149,1893,150],[1893,153,1893,154],[1893,155,1893,156],[1893,157,1893,158],[1893,159,1893,160],[1893,163,1893,164],[1893,165,1893,166],[1893,167,1893,168],[1893,169,1893,170],[1894,69,1894,70],[1894,143,1894,144],[1894,145,1894,146],[1894,147,1894,148],[1894,149,1894,150],[1894,153,1894,154],[1894,155,1894,156],[1894,157,1894,158],[1894,159,1894,160],[1894,163,1894,164],[1894,165,1894,166],[1894,167,1894,168],[1894,169,1894,170],[1895,69,1895,70],[1895,143,1895,144],[1895,145,1895,146],[1895,147,1895,148],[1895,149,1895,150],[1895,153,1895,154],[1895,155,1895,156],[1895,157,1895,158],[1895,159,1895,160],[1895,163,1895,164],[1895,165,1895,166],[1895,167,1895,168],[1895,169,1895,170],[1896,143,1896,144],[1896,145,1896,146],[1896,147,1896,148],[1896,149,1896,150],[1896,153,1896,154],[1896,155,1896,156],[1896,157,1896,158],[1896,159,1896,160],[1896,163,1896,164],[1896,165,1896,166],[1896,167,1896,168],[1896,169,1896,170],[1897,143,1897,144],[1897,145,1897,146],[1897,147,1897,148],[1897,149,1897,150],[1897,153,1897,154],[1897,155,1897,156],[1897,157,1897,158],[1897,159,1897,160],[1897,163,1897,164],[1897,165,1897,166],[1897,167,1897,168],[1897,169,1897,170],[1898,143,1898,144],[1898,145,1898,146],[1898,147,1898,148],[1898,149,1898,150],[1898,153,1898,154],[1898,155,1898,156],[1898,157,1898,158],[1898,159,1898,160],[1898,163,1898,164],[1898,165,1898,166],[1898,167,1898,168],[1898,169,1898,170],[1899,143,1899,144],[1899,145,1899,146],[1899,147,1899,148],[1899,149,1899,150],[1899,153,1899,154],[1899,155,1899,156],[1899,157,1899,158],[1899,159,1899,160],[1899,163,1899,164],[1899,165,1899,166],[1899,167,1899,168],[1899,169,1899,170],[1900,143,1900,144],[1900,145,1900,146],[1900,147,1900,148],[1900,149,1900,150],[1900,153,1900,154],[1900,155,1900,156],[1900,157,1900,158],[1900,159,1900,160],[1900,163,1900,164],[1900,165,1900,166],[1900,167,1900,168],[1900,169,1900,170],[1901,143,1901,144],[1901,145,1901,146],[1901,147,1901,148],[1901,149,1901,150],[1901,153,1901,154],[1901,155,1901,156],[1901,157,1901,158],[1901,159,1901,160],[1901,163,1901,164],[1901,165,1901,166],[1901,167,1901,168],[1901,169,1901,170],[1902,69,1902,70],[1902,143,1902,144],[1902,145,1902,146],[1902,147,1902,148],[1902,149,1902,150],[1902,153,1902,154],[1902,155,1902,156],[1902,157,1902,158],[1902,159,1902,160],[1902,163,1902,164],[1902,165,1902,166],[1902,167,1902,168],[1902,169,1902,170],[1903,69,1903,70],[1903,143,1903,144],[1903,145,1903,146],[1903,147,1903,148],[1903,149,1903,150],[1903,153,1903,154],[1903,155,1903,156],[1903,157,1903,158],[1903,159,1903,160],[1903,163,1903,164],[1903,165,1903,166],[1903,167,1903,168],[1903,169,1903,170],[1904,69,1904,70],[1904,143,1904,144],[1904,145,1904,146],[1904,147,1904,148],[1904,149,1904,150],[1904,153,1904,154],[1904,155,1904,156],[1904,157,1904,158],[1904,159,1904,160],[1904,163,1904,164],[1904,165,1904,166],[1904,167,1904,168],[1904,169,1904,170],[1905,69,1905,70],[1905,143,1905,144],[1905,145,1905,146],[1905,147,1905,148],[1905,149,1905,150],[1905,153,1905,154],[1905,155,1905,156],[1905,157,1905,158],[1905,159,1905,160],[1905,163,1905,164],[1905,165,1905,166],[1905,167,1905,168],[1905,169,1905,170],[1906,69,1906,70],[1906,143,1906,144],[1906,145,1906,146],[1906,147,1906,148],[1906,149,1906,150],[1906,153,1906,154],[1906,155,1906,156],[1906,157,1906,158],[1906,159,1906,160],[1906,163,1906,164],[1906,165,1906,166],[1906,167,1906,168],[1906,169,1906,170],[1907,69,1907,70],[1907,143,1907,144],[1907,145,1907,146],[1907,147,1907,148],[1907,149,1907,150],[1907,153,1907,154],[1907,155,1907,156],[1907,157,1907,158],[1907,159,1907,160],[1907,163,1907,164],[1907,165,1907,166],[1907,167,1907,168],[1907,169,1907,170],[1908,69,1908,70],[1908,143,1908,144],[1908,145,1908,146],[1908,147,1908,148],[1908,149,1908,150],[1908,153,1908,154],[1908,155,1908,156],[1908,157,1908,158],[1908,159,1908,160],[1908,163,1908,164],[1908,165,1908,166],[1908,167,1908,168],[1908,169,1908,170]],"merged_total":6846,"flags":["merged_cut"]}
["Програми","Шифра","Сврха",{"$nulls":66},"ФУНКЦИОНАЛНА КЛАСИФИКАЦИЈА",null,null,"КЛАСИФИКАЦИЈА ПО ИЗВОРИМА ФИНАНСИРАЊА",{"$nulls":3},"ЕКОНОМСКА КЛАСИФИКАЦИЈА - 3 nivo",{"$nulls":11},"000","СОЦИЈАЛНА ЗАШТИТА",null,null,{"$f":"BR2&\" - \"&BS2","v":"0 - СОЦИЈАЛНА ЗАШТИТА"},{"$nulls":4},"КЛАСИФИКАЦИЈА ПО ИЗВОРИМА ФИНАНСИРАЊА"]
["Програм 1.  Урбанизам и просторно планирање","1101","Планско одређивање праваца развоја локалне средине и ефикасно администрирање захтева за издавање грађевинских дозвола",{"$nulls":66},0,"СОЦИЈАЛНА ЗАШТИТА",null,"01","Приходи из буџета","01",null,411,"Плате, додаци и накнаде запослених (зараде)",411,{"$nulls":9},"010","Болест и инвалидност",null,null,{"$f":"BR3&\" - \"&BS3","v":"10 - Болест и инвалидност"},{"$nulls":4},"01","Приходи из буџета",null,null,{"$f":"CT2&\" - \"&CU2","v":"01 - Приходи из буџета"}]
["Програм 2.  Комуналне делатности","1102","Пружања комуналних услуга од значаја за остварење животних потреба физичких и правних лица уз обезбеђење одговарајућег квалитета, обима, доступности и континуитета;\nОдрживо снабдевање корисника топлотном енергијом;\nРедовно, сигурно  и одрживо  снабдевање водом за пиће становника, уређивање начина коришћења и управљања изворима, јавним бунарима и чесмама\n",{"$nulls":66},10,"Болест и инвалидност",null,"02","Трансфери између корисника на истом нивоу","02",null,412,"Социјални доприноси на терет послодавца",412,{"$nulls":9},"020","Старост",null,null,"20 - Старост",{"$nulls":4},"02","Трансфери између корисника на истом нивоу",null,null,{"$f":"CT3&\" - \"&CU3","v":"02 - Трансфери између корисника на истом нивоу"}]
["Програм 3.  Локални економски развој","1501","Обезбеђивање стимулативног оквира за пословање и адекватног привредног амбијента за привлачење инвестиција",{"$nulls":66},20,"Старост",null,"03","Социјални доприноси","03",null,413,"Накнаде у натури",413,{"$nulls":9},"030","Корисници породичне пензије",null,null,"30 - Корисници породичне пензије",{"$nulls":4},"03","Социјални доприноси",null,null,"03 - Социјални доприноси"]
["Програм 4.  Развој туризма","1502","Унапређење туристичке понуде у граду/општини",{"$nulls":66},30,"Корисници породичне пензије",null,"04","Сопствени приходи буџетских корисника","04",null,414,"Социјална давања запосленима",414,{"$nulls":9},"040","Породица и деца",null,null,"40 - Породица и деца",{"$nulls":4},"04","Сопствени приходи буџетских корисника",null,null,"04 - Сопствени приходи буџетских корисника"]
["Програм 5.  Развој пољопривреде","0101","Унапређење пољопривредне производње у граду/општини",{"$nulls":66},40,"Породица и деца",null,"05","Донације од иностраних земаља","05",null,415,"Накнаде трошкова за запослене",415,{"$nulls":9},"050","Незапосленост",null,null,"50 - Незапосленост",{"$nulls":4},"05","Донације од иностраних земаља",null,null,"05 - Донације од иностраних земаља"]
["Програм 6.  Заштита животне средине","0401","Обезбеђивање услова за одрживи развој локалне заједнице одговорним односом према животној средини;\nЕфикасно и одрживо управљање отпадним водама;\nОдрживо управљање отпадом",{"$nulls":66},50,"Незапосленост",null,"06","Донације од међународних организација","06",null,416,"Награде запосленима и остали посебни расходи",416,{"$nulls":9},"060","Становање",null,null,"60 - Становање",{"$nulls":4},"06","Донације од међународних организација",null,null,"06 - Донације од међународних организација"]
["Програм 7.  Организација саобраћаја и саобраћајна инфраструктура","0701","Унапређење организације саобраћаја и унапређење саобраћајне инфраструктуре у локалној самоуправи",{"$nulls":66},60,"Становање",null,"07","Донације од осталих нивоа власти","07",null,417,"Посланички додатак",417,{"$nulls":9},"070","Социјална помоћ угроженом становништву, некласификована на другом месту",null,null,"70 - Социјална помоћ угроженом становништву, некласификована на другом месту",{"$nulls":4},"07","Трансфери од других нивоа власти",null,null,{"$f":"CT8&\" - \"&CU8","v":"07 - Трансфери од других нивоа власти"}]
["Програм 8.  Предшколско васпитање","2001","Омогућавање обухвата предшколске деце у вртићима ",{"$nulls":66},70,"Социјална помоћ угроженом становништву, некласификована на другом месту",null,"08","Донације од невладиних организација и појединаца","08",null,418,"Судијски додатак.",418,{"$nulls":9},"080","Социјална заштита -  истраживање и развој",null,null,"80 - Социјална заштита -  истраживање и развој",{"$nulls":4},"08","Добровољни трансфери од физичких и правних лица",null,null,"08 - Добровољни трансфери од физичких и правних лица",{"$nulls":6},"Поступак за попуњавање образаца "]
["Програм 9.  Основно образовање","2002","Доступност основног образовања свој деци са територије града/општине у складу са прописаним стандардима",{"$nulls":66},80,"Социјална заштита -  истраживање и развој",null,"09","Примања од продаје нефинансијске имовине","09",null,421,"Стални трошкови",421,{"$nulls":9},"090","Социјална заштита некласификована на другом месту",null,null,"90 - Социјална заштита некласификована на другом месту",{"$nulls":4},"09","Примања од продаје нефинансијске имовине",null,null,"09 - Примања од продаје нефинансијске имовине"]
["Програм 10.  Средње образовање","2003","Доступност средњег образовања у складу са прописаним стандардима и потребама за образовним профилима који одговарају циљевима развоја града/општине и привреде",{"$nulls":66},90,"Социјална заштита некласификована на другом месту",null,"10","Примања од домаћих задуживања","10",null,422,"Трошкови путовања",422,{"$nulls":9},100,"ОПШТЕ ЈАВНЕ УСЛУГЕ",null,null,"100 - ОПШТЕ ЈАВНЕ УСЛУГЕ",{"$nulls":4},"10","Примања од домаћих задуживања",null,null,"10 - Примања од домаћих задуживања"]
[{"$nulls":69},100,"ОПШТЕ ЈАВНЕ УСЛУГЕ",{"$nulls":21},"110 - Извршни и законодавни органи, финансијски и фискални послови и спољни послови",{"$nulls":8},{"$f":"CT13&\" - \"&CU13","v":"11 - Примања од иностраних задуживања"},{"$nulls":6},"I","ПОДЕШАВАЊЕ ПОЧЕТНИХ ПАРАМЕТАРА:"]
["Програм 11.  Социјална и дечја заштита","0901","Обезбеђивање свеобухватне социјалне заштите и помоћи најугроженијем становништву града/општине",{"$nulls":66},110,"Извршни и законодавни органи, финансијски и фискални послови и спољни послови",null,"11","Примања од иностраних задуживања","11",null,423,"Услуге по уговору",423,{"$nulls":9},110,"Извршни и законодавни органи, финансијски и фискални послови и спољни послови",null,null,"111 - Извршни и законодавни органи",{"$nulls":4},"11","Примања од иностраних задуживања",null,null,{"$f":"CT14&\" - \"&CU14","v":"12 - Примања од отплате датих кредита и продаје финансијске имовине"},{"$nulls":7},"Прво што је потребно урадити јесте да омогућите макрое у Вашој верзији Ексела. У зависности од верзије по покретању документа добићете обавештење да су макрои онемогућени и питање да ли желите да омогућите макрое. Кликом на опцију \"Еnable this content\" или \"Enable macros\" омогућавају се програмске процедуре које су неопходне за рад документа. "]
["Програм 12.  Примарна здравствена заштита","1801","Доступност примарне здравствене заштите у складу са националним \nстандардима и обезбеђивање и спровођење активности у областима деловања јавног здравља\n\n",{"$nulls":66},111,"Извршни и законодавни органи",null,"12","Примања од отплате датих кредита и продаје финансијске имовине","12",null,424,"Специјализоване услуге",424,{"$nulls":9},111,"Извршни и законодавни органи",null,null,"112 - Финансијски и фискални послови",{"$nulls":4},"12","Примања од отплате датих кредита и продаје финансијске имовине",null,null,{"$f":"CT15&\" - \"&CU15","v":"13 - Нераспоређени вишак прихода из ранијих година"},{"$nulls":7},"Након омогућавања макроа у радном листу \"Програм\", у ћелији \"D4\" изаберете назив Програма. Овим поступком сте подесили параметре за рад у радним листовима \"Програмска активност\" и \"Пројекат\"."]
["Програм 13.  Развој културе","1201","Очување, унапређење и представљање локалног културног наслеђа, добара и баштине",{"$nulls":66},112,"Финансијски и фискални послови",null,"13","Нераспоређени вишак прихода из ранијих година","13",null,425,"Текуће поправке и одржавање",425,{"$nulls":9},112,"Финансијски и фискални послови",null,null,"113 - Спољни послови",{"$nulls":4},"13","Нераспоређени вишак прихода из ранијих година",null,null,{"$f":"CT16&\" - \"&CU16","v":"14 - Неутрошена средства од приватизације из ранијих година"}]
["Програм 14.  Развој спорта и омладине","1301","Обезбеђивање приступа спорту и подршка пројектима у вези са развојем омладине и спорта ",{"$nulls":66},113,"Спољни послови",null,"14","Неутрошена средства од приватизације из претходних година","14",null,426,"Материјал",426,{"$nulls":9},113,"Спољни послови",null,null,"120 - Економска помоћ иностранству",{"$nulls":4},"14","Неутрошена средства од приватизације из ранијих година",null,null,{"$f":"CT18&\" - \"&CU18","v":"15 - Неутрошена средства донација из ранијих година"}]
[{"$nulls":69},120,"Економска помоћ иностранству",{"$nulls":21},"121 - Економска помоћ земљама у развоју и земљама у транзицији",{"$nulls":8},{"$f":"CT19&\" - \"&CU19","v":"16 - Родитељски динар за ваннаставне активности"},{"$nulls":6},"II ","КОПИРАЊЕ ПОТРЕБНОГ БРОЈA SHEET-ОВА ЗА ПРОГРАМСКЕ АКТИВНОСТИ И ПРОЈЕКТЕ"]
["Програм 15.  Опште услуге локалне самоуправе","0602","Обезбеђивање услова за остварење права грађана на лакши и бржи начин у граду/општини",{"$nulls":66},121,"Економска помоћ земљама у развоју и земљама у транзицији",null,"15","Неутрошена средства донација из претходних година","15",null,431,"Амортизација некретнина и опреме",431,{"$nulls":9},120,"Економска помоћ иностранству",null,null,"122 - Економска помоћ преко међународних организација",{"$nulls":4},"15","Неутрошена средства донација из ранијих година",null,null,{"$f":"CT20&\" - \"&CU20","v":"56 - Финансијска помоћ ЕУ"},{"$nulls":7},"Сваки програм се састоји из различитог броја програмских активности и пројеката те је неопходно да за онај број програмских активности и пројеката који Вам је потребан ископирате радне листове \"Програмска активност\" и \"Пројекат\". Поступак копирања је следећи:"]
["Програм 16.  Политички систем локалне самоуправе","2101","Обављање основних функција изборних органа локалне самоуправе",{"$nulls":66},122,"Економска помоћ преко међународних организација",null,"16","Родитељски динар за ваннаставне активности","16",null,432,"Амортизација култивисане имовине",432,{"$nulls":9},121,"Економска помоћ земљама у развоју и земљама у транзицији",null,null,"130 - Опште услуге",{"$nulls":4},"16","Родитељски динар за ваннаставне активности",{"$nulls":10},"1) За нову програмску активност : Кликните десним кликом на радни лист - \"Програмска активност\" и изаберите опцију \"Move or copy\". Након тога приказаће Вам се прозор у коме треба у одељку \"Before sheet\" одабрати позицију новог радног листа (\"Sheet\"-a) односно Програмске активности. Kликом на један од понуђених радних листова бирате позицију нове програмске активности, и то тако што се нова програмска активност позиционира испред изабраног постојећег радног листа. Након избора позиције обавезно штиклирате опцију \"Create a copy\" а затим кликните на ОК.  "]
["Програм 17.  Енергетска ефикасност","0501","Одрживи енергетски развој локалне самоуправе кроз постицање унапређења енергетске ефикасности, побољшање енергетске инфраструктуре и ширу употребу обновљивих извора енергије",{"$nulls":66},130,"Опште услуге",{"$nulls":5},433,"Употреба драгоцености",433,{"$nulls":9},122,"Економска помоћ преко међународних организација",null,null,"131 - Опште кадровске услуге",{"$nulls":4},56,"Финансијска помоћ ЕУ",{"$nulls":10},"Препоручљиво је да приликом избора позиције за нову програмску активност  у одељку \"Before sheet\" изаберете радни лист - \"Пројекат\" како би се испоштовао редослед у позиционирању (најпре програм, затим све програмске активности у оквиру  програма и на крају сви пројекти у оквиру изабраног програма)."]
[{"$nulls":69},131,"Опште кадровске услуге",{"$nulls":5},434,"Употреба природне имовине",434,{"$nulls":9},130,"Опште услуге",null,null,"132 - Опште услуге планирања и статистике",{"$nulls":16},"2) За нови пројекат:  Кликните десним кликом на радни лист \"Пројекат\" и изаберите опцију \"Move or copy\". Након тога приказаће Вам се прозор у коме треба у одељку \"Before sheet\" одабрати позицију новог радног листа (\"Sheet\"-a) односно Пројекта. Kликом на један од понуђених радних листова бирате позицију новог пројекта, и то тако што се нови пројекат позиционира испред изабраног постојећег радног листа. Препоручљиво је да у одељку \"Before sheet\" за нови пројекат изаберете радни лист - \"Упутство\". Након избора позиције штиклирате опцију \"Create a copy\" затим кликнете на ОК."]
[{"$nulls":69},132,"Опште услуге планирања и статистике",{"$nulls":5},435,"Амортизација нематеријалне имовине",435,{"$nulls":9},131,"Опште кадровске услуге",null,null,"133 - Остале опште услуге"]
[{"$nulls":69},133,"Остале опште услуге",{"$nulls":5},441,"Отплата домаћих камата",441,{"$nulls":9},132,"Опште услуге планирања и статистике",null,null,"150 - Опште јавне услуге -  истраживање и развој",{"$nulls":15},"III","ЗНАЧЕЊЕ ПОЈЕДИНИХ НАСЛОВА КОД ПРОГРАМА, ПРОГРАМСКИХ АКТИВНОСТИ И ПРОЈЕКАТА И ИНФОРМАЦИЈЕ КОЈЕ СЕ УНОСЕ"]
[{"$nulls":69},150,"Опште јавне услуге -  истраживање и развој",{"$nulls":5},442,"Отплата страних камата",442,{"$nulls":9},133,"Остале опште услуге",null,null,"160 - Опште јавне услуге некласификоване на другом месту",{"$nulls":16},"1)  У табелама у којима се исказују индикатори: "]
[{"$nulls":69},160,"Опште јавне услуге некласификоване на другом месту",{"$nulls":5},443,"Отплата камата по гаранцијама",443,{"$nulls":9},140,"Основно истраживање",null,null,"170 - Трансакције јавног  дуга"]
[{"$nulls":69},170,"Трансакције јавног  дуга",{"$nulls":5},4511,"Текуће субвенције јавним нефинансијским предузећима и организацијама",451,{"$nulls":9},160,"Опште јавне услуге некласификоване на другом месту",null,null,"180 - Трансфери општег карактера између различитих нивоа власти",{"$nulls":16}," - наслов колоне \"Вредност у базној години (крај 2015. године)\" односи се на иницијалну референтну вредност индикатора у односу на коју настојимо да пратимо промене током времена (кроз наредне буџетске циклусе када ће бити расположиве вредности са краја 2016/2017/итд.). Као иницијалну референтну вредност у ову колону треба унети вредност према расположивим подацима за крај 2015. године тј. из завршног рачуна. Уколико нису познати подаци о вредности индикатора за крај 2015. године, унети вредност индикатора из периода који претходи крају 2015. године и за који су подаци доступни (нпр. средина 2015. године, крај 2014. године и сл.)"]
[{"$nulls":69},180,"Трансфери општег карактера између различитих нивоа власти",{"$nulls":5},4512,"Капиталне субвенције јавним нефинансијским предузећима и организацијама",{"$nulls":10},170,"Трансакције јавног  дуга",null,null,"200 - ОДБРАНА",{"$nulls":16}," - наслов колоне \"Очекивана вредност у 2016. години\" односи се на вредност индикатора пројектовану за крај 2016. године. Будући да у периоду припреме буџета за 2017. годину нису познате вредности индикатора које ће бити коначно остварене до краја текуће 2016. године, у ову колону уносе се планиране/очекиване вредности индикатора. Уколико се у циклусу припреме буџета за 2017. годину користи исти индикатор који је коришћен и у циклусу за 2016. годину, у ову колону уноси се вредност индикатора која је исказана као пројекција за 2016. годину уколико је она и даље реална, а уколико није реална потребно је унети вредност индикатора за коју се објективно процењује да ће бити остварена до краја 2016. године. "]
[{"$nulls":69},200,"ОДБРАНА",{"$nulls":5},452,"Субвенције приватним финансијским институцијама",452,{"$nulls":9},180,"Трансфери општег карактера између различитих нивоа власти",null,null,"210 - Војна одбрана",{"$nulls":16}," - у колонама које се односе на циљане вредности за 2017., 2018. и 2019. годину, корисник уноси очекиване вредности индикатора према пројекцијама за крај сваке односне године.      "]
[{"$nulls":69},210,"Војна одбрана",{"$nulls":5},453,"Субвенције јавним финансијским институцијама",453,{"$nulls":9},200,"ОДБРАНА",null,null,"220 - Цивилна одбрана",{"$nulls":16},"             "]
[{"$nulls":69},220,"Цивилна одбрана",{"$nulls":5},454,"Субвенције приватним предузећима",454,{"$nulls":9},210,"Војна одбрана",null,null,"240 - Одбрана - истраживање и развој"]
[{"$nulls":69},240,"Одбрана - истраживање и развој",{"$nulls":5},461,"Донације страним владама",461,{"$nulls":9},220,"Цивилна одбрана",null,null,"250 - Одбрана некласификована на другом месту"]
[{"$nulls":69},250,"Одбрана некласификована на другом месту",{"$nulls":5},462,"Донације и дотације међународним организацијама",462,{"$nulls":9},230,"Војна помоћ иностранству",null,null,"300 - ЈАВНИ РЕД И БЕЗБЕДНОСТ"]
[{"$nulls":69},300,"ЈАВНИ РЕД И БЕЗБЕДНОСТ",{"$nulls":21},"310 - Услуге полиције",{"$nulls":16},"2)  У табелама у којима се исказују расходи и издаци:"]
[{"$nulls":69},310,"Услуге полиције",{"$nulls":5},4632,"Капитални трансфери осталим нивоима власти",4632,{"$nulls":9},250,"Одбрана некласификована на другом месту",null,null,"320 - Услуге противпожарне заштите",{"$nulls":16},"-  наслов колоне \"Вредност у базној години (2015.)\" се односи на вредности из завршног рачуна за 2015. годину."]
[{"$nulls":69},320,"Услуге противпожарне заштите",{"$nulls":5},464,"Дотације организацијама обавезног социјалног осигурања",464,{"$nulls":9},300,"ЈАВНИ РЕД И БЕЗБЕДНОСТ",null,null,"330 - Судови",{"$nulls":16},"  наслов колоне \"Расходи и издаци у 2016. години\" односи се на расходе и издатке предвиђене Одлуком о буџету за 2016. годину, односно сходно вредностима према последњем ребалансу буџета за 2016. годину (уколико је било ребаланса буџета). У наредним буџетским циклусима, ова колона биће измењена тако да се у њој исказују расходи и издаци остварени у складу са годишњим финансијским извештајем о извршењу буџета."]
[{"$nulls":69},330,"Судови",{"$nulls":5},465,"Остале донације, дотације и трансфери",465,{"$nulls":9},310,"Услуге полиције",null,null,"350 - Јавни ред и безбедност - истраживање и развој",{"$nulls":16}," -  у колоне које се односе на расходе и издатке за 2017., 2018. и 2019. годину, корисник уноси износе расхода очекиване према пројекцијама за крај сваке односне године."]
["Врста Активности","Програми",{"$nulls":67},350,"Јавни ред и безбедност - истраживање и развој",{"$nulls":5},472,"Накнаде за социјалну заштиту из буџета",472,{"$nulls":9},320,"Услуге противпожарне заштите",null,null,"360 - Јавни ред и безбедност  некласификован на другом месту"]
["Активност","Програм 1.  Урбанизам и просторно планирање","п1","1101-0001  Просторно и урбанистичко планирање","1101-0002  Спровођење урбанистичких и просторних планова","1101-0003  Управљање грађевинским земљиштем","1101-0004  Социјално становање",{"$nulls":62},360,"Јавни ред и безбедност  некласификован на другом месту",{"$nulls":5},481,"Дотације невладиним организацијама",481,{"$nulls":9},330,"Судови",null,null,"400 - ЕКОНОМСКИ ПОСЛОВИ",{"$nulls":15},"IV","ПОПУЊАВАЊЕ ПРОГАМА, ПРОГРАМСКИХ АКТИВНОСТИ И ПРОЈЕКАТА"]
["Пројекат","Програм 2.  Комуналне делатности","п2","0601-0001  Управљање/одржавање јавним осветљењем","0601-0002  Одржавање јавних зелених површина  ","0601-0003  Одржавање чистоће на површинама јавне намене","0601-0004  Зоохигијена","0601-0005  Уређивање, одржавање и коришћење пијаца","0601-0006  Одржавање гробаља и погребне услуге","0601-0007  Прозводња и дистрибуције топлотне енергије","0601-0008  Управљање и снабдевање водом за пиће","0601-0009  Остале комуналне услуге",{"$nulls":57},400,"ЕКОНОМСКИ ПОСЛОВИ",{"$nulls":5},482,"Порези, обавезне таксе, казне и пенали",482,{"$nulls":9},350,"Јавни ред и безбедност - истраживање и развој",null,null,"410 - Општи економски и комерцијални послови и послови по питању рада",{"$nulls":16},"1) За Програм:  Након завршеног избора програма , шифра програма, сектор коме припада програм и сврха програма се учитавају аутоматски, тако да почетак попуњавања креће од Основа програма. Унета је заштита за ћелије у којима се налазе функције, како их корисник не би случајно променио или обрисао. У радном листу \"Програм\" су на располагању кориснику још три циља са индикаторима који се приказују опцијом \"+\" на ободу леве стране документа."]
[null,"Програм 3.  Локални економски развој","п3","1501-0001  Унапређење привредног и инвестиционог амбијента","1501-0002  Мере активне политике запошљавања","1501-0003  Подстицаји за развој предузетништва",{"$nulls":63},410,"Општи економски и комерцијални послови и послови по питању рада",{"$nulls":5},483,"Новчане казне и пенали по решењу судова",483,{"$nulls":9},360,"Јавни ред и безбедност  некласификован на другом месту",null,null,"411 - Општи економски и комерцијални послови",{"$nulls":16},"Након попуњених циљева и индикатора корисник не мора да попуњава остатак обрасца јер матрица аутоматски повлачи податке из других радних листова . Уколико је потребно више редова опцијом +\", добијате још 30-ак поља за пројекте. "]
[null,"Програм 4.  Развој туризма","п4","1502-0001  Управљање развојем туризма","1502-0002  Промоција туристичке понуде",{"$nulls":64},411,"Општи економски и комерцијални послови",{"$nulls":5},484,"Накнада штете за повреде или штету насталу услед елементарних непогода или других природних узрока",484,{"$nulls":9},400,"ЕКОНОМСКИ ПОСЛОВИ",null,null,"412 - Општи послови по питању рада"]
[null,"Програм 5.  Развој пољопривреде","п5","0101-0001  Подршка за спровођење пољопривредне политике у локалној заједници","0101-0002  Мере подршке руралном развоју",{"$nulls":64},412,"Општи послови по питању рада",{"$nulls":5},485,"Накнада штете за повреде или штету нанету од стране државних органа",485,{"$nulls":9},410,"Општи економски и комерцијални послови и послови по питању рада",null,null,"420 - Пољопривреда, шумарство, лов и риболов",{"$nulls":16},"2) За програмску активност:  Пошто се назив програма аутоматски учитава корисник бира програмску активност из листе програмских активности које потпадају под изабрани програм. Свака појединачна програмска активност се попуњавана у посебном радном листу. У зависности од изабране програмске активности, у делу обрасца који се односи на дефинисање циљева и индикатора, из падајућих листа можете одабрати понуђене циљеве и индикаторе који су дефинисани од стране СКГО-а, али је остављена могућност за сопствено дефинисање. "]
[null,"Програм 6.  Заштита животне средине","п6","0401-0001  Управљање заштитом животне средине","0401-0002  Праћење квалитета елемената животне средине","0401-0003  Заштита природе","0401-0004  Управљање отпадним водама","0401-0005  Управљање комуналним отпадом   ","0401-0006  Управљање осталим врстама отпада",{"$nulls":60},420,"Пољопривреда, шумарство, лов и риболов",{"$nulls":5},489,"Расходи који се финансирају из средстава за реализацију националног инвестиционог плана",489,{"$nulls":9},411,"Општи економски и комерцијални послови",null,null,"421 - Пољопривреда",{"$nulls":16},"Након попуњеног описног дела и дела везаног за циљеве и индикаторе, део обрасца који се односи на издатке и изворе финансирања попуњавати тако што се прво у колони \"Конто\" уносе шифре конта на шестоцифреном нивоу, тиме се аутоматски учитава назив конта из Правилника о стандардном класификационом оквиру и контном плану за буџетски систем((\"Службени гласник РС\", бр. 103/2011, 10/2012, 18/2012, 95/2012, 99/2012, 22/2013, 48/2013, 61/2013, 63/2013 - испр., 106/2013, 120/2013, 20/2014, 64/2014, 81/2014, 117/2014, 128/2014, 131/2014, 32/2015, 59/2015 и 63/2015)."]
[null,"Програм 7.  Организација саобраћаја и саобраћајна инфраструктура","п7","0701-0001  Управљање саобраћајем","0701-0002  Одржавање саобраћајне инфраструктуре","0701-0003  Управљање јавним паркиралиштима","0701-0004  Јавни градски и приградски превоз путника",{"$nulls":62},421,"Пољопривреда",{"$nulls":5},494,"Административни трансфери из буџета - Текући расходи",494,{"$nulls":9},412,"Општи послови по питању рада",null,null,"422 - Шумарство",{"$nulls":16},"У складу са потребама тј комплексношћу финансијског плана буџетског корисниника на уносиоцу података је да одреди на ком нивоу аналитике ће попуњавати финасијски део. Уколико се модификује формула збира потребно је пажљиво проверити жељени обухват формуле."]
[null,"Програм 8.  Предшколско васпитање","п8","2001-0001  Функционисање предшколских установа ",{"$nulls":65},422,"Шумарство",{"$nulls":5},495,"Административни трансфери из буџета - Издаци за нефинансијску имовину",495,{"$nulls":9},420,"Пољопривреда, шумарство, лов и риболов",null,null,"423 - Лов и риболов",{"$nulls":16},"Брисање колона није дозвољено. За извор финансирања у падајућем менију изаберите из којих извора се финансира програмска активност. Ради лакшег рада можете мењати називе радних листова."]
[null,"Програм 9.  Основно образовање","п9","2002-0001  Функционисање основних школа",{"$nulls":65},423,"Лов и риболов",{"$nulls":5},496,"Административни трансфери из буџета - Издаци за отплату главнице и набавку финансијске имовине",496,{"$nulls":9},421,"Пољопривреда",null,null,"430 - Гориво и енергија",{"$nulls":16},"3) За пројекте: у ћелији \"Е5\" упишите шифру пројекта у формату П1,П2,П3...итд у зависности од редоследа пројеката у оквиру програма. Поступак попуњавања дела који се односи на трошкове и изворе финансирања је идентичан као и код програмске активности."]
[null,"Програм 10.  Средње образовање","п10","2003-0001  Функционисање средњих школа",{"$nulls":65},430,"Гориво и енергија",{"$nulls":5},499,"Административни трансфери из буџета - Средства резерве",499,{"$nulls":9},422,"Шумарство",null,null,"431 - Угаљ и остала чврста минерална горива"]
[null,"Програм 11.  Социјална и дечја заштита","п11","0901-0001  Социјалне помоћи","0901-0002  Прихватилишта и друге врсте смештаја","0901-0003  Подршка социо-хуманитарним организацијама","0901-0004  Саветодавно-терапијске и социјално-едукативне услуге","0901-0005  Активности Црвеног крста","0901-0006  Подршка деци и породицама са децом","0901-0007  Подршка старијим лицима и/или особома са инвалидитетом",{"$nulls":59},431,"Угаљ и остала чврста минерална горива",{"$nulls":5},511,"Зграде и грађевински објекти",511,{"$nulls":9},423,"Лов и риболов",null,null,"432 - Нафта и природни гас"]
[null,"Програм 12.  Примарна здравствена заштита","п12","1801-0001  Функционисање установа примарне здравствене заштите","1801-0002  Мртвозорство","1801-0003  Спровођење активности  из области друштвене бриге за јавно здравље",{"$nulls":63},432,"Нафта и природни гас",{"$nulls":5},512,"Машине и опрема",512,{"$nulls":9},430,"Гориво и енергија",null,null,"433 - Нуклеарно гориво",{"$nulls":15},"V","ПОПУЊАВАЊЕ ЗАХТЕВА ЗА ДОДАТНА СРЕДСТВА"]
[null,"Програм 13.  Развој културе","п13","1201-0001  Функционисање локалних установа културе ","1201-0002  Јачање културне продукције и уметничког стваралаштва","1201-0003  Унапређење система очувања и представљања културно-историјског наслеђа","1201-0004  Остваривање и унапређивање јавног интереса у области јавног информисања  ","1201-0005  Унапређење јавног информисања на језицима националних мањина","1201-0006  Унапређење јавног информисања особа са инвалидитетом",{"$nulls":60},433,"Нуклеарно гориво",{"$nulls":5},513,"Остале некретнине и опрема",513,{"$nulls":9},431,"Угаљ и остала чврста минерална горива",null,null,"434 - Остала горива",{"$nulls":16},"Уколико одобреним лимитом буџетском кориснику недостају средства за одређене програмске активности односно пројекте, за  програмску активност/пројекат за који се траже додатна средства ископирати потребан радни лист (у зависности од тога да ли се ради о програмској активности или пројекту) као што је објашњено у Одељку II  - Копирање потребног броја Sheet-ова за програмске активности и пројекте, а затим у ископираном радном листу у наслову обрасца (ред 2.) из падајуће листе изабрати други наслов односно програмска активност/пројекат - Захтев за додатна средства. На овај начин у радном листу \"Програм\" у списку програмских активности и пројеката биће посебно приказани захтеви за додатним средствима за програмске активности и пројекте за износе преко одобреног лимита."]
[null,"Програм 14.  Развој спорта и омладине","п14","1301-0001  Подршка локалним спортским организацијама, удружењима и савезима","1301-0002  Подршка предшколском и школском спорту","1301-0003  Одржавање спортске инфраструктуре","1301-0004  Функционисање локалних спортских установа","1301-0005  Спровођење омладинске политике  ",{"$nulls":61},434,"Остала горива",{"$nulls":5},514,"Култивисана имовина",514,{"$nulls":9},432,"Нафта и природни гас",null,null,"435 - Електрична енергија"]
[null,"Програм 15.  Опште услуге локалне самоуправе","п15","0602-0001  Функционисање локалне самоуправе и градских општина","0602-0002  Функционисање месних заједница","0602-0003  Сервисирање јавног дуга","0602-0004  Општинско/градско правобранилаштво","0602-0005  Заштитник грађана","0602-0006  Инспекцијски послови","0602-0007  Функционисање националних савета националних мањина","0602-0008  Правна помоћ","0602-0009  Текућа буџетска резерва","0602-0010  Стална буџетска резерва","0602-0011  Робне резерве","0602-0012  Комунална полиција","0602-0013  Администрирање изворних прихода локалне самоуправе","0602-0014  Ванредне ситуације",{"$nulls":52},435,"Електрична енергија",{"$nulls":5},515,"Нематеријална имовина",515,{"$nulls":9},433,"Нуклеарно гориво",null,null,"436 - Остала енергија",{"$nulls":15},"VI ","ЗАШТИТА ФОРМУЛА И ВАЛИДАЦИЈА ПОДАТАКА"]
[null,"Програм 16.  Политички систем локалне самоуправе","п16","2101-0001  Функционисање скупштине","2101-0002  Функционисање извршних органа","2101-0003  Подршка раду извршних органа власти и скупштине",{"$nulls":63},436,"Остала енергија",{"$nulls":5},521,"Робне резерве",521,{"$nulls":9},434,"Остала горива",null,null,"440 - Рударство, производња и изградња",{"$nulls":16},"Одређени број ћелија у документу је заштићен од измена како би се заштитиле кључне формуле и процедуре документа. Sheet- ове је могуће откључати опцијом \"Unprotect Sheet\" чиме се могу вршити неограничене измене.  \"Sheet\" \"Упутство\" се не сме брисати."]
[null,"Програм 17.  Енергетска ефикасност","п17","0501-0001  Унапређење и побољшање енергетске ефикасности и употреба обновљивих извора енергије",{"$nulls":65},440,"Рударство, производња и изградња",{"$nulls":5},522,"Залихе производње",522,{"$nulls":9},435,"Електрична енергија",null,null,"441 - Ископавање минералних ресурса, изузев минералних горива"]
[{"$nulls":69},441,"Ископавање минералних ресурса, изузев минералних горива",{"$nulls":5},523,"Залихе робе за даљу продају",523,{"$nulls":9},436,"Остала енергија",null,null,"442 - Производња"]
["Сектори",{"$nulls":68},442,"Производња",{"$nulls":5},531,"Драгоцености",531,{"$nulls":9},440,"Рударство, производња и изградња",null,null,"443 - Изградња"]
["Сектор_1__Пољопривреда_и_рурални_развој","Програм_5__Развој_пољопривреде",{"$nulls":67},443,"Изградња",{"$nulls":5},541,"Земљиште",541,{"$nulls":9},441,"Ископавање минералних ресурса, изузев минералних горива",null,null,"450 - Саобраћај"]
["Сектор_4__Заштита_животне_средине","Програм_6__Заштита_животне_средине",{"$nulls":67},450,"Саобраћај",{"$nulls":5},542,"Рудна богатства",542,{"$nulls":9},442,"Производња",null,null,"451 - Друмски саобраћај"]
["Сектор_6__Опште_услуге_јавне_управе","Програм_2__Комунална_делатност","Програм_15__Локална_самоуправа",{"$nulls":66},451,"Друмски саобраћај",{"$nulls":5},543,"Шуме и воде",543,{"$nulls":9},443,"Изградња",null,null,"452 - Водени саобраћај"]
["Сектор_7__Саобраћај_и_саобраћајна_инфраструктура","Програм_7__Путна_инфраструктура",{"$nulls":67},452,"Водени саобраћај",{"$nulls":5},551,"Нефинансијска имовина која се финансира из средстава за реализацију националног инвестиционог плана",551,{"$nulls":9},450,"Саобраћај",null,null,"453 - Железнички саобраћај"]
["Сектор_9__Социјална_заштита","Програм_11__Социјална_и_дечја_заштита",{"$nulls":67},453,"Железнички саобраћај",{"$nulls":5},611,"Отплата главнице домаћим кредиторима",611,{"$nulls":9},451,"Друмски саобраћај",null,null,"454 - Ваздушни саобраћај"]
["Сектор_11__Урбанизам_и_просторно_планирање","Програм_1__Локални_развој_и_просторно_планирање",{"$nulls":67},454,"Ваздушни саобраћај",{"$nulls":5},620,"Набавка финансијске имовине",620,{"$nulls":9},452,"Водени саобраћај",null,null,"455 - Цевоводи и други облици саобраћаја"]
["Сектор_12__Култура_комуникације_и_медији","Програм_13__Развој_културе",{"$nulls":67},455,"Цевоводи и други облици саобраћаја",{"$nulls":17},453,"Железнички саобраћај",null,null,"460 - Комуникације"]
["Сектор_13__Спорт_и_омладина","Програм_14__Развој_спорта_и_омладине",{"$nulls":67},460,"Комуникације",{"$nulls":17},454,"Ваздушни саобраћај",null,null,"470 - Остале делатности"]
["Сектор_15__Економска_и_развојна_политика","Програм_3__Локални_економски_развој","Програм_4__Развој_туризма",{"$nulls":66},470,"Остале делатности",{"$nulls":17},455,"Цевоводи и други облици саобраћаја",null,null,"471 - Трговина, смештај и складиштење"]
["Сектор_18__Здравство","Програм_12__Примарна_здравствена_заштита",{"$nulls":67},471,"Трговина, смештај и складиштење",{"$nulls":17},460,"Комуникације",null,null,{"$f":"BR67&\" - \"&BS67","v":"472 - Хотели и ресторани"}]
["Сектор_20__Образовање","Програм_8__Предшколско_васпитање","Програм_9__Основно_образовање","Програм_10_Средње_образовање",{"$nulls":65},472,"Хотели и ресторани",{"$nulls":17},470,"Остале делатности",null,null,"473 - Туризам"]
[{"$nulls":69},473,"Туризам",{"$nulls":17},471,"Трговина, смештај и складиштење",null,null,"474 - Вишенаменски развојни пројекти"]
[{"$nulls":69},474,"Вишенаменски развојни пројекти",{"$nulls":17},472,"Хотели и ресторани",null,null,"480 - Економски послови -  истраживање и развој"]
[{"$nulls":69},480,"Економски послови -  истраживање и развој",{"$nulls":17},473,"Туризам",null,null,"481 - Истраживање и развој - Општи економски и комерцијални послови и послови по питању рада"]
[{"$nulls":69},481,"Истраживање и развој - Општи економски и комерцијални послови и послови по питању рада",{"$nulls":17},474,"Вишенаменски развојни пројекти",null,null,"482 - Истраживање и развој - Пољопривреда, шумарство, лов и риболов"]
[{"$nulls":69},482,"Истраживање и развој - Пољопривреда, шумарство, лов и риболов",{"$nulls":17},480,"Економски послови -  истраживање и развој",null,null,"483 - Истраживање и развој - Гориво и енергија"]
[{"$nulls":69},483,"Истраживање и развој - Гориво и енергија",{"$nulls":17},481,"Истраживање и развој - Општи економски и комерцијални послови и послови по питању рада",null,null,"484 - Истраживање и развој - Рударство, производња и изградња"]
[{"$nulls":69},484,"Истраживање и развој - Рударство, производња и изградња",{"$nulls":17},482,"Истраживање и развој - Пољопривреда, шумарство, лов и риболов",null,null,"485 - Истраживање и развој - Саобраћај"]
[{"$nulls":69},485,"Истраживање и развој - Саобраћај",{"$nulls":17},483,"Истраживање и развој - Гориво и енергија",null,null,"486 - Истраживање и развој - Комуникације"]
["1101","ПГ_1",null,"Просторни развој у складу са плановима",{"$nulls":65},486,"Истраживање и развој - Комуникације",{"$nulls":17},484,"Истраживање и развој - Рударство, производња и изградња",null,null,"487 - Истраживање и развој - Остале делатности"]
["1102","ПГ_2",null,"Повећање покривеност насеља и територије рационалним јавним осветљењем","Повећање покривеност територије комуналним делатностима одржавања јавних зелених површина, одржавања чистоће на површинама јавне намене и зоохигијене","Адекватан квалитет пружених услуга  уз рационално спровођење даљинског грејања","Повећање покривености корисника и територије квалитетним услугама водоснабдевања","Рационално снабдевање водом за пиће",{"$nulls":61},487,"Истраживање и развој - Остале делатности",{"$nulls":17},485,"Истраживање и развој - Саобраћај",null,null,"490 - Економски послови некласификовани на другом месту"]
["1501","ПГ_3",null,"Повећање  запослености на територији града/општине","Отварање нових предузећа и предузетничких радњи на  \nтериторији града/општине\n\nтериторији града/општине",{"$nulls":64},490,"Економски послови некласификовани на другом месту",{"$nulls":17},486,"Истраживање и развој - Комуникације",null,null,"500 - ЗАШТИТА ЖИВОТНЕ СРЕДИНЕ"]
["1502","ПГ_4",null,"Повећање прихода од туризма","Повећање смештајних капацитета туристичке понуде",{"$nulls":64},500,"ЗАШТИТА ЖИВОТНЕ СРЕДИНЕ",{"$nulls":17},487,"Истраживање и развој - Остале делатности",null,null,"510 - Управљање отпадом"]
["0101","ПГ_5",null,"Раст производње и стабилност дохотка произвођача",{"$nulls":65},510,"Управљање отпадом",{"$nulls":17},490,"Економски послови некласификовани на другом месту",null,null,"520 - Управљање отпадним водама"]
["0401","ПГ_6",null,"Унапређење заштите природе","Унапређење  квалитета елемената животне  средине","Унапређење управљања отпадним водама","Унапређење управљања комуналним и осталим отпадом",{"$nulls":62},520,"Управљање отпадним водама",{"$nulls":17},500,"ЗАШТИТА ЖИВОТНЕ СРЕДИНЕ",null,null,"530 - Смањење загађености"]
["0701","ПГ_7",null,"Развијеност инфраструктуре у контексту доприноса социо економском развоју","Повећање безбедности учесника у саобраћају и смањење броја саобраћајних незгода","Повећање одрживости и доступности транспорта",{"$nulls":63},530,"Смањење загађености",{"$nulls":17},510,"Управљање отпадом",null,null,"540 - Заштита биљног и животињског света  и крајолика"]
["2001","ПГ_8",null,"Повећање  обухвата деце предшколским васпитањем  и  образовањем","Унапређење доступности предшколског васпитања за децу из осетљивих група",{"$nulls":64},540,"Заштита биљног и животињског света  и крајолика",{"$nulls":17},520,"Управљање отпадним водама",null,null,"550 - Заштита животне средине -  истраживање и развој"]
["2002","ПГ_9",null,"Потпуни обухват основним  образовањем и васпитањем","Унапређење доступности основног образовања деци из осетљивих група","Унапређен квалитет основног образовања",{"$nulls":63},550,"Заштита животне средине -  истраживање и развој",{"$nulls":17},530,"Смањење загађености",null,null,"560 - Заштита животне средине некласификована на другом месту"]
["2003","ПГ_10",null,"Повећање обухвата средњошколског образовања","Унапређење доступности средњег образовања",{"$nulls":64},560,"Заштита животне средине некласификована на другом месту",{"$nulls":17},540,"Заштита биљног и животињског света  и крајолика",null,null,"600 - ПОСЛОВИ СТАНОВАЊА И  ЗАЈЕДНИЦЕ"]
["0901","ПГ_11",null,"Повећање доступности права и услуга социјалне заштите","Унапређење квалитета услуга социјалне заштите","Унапређење ефикасности пружених услуга","Повећање доступности права и механизама социјалне заштите за жене у локлној заједнице",{"$nulls":62},600,"ПОСЛОВИ СТАНОВАЊА И  ЗАЈЕДНИЦЕ",{"$nulls":17},550,"Заштита животне средине -  истраживање и развој",null,null,"610 - Стамбени развој"]
["1801","ПГ_12",null,"Унапређење здравља становништва",{"$nulls":65},610,"Стамбени развој",{"$nulls":17},560,"Заштита животне средине некласификована на другом месту",null,null,"620 - Развој заједнице"]
["1201","ПГ_13",null,"Подстицање развоја културе","Остваривање јавног интереса из обласи информисања",{"$nulls":64},620,"Развој заједнице",{"$nulls":17},600,"ПОСЛОВИ СТАНОВАЊА И  ЗАЈЕДНИЦЕ",null,null,"630 - Водоснабдевање"]
["1301","ПГ_14",null,"Обезбеђење услова за бављење спортом свих грађана и грађанки  града/општине","Активно партнерство субјеката омладинске политике у развоју омладинске политике и спровођењу омладинских активности, као и у развоју и спровођењу локалних политика које се тичу младих",{"$nulls":64},630,"Водоснабдевање",{"$nulls":17},610,"Стамбени развој",null,null,"640 - Улична расвета"]
["0602","ПГ_15",null,"Одрживо управно и финансијско функционисање града/општине у складу надлежностима и пословима локалне самоуправе",{"$nulls":65},640,"Улична расвета",{"$nulls":17},620,"Развој заједнице",null,null,"650 - Послови становања и заједнице - истраживање и развој"]
["2101","ПГ_16",null,"Ефикасно и ефективно функционисање органа политичког система локалне самоуправе",{"$nulls":65},650,"Послови становања и заједнице - истраживање и развој",{"$nulls":17},630,"Водоснабдевање",null,null,"660 - Послови становања и заједнице некласификовани на другом месту"]
["0501","ПГ_17",null,"Смањење потрошње енергије","Смањење расхода за енергију","Повећање удела обновљивих извора енергије у укупној потрошњи",{"$nulls":63},660,"Послови становања и заједнице некласификовани на другом месту",{"$nulls":17},640,"Улична расвета",null,null,"700 - ЗДРАВСТВО"]
["Просторни развој у складу са плановима","ПГЦ_1","Проценат покривености територије урбанистичком планском документацијом","Проценат грађевинског земљишта потпуно опремљеног комуналном инфраструктуром ",{"$nulls":65},700,"ЗДРАВСТВО",{"$nulls":17},650,"Послови становања и заједнице - истраживање и развој",null,null,"710 - Медицински производи, помагала и опрема"]
["Повећање покривеност насеља и територије рационалним јавним осветљењем","ПГЦ_2","Дужина улица и  саобраћајница (км) које су покривене јавним осветљењем у односу на укупну дужину улица и саобраћајница","Укупна количина потрошене електричне енергије (годишње)",{"$nulls":65},710,"Медицински производи, помагала и опрема",{"$nulls":17},660,"Послови становања и заједнице некласификовани на другом месту",null,null,"711 - Фармацеутски производи"]
["Повећање покривеност територије комуналним делатностима одржавања јавних зелених површина, одржавања чистоће на површинама јавне намене и зоохигијене","ПГЦ_3","Број м2 јавних зелених површина на којима се уређује и одржава зеленило у односу на укупан број м2 јавних зелених површина","Број м2 површина јавне намене где се одржава чистоћа у односу на укупан број м2 јавне намене","Број м2 територије покирвен услугом зоохигијене у односу на укупан број м2 територије",{"$nulls":64},711,"Фармацеутски производи",{"$nulls":17},700,"ЗДРАВСТВО",null,null,"712 - Остали медицински производи"]
["Адекватан квалитет пружених услуга  уз рационално спровођење даљинског грејања","ПГЦ_4","Просечна цена грејања по утрошеној топлотној енергији","Однос произведене и испоручене топлотне енергије","Проценат корисника код којих се обрачун врши по утрошеној топлотној енергији",{"$nulls":64},712,"Остали медицински производи",{"$nulls":17},710,"Медицински производи, помагала и опрема",null,null,"713 - Терапеутска помагала и опрема"]
["Повећање покривености корисника и територије квалитетним услугама водоснабдевања","ПГЦ_5","Проценат домаћинстава обухваћених услугом у односу на укупан број домаћинстава","Број насељeних места обухваћених услугама у односу на укупан број насеља","Број неисправних узорака воде у односу на укупан број анализираних узорака (физичко-хемијских и микробиолошких)",{"$nulls":64},713,"Терапеутска помагала и опрема",{"$nulls":17},711,"Фармацеутски производи",null,null,"720 - Ванболничке услуге"]
["Рационално снабдевање водом за пиће","ПГЦ_6","Специфична потрошња воде (литар/становник/дан)","Степен физичких губитака у мрежи (%)",{"$nulls":65},720,"Ванболничке услуге",{"$nulls":17},712,"Остали медицински производи",null,null,"721 - Опште медицинске услуге"]
["Повећање  запослености на територији града/општине","ПГЦ_7","Број становника града/општине који су запослени на новим радним местима, а налазили су се на евиденцији НСЗ (разврстаних  по полу и старости)","Број евидентираних незапослених лица на евиденцији НСЗ (разврстаних по полу и старости) ",{"$nulls":65},721,"Опште медицинске услуге",{"$nulls":17},713,"Терапеутска помагала и опрема",null,null,"722 - Специјализоване медицинске услуге"]
["Отварање нових предузећа и предузетничких радњи на  \nтериторији града/општине\n\nтериторији града/општине","ПГЦ_8","Број отворених  / број затворених предузећа","Број отворених/затворених предузетничких радњи","Број предузетника/предузетница по становнику у граду/општини у односу на просек РС","Број предузетничких радњи активних након прве две године од оснивања",{"$nulls":63},722,"Специјализоване медицинске услуге",{"$nulls":17},720,"Ванболничке услуге",null,null,"723 - Стоматолошке услуге"]
["Повећање прихода од туризма","ПГЦ_9","Проценат пораста регистрованих пружалаца услуга ноћења у граду/општини","Проценат повећања укупног броја гостију","Пораст прихода од боравишне таксе",{"$nulls":64},723,"Стоматолошке услуге",{"$nulls":17},721,"Опште медицинске услуге",null,null,"724 - Парамедицинске услуге"]
["Повећање смештајних капацитета туристичке понуде","ПГЦ_10","Проценат пораста регистрованих пружалаца услуга ноћења у граду/општини","Број новорегистрованих кревета    ",{"$nulls":65},724,"Парамедицинске услуге",{"$nulls":17},722,"Специјализоване медицинске услуге",null,null,"730 - Болничке услуге"]
["Раст производње и стабилност дохотка произвођача","ПГЦ_11","Коришћење пољопривредних површина у односу на укупне пољопривредне површине","Број новорегистрованих пољопривредних газдинстава на годишњем нивоу","Број корисника мера усвојене пољопривредне политике / 1000 становника ",{"$nulls":64},730,"Болничке услуге",{"$nulls":17},723,"Стоматолошке услуге",null,null,"731 - Опште болничке услуге"]
["Унапређење заштите природе","ПГЦ_12","Проценат територије под заштитом III категорије","Број подручја која су проглашена заштићеним\nподручјем III категорије",{"$nulls":65},731,"Опште болничке услуге",{"$nulls":17},724,"Парамедицинске услуге",null,null,"732 - Специјализоване болничке услуге"]
["Унапређење  квалитета елемената животне  средине","ПГЦ_13","Број дана у току године с прекорачењем граничних вредности квалитета ваздуха","Вредност укупног индикатора буке","Вредност индикатора ноћне буке",{"$nulls":64},732,"Специјализоване болничке услуге",{"$nulls":17},730,"Болничке услуге",null,null,"733 - Услуге медицинских центара и породилишта"]
["Унапређење управљања отпадним водама","ПГЦ_14","Број становника прикључен на јавну канализацију у односу на укупан број становника","Проценат становништва прикљученог на постројења за пречишћавање отпадних вода из јавне канализације са примарним, секундарним и терцијарним третманом у односу на укупан број становника на територији града/општине","Удео испуштених непречишћених отпадних вода у површинска   водна   тела   (водопријемнике)   у   односу   на   укупну количину   испуштених   отпадних   вода у граду/општини",{"$nulls":64},733,"Услуге медицинских центара и породилишта",{"$nulls":17},731,"Опште болничке услуге",null,null,"734 - Услуге домова  за негу и опоравак"]
["Унапређење управљања комуналним и осталим отпадом","ПГЦ_15","Проценат становништва покривеног услугом прикупљања комуналног отпада","Број „дивљих“ депонија","Проценат рециклираног отпада ",{"$nulls":64},734,"Услуге домова  за негу и опоравак",{"$nulls":17},732,"Специјализоване болничке услуге",null,null,"740 - Услуге јавног здравства"]
["Развијеност инфраструктуре у контексту доприноса социо економском развоју","ПГЦ_16","Дужина изграђених саобраћајница које су у надлежности града/општине (у км)","Повећање просечне густине мреже улица и локалних путева (однос површине града/општине и км изграђене саобраћајне мреже)","Број насеља до којих не постоји приступ асфалтним путем",{"$nulls":64},740,"Услуге јавног здравства",{"$nulls":17},733,"Услуге медицинских центара и породилишта",null,null,"750 - Здравство  истраживање и развој"]
["Повећање безбедности учесника у саобраћају и смањење броја саобраћајних незгода","ПГЦ_17","Број саобраћајних незгода/инцидената","Број смртних исхода","Број повређених људи",{"$nulls":64},750,"Здравство  истраживање и развој",{"$nulls":17},734,"Услуге домова  за негу и опоравак",null,null,"760 - Здравство некласификовано на другом месту"]
["Повећање одрживости и доступности транспорта","ПГЦ_18","Удео улагања у инфраструктуру намењену пешацима у односу на сва улагања у саобраћај","Удео улагања у бициклистичку инфраструктуру у односу на сва улагања у саобраћај","Удео  улагања у јавни транспорт у односу на сва улагања у саобраћај",{"$nulls":64},760,"Здравство некласификовано на другом месту",{"$nulls":17},740,"Услуге јавног здравства",null,null,"800 - РЕКРЕАЦИЈА, СПОРТ, КУЛТУРА И ВЕРЕ"]
["Повећање  обухвата деце предшколским васпитањем  и  образовањем","ПГЦ_19","Проценат деце која су уписана у предшколске установе (Број деце која су уписана у предшколске установе у односу на укупан број деце у граду/општини (јаслена група, предшколска група и ППП)","Проценат уписане деце у односу на број укупно пријављене деце",{"$nulls":65},800,"РЕКРЕАЦИЈА, СПОРТ, КУЛТУРА И ВЕРЕ",{"$nulls":17},750,"Здравство  истраживање и развој",null,null,"810 - Услуге рекреације и спорта"]
["Унапређење доступности предшколског васпитања за децу из осетљивих група","ПГЦ_20","Проценат деце са додатним образовним потребама која су укључена у редовне  програме ПОВ у односу на укупан број деце.","Проценат објеката који су прилагодили простор за децу са инвалидитетом у односу на укупан број објеката ПУ","Проценат Рома који похађају предшколски програм у односу на укупан број ромске деце",{"$nulls":64},810,"Услуге рекреације и спорта",{"$nulls":17},760,"Здравство некласификовано на другом месту",null,null,"820 - Услуге културе"]
["Потпуни обухват основним  образовањем и васпитањем","ПГЦ_21","Обухват деце основним образовањем (разложено према полу)","Стопа прекида основног образовања (разложено према полу)",{"$nulls":65},820,"Услуге културе",{"$nulls":17},800,"РЕКРЕАЦИЈА, СПОРТ, КУЛТУРА И ВЕРЕ",null,null,"830 - Услуге емитовања и штампања"]
["Унапређење доступности основног образовања деци из осетљивих група","ПГЦ_22","Проценат деце која се школују у редовним основним школама на основу индивидуалног образовног плана ( ИОП2 ) у односу на укупан број деце одговарајуће старосне групе","Број објеката који су прилагодили простор за децу са инвалидитетом у односу на укупан број објеката основних школа ",{"$nulls":65},830,"Услуге емитовања и штампања",{"$nulls":17},810,"Услуге рекреације и спорта",null,null,"840 - Верске  и остале услуге заједнице"]
["Унапређен квалитет основног образовања","ПГЦ_23","Просечан број поена на матурском испиту (математика/српски/ општи ","Проценат ученика који је учествовао на републичким такмичењима",{"$nulls":65},840,"Верске  и остале услуге заједнице",{"$nulls":17},820,"Услуге културе",null,null,"850 - Рекреација, спорт, култура и вере  - истраживање и развој"]
["Повећање обухвата средњошколског образовања","ПГЦ_24","Број деце која су обухваћена средњим образовањем (разложен по и полу)","Стопа прекида средњег образовања (разложено према полу)",{"$nulls":65},850,"Рекреација, спорт, култура и вере  - истраживање и развој",{"$nulls":17},830,"Услуге емитовања и штампања",null,null,"860 - Рекреација, спорт, култура и вере, некласификовано на другом месту"]
["Унапређење доступности средњег образовања","ПГЦ_25","Број објеката који су прилагодили простор за децу  са инвалидитетом у односу на укупан број објеката средњих школа","Проценат деце која се школују у средњим школама на основу индивидуалног образовног плана ( ИОП2 ) у односу на укупан број деце одговарајуће старосне групе",{"$nulls":65},860,"Рекреација, спорт, култура и вере, некласификовано на другом месту",{"$nulls":17},840,"Верске  и остале услуге заједнице",null,null,"900 - ОБРАЗОВАЊЕ"]
["Повећање доступности права и услуга социјалне заштите","ПГЦ_26","Проценат корисника мера и услуга социјалне и дечје заштите који се финансирају из буџета града/општине у односу на број становника","Проценат корисника финансијске подршке и подршке у натури у односу на укупан број корисника социјалне и дечје заштите","Проценат корисника локалних социјалних услуга у односу на укупан број корисника социјалне и дечје заштите",{"$nulls":64},900,"ОБРАЗОВАЊЕ",{"$nulls":17},850,"Рекреација, спорт, култура и вере  - истраживање и развој",null,null,"910 - Предшколско и основно образовање"]
["Унапређење квалитета услуга социјалне заштите","ПГЦ_27","Удео корисника лиценцираних услуга у укупном броју корисника услуга","Проценат лиценцираних пружалаца услуге у односу на укупан број подржаних пружалаца услуге",{"$nulls":65},910,"Предшколско и основно образовање",{"$nulls":17},860,"Рекреација, спорт, култура и вере, некласификовано на другом месту",null,null,"911 - Предшколско образовање"]
["Унапређење ефикасности пружених услуга","ПГЦ_28","Проценат корисника који су учествовали/партиципирали у цени  услуге ",{"$nulls":66},911,"Предшколско образовање",{"$nulls":17},900,"ОБРАЗОВАЊЕ",null,null,"912 - Основно образовање"]
["Повећање доступности права и механизама социјалне заштите за жене у локлној заједнице","ПГЦ_29","Удео жена корисница социјалних помоћи у укупном броју корисника социјалне помоћи","Број услуга намењених женама са искуством насиља у породици или у партнерском односу","Удео средстава намењених женама са искуством насиља у породици или у партнерском односу у односу на укупан износ средстава за социјалне услуге у заједници",{"$nulls":64},912,"Основно образовање",{"$nulls":17},910,"Предшколско и основно образовање",null,null,"913 - Основно образовање са домом ученика"]
["Унапређење здравља становништва","ПГЦ_30","Очекивано трајање живота становника града/општине ","Покривеност становништва примарном здравственом заштитом","Стандардизоване стопе смртности водећих хроничних незаразних болести - Кардио и цереброваскуларне болести (инфаркт и инсулт мождани)","Стандардизоване стопе смртности водећих хроничних незаразних болести - дијабет","Стандардизоване стопе смртности водећих хроничних незаразних болести - малигна обољења","Стандардизоване стопе смртности водећих хроничних незаразних болести - остало (прецизирати по опредељењу ЈЛС)",{"$nulls":61},913,"Основно образовање са домом ученика",{"$nulls":17},911,"Предшколско образовање",null,null,"914 - Основно образовање са средњом школом"]
["Подстицање развоја културе","ПГЦ_31","Број грађана у граду/општини у односу на укупан број установа културе","Укупан број посетилаца на свим културним догађајима  који су одржани","Укупан број чланова удружења грађана из области културе",{"$nulls":64},914,"Основно образовање са средњом школом",{"$nulls":17},912,"Основно образовање",null,null,"915 - Специјално основно образовање"]
["Остваривање јавног интереса из обласи информисања","ПГЦ_32","Број сати произведених и емитованих ТВ и радио садржаја који доприносе остварењу општег интереса",{"$nulls":66},915,"Специјално основно образовање",{"$nulls":17},913,"Основно образовање са домом ученика",null,null,"916 - Основно образовање са средњом школом и домом ученика"]
["Обезбеђење услова за бављење спортом свих грађана и грађанки  града/општине","ПГЦ_33","Број спортских организација преко којих се остварује јавни интерес у области спорта","Број чланова спортских организација и удружења","Број жена чланова спортских организација и удружења","Број спроведених акција, програма и пројеката који подржавају активно и  рекреативно бављење спортом",{"$nulls":63},916,"Основно образовање са средњом школом и домом ученика",{"$nulls":17},914,"Основно образовање са средњом школом",null,null,"920 - Средње образовање"]
["Активно партнерство субјеката омладинске политике у развоју омладинске политике и спровођењу омладинских активности, као и у развоју и спровођењу локалних политика које се тичу младих","ПГЦ_34","% укључених младих у омладинске програме / пројекте у односу на укупан број младих у локалној заједници","Број институција и организација са којима је остварено партнерство путем споразума о сарадњи","Регистрован број волонтера",{"$nulls":64},920,"Средње образовање",{"$nulls":17},915,"Специјално основно образовање",null,null,"921 - Ниже средње образовање"]
["Одрживо управно и финансијско функционисање града/општине у складу надлежностима и пословима локалне самоуправе","ПГЦ_35","Суфицит или дефицит локалног буџета","Однос броја запослених у граду/општини и законом утврђеног максималног броја запослених","Број донетих  аката органа и служби града/општине","Број остварених услуга  градске/општинске управе (укупан број предмета који су у току, број решења, дозвола, потврда и других докумената издатих  физичким и правним лицима)",{"$nulls":63},921,"Ниже средње образовање",{"$nulls":17},916,"Основно образовање са средњом школом и домом ученика",null,null,"922 - Више средње образовање"]
["Ефикасно и ефективно функционисање органа политичког система локалне самоуправе","ПГЦ_36",{"$nulls":67},922,"Више средње образовање",{"$nulls":17},920,"Средње образовање",null,null,"923 - Средње образовање са домом ученика"]
["Смањење потрошње енергије","ПГЦ_37","Укупна потрошња примарне енергије у јавним зградама (ten )","Укупна потрошња примарне енергије у јавним зградама по становнику (ten)","Укупна потрошња примарне енергије у јавним зградама по м2 површине јавних зграда",{"$nulls":64},923,"Средње образовање са домом ученика",{"$nulls":17},921,"Ниже средње образовање",null,null,"930 - Више образовање"]
["Смањење расхода за енергију","ПГЦ_38","Укупни расходи за набавку енергије (РСД)","Укупни расходи за набавку енергије у јавним зградама (РСД)","Процентуално учешће расхода за набавку енергије у укупним расходима",{"$nulls":64},930,"Више образовање",{"$nulls":17},922,"Више средње образовање",null,null,{"$f":"BR131&\" - \"&BS131","v":"931 - Више образовање"}]
["Повећање удела обновљивих извора енергије у укупној потрошњи","ПГЦ_39","Удео обновљивих извора енергије у укупној потрошњи",{"$nulls":66},931,"Више образовање",{"$nulls":17},923,"Средње образовање са домом ученика",null,null,"932 - Више образовање са студентским домом"]
[{"$nulls":69},932,"Више образовање са студентским домом",{"$nulls":17},930,"Више образовање",null,null,"940 - Високо образовање"]
[{"$nulls":69},940,"Високо образовање",{"$nulls":17},931,"Више образовање",null,null,"941 - Високо образовање - први степен"]
["1101-0001  Просторно и урбанистичко планирање","ПА_1",null,"Повећање покривености територије планском и урбанистичком документацијом",{"$nulls":65},941,"Високо образовање - први степен",{"$nulls":17},932,"Више образовање са студентским домом",null,null,"942 - Високо образовање -  други степен"]
["1101-0002  Спровођење урбанистичких и просторних планова","ПА_2",null,"Ефикасно администрирање захтева за издавање грађевинских дозвола (ефикасно издавање грађевинских дозвола)","Ефикасан процес озакоњења",{"$nulls":64},942,"Високо образовање -  други степен",{"$nulls":17},940,"Високо образовање",null,null,"950 - Образовање које није дефинисано нивоом"]
["1101-0003  Управљање грађевинским земљиштем","ПА_3",null,"Стављање у функцију грађевинског земљишта",{"$nulls":65},950,"Образовање које није дефинисано нивоом",{"$nulls":17},941,"Високо образовање - први степен",null,null,"960 - Помоћне услуге образовању"]
["1101-0004  Социјално становање","ПА_4",null,"Унапређење стамбеног положаја грађана",{"$nulls":65},960,"Помоћне услуге образовању",{"$nulls":17},942,"Високо образовање -  други степен",null,null,"970 - Образовање -  истраживање и развој"]
["0601-0001  Управљање/одржавање јавним осветљењем","ПА_5",null,"Адекватанno управљање јавним осветљењем","Ефикасно и рационално спровођење јавног осветљења и минималан негативан утицај на животну средину",{"$nulls":64},970,"Образовање -  истраживање и развој",{"$nulls":17},950,"Образовање које није дефинисано нивоом",null,null,"980 - Образовање некласификовано на другом месту"]
["0601-0002  Одржавање јавних зелених површина  ","ПА_6",null,"Максимална могућа покривеност насеља и територије услугама уређења и одржавања зеленила","Адекватан квалитет пружених услуга уређења и одржавања јавних зелених површина",{"$nulls":64},980,"Образовање некласификовано на другом месту",{"$nulls":17},960,"Помоћне услуге образовању",null,null," - "]
["0601-0003  Одржавање чистоће на површинама јавне намене","ПА_7",null,"Максимална могућа покривеност насеља и територије услугама одржавања чистоће јавних површина",{"$nulls":84},970,"Образовање -  истраживање и развој",null,null," - "]
["0601-0004  Зоохигијена","ПА_8",null,"Унапређење заштите од заразних и других болести које преносе животиње",{"$nulls":84},980,"Образовање некласификовано на другом месту",null,null," - "]
["0601-0005  Уређивање, одржавање и коришћење пијаца","ПА_9",null,"Адекватан квалитет пружених услуга уређивања, одржавања и коришћења пијаца"]
["0601-0006  Одржавање гробаља и погребне услуге","ПА_10",null,"Адекватан квалитет пружених услуга одржавања гробаља и погребних услуга"]
["0601-0007  Прозводња и дистрибуције топлотне енергије","ПА_11",null,"Оптимална покривеност корисника и територије услугама даљинског грејања и развој дистрибутивног система","Адекватан квалитет пружених услуга  уз рационално спровођење даљинског грејања","Ефикасно и рационално спровођење  даљинског грејања и минималан негативан утицај на животну средину"]
["0601-0008  Управљање и снабдевање водом за пиће","ПА_12",null,"Адекватан квалитет пружених услуга водоснабдевања"]
["0601-0009  Остале комуналне услуге","ПА_13"]
["1501-0001  Унапређење привредног и инвестиционог амбијента","ПА_14",null,"Унапређење административних процедура и развој адекватних сервиса и услуга  за пружање подршке постојећој привреди ","Успостављање функционалне  пословне инфраструктуре ","Ревитализација браунфилд локација за покретање привредних активости"]
["1501-0002  Мере активне политике запошљавања","ПА_15",null,"Успостављање механизама за финансијску подршку запошљавању"]
["1501-0003  Подстицаји за развој предузетништва","ПА_16",null,"Подстицаји града/општине за развој предузетништва ","Успостављање механизама за финансијску подршку производним предузећима и предузетницима/предузетницама који послују на територији града/општине за развој нових производа и проширење производње"]
["1502-0001  Управљање развојем туризма","ПА_17",null,"Повећање квалитета туристичке понуде и услуге"]
["1502-0002  Промоција туристичке понуде","ПА_18",null,"Адекватна промоција туристичке понуде града/општине на циљаним тржиштима"]
["0101-0001  Подршка за спровођење пољопривредне политике у локалној заједници","ПА_19",null,"Стварање услова за развој и унапређење пољопривредне производње","Ефикасно управљање пољопривредним земљиштем у државној својини"]
["0101-0002  Мере подршке руралном развоју","ПА_20",null,"Изградња одрживог, ефикасаног и конкурентног пољопривредног сектора"]
["0401-0001  Управљање заштитом животне средине","ПА_21",null,"Испуњење обавеза у складу са законима у домену постојања стратешких и оперативних планова као и мера заштите"]
["0401-0002  Праћење квалитета елемената животне средине","ПА_22",null,"Праћење у складу са прописаним законским обавезама","Контрола квалитета  елемената животне средине"]
["0401-0003  Заштита природе","ПА_23",null,"Унапређење заштите природних вредности"]
["0401-0004  Управљање отпадним водама","ПА_24",null,"Максимална могућа покривеност корисника и територије услугама уклањања отпадних вода","Адекватан квалитет пружених услуга одвођења отпадних вода","Ефикасно и рационално спровођење уклањања отпадних вода и минималан негативан утицај на животну средину"]
["0401-0005  Управљање комуналним отпадом   ","ПА_25",null,"Спровођење редовних мерења на територији града/општине и испуњење обавеза у складу са законима"]
["0401-0006  Управљање осталим врстама отпада","ПА_26",null,"Одрживо управљање осталим врстама отпада"]
["0701-0001  Управљање саобраћајем","ПА_27",null,"Испуњење обавеза у складу са законима у домену постојања стратешких и оперативних планова"]
["0701-0002  Одржавање саобраћајне инфраструктуре","ПА_28",null,"Одржавање квалитета путне мреже кроз реконструкцију и  редовно одржавање асфалтног покривача","Одржавање квалитета улица кроз реконструкцију и редовно одржавање асфалтног покривача","Опремање и одржавање саобраћајне сигнализације на путевима и улицама"]
["0701-0003  Управљање јавним паркиралиштима","ПА_29",null,"Оптимална покривеност корисника и територије услугама паркинг сервиса"]
["0701-0004  Јавни градски и приградски превоз путника","ПА_30",null,"Максимална могућа покривеност корисника и територије услугама јавног превоза","Адекватан квалитет пружених услуга јавног превоза","Ефикасно и рационално спровођење јавног превоза и минималан негативан утицај на животну средину"]
["2001-0001  Функционисање предшколских установа ","ПА_31",null,"Обезбеђени адекватни  услови за Васпитно-образовни рад са децом уз повећан обухват","Унапређење квалитета предшколског образовања и васпитања"]
["2002-0001  Функционисање основних школа","ПА_32",null,"Обезбеђени прописани услови за васпитно-образовни рад са децом у основним школама","Унапређење квалитета образовања и васпитања у основним школама","Повећање доступности и приступачности основног образовања деци"]
["2003-0001  Функционисање средњих школа","ПА_33",null,"Обезбеђени прописани услови за васпитно-образовни рад у средњим школама и безбедно одвијање наставе","Унапређење квалитета образовања у средњим школама"]
["0901-0001  Социјалне помоћи","ПА_34",null,"Унапређење заштите сиромашних"]
["0901-0002  Прихватилишта и друге врсте смештаја","ПА_35",null,"Обезбеђење услуге смештаја"]
["0901-0003  Подршка социо-хуманитарним организацијама","ПА_36",null,"Подстицање развоја разноврсних социјалних  и других услуга у заједници"]
["0901-0004  Саветодавно-терапијске и социјално-едукативне услуге","ПА_37",null,"Подршка развоју мреже услуга  социјалне заштите предвиђене Одлуком о социјалној заштити и Законом о социјалној заштити"]
["0901-0005  Активности Црвеног крста","ПА_38",null,"Социјално деловање - олакшавање људске патње пружањем неопходне ургентне помоћи лицима у невољи, развијањем солидарности међу људима, организовањем различитих облика помоћи"]
["0901-0006  Подршка деци и породицама са децом","ПА_39",null,"Обезбеђивање финансијске подршке за децу и породицу","Унапређење популационе политике","Унапређење услуга социјалне заштите за децу и породицу"]
["0901-0007  Подршка старијим лицима и/или особома са инвалидитетом","ПА_40",null,"Обезбеђивање услуга социјалне заштите за старије и одрасле са инвалидитетом"]
["1801-0001  Функционисање установа примарне здравствене заштите","ПА_41",null,"Унапређење доступности, квалитета и ефикасности ПЗЗ"]
["1801-0002  Мртвозорство","ПА_42"]
["1801-0003  Спровођење активности  из области друштвене бриге за јавно здравље","ПА_43",null,"Стварање услова за очување и унапређење здравља становништва"]
["1201-0001  Функционисање локалних установа културе ","ПА_44",null,"Обезбеђење редовног функционисања установа културе"]
["1201-0002  Јачање културне продукције и уметничког стваралаштва","ПА_45",null,"Повећање учешћа грађана у културној продукцији и уметничком стваралаштву","Унапређење разноврсности  културне понуде"]
["1201-0003  Унапређење система очувања и представљања културно-историјског наслеђа","ПА_46",null,"Унапређење очувања културно-историјског наслеђа"]
["1201-0004  Остваривање и унапређивање јавног интереса у области јавног информисања  ","ПА_47",null,"Повећана понуда квалитетних медијских садржаја из области друштвеног живота локалне заједнице"]
["1201-0005  Унапређење јавног информисања на језицима националних мањина","ПА_48",null,"Унапређење права националних мањина за информаисање на сопственом језику"]
["1201-0006  Унапређење јавног информисања особа са инвалидитетом","ПА_49",null,"Унапређење права особа са инвалидитетом  за информаисање на сопственом језику"]
["1301-0001  Подршка локалним спортским организацијама, удружењима и савезима","ПА_50",null,"Обезбеђивање услова за рад и унапређење  капацитета спортских организација преко којих се остварује јавни интерес у области спорта у граду/општини","Унапређење рекреативног спорта"]
["1301-0002  Подршка предшколском и школском спорту","ПА_51",null,"Унапређење предшколског и школског спорта"]
["1301-0003  Одржавање спортске инфраструктуре","ПА_52",null,"Редовно одржавање постојећих спортских објеката од интереса за град/општину"]
["1301-0004  Функционисање локалних спортских установа","ПА_53",null,"Обезбеђивање услова за рад установа из области спорта"]
["1301-0005  Спровођење омладинске политике  ","ПА_54",null,"Подршка активном укључивању младих у различите друштвене активности"]
["0602-0001  Функционисање локалне самоуправе и градских општина","ПА_55",null,"Функционисање управе"]
["0602-0002  Функционисање месних заједница","ПА_56",null,"Обезбеђено задовољавање потреба и интереса локалног становништва деловањем месних заједница"]
["0602-0003  Сервисирање јавног дуга","ПА_57",null,"Одржавање финансијске стабилности града/општине и финансирање капиталних инвестиционих расхода"]
["0602-0004  Општинско/градско правобранилаштво","ПА_58",null,"Заштита имовинских права и интереса  града/општине"]
["0602-0005  Заштитник грађана","ПА_59",null,"Обезбеђена заштита права грађана пред управом и јавним службама  града/општине  и контрола над повредама прописа и општих аката  града/општине"]
["0602-0006  Инспекцијски послови","ПА_60",null,"Квалитетно обављање инспекцијских послова"]
["0602-0007  Функционисање националних савета националних мањина","ПА_61",null,"Остваривање права националних мањина у локалној заједници"]
["0602-0008  Правна помоћ","ПА_62",null,"Организована правна помоћ грађанима"]
["0602-0009  Текућа буџетска резерва","ПА_63"]
["0602-0010  Стална буџетска резерва","ПА_64"]
["0602-0011  Робне резерве","ПА_65"]
["0602-0012  Комунална полиција","ПА_66",null,"Обезбеђење комуналног реда"]
["0602-0013  Администрирање изворних прихода локалне самоуправе","ПА_67",null,"Ефикасно администрирање изворних прихода локалне самоуправе"]
["0602-0014  Ванредне ситуације","ПА_68",null,"Изградња ефикасног превентивног система заштите и спасавања на избегавању последица елементарних и других непогода"]
["2101-0001  Функционисање скупштине","ПА_69",null,"Функционисање локалне скуштине"]
["2101-0002  Функционисање извршних органа","ПА_70",null,"Функционисање извршних органа"]
["2101-0003  Подршка раду извршних органа власти и скупштине","ПА_71",null,"Функционисање извршних органа власти скуштине"]
["0501-0001  Унапређење и побољшање енергетске ефикасности и употреба обновљивих извора енергије","ПА_72",null,"Успостављање система енергетског менаџмента","Фунционисање система енергетског менаџмента"]
{"$rows_empty":12}
["Повећање покривености територије планском и урбанистичком документацијом","ПАЦ_1",null,"Усвојен просторни план града/општине","Број усвојених планова генералне регулације у односу на број предвиђених планова вишег реда","Проценат површине покривен плановима детаљне регулације"]
["Ефикасно администрирање захтева за издавање грађевинских дозвола (ефикасно издавање грађевинских дозвола)","ПАЦ_2",null,"Проценат издатих грађевинских дозвола у односу на број поднесених захтева","Просечно потребно време за издавање грађевинских дозвола (у данима, од дана када је поднета комплетна документација)"]
["Ефикасан процес озакоњења","ПАЦ_3",null,"Проценат решених захтева за озакоњења","Укупан број озакоњених објеката у години"]
["Стављање у функцију грађевинског земљишта","ПАЦ_4",null,"Површина земљишта датог у закуп","Број локација комунално опремљеног земљишта"]
["Унапређење стамбеног положаја грађана","ПАЦ_5",null,"Број лица којима је решено стамбено питање","Број домаћинстава којима је решено стамбено питање","Величина јавног стамбеног фонда"]
["Адекватанno управљање јавним осветљењем","ПАЦ_6",null,"Укупан број интервенција по поднетим иницијативама грађана за замену светиљки када престану да раде","Укупан број замена светиљки након пуцања лампи (на годишњој бази)"]
["Ефикасно и рационално спровођење јавног осветљења и минималан негативан утицај на животну средину","ПАЦ_7",null,"Укупан број светиљки које су замењене савременијим (кумулативно из године у годину)","Удео енергетски ефикасних сијалица у укупном броју сијалица јавног осветљења"]
["Максимална могућа покривеност насеља и територије услугама уређења и одржавања зеленила","ПАЦ_8",null,"Број м2 јавних зелених површина на којима се уређује и одржава зеленило у односу на укупан број м2 зелених површина","Укупна дужина дрвореда ( у метрима)"]
["Адекватан квалитет пружених услуга уређења и одржавања јавних зелених површина","ПАЦ_9",null,"Динамика уређења јавних зелених површина ","Број извршених инспекцијских контрола"]
["Максимална могућа покривеност насеља и територије услугама одржавања чистоће јавних површина","ПАЦ_10",null,"Степен покривености територије услугама одржавања чистоће јавно-прометних површина (број улица које се чисте у односу на укупан број улица у граду/општини)"]
["Унапређење заштите од заразних и других болести које преносе животиње","ПАЦ_11",null,"Висина накнаде штете за уједе паса и мачака луталица ","Третиране површине за сузбијање глодара и инсеката"]
["Адекватан квалитет пружених услуга уређивања, одржавања и коришћења пијаца","ПАЦ_12",null,"Број опремљених пијачних места у односу на укупан број пијачних места предвиђених у складу са градском/општинском одлуком"]
["Адекватан квалитет пружених услуга одржавања гробаља и погребних услуга","ПАЦ_13",null,"Број интервенција у односу на укупан број  поднетих иницијатива грађана за чишћење и одржавање гробаља"]
["Оптимална покривеност корисника и територије услугама даљинског грејања и развој дистрибутивног система","ПАЦ_14",null,"Степен покривености корисника услугом  даљинског грејања (број услужених домаћинстава у односу на укупни број домаћинстава у граду/општини)"]
["Адекватан квалитет пружених услуга  уз рационално спровођење даљинског грејања","ПАЦ_15",null,"Укупан број притужби грађана на квалитет и редовност пружене услуге  даљинског грејања","Проценат корисника код којих се обрачун врши по утрошеној топлотној енергији "]
["Ефикасно и рационално спровођење  даљинског грејања и минималан негативан утицај на животну средину","ПАЦ_16",null,"Просечна цена грејања по утрошеној топлотној енергији","Однос произведене и испоручене топлотне енергије ","Степен произведене топлотне енергије из обновљивих извора у односу на укупну произведену топлотну енергију "]
["Адекватан квалитет пружених услуга водоснабдевања","ПАЦ_17",null,"Број кварова по км водоводне мреже"]
[null,"ПАЦ_18"]
["Унапређење административних процедура и развој адекватних сервиса и услуга  за пружање подршке постојећој привреди ","ПАЦ_19",null,"Број унапређених процедура ради лакшег пословања привреде на локалном нивоу","Број предузећа која су користила услуге и сервисе града / општине у односу на укупан број предузећа","Број  пројеката за унапређење инвестиионог амбијента на 1000 становника"]
["Успостављање функционалне  пословне инфраструктуре ","ПАЦ_20",null,"Број корисника технолошких паркова, бизнис инкубатора и сл.","Степен искоришћености земљишта/простора у индустријским зонама"]
["Ревитализација браунфилд локација за покретање привредних активости","ПАЦ_21",null,"Степен искорипћености ревитализованих браунфилд локација "]
["Успостављање механизама за финансијску подршку запошљавању","ПАЦ_22",null,"Број новозапослених уз помоћ успостављених механизама за финансијску подршку за запошљавање","Број новозапослених жена уз помоћ успостављених механизама за финансијску подршку за запошљавање","Број новозапослених особа старијих од 50 година уз помоћ успостављених механизама за финансијску подршку за запошљавање"]
["Подстицаји града/општине за развој предузетништва ","ПАЦ_23",null,"Број новооснованих предузетничких радњи (разврстаних  по полу власника) на територији града/општине уз учешће подстицаја локалне самоуправе у односу на укупан број новооснованих предузетничких радњи.","Број новооснованих предузећа на територији града/општине уз учешће подстицаја локалне самоуправе у односу на укупан број новооснованих предузећа."]
["Успостављање механизама за финансијску подршку производним предузећима и предузетницима/предузетницама који послују на територији града/општине за развој нових производа и проширење производње","ПАЦ_24",null,"Број нових производа развијених уз финансијску подршку","Број новозапослених радника/радница уз помоћ успостављеног механизма за обуку радне снаге за познатог послодавца и за специфичне производне процесе","Број реализованих професионалних радних пракси уз финансијску подршку града/општине"]
["Повећање квалитета туристичке понуде и услуге","ПАЦ_25",null,"Број уређених и на адекватан начин обележених (туристичка сигнализација) туристичких локалитета у граду/општини у осносу на укупан број локалитета","Проценат реализације програма развоја туризма града/општине у односу на годишњи план"]
["Адекватна промоција туристичке понуде града/општине на циљаним тржиштима","ПАЦ_26",null,"Број догађаја који промовишу туристичку понуду града/општине у земљи и/или иностранству на којима учествује ТО града/општине","Број  дистрибуираног пропагандног материјала","Број одржаних промотивних акција са  партнерским организацијама"]
["Стварање услова за развој и унапређење пољопривредне производње","ПАЦ_27",null,"Број едукација намењених пољопривредним произвођачима на територији града/општине","Број учесника едукација"]
["Ефикасно управљање пољопривредним земљиштем у државној својини","ПАЦ_28",null,"Проценат обухваћености пољопривредног земљишта у годишњем Програму заштите, уређења и  коришћења пољопривредног земљишта ","Проценат коришћења  пољопривредног земљишта обухваћених годишњим програмом, у односу на укупне расположиве пољопривредне површине "]
["Изградња одрживог, ефикасаног и конкурентног пољопривредног сектора","ПАЦ_29",null,"Број регистрованих пољопривредних газдинстава која су корисници директног плаћања у односу на укупан број пољопривредних газдинстава","Број регистрованих пољопривредних газдинстава која су корисници кредитне подршке у односу на укупан број пољопривредних газдинстава","Број регистрованих пољопривредних газдинстава која су корисници мера руралног развоја у односу на укупан број пољопривредних газдинстава "]
["Испуњење обавеза у складу са законима у домену постојања стратешких и оперативних планова као и мера заштите","ПАЦ_30",null,"Усвојен програм заштите животне средине са акционим планом ","Усвојен План квалитета ваздуха","Усвојен Акциони план заштите од буке"]
["Праћење у складу са прописаним законским обавезама","ПАЦ_31",null,"Проценат правних лица која достављају податке за локални регистар у односу на укупан број правних лица која су обавезна да достављају податке ","Број урађених мониторинга "]
["Контрола квалитета  елемената животне средине","ПАЦ_32",null,"Број извршених инспекцијских надзора над спровођењем мера заштите ваздуха од загађивања у објектима за које надлежни орган града/општине (и/или АП) издаје одобрење за градњу, односно употребну дозволу у односу на укупан број ових објеката.","Број инспекцијских надзора над спровођењем мера заштите од буке за постројења и активности за које интегрисану дозволу издаје надлежни орган града/општине у односу на укупан број ових постројења","Број извршених инспекцијских надзора над изворима зрачења за које одобрење за изградњу и почетак рада издаје надлежни орган града/општине у односу на укупан број ових извора."]
["Унапређење заштите природних вредности","ПАЦ_33",null,"Проценат територије под заштитом III категорије","Број подручја која су проглашена заштићеним","подручјем III категорије"]
["Максимална могућа покривеност корисника и територије услугама уклањања отпадних вода","ПАЦ_34",null,"Проценат домаћинстава обухваћених услугом у односу на укупан број домаћинстава","Проценат покривености територије услугама прикупљања и одвођења отпадних вода (мерено кроз број насеља у односу на укупан број насеља)"]
["Адекватан квалитет пружених услуга одвођења отпадних вода","ПАЦ_35",null,"Број интервенција  на канализационој мрежи"]
["Ефикасно и рационално спровођење уклањања отпадних вода и минималан негативан утицај на животну средину","ПАЦ_36",null,"Однос пречишћених отпадних вода у односу на укупну количину ","Продајна цена испуштене воде по м3"]
["Спровођење редовних мерења на територији града/општине и испуњење обавеза у складу са законима","ПАЦ_37",null,"Број извршених контрола или надзора мера поступања са отпадом  у складу са Законом о управљању отпадом","Број спроведених мерења количина комуналног отпада у складу са Законом о управљању отпадом"]
["Одрживо управљање осталим врстама отпада","ПАЦ_38",null,"Број очишћених „дивљих“ депонија ","Количина прикупљеног осталог отпада"]
["Испуњење обавеза у складу са законима у домену постојања стратешких и оперативних планова","ПАЦ_39",null,"Број км новоизграђених путева"]
["Одржавање квалитета путне мреже кроз реконструкцију и  редовно одржавање асфалтног покривача","ПАЦ_40",null,"Проценат санираних путева од укупне дужине путне мреже која захтева санацију и/или реконструкцију ","Број километара санираних и/или реконструисаних путева","Износ трошкова одржавања путева по км "]
["Одржавање квалитета улица кроз реконструкцију и редовно одржавање асфалтног покривача","ПАЦ_41",null,"Проценат од укупне дужине улица која захтева санацију и/или реконструкцију ","Број километара санираних и/или реконструисаних улица","Износ трошкова одржавања улица по км "]
["Опремање и одржавање саобраћајне сигнализације на путевима и улицама","ПАЦ_42",null,"Број поправљених и новопостављених саобраћајних знакова и семафора ","Дужина хоризонталне саобраћајне сигнализације (у км)"]
["Оптимална покривеност корисника и територије услугама паркинг сервиса","ПАЦ_43",null,"Број  паркинг места на којима се наплаћује паркинг услуга у односу на број регистрованих возила у једници локалне самоуправе","Број паркинг места у којима постоји зонско паркирање (са плаћањем и одређеним периодом паркирања у току дана) у односу на укупан број паркинг места "]
["Максимална могућа покривеност корисника и територије услугама јавног превоза","ПАЦ_44",null,"Проценат покривености грађана услугом  јавног превоза (број грађана који живе у насељима где постоји организован јавни превоз односу на укупни број грађана у граду/општини)","Проценат покривености територије услугом јавног превоза (мерено кроз број насеља где постоји организован јавни превоз у односу на укупан број насеља)"]
["Адекватан квалитет пружених услуга јавног превоза","ПАЦ_45",null,"Просечна старост возила јавног превоза"]
["Ефикасно и рационално спровођење јавног превоза и минималан негативан утицај на животну средину","ПАЦ_46",null,"Број превезених путника у јавном превозу на годишњем нивоу","Проценат возила која користе обновљиве изворе"]
["Обезбеђени адекватни  услови за Васпитно-образовни рад са децом уз повећан обухват","ПАЦ_47",null,"Просечан број деце у групи (јасле, предшколски, припремни предшколски програм/ппп)","Просечан број деце по васпитачу/васпитачици (јасле, предшколски, припремни предшколски програм)","Процент деце ослобођене од пуне цене услуге у односу на укупан број деце"]
["Унапређење квалитета предшколског образовања и васпитања","ПАЦ_48",null,"Број  посебних и специјалних програма у објекту предшколске установе","Проценат стручних сарадника који су добили најмање 24 бода за стручно усавршавање кроз учешће на семинарима на годишњем нивоу у односу на укупан број стручних сарадника ","Број објеката у којима су извршена инвестициона улагања на годишњем нивоу, у односу на укупан број објеката ПУ"]
["Обезбеђени прописани услови за васпитно-образовни рад са децом у основним школама","ПАЦ_49",null,"Просечан број ученика по одељењу (разврстани по полу)","Проценат школа у којима је надлежна инспекција (санитарна за хигијену, грађевинска за грађевинске услове и инспрекција заштите која котролише безбедност и здравље на раду) констатовала неиспуњење основних критериијума "]
["Унапређење квалитета образовања и васпитања у основним школама","ПАЦ_50",null,"Број ученика који похађају ваннаставне активности/у односу на укупан број ученика","Број стручних лица која су добила најмање 24 бода за стручно усавршавање кроз учешће на семинарима на годишњем нивоу","Број талентоване деце подржане од стране града/општине у односу на укупан број деце у школама  ","Број деце која се образују по ИОП3"]
["Повећање доступности и приступачности основног образовања деци","ПАЦ_51",null,"Проценат деце којој је обезбеђена бесплатна исхрана у односу на укупан број деце ","Проценат деце којој је обезбеђен бесплатан школски превоз у односу на укупан број деце (у складу са ЗОСОВ)","Проценат објеката прилагођених деци са инвалидитетом и посебним потребама "]
["Обезбеђени прописани услови за васпитно-образовни рад у средњим школама и безбедно одвијање наставе","ПАЦ_52",null,"Просечан број ученика по одељењу ","Проценат школа у којима је надлежна инспекција (санитарна за хигијену, грађевинска за грађевинске услове и инспекција заштите која контролише безбедност и здравље на раду) констатовала неиспуњење основних критеријума "]
["Унапређење квалитета образовања у средњим школама","ПАЦ_53",null,"Број ученика који похађају ваннаставне активности/у односу на укупан број ученика","Број запослених који су добили најмање 24 бода за стручно усавршавање кроз учешће на семинарима на годишњем нивоу","Број талентоване деце подржане од стране града/општине у односу на укупан број деце у школама","Број деце која се образују по ИОП3"]
["Унапређење заштите сиромашних","ПАЦ_54",null,"Проценат грађана који добијају новчане накнаде и помоћ у натури у складу са Одлуком о социјалној заштити у односу на укупан број грађана ","Број корисника једнократне новчане помоћи у односу на укупан број грађана","Број грађана - корисника других мера материјалне подршке ","(нпр. набавка огрева и сл.) у односу на укупан број грађана","Број грађана - корисника субвенција (нпр. комуналних услуга, услуга  превоза) у односу на укупан број грађана"]
["Обезбеђење услуге смештаја","ПАЦ_55",null,"Број корисника услуга смештаја прихватилишта","Број корисника других услуга смештаја","Просечан број дана по кориснику услуге"]
["Подстицање развоја разноврсних социјалних  и других услуга у заједници","ПАЦ_56",null,"Број удружења / хуманитарних организација које добијају средства из буџета града/општине","Број програма које реализују ове организације"]
["Подршка развоју мреже услуга  социјалне заштите предвиђене Одлуком о социјалној заштити и Законом о социјалној заштити","ПАЦ_57",null,"Број услуга социјалне заштите предвиђених Одлуком о социјалној заштити -  укупно ","Број корисника услуга у заједници у односу на укупан број грађана ","Број корисника саветодавно-терапијских и социо - едукативних услуга у заједници "]
["Социјално деловање - олакшавање људске патње пружањем неопходне ургентне помоћи лицима у невољи, развијањем солидарности међу људима, организовањем различитих облика помоћи","ПАЦ_58",null,"Број акција на прикупљању различитих  врста  помоћи ","Број дистрибуираних пакета за социјално угрожено становништво","Број корисника народне кухиње ( или број подељених оброка у народној кухињи)","Број волонтера Црвеног крста "]
["Обезбеђивање финансијске подршке за децу и породицу","ПАЦ_59",null,"Број деце која примају финансијску подршку у  односу на укупан број деце у граду/општини"]
["Унапређење популационе политике","ПАЦ_60",null,"Број мера материјалне подршке намењен мерама локалне популационе политике (нпр. подршка материнству, подршка породиљама, накнада за новорођену децу)"]
["Унапређење услуга социјалне заштите за децу и породицу","ПАЦ_61",null,"Број услуга","Број корисника услуга"]
["Обезбеђивање услуга социјалне заштите за старије и одрасле са инвалидитетом","ПАЦ_62",null,"Број услуга","Број корисника услуга"]
["Унапређење доступности, квалитета и ефикасности ПЗЗ","ПАЦ_63",null,"Број обраћања саветнику за заштиту права пацијената","Проценат реализације планова инвестирања у објекте и опрему установа ПЗЗ ","Број здравствених радника/лекара финансираних из буџета града/општине"]
[null,"ПАЦ_64"]
["Стварање услова за очување и унапређење здравља становништва","ПАЦ_65",null,"Проценат реализованих у односу на планираних посебних програма и пројеката из области јавног здравља","Број становника обухваћених посебним програмима и пројектима из области јавног здравља"]
["Обезбеђење редовног функционисања установа културе","ПАЦ_66",null,"Број запослених у установама културе у односу на укупан број запослених у ЈЛС"]
["Повећање учешћа грађана у културној продукцији и уметничком стваралаштву","ПАЦ_67",null,"Број грађана који су учествовали у програмима културне продукције уметничког стваралаштва ","Број грађана из осетљивих група који су учествовали у програмима културне продукције уметничког стваралаштва"]
["Унапређење разноврсности  културне понуде","ПАЦ_68",null,"Број програма и пројеката удружења грађана подржаних од стране града/општине","Број програма и пројеката подржаних од стране града/општине намењених осетљивим друштвеним групама"]
["Унапређење очувања културно-историјског наслеђа","ПАЦ_69",null,"Проценат споменика културе код којих су на годишњем нивоу извршена инвестициона улагања у односу на укупан број споменика културе у надлежности града/општине","Покривеност непокретно-културних добара у надлежности града/општине комплетном пројектно-техничком документацијом за реконструкцију","Број реализованих програма популаризације културно-историјског наслеђа на нивоу локалне заједнице"]
["Повећана понуда квалитетних медијских садржаја из области друштвеног живота локалне заједнице","ПАЦ_70",null,"Број програмских садржаја подржаних на конкурисма јавног информисања","Број различитих тематских типова програма за боље информисање "]
["Унапређење права националних мањина за информаисање на сопственом језику","ПАЦ_71",null,"Број медијских садржаја подржаних на конкурисма јавног информисања на језицима националних мањина ","Број пројеката/програм мултијезичког карактера "]
["Унапређење права особа са инвалидитетом  за информаисање на сопственом језику","ПАЦ_72",null,"Број медијских садржаја садржаја у форматима приступачним за ОСИ (знаковни језик, синтетизатор гласа и Брајево писмо)  "]
["Обезбеђивање услова за рад и унапређење  капацитета спортских организација преко којих се остварује јавни интерес у области спорта у граду/општини","ПАЦ_73",null,"Број посебних програма спортских организација финансираних од стране града/општине ","Број годишњих програма спортских организација финансираних од стране града/општине","Број стипендираних категорисаних спортиста "]
["Унапређење рекреативног спорта","ПАЦ_74",null,"Број програма којима се реализују активности из рекреативног спорта","Број програма за вежбање старих особа и особа са инвалидитетом ","Број програма омасовљења женског спорта"]
["Унапређење предшколског и школског спорта","ПАЦ_75",null,"Број објеката који је доступан за коришћење предшколском, школском спорту","Просечан број  сати у години када су постојећи објекти доступни предшколском, школском спорту","­­Број програма којима се реализују активности школског спорта","Проценат деце која су укључена у школска такмичења у односу на укупан број деце ","Број деце укључен у спортске активности у односу на укупан број школске деце"]
["Редовно одржавање постојећих спортских објеката од интереса за град/општину","ПАЦ_76",null,"Број постојећих функционалних спортских објеката","Укупна површина спортских терена/укупан број становника у граду/општини","Број спортских објеката прилагођених особама са инвалидитетом"]
["Обезбеђивање услова за рад установа из области спорта","ПАЦ_77",null,"Број програма које реализују установе из области спорта","Број спортских организација који користе услуге установе из области спорта","Број одржаних спортских приредби у установама из области спорта","Степен искоришћења капацитета установа"]
["Подршка активном укључивању младих у различите друштвене активности","ПАЦ_78",null,"Број младих корисника услуга мера омладинске политике","Број младих жена корисника услуга "]
["Функционисање управе","ПАЦ_79",null,"Број решених предмета по запосленом ","Проценат решених  предмета у календарској години (у законском року, ван законског рока)","Проценат попуњености радних места која подразумевају вођење управног поступка"]
["Обезбеђено задовољавање потреба и интереса локалног становништва деловањем месних заједница","ПАЦ_80",null,"Број иницијатива /предлога месних заједница према граду/општини у вези са питањима од интереса за локално становништво"]
["Одржавање финансијске стабилности града/општине и финансирање капиталних инвестиционих расхода","ПАЦ_81",null,"Учешће издатака за сервисирање дугова у текућим приходима ≤ 15%","Удео дугорочних дугова за финансирање капиталних инвестиционих расхода у укупном јавног дугу града/општине"]
["Заштита имовинских права и интереса  града/општине","ПАЦ_82",null,"Број решених предмета у односу на укупан број предмета на годишњем нивоу","Број правних мишљења која су дата органима  града/општине, стручним службама и другим правним лицима чија имовинска и друга права заступа "]
["Обезбеђена заштита права грађана пред управом и јавним службама  града/општине  и контрола над повредама прописа и општих аката  града/општине","ПАЦ_83",null,"Број грађана чија су права заштићена кроз поступак пред заштитником грађана у односу на укупан број поступака","Број усвојених препорука заштитника грађана упућених управи и јавним службама града/општине у односу на укупан број препорука "]
["Квалитетно обављање инспекцијских послова","ПАЦ_84",null,"Број решених предмета грађана у односу на број примљених предмета "]
["Остваривање права националних мањина у локалној заједници","ПАЦ_85",null,"Проценат остварења програма националних мањина који се финансира из буџета града/општине","Број реализованих пројеката националних мањина"]
["Организована правна помоћ грађанима","ПАЦ_86",null,"Број корисника правне помоћи","Број жена корисника правне помоћи"]
[null,"ПАЦ_87"]
[null,"ПАЦ_88"]
[null,"ПАЦ_89"]
["Обезбеђење комуналног реда","ПАЦ_90",null,"Број интервенција комуналне полиције"]
["Ефикасно администрирање изворних прихода локалне самоуправе","ПАЦ_91",null,"Број решења донетих од стране локалне пореске администрације "]
["Изградња ефикасног превентивног система заштите и спасавања на избегавању последица елементарних и других непогода","ПАЦ_92",null,"Број идентификованих објеката критичне инфраструктуре (нпр. трафо станице)"]
["Функционисање локалне скуштине","ПАЦ_93",null,"Број усвојених аката ","Број седница скупштине","Број седницца сталних радних тела "]
["Функционисање извршних органа","ПАЦ_94",null,"Број усвојених аката","Број седница извршних органа","Број донетих аката "]
["Функционисање извршних органа власти скуштине","ПАЦ_95",null,"Број припремљених седница"]
["Успостављање система енергетског менаџмента","ПАЦ_96",null,"Постојање енергетског менаџера","Израђен попис јанвих зграда са карактерстикима","Израђен енергетски биланс"]
["Фунционисање система енергетског менаџмента","ПАЦ_97",null,"Број израђених годишњих енергетских биланса","Постојање локалне одлуке о енергетској ефикасности "]
{"$rows_empty":39}
["Програм 1.  Урбанизам и просторно планирање","Урбанизам и просторно планирање"]
["Програм 2.  Комуналне делатности","Урбанизам и просторно планирање"]
["Програм 3.  Локални економски развој","Економска и развојна политика"]
["Програм 4.  Развој туризма","Економска и развојна политика"]
["Програм 5.  Развој пољопривреде","Пољопривреда и рурални развој"]
["Програм 6.  Заштита животне средине","Заштита животне средине"]
["Програм 7.  Организација саобраћаја и саобраћајна инфраструктура","Саобраћај и саобраћајна инфраструктура"]
["Програм 8.  Предшколско васпитање","Образовање"]
["Програм 9.  Основно образовање","Образовање"]
["Програм 10.  Средње образовање","Образовање"]
["Програм 11.  Социјална и дечја заштита","Социјална заштита"]
["Програм 12.  Примарна здравствена заштита","Здравствена заштита"]
["Програм 13.  Развој културе","Култура, комуникације и медији"]
["Програм 14.  Развој спорта и омладине","Спорт и омладина"]
["Програм 15.  Опште услуге локалне самоуправе","Опште услуге јавне управе"]
["Програм 16.  Политички систем локалне самоуправе","Политички систем "]
["Програм 17.  Енергетска ефикасност","Енергетика"]
[]
[{"$nulls":4},"rashodi 2015",null,"rashodi 2016",null,"rashodi 2017",null,"rashodi 2018",null,"rashodi 2019"]
[null,null,"Списак програмских активности и пројеката у оквиру програма",null,"budzetska","ostalo","budzetska","ostalo ","budzetska","ostalo ","budzetska","ostalo ","budzetska","ostalo "]
[1,{"$f":"IF(O374>0,MAX($B$372:B373)+1,\"\")","v":""},{"$f":"IF(ISERROR(INDEX(WS,ROWS($A$374:$A374))),\"\",MID(INDEX(WS,ROWS($A$374:$A374)), FIND(\"]\",INDEX(WS,ROWS($A$374:$A374)))+1,32))&T(NOW())","v":"Програм"},{"$f":"IF($C374<>\"\",INDIRECT(\"'\"&$C374&\"'\"&\"!y2\"),\"\")","v":0},{"$f":"IF($C374<>\"\",INDIRECT(\"'\"&$C374&\"'\"&\"!z2\"),\"\")","v":0},{"$f":"IF($C374<>\"\",INDIRECT(\"'\"&$C374&\"'\"&\"!aa2\"),\"\")","v":0},{"$f":"IF($C374<>\"\",INDIRECT(\"'\"&$C374&\"'\"&\"!ab2\"),\"\")","v":0},{"$f":"IF($C374<>\"\",INDIRECT(\"'\"&$C374&\"'\"&\"!ac2\"),\"\")","v":0},{"$f":"IF($C374<>\"\",INDIRECT(\"'\"&$C374&\"'\"&\"!ad2\"),\"\")","v":0},{"$f":"IF($C374<>\"\",INDIRECT(\"'\"&$C374&\"'\"&\"!ae2\"),\"\")","v":0},{"$f":"IF($C374<>\"\",INDIRECT(\"'\"&$C374&\"'\"&\"!af2\"),\"\")","v":0},{"$f":"IF($C374<>\"\",INDIRECT(\"'\"&$C374&\"'\"&\"!ag2\"),\"\")","v":0},{"$f":"IF($C374<>\"\",INDIRECT(\"'\"&$C374&\"'\"&\"!ah2\"),\"\")","v":0},{"$f":"IF($C374<>\"\",INDIRECT(\"'\"&$C374&\"'\"&\"!ai2\"),\"\")","v":0},{"$f":"SUM(E374:N374)","v":0}]
[2,{"$f":"IF(O375>0,MAX($B$372:B374)+1,\"\")","v":1},{"$f":"IF(ISERROR(INDEX(WS,ROWS($A$374:$A375))),\"\",MID(INDEX(WS,ROWS($A$374:$A375)), FIND(\"]\",INDEX(WS,ROWS($A$374:$A375)))+1,32))&T(NOW())","v":"ПА-0002"},{"$f":"IF($C375<>\"\",INDIRECT(\"'\"&$C375&\"'\"&\"!y2\"),\"\")","v":"0 (Месна заједница Остојићево)"},3750000,1748000,1502000,2507500,1760000,1510000,{"$f":"IF($C375<>\"\",INDIRECT(\"'\"&$C375&\"'\"&\"!af2\"),\"\")","v":1500000},0,{"$f":"IF($C375<>\"\",INDIRECT(\"'\"&$C375&\"'\"&\"!ah2\"),\"\")","v":{"v":1500000,"d":"1,500,000"}},{"$f":"IF($C375<>\"\",INDIRECT(\"'\"&$C375&\"'\"&\"!ai2\"),\"\")","v":0},{"$f":"SUM(E375:N375)","v":15777500}]
[3,{"$f":"IF(O376>0,MAX($B$372:B375)+1,\"\")","v":""},{"$f":"IF(ISERROR(INDEX(WS,ROWS($A$374:$A376))),\"\",MID(INDEX(WS,ROWS($A$374:$A376)), FIND(\"]\",INDEX(WS,ROWS($A$374:$A376)))+1,32))&T(NOW())","v":"Пројекат"},"0602-    ()",0,0,0,0,0,0,0,0,0,0,{"$f":"SUM(E376:N376)","v":0}]
[4,{"$f":"IF(O377>0,MAX($B$372:B376)+1,\"\")","v":""},{"$f":"IF(ISERROR(INDEX(WS,ROWS($A$374:$A377))),\"\",MID(INDEX(WS,ROWS($A$374:$A377)), FIND(\"]\",INDEX(WS,ROWS($A$374:$A377)))+1,32))&T(NOW())","v":"Упутство"},0,0,0,0,0,0,0,0,0,0,0,0]
[5,{"$f":"IF(O378>0,MAX($B$372:B377)+1,\"\")","v":""},{"$f":"IF(ISERROR(INDEX(WS,ROWS($A$374:$A378))),\"\",MID(INDEX(WS,ROWS($A$374:$A378)), FIND(\"]\",INDEX(WS,ROWS($A$374:$A378)))+1,32))&T(NOW())","v":""},"","","","","","","","","","","",0]
[6,{"$f":"IF(O379>0,MAX($B$372:B378)+1,\"\")","v":""},{"$f":"IF(ISERROR(INDEX(WS,ROWS($A$374:$A379))),\"\",MID(INDEX(WS,ROWS($A$374:$A379)), FIND(\"]\",INDEX(WS,ROWS($A$374:$A379)))+1,32))&T(NOW())","v":""},"","","","","","","","","","","",0]
[7,{"$f":"IF(O380>0,MAX($B$372:B379)+1,\"\")","v":""},{"$f":"IF(ISERROR(INDEX(WS,ROWS($A$374:$A380))),\"\",MID(INDEX(WS,ROWS($A$374:$A380)), FIND(\"]\",INDEX(WS,ROWS($A$374:$A380)))+1,32))&T(NOW())","v":""},"","","","","","","","","","","",0]
[8,{"$f":"IF(O381>0,MAX($B$372:B380)+1,\"\")","v":""},{"$f":"IF(ISERROR(INDEX(WS,ROWS($A$374:$A381))),\"\",MID(INDEX(WS,ROWS($A$374:$A381)), FIND(\"]\",INDEX(WS,ROWS($A$374:$A381)))+1,32))&T(NOW())","v":""},"","","","","","","","","","","",0]
[9,{"$f":"IF(O382>0,MAX($B$372:B381)+1,\"\")","v":""},{"$f":"IF(ISERROR(INDEX(WS,ROWS($A$374:$A382))),\"\",MID(INDEX(WS,ROWS($A$374:$A382)), FIND(\"]\",INDEX(WS,ROWS($A$374:$A382)))+1,32))&T(NOW())","v":""},"","","","","","","","","","","",0]
[10,{"$f":"IF(O383>0,MAX($B$372:B382)+1,\"\")","v":""},{"$f":"IF(ISERROR(INDEX(WS,ROWS($A$374:$A383))),\"\",MID(INDEX(WS,ROWS($A$374:$A383)), FIND(\"]\",INDEX(WS,ROWS($A$374:$A383)))+1,32))&T(NOW())","v":""},"","","","","","","","","","","",0]
[11,{"$f":"IF(O384>0,MAX($B$372:B383)+1,\"\")","v":""},{"$f":"IF(ISERROR(INDEX(WS,ROWS($A$374:$A384))),\"\",MID(INDEX(WS,ROWS($A$374:$A384)), FIND(\"]\",INDEX(WS,ROWS($A$374:$A384)))+1,32))&T(NOW())","v":""},"","","","","","","","","","","",0]
[12,{"$f":"IF(O385>0,MAX($B$372:B384)+1,\"\")","v":""},{"$f":"IF(ISERROR(INDEX(WS,ROWS($A$374:$A385))),\"\",MID(INDEX(WS,ROWS($A$374:$A385)), FIND(\"]\",INDEX(WS,ROWS($A$374:$A385)))+1,32))&T(NOW())","v":""},"","","","","","","","","","","",0]
[13,{"$f":"IF(O386>0,MAX($B$372:B385)+1,\"\")","v":""},{"$f":"IF(ISERROR(INDEX(WS,ROWS($A$374:$A386))),\"\",MID(INDEX(WS,ROWS($A$374:$A386)), FIND(\"]\",INDEX(WS,ROWS($A$374:$A386)))+1,32))&T(NOW())","v":""},"","","","","","","","","","","",0]
[14,{"$f":"IF(O387>0,MAX($B$372:B386)+1,\"\")","v":""},{"$f":"IF(ISERROR(INDEX(WS,ROWS($A$374:$A387))),\"\",MID(INDEX(WS,ROWS($A$374:$A387)), FIND(\"]\",INDEX(WS,ROWS($A$374:$A387)))+1,32))&T(NOW())","v":""},"","","","","","","","","","","",0]
[15,{"$f":"IF(O388>0,MAX($B$372:B387)+1,\"\")","v":""},{"$f":"IF(ISERROR(INDEX(WS,ROWS($A$374:$A388))),\"\",MID(INDEX(WS,ROWS($A$374:$A388)), FIND(\"]\",INDEX(WS,ROWS($A$374:$A388)))+1,32))&T(NOW())","v":""},"","","","","","","","","","","",0]
[16,{"$f":"IF(O389>0,MAX($B$372:B388)+1,\"\")","v":""},{"$f":"IF(ISERROR(INDEX(WS,ROWS($A$374:$A389))),\"\",MID(INDEX(WS,ROWS($A$374:$A389)), FIND(\"]\",INDEX(WS,ROWS($A$374:$A389)))+1,32))&T(NOW())","v":""},"","","","","","","","","","","",0]
[17,{"$f":"IF(O390>0,MAX($B$372:B389)+1,\"\")","v":""},{"$f":"IF(ISERROR(INDEX(WS,ROWS($A$374:$A390))),\"\",MID(INDEX(WS,ROWS($A$374:$A390)), FIND(\"]\",INDEX(WS,ROWS($A$374:$A390)))+1,32))&T(NOW())","v":""},"","","","","","","","","","","",0]
[18,{"$f":"IF(O391>0,MAX($B$372:B390)+1,\"\")","v":""},{"$f":"IF(ISERROR(INDEX(WS,ROWS($A$374:$A391))),\"\",MID(INDEX(WS,ROWS($A$374:$A391)), FIND(\"]\",INDEX(WS,ROWS($A$374:$A391)))+1,32))&T(NOW())","v":""},"","","","","","","","","","","",0]
[19,{"$f":"IF(O392>0,MAX($B$372:B391)+1,\"\")","v":""},{"$f":"IF(ISERROR(INDEX(WS,ROWS($A$374:$A392))),\"\",MID(INDEX(WS,ROWS($A$374:$A392)), FIND(\"]\",INDEX(WS,ROWS($A$374:$A392)))+1,32))&T(NOW())","v":""},"","","","","","","","","","","",0]
[20,{"$f":"IF(O393>0,MAX($B$372:B392)+1,\"\")","v":""},{"$f":"IF(ISERROR(INDEX(WS,ROWS($A$374:$A393))),\"\",MID(INDEX(WS,ROWS($A$374:$A393)), FIND(\"]\",INDEX(WS,ROWS($A$374:$A393)))+1,32))&T(NOW())","v":""},"","","","","","","","","","","",0]
[21,{"$f":"IF(O394>0,MAX($B$372:B393)+1,\"\")","v":""},{"$f":"IF(ISERROR(INDEX(WS,ROWS($A$374:$A394))),\"\",MID(INDEX(WS,ROWS($A$374:$A394)), FIND(\"]\",INDEX(WS,ROWS($A$374:$A394)))+1,32))&T(NOW())","v":""},"","","","","","","","","","","",0]
[22,{"$f":"IF(O395>0,MAX($B$372:B394)+1,\"\")","v":""},{"$f":"IF(ISERROR(INDEX(WS,ROWS($A$374:$A395))),\"\",MID(INDEX(WS,ROWS($A$374:$A395)), FIND(\"]\",INDEX(WS,ROWS($A$374:$A395)))+1,32))&T(NOW())","v":""},"","","","","","","","","","","",0]
[23,{"$f":"IF(O396>0,MAX($B$372:B395)+1,\"\")","v":""},{"$f":"IF(ISERROR(INDEX(WS,ROWS($A$374:$A396))),\"\",MID(INDEX(WS,ROWS($A$374:$A396)), FIND(\"]\",INDEX(WS,ROWS($A$374:$A396)))+1,32))&T(NOW())","v":""},"","","","","","","","","","","",0]
[24,{"$f":"IF(O397>0,MAX($B$372:B396)+1,\"\")","v":""},{"$f":"IF(ISERROR(INDEX(WS,ROWS($A$374:$A397))),\"\",MID(INDEX(WS,ROWS($A$374:$A397)), FIND(\"]\",INDEX(WS,ROWS($A$374:$A397)))+1,32))&T(NOW())","v":""},"","","","","","","","","","","",0]
[25,{"$f":"IF(O398>0,MAX($B$372:B397)+1,\"\")","v":""},{"$f":"IF(ISERROR(INDEX(WS,ROWS($A$374:$A398))),\"\",MID(INDEX(WS,ROWS($A$374:$A398)), FIND(\"]\",INDEX(WS,ROWS($A$374:$A398)))+1,32))&T(NOW())","v":""},"","","","","","","","","","","",0]
[26,{"$f":"IF(O399>0,MAX($B$372:B398)+1,\"\")","v":""},{"$f":"IF(ISERROR(INDEX(WS,ROWS($A$374:$A399))),\"\",MID(INDEX(WS,ROWS($A$374:$A399)), FIND(\"]\",INDEX(WS,ROWS($A$374:$A399)))+1,32))&T(NOW())","v":""},"","","","","","","","","","","",0]
[27,{"$f":"IF(O400>0,MAX($B$372:B399)+1,\"\")","v":""},{"$f":"IF(ISERROR(INDEX(WS,ROWS($A$374:$A400))),\"\",MID(INDEX(WS,ROWS($A$374:$A400)), FIND(\"]\",INDEX(WS,ROWS($A$374:$A400)))+1,32))&T(NOW())","v":""},"","","","","","","","","","","",0]
[28,{"$f":"IF(O401>0,MAX($B$372:B400)+1,\"\")","v":""},{"$f":"IF(ISERROR(INDEX(WS,ROWS($A$374:$A401))),\"\",MID(INDEX(WS,ROWS($A$374:$A401)), FIND(\"]\",INDEX(WS,ROWS($A$374:$A401)))+1,32))&T(NOW())","v":""},"","","","","","","","","","","",0]
[29,{"$f":"IF(O402>0,MAX($B$372:B401)+1,\"\")","v":""},{"$f":"IF(ISERROR(INDEX(WS,ROWS($A$374:$A402))),\"\",MID(INDEX(WS,ROWS($A$374:$A402)), FIND(\"]\",INDEX(WS,ROWS($A$374:$A402)))+1,32))&T(NOW())","v":""},"","","","","","","","","","","",0]
[30,{"$f":"IF(O403>0,MAX($B$372:B402)+1,\"\")","v":""},{"$f":"IF(ISERROR(INDEX(WS,ROWS($A$374:$A403))),\"\",MID(INDEX(WS,ROWS($A$374:$A403)), FIND(\"]\",INDEX(WS,ROWS($A$374:$A403)))+1,32))&T(NOW())","v":""},"","","","","","","","","","","",0]
[31,{"$f":"IF(O404>0,MAX($B$372:B403)+1,\"\")","v":""},{"$f":"IF(ISERROR(INDEX(WS,ROWS($A$374:$A404))),\"\",MID(INDEX(WS,ROWS($A$374:$A404)), FIND(\"]\",INDEX(WS,ROWS($A$374:$A404)))+1,32))&T(NOW())","v":""},"","","","","","","","","","","",0]
[32,{"$f":"IF(O405>0,MAX($B$372:B404)+1,\"\")","v":""},{"$f":"IF(ISERROR(INDEX(WS,ROWS($A$374:$A405))),\"\",MID(INDEX(WS,ROWS($A$374:$A405)), FIND(\"]\",INDEX(WS,ROWS($A$374:$A405)))+1,32))&T(NOW())","v":""},"","","","","","","","","","","",0]
[33,{"$f":"IF(O406>0,MAX($B$372:B405)+1,\"\")","v":""},{"$f":"IF(ISERROR(INDEX(WS,ROWS($A$374:$A406))),\"\",MID(INDEX(WS,ROWS($A$374:$A406)), FIND(\"]\",INDEX(WS,ROWS($A$374:$A406)))+1,32))&T(NOW())","v":""},{"$f":"IF($C406<>\"\",INDIRECT(\"'\"&$C406&\"'\"&\"!y2\"),\"\")","v":""},{"$f":"IF($C406<>\"\",INDIRECT(\"'\"&$C406&\"'\"&\"!z2\"),\"\")","v":""},{"$f":"IF($C406<>\"\",INDIRECT(\"'\"&$C406&\"'\"&\"!aa2\"),\"\")","v":""},{"$f":"IF($C406<>\"\",INDIRECT(\"'\"&$C406&\"'\"&\"!ab2\"),\"\")","v":""},{"$f":"IF($C406<>\"\",INDIRECT(\"'\"&$C406&\"'\"&\"!ac2\"),\"\")","v":""},{"$f":"IF($C406<>\"\",INDIRECT(\"'\"&$C406&\"'\"&\"!ad2\"),\"\")","v":""},{"$f":"IF($C406<>\"\",INDIRECT(\"'\"&$C406&\"'\"&\"!ae2\"),\"\")","v":""},{"$f":"IF($C406<>\"\",INDIRECT(\"'\"&$C406&\"'\"&\"!af2\"),\"\")","v":""},{"$f":"IF($C406<>\"\",INDIRECT(\"'\"&$C406&\"'\"&\"!ag2\"),\"\")","v":""},"","",0]
[34,{"$f":"IF(O407>0,MAX($B$372:B406)+1,\"\")","v":""},{"$f":"IF(ISERROR(INDEX(WS,ROWS($A$374:$A407))),\"\",MID(INDEX(WS,ROWS($A$374:$A407)), FIND(\"]\",INDEX(WS,ROWS($A$374:$A407)))+1,32))&T(NOW())","v":""},"","","","","","","","","","","",0]
[35,{"$f":"IF(O408>0,MAX($B$372:B407)+1,\"\")","v":""},{"$f":"IF(ISERROR(INDEX(WS,ROWS($A$374:$A408))),\"\",MID(INDEX(WS,ROWS($A$374:$A408)), FIND(\"]\",INDEX(WS,ROWS($A$374:$A408)))+1,32))&T(NOW())","v":""},"","","","","","","","","","","",0]
[36,{"$f":"IF(O409>0,MAX($B$372:B408)+1,\"\")","v":""},{"$f":"IF(ISERROR(INDEX(WS,ROWS($A$374:$A409))),\"\",MID(INDEX(WS,ROWS($A$374:$A409)), FIND(\"]\",INDEX(WS,ROWS($A$374:$A409)))+1,32))&T(NOW())","v":""},"","","","","","","","","","","",0]
[37,{"$f":"IF(O410>0,MAX($B$372:B409)+1,\"\")","v":""},{"$f":"IF(ISERROR(INDEX(WS,ROWS($A$374:$A410))),\"\",MID(INDEX(WS,ROWS($A$374:$A410)), FIND(\"]\",INDEX(WS,ROWS($A$374:$A410)))+1,32))&T(NOW())","v":""},"","","","","","","","","","","",0]
[38,{"$f":"IF(O411>0,MAX($B$372:B410)+1,\"\")","v":""},{"$f":"IF(ISERROR(INDEX(WS,ROWS($A$374:$A411))),\"\",MID(INDEX(WS,ROWS($A$374:$A411)), FIND(\"]\",INDEX(WS,ROWS($A$374:$A411)))+1,32))&T(NOW())","v":""},"","","","","","","","","","","",0]
[39,{"$f":"IF(O412>0,MAX($B$372:B411)+1,\"\")","v":""},{"$f":"IF(ISERROR(INDEX(WS,ROWS($A$374:$A412))),\"\",MID(INDEX(WS,ROWS($A$374:$A412)), FIND(\"]\",INDEX(WS,ROWS($A$374:$A412)))+1,32))&T(NOW())","v":""},"","","","","","","","","","","",0]
[40,{"$f":"IF(O413>0,MAX($B$372:B412)+1,\"\")","v":""},{"$f":"IF(ISERROR(INDEX(WS,ROWS($A$374:$A413))),\"\",MID(INDEX(WS,ROWS($A$374:$A413)), FIND(\"]\",INDEX(WS,ROWS($A$374:$A413)))+1,32))&T(NOW())","v":""},"","","","","","","","","","","",0]
[41,{"$f":"IF(O414>0,MAX($B$372:B413)+1,\"\")","v":""},{"$f":"IF(ISERROR(INDEX(WS,ROWS($A$374:$A414))),\"\",MID(INDEX(WS,ROWS($A$374:$A414)), FIND(\"]\",INDEX(WS,ROWS($A$374:$A414)))+1,32))&T(NOW())","v":""},"","","","","","","","","","","",0]
[42,{"$f":"IF(O415>0,MAX($B$372:B414)+1,\"\")","v":""},{"$f":"IF(ISERROR(INDEX(WS,ROWS($A$374:$A415))),\"\",MID(INDEX(WS,ROWS($A$374:$A415)), FIND(\"]\",INDEX(WS,ROWS($A$374:$A415)))+1,32))&T(NOW())","v":""},"","","","","","","","","","","",0]
[43,{"$f":"IF(O416>0,MAX($B$372:B415)+1,\"\")","v":""},{"$f":"IF(ISERROR(INDEX(WS,ROWS($A$374:$A416))),\"\",MID(INDEX(WS,ROWS($A$374:$A416)), FIND(\"]\",INDEX(WS,ROWS($A$374:$A416)))+1,32))&T(NOW())","v":""},"","","","","","","","","","","",0]
[44,{"$f":"IF(O417>0,MAX($B$372:B416)+1,\"\")","v":""},{"$f":"IF(ISERROR(INDEX(WS,ROWS($A$374:$A417))),\"\",MID(INDEX(WS,ROWS($A$374:$A417)), FIND(\"]\",INDEX(WS,ROWS($A$374:$A417)))+1,32))&T(NOW())","v":""},"","","","","","","","","","","",0]
[45,{"$f":"IF(O418>0,MAX($B$372:B417)+1,\"\")","v":""},{"$f":"IF(ISERROR(INDEX(WS,ROWS($A$374:$A418))),\"\",MID(INDEX(WS,ROWS($A$374:$A418)), FIND(\"]\",INDEX(WS,ROWS($A$374:$A418)))+1,32))&T(NOW())","v":""},"","","","","","","","","","","",0]
[46,{"$f":"IF(O419>0,MAX($B$372:B418)+1,\"\")","v":""},{"$f":"IF(ISERROR(INDEX(WS,ROWS($A$374:$A419))),\"\",MID(INDEX(WS,ROWS($A$374:$A419)), FIND(\"]\",INDEX(WS,ROWS($A$374:$A419)))+1,32))&T(NOW())","v":""},"","","","","","","","","","","",0]
[47,{"$f":"IF(O420>0,MAX($B$372:B419)+1,\"\")","v":""},{"$f":"IF(ISERROR(INDEX(WS,ROWS($A$374:$A420))),\"\",MID(INDEX(WS,ROWS($A$374:$A420)), FIND(\"]\",INDEX(WS,ROWS($A$374:$A420)))+1,32))&T(NOW())","v":""},"","","","","","","","","","","",0]
[48,{"$f":"IF(O421>0,MAX($B$372:B420)+1,\"\")","v":""},{"$f":"IF(ISERROR(INDEX(WS,ROWS($A$374:$A421))),\"\",MID(INDEX(WS,ROWS($A$374:$A421)), FIND(\"]\",INDEX(WS,ROWS($A$374:$A421)))+1,32))&T(NOW())","v":""},"","","","","","","","","","","",0]
[49,{"$f":"IF(O422>0,MAX($B$372:B421)+1,\"\")","v":""},{"$f":"IF(ISERROR(INDEX(WS,ROWS($A$374:$A422))),\"\",MID(INDEX(WS,ROWS($A$374:$A422)), FIND(\"]\",INDEX(WS,ROWS($A$374:$A422)))+1,32))&T(NOW())","v":""},"","","","","","","","","","","",0]
[50,{"$f":"IF(O423>0,MAX($B$372:B422)+1,\"\")","v":""},{"$f":"IF(ISERROR(INDEX(WS,ROWS($A$374:$A423))),\"\",MID(INDEX(WS,ROWS($A$374:$A423)), FIND(\"]\",INDEX(WS,ROWS($A$374:$A423)))+1,32))&T(NOW())","v":""},"","","","","","","","","","","",0]
[51,{"$f":"IF(O424>0,MAX($B$372:B423)+1,\"\")","v":""},{"$f":"IF(ISERROR(INDEX(WS,ROWS($A$374:$A424))),\"\",MID(INDEX(WS,ROWS($A$374:$A424)), FIND(\"]\",INDEX(WS,ROWS($A$374:$A424)))+1,32))&T(NOW())","v":""},"","","","","","","","","","","",0]
[52,{"$f":"IF(O425>0,MAX($B$372:B424)+1,\"\")","v":""},{"$f":"IF(ISERROR(INDEX(WS,ROWS($A$374:$A425))),\"\",MID(INDEX(WS,ROWS($A$374:$A425)), FIND(\"]\",INDEX(WS,ROWS($A$374:$A425)))+1,32))&T(NOW())","v":""},"","","","","","","","","","","",0]
[53,{"$f":"IF(O426>0,MAX($B$372:B425)+1,\"\")","v":""},{"$f":"IF(ISERROR(INDEX(WS,ROWS($A$374:$A426))),\"\",MID(INDEX(WS,ROWS($A$374:$A426)), FIND(\"]\",INDEX(WS,ROWS($A$374:$A426)))+1,32))&T(NOW())","v":""},"","","","","","","","","","","",0]
[54,{"$f":"IF(O427>0,MAX($B$372:B426)+1,\"\")","v":""},{"$f":"IF(ISERROR(INDEX(WS,ROWS($A$374:$A427))),\"\",MID(INDEX(WS,ROWS($A$374:$A427)), FIND(\"]\",INDEX(WS,ROWS($A$374:$A427)))+1,32))&T(NOW())","v":""},"","","","","","","","","","","",0]
[55,{"$f":"IF(O428>0,MAX($B$372:B427)+1,\"\")","v":""},{"$f":"IF(ISERROR(INDEX(WS,ROWS($A$374:$A428))),\"\",MID(INDEX(WS,ROWS($A$374:$A428)), FIND(\"]\",INDEX(WS,ROWS($A$374:$A428)))+1,32))&T(NOW())","v":""},"","","","","","","","","","","",0]
[56,{"$f":"IF(O429>0,MAX($B$372:B428)+1,\"\")","v":""},{"$f":"IF(ISERROR(INDEX(WS,ROWS($A$374:$A429))),\"\",MID(INDEX(WS,ROWS($A$374:$A429)), FIND(\"]\",INDEX(WS,ROWS($A$374:$A429)))+1,32))&T(NOW())","v":""},"","","","","","","","","","","",0]
[57,{"$f":"IF(O430>0,MAX($B$372:B429)+1,\"\")","v":""},{"$f":"IF(ISERROR(INDEX(WS,ROWS($A$374:$A430))),\"\",MID(INDEX(WS,ROWS($A$374:$A430)), FIND(\"]\",INDEX(WS,ROWS($A$374:$A430)))+1,32))&T(NOW())","v":""},"","","","","","","","","","","",0]
[58,{"$f":"IF(O431>0,MAX($B$372:B430)+1,\"\")","v":""},{"$f":"IF(ISERROR(INDEX(WS,ROWS($A$374:$A431))),\"\",MID(INDEX(WS,ROWS($A$374:$A431)), FIND(\"]\",INDEX(WS,ROWS($A$374:$A431)))+1,32))&T(NOW())","v":""},"","","","","","","","","","","",0]
[59,{"$f":"IF(O432>0,MAX($B$372:B431)+1,\"\")","v":""},{"$f":"IF(ISERROR(INDEX(WS,ROWS($A$374:$A432))),\"\",MID(INDEX(WS,ROWS($A$374:$A432)), FIND(\"]\",INDEX(WS,ROWS($A$374:$A432)))+1,32))&T(NOW())","v":""},"","","","","","","","","","","",0]
[60,{"$f":"IF(O433>0,MAX($B$372:B432)+1,\"\")","v":""},{"$f":"IF(ISERROR(INDEX(WS,ROWS($A$374:$A433))),\"\",MID(INDEX(WS,ROWS($A$374:$A433)), FIND(\"]\",INDEX(WS,ROWS($A$374:$A433)))+1,32))&T(NOW())","v":""},"","","","","","","","","","","",0]
[61,{"$f":"IF(O434>0,MAX($B$372:B433)+1,\"\")","v":""},{"$f":"IF(ISERROR(INDEX(WS,ROWS($A$374:$A434))),\"\",MID(INDEX(WS,ROWS($A$374:$A434)), FIND(\"]\",INDEX(WS,ROWS($A$374:$A434)))+1,32))&T(NOW())","v":""},"","","","","","","","","","","",0]
[62,{"$f":"IF(O435>0,MAX($B$372:B434)+1,\"\")","v":""},{"$f":"IF(ISERROR(INDEX(WS,ROWS($A$374:$A435))),\"\",MID(INDEX(WS,ROWS($A$374:$A435)), FIND(\"]\",INDEX(WS,ROWS($A$374:$A435)))+1,32))&T(NOW())","v":""},"","","","","","","","","","","",0]
[63,{"$f":"IF(O436>0,MAX($B$372:B435)+1,\"\")","v":""},{"$f":"IF(ISERROR(INDEX(WS,ROWS($A$374:$A436))),\"\",MID(INDEX(WS,ROWS($A$374:$A436)), FIND(\"]\",INDEX(WS,ROWS($A$374:$A436)))+1,32))&T(NOW())","v":""},"","","","","","","","","","","",0]
[64,{"$f":"IF(O437>0,MAX($B$372:B436)+1,\"\")","v":""},{"$f":"IF(ISERROR(INDEX(WS,ROWS($A$374:$A437))),\"\",MID(INDEX(WS,ROWS($A$374:$A437)), FIND(\"]\",INDEX(WS,ROWS($A$374:$A437)))+1,32))&T(NOW())","v":""},"","","","","","","","","","","",0]
[65,{"$f":"IF(O438>0,MAX($B$372:B437)+1,\"\")","v":""},{"$f":"IF(ISERROR(INDEX(WS,ROWS($A$374:$A438))),\"\",MID(INDEX(WS,ROWS($A$374:$A438)), FIND(\"]\",INDEX(WS,ROWS($A$374:$A438)))+1,32))&T(NOW())","v":""},{"$f":"IF($C438<>\"\",INDIRECT(\"'\"&$C438&\"'\"&\"!y2\"),\"\")","v":""},{"$f":"IF($C438<>\"\",INDIRECT(\"'\"&$C438&\"'\"&\"!z2\"),\"\")","v":""},{"$f":"IF($C438<>\"\",INDIRECT(\"'\"&$C438&\"'\"&\"!aa2\"),\"\")","v":""},{"$f":"IF($C438<>\"\",INDIRECT(\"'\"&$C438&\"'\"&\"!ab2\"),\"\")","v":""},{"$f":"IF($C438<>\"\",INDIRECT(\"'\"&$C438&\"'\"&\"!ac2\"),\"\")","v":""},{"$f":"IF($C438<>\"\",INDIRECT(\"'\"&$C438&\"'\"&\"!ad2\"),\"\")","v":""},{"$f":"IF($C438<>\"\",INDIRECT(\"'\"&$C438&\"'\"&\"!ae2\"),\"\")","v":""},{"$f":"IF($C438<>\"\",INDIRECT(\"'\"&$C438&\"'\"&\"!af2\"),\"\")","v":""},{"$f":"IF($C438<>\"\",INDIRECT(\"'\"&$C438&\"'\"&\"!ag2\"),\"\")","v":""},"","",0]
[66,{"$f":"IF(O439>0,MAX($B$372:B438)+1,\"\")","v":""},{"$f":"IF(ISERROR(INDEX(WS,ROWS($A$374:$A439))),\"\",MID(INDEX(WS,ROWS($A$374:$A439)), FIND(\"]\",INDEX(WS,ROWS($A$374:$A439)))+1,32))&T(NOW())","v":""},"","","","","","","","","",{"$f":"IF($C439<>\"\",INDIRECT(\"'\"&$C439&\"'\"&\"!ah2\"),\"\")","v":""},{"$f":"IF($C439<>\"\",INDIRECT(\"'\"&$C439&\"'\"&\"!ai2\"),\"\")","v":""},{"$f":"SUM(E439:N439)","v":0}]
[67,{"$f":"IF(O440>0,MAX($B$372:B439)+1,\"\")","v":""},{"$f":"IF(ISERROR(INDEX(WS,ROWS($A$374:$A440))),\"\",MID(INDEX(WS,ROWS($A$374:$A440)), FIND(\"]\",INDEX(WS,ROWS($A$374:$A440)))+1,32))&T(NOW())","v":""},"","","","","","","","","","","",0]
[68,{"$f":"IF(O441>0,MAX($B$372:B440)+1,\"\")","v":""},{"$f":"IF(ISERROR(INDEX(WS,ROWS($A$374:$A441))),\"\",MID(INDEX(WS,ROWS($A$374:$A441)), FIND(\"]\",INDEX(WS,ROWS($A$374:$A441)))+1,32))&T(NOW())","v":""},"","","","","","","","","","","",0]
[69,{"$f":"IF(O442>0,MAX($B$372:B441)+1,\"\")","v":""},{"$f":"IF(ISERROR(INDEX(WS,ROWS($A$374:$A442))),\"\",MID(INDEX(WS,ROWS($A$374:$A442)), FIND(\"]\",INDEX(WS,ROWS($A$374:$A442)))+1,32))&T(NOW())","v":""},"","","","","","","","","","","",0]
[70,{"$f":"IF(O443>0,MAX($B$372:B442)+1,\"\")","v":""},{"$f":"IF(ISERROR(INDEX(WS,ROWS($A$374:$A443))),\"\",MID(INDEX(WS,ROWS($A$374:$A443)), FIND(\"]\",INDEX(WS,ROWS($A$374:$A443)))+1,32))&T(NOW())","v":""},"","","","","","","","","","","",0]
[71,{"$f":"IF(O444>0,MAX($B$372:B443)+1,\"\")","v":""},{"$f":"IF(ISERROR(INDEX(WS,ROWS($A$374:$A444))),\"\",MID(INDEX(WS,ROWS($A$374:$A444)), FIND(\"]\",INDEX(WS,ROWS($A$374:$A444)))+1,32))&T(NOW())","v":""},"","","","","","","","","","","",0]
[72,{"$f":"IF(O445>0,MAX($B$372:B444)+1,\"\")","v":""},{"$f":"IF(ISERROR(INDEX(WS,ROWS($A$374:$A445))),\"\",MID(INDEX(WS,ROWS($A$374:$A445)), FIND(\"]\",INDEX(WS,ROWS($A$374:$A445)))+1,32))&T(NOW())","v":""},"","","","","","","","","","","",0]
[73,{"$f":"IF(O446>0,MAX($B$372:B445)+1,\"\")","v":""},{"$f":"IF(ISERROR(INDEX(WS,ROWS($A$374:$A446))),\"\",MID(INDEX(WS,ROWS($A$374:$A446)), FIND(\"]\",INDEX(WS,ROWS($A$374:$A446)))+1,32))&T(NOW())","v":""},"","","","","","","","","","","",0]
[74,{"$f":"IF(O447>0,MAX($B$372:B446)+1,\"\")","v":""},{"$f":"IF(ISERROR(INDEX(WS,ROWS($A$374:$A447))),\"\",MID(INDEX(WS,ROWS($A$374:$A447)), FIND(\"]\",INDEX(WS,ROWS($A$374:$A447)))+1,32))&T(NOW())","v":""},"","","","","","","","","","","",0]
[75,{"$f":"IF(O448>0,MAX($B$372:B447)+1,\"\")","v":""},{"$f":"IF(ISERROR(INDEX(WS,ROWS($A$374:$A448))),\"\",MID(INDEX(WS,ROWS($A$374:$A448)), FIND(\"]\",INDEX(WS,ROWS($A$374:$A448)))+1,32))&T(NOW())","v":""},"","","","","","","","","","","",0]
[76,{"$f":"IF(O449>0,MAX($B$372:B448)+1,\"\")","v":""},{"$f":"IF(ISERROR(INDEX(WS,ROWS($A$374:$A449))),\"\",MID(INDEX(WS,ROWS($A$374:$A449)), FIND(\"]\",INDEX(WS,ROWS($A$374:$A449)))+1,32))&T(NOW())","v":""},"","","","","","","","","","","",0]
[77,{"$f":"IF(O450>0,MAX($B$372:B449)+1,\"\")","v":""},{"$f":"IF(ISERROR(INDEX(WS,ROWS($A$374:$A450))),\"\",MID(INDEX(WS,ROWS($A$374:$A450)), FIND(\"]\",INDEX(WS,ROWS($A$374:$A450)))+1,32))&T(NOW())","v":""},"","","","","","","","","","","",0]
[78,{"$f":"IF(O451>0,MAX($B$372:B450)+1,\"\")","v":""},{"$f":"IF(ISERROR(INDEX(WS,ROWS($A$374:$A451))),\"\",MID(INDEX(WS,ROWS($A$374:$A451)), FIND(\"]\",INDEX(WS,ROWS($A$374:$A451)))+1,32))&T(NOW())","v":""},"","","","","","","","","","","",0]
[79,{"$f":"IF(O452>0,MAX($B$372:B451)+1,\"\")","v":""},{"$f":"IF(ISERROR(INDEX(WS,ROWS($A$374:$A452))),\"\",MID(INDEX(WS,ROWS($A$374:$A452)), FIND(\"]\",INDEX(WS,ROWS($A$374:$A452)))+1,32))&T(NOW())","v":""},"","","","","","","","","","","",0]
[80,{"$f":"IF(O453>0,MAX($B$372:B452)+1,\"\")","v":""},{"$f":"IF(ISERROR(INDEX(WS,ROWS($A$374:$A453))),\"\",MID(INDEX(WS,ROWS($A$374:$A453)), FIND(\"]\",INDEX(WS,ROWS($A$374:$A453)))+1,32))&T(NOW())","v":""},"","","","","","","","","","","",0]
[81,{"$f":"IF(O454>0,MAX($B$372:B453)+1,\"\")","v":""},{"$f":"IF(ISERROR(INDEX(WS,ROWS($A$374:$A454))),\"\",MID(INDEX(WS,ROWS($A$374:$A454)), FIND(\"]\",INDEX(WS,ROWS($A$374:$A454)))+1,32))&T(NOW())","v":""},"","","","","","","","","","","",0]
[82,{"$f":"IF(O455>0,MAX($B$372:B454)+1,\"\")","v":""},{"$f":"IF(ISERROR(INDEX(WS,ROWS($A$374:$A455))),\"\",MID(INDEX(WS,ROWS($A$374:$A455)), FIND(\"]\",INDEX(WS,ROWS($A$374:$A455)))+1,32))&T(NOW())","v":""},"","","","","","","","","","","",0]
[83,{"$f":"IF(O456>0,MAX($B$372:B455)+1,\"\")","v":""},{"$f":"IF(ISERROR(INDEX(WS,ROWS($A$374:$A456))),\"\",MID(INDEX(WS,ROWS($A$374:$A456)), FIND(\"]\",INDEX(WS,ROWS($A$374:$A456)))+1,32))&T(NOW())","v":""},"","","","","","","","","","","",0]
[84,{"$f":"IF(O457>0,MAX($B$372:B456)+1,\"\")","v":""},{"$f":"IF(ISERROR(INDEX(WS,ROWS($A$374:$A457))),\"\",MID(INDEX(WS,ROWS($A$374:$A457)), FIND(\"]\",INDEX(WS,ROWS($A$374:$A457)))+1,32))&T(NOW())","v":""},"","","","","","","","","","","",0]
[85,{"$f":"IF(O458>0,MAX($B$372:B457)+1,\"\")","v":""},{"$f":"IF(ISERROR(INDEX(WS,ROWS($A$374:$A458))),\"\",MID(INDEX(WS,ROWS($A$374:$A458)), FIND(\"]\",INDEX(WS,ROWS($A$374:$A458)))+1,32))&T(NOW())","v":""},"","","","","","","","","","","",0]
[86,{"$f":"IF(O459>0,MAX($B$372:B458)+1,\"\")","v":""},{"$f":"IF(ISERROR(INDEX(WS,ROWS($A$374:$A459))),\"\",MID(INDEX(WS,ROWS($A$374:$A459)), FIND(\"]\",INDEX(WS,ROWS($A$374:$A459)))+1,32))&T(NOW())","v":""},"","","","","","","","","","","",0]
[87,{"$f":"IF(O460>0,MAX($B$372:B459)+1,\"\")","v":""},{"$f":"IF(ISERROR(INDEX(WS,ROWS($A$374:$A460))),\"\",MID(INDEX(WS,ROWS($A$374:$A460)), FIND(\"]\",INDEX(WS,ROWS($A$374:$A460)))+1,32))&T(NOW())","v":""},"","","","","","","","","","","",0]
[88,{"$f":"IF(O461>0,MAX($B$372:B460)+1,\"\")","v":""},{"$f":"IF(ISERROR(INDEX(WS,ROWS($A$374:$A461))),\"\",MID(INDEX(WS,ROWS($A$374:$A461)), FIND(\"]\",INDEX(WS,ROWS($A$374:$A461)))+1,32))&T(NOW())","v":""},"","","","","","","","","","","",0]
[89,{"$f":"IF(O462>0,MAX($B$372:B461)+1,\"\")","v":""},{"$f":"IF(ISERROR(INDEX(WS,ROWS($A$374:$A462))),\"\",MID(INDEX(WS,ROWS($A$374:$A462)), FIND(\"]\",INDEX(WS,ROWS($A$374:$A462)))+1,32))&T(NOW())","v":""},"","","","","","","","","","","",0]
[90,{"$f":"IF(O463>0,MAX($B$372:B462)+1,\"\")","v":""},{"$f":"IF(ISERROR(INDEX(WS,ROWS($A$374:$A463))),\"\",MID(INDEX(WS,ROWS($A$374:$A463)), FIND(\"]\",INDEX(WS,ROWS($A$374:$A463)))+1,32))&T(NOW())","v":""},"","","","","","","","","","","",0]
[91,{"$f":"IF(O464>0,MAX($B$372:B463)+1,\"\")","v":""},{"$f":"IF(ISERROR(INDEX(WS,ROWS($A$374:$A464))),\"\",MID(INDEX(WS,ROWS($A$374:$A464)), FIND(\"]\",INDEX(WS,ROWS($A$374:$A464)))+1,32))&T(NOW())","v":""},"","","","","","","","","","","",0]
[92,{"$f":"IF(O465>0,MAX($B$372:B464)+1,\"\")","v":""},{"$f":"IF(ISERROR(INDEX(WS,ROWS($A$374:$A465))),\"\",MID(INDEX(WS,ROWS($A$374:$A465)), FIND(\"]\",INDEX(WS,ROWS($A$374:$A465)))+1,32))&T(NOW())","v":""},"","","","","","","","","","","",0]
[93,{"$f":"IF(O466>0,MAX($B$372:B465)+1,\"\")","v":""},{"$f":"IF(ISERROR(INDEX(WS,ROWS($A$374:$A466))),\"\",MID(INDEX(WS,ROWS($A$374:$A466)), FIND(\"]\",INDEX(WS,ROWS($A$374:$A466)))+1,32))&T(NOW())","v":""},"","","","","","","","","","","",0]
[94,{"$f":"IF(O467>0,MAX($B$372:B466)+1,\"\")","v":""},{"$f":"IF(ISERROR(INDEX(WS,ROWS($A$374:$A467))),\"\",MID(INDEX(WS,ROWS($A$374:$A467)), FIND(\"]\",INDEX(WS,ROWS($A$374:$A467)))+1,32))&T(NOW())","v":""},"","","","","","","","","","","",0]
[95,{"$f":"IF(O468>0,MAX($B$372:B467)+1,\"\")","v":""},{"$f":"IF(ISERROR(INDEX(WS,ROWS($A$374:$A468))),\"\",MID(INDEX(WS,ROWS($A$374:$A468)), FIND(\"]\",INDEX(WS,ROWS($A$374:$A468)))+1,32))&T(NOW())","v":""},"","","","","","","","","","","",0]
[96,{"$f":"IF(O469>0,MAX($B$372:B468)+1,\"\")","v":""},{"$f":"IF(ISERROR(INDEX(WS,ROWS($A$374:$A469))),\"\",MID(INDEX(WS,ROWS($A$374:$A469)), FIND(\"]\",INDEX(WS,ROWS($A$374:$A469)))+1,32))&T(NOW())","v":""},"","","","","","","","","","","",0]
[97,{"$f":"IF(O470>0,MAX($B$372:B469)+1,\"\")","v":""},{"$f":"IF(ISERROR(INDEX(WS,ROWS($A$374:$A470))),\"\",MID(INDEX(WS,ROWS($A$374:$A470)), FIND(\"]\",INDEX(WS,ROWS($A$374:$A470)))+1,32))&T(NOW())","v":""},"","","","","","","","","","","",0]
[98,{"$f":"IF(O471>0,MAX($B$372:B470)+1,\"\")","v":""},{"$f":"IF(ISERROR(INDEX(WS,ROWS($A$374:$A471))),\"\",MID(INDEX(WS,ROWS($A$374:$A471)), FIND(\"]\",INDEX(WS,ROWS($A$374:$A471)))+1,32))&T(NOW())","v":""},"","","","","","","","","","","",0]
[99,{"$f":"IF(O472>0,MAX($B$372:B471)+1,\"\")","v":""},{"$f":"IF(ISERROR(INDEX(WS,ROWS($A$374:$A472))),\"\",MID(INDEX(WS,ROWS($A$374:$A472)), FIND(\"]\",INDEX(WS,ROWS($A$374:$A472)))+1,32))&T(NOW())","v":""},"","","","","","","","","","","",0]
[100,{"$f":"IF(O473>0,MAX($B$372:B472)+1,\"\")","v":""},{"$f":"IF(ISERROR(INDEX(WS,ROWS($A$374:$A473))),\"\",MID(INDEX(WS,ROWS($A$374:$A473)), FIND(\"]\",INDEX(WS,ROWS($A$374:$A473)))+1,32))&T(NOW())","v":""},"","","","","","","","","","","",0]
{"$rows_empty":1313}
[{"$nulls":7},"prvi red",{"$nulls":9},"drugi red",{"$nulls":4},"treci red",{"$nulls":4},"treci red",{"$nulls":9},"cetvrti red",{"$nulls":9},"5 red",{"$nulls":9},"6 red",{"$nulls":9},"7 red",{"$nulls":9},"8 red",{"$nulls":9},"9 red",{"$nulls":9},"10 red",{"$nulls":9},"11 red",{"$nulls":9},"12 red",{"$nulls":9},"13 red",{"$nulls":9},"14 red",{"$nulls":9},"15 red",{"$nulls":9},"16 red",{"$nulls":9},"17 red",{"$nulls":8},"Suma"]
[{"$nulls":3},{"$f":"IF($B1788<>\"\",INDIRECT(\"'\"&$B1788&\"'\"&\"!z2\"),\"\")","v":""},{"$f":"IF($B1788<>\"\",INDIRECT(\"'\"&$B1788&\"'\"&\"!aa2\"),\"\")","v":""},{"$f":"IF($B1788<>\"\",INDIRECT(\"'\"&$B1788&\"'\"&\"!ab2\"),\"\")","v":""},{"$f":"IF($B1788<>\"\",INDIRECT(\"'\"&$B1788&\"'\"&\"!ac2\"),\"\")","v":""},2015,2016,2017,2018,2019,null,{"$f":"IF($B1788<>\"\",INDIRECT(\"'\"&$B1788&\"'\"&\"!z2\"),\"\")","v":""},{"$f":"IF($B1788<>\"\",INDIRECT(\"'\"&$B1788&\"'\"&\"!aa2\"),\"\")","v":""},{"$f":"IF($B1788<>\"\",INDIRECT(\"'\"&$B1788&\"'\"&\"!ab2\"),\"\")","v":""},{"$f":"IF($B1788<>\"\",INDIRECT(\"'\"&$B1788&\"'\"&\"!ac2\"),\"\")","v":""},2015,2016,2017,2018,2019,null,{"$f":"IF($B1788<>\"\",INDIRECT(\"'\"&$B1788&\"'\"&\"!z2\"),\"\")","v":""},{"$f":"IF($B1788<>\"\",INDIRECT(\"'\"&$B1788&\"'\"&\"!aa2\"),\"\")","v":""},{"$f":"IF($B1788<>\"\",INDIRECT(\"'\"&$B1788&\"'\"&\"!ab2\"),\"\")","v":""},{"$f":"IF($B1788<>\"\",INDIRECT(\"'\"&$B1788&\"'\"&\"!ac2\"),\"\")","v":""},2015,2016,2017,2018,2019,null,{"$f":"IF($B1788<>\"\",INDIRECT(\"'\"&$B1788&\"'\"&\"!z2\"),\"\")","v":""},{"$f":"IF($B1788<>\"\",INDIRECT(\"'\"&$B1788&\"'\"&\"!aa2\"),\"\")","v":""},{"$f":"IF($B1788<>\"\",INDIRECT(\"'\"&$B1788&\"'\"&\"!ab2\"),\"\")","v":""},{"$f":"IF($B1788<>\"\",INDIRECT(\"'\"&$B1788&\"'\"&\"!ac2\"),\"\")","v":""},2015,2016,2017,2018,2019,null,{"$f":"IF($B1788<>\"\",INDIRECT(\"'\"&$B1788&\"'\"&\"!z2\"),\"\")","v":""},{"$f":"IF($B1788<>\"\",INDIRECT(\"'\"&$B1788&\"'\"&\"!aa2\"),\"\")","v":""},{"$f":"IF($B1788<>\"\",INDIRECT(\"'\"&$B1788&\"'\"&\"!ab2\"),\"\")","v":""},{"$f":"IF($B1788<>\"\",INDIRECT(\"'\"&$B1788&\"'\"&\"!ac2\"),\"\")","v":""},2015,2016,2017,2018,2019,null,{"$f":"IF($B1788<>\"\",INDIRECT(\"'\"&$B1788&\"'\"&\"!z2\"),\"\")","v":""},{"$f":"IF($B1788<>\"\",INDIRECT(\"'\"&$B1788&\"'\"&\"!aa2\"),\"\")","v":""},{"$f":"IF($B1788<>\"\",INDIRECT(\"'\"&$B1788&\"'\"&\"!ab2\"),\"\")","v":""},{"$f":"IF($B1788<>\"\",INDIRECT(\"'\"&$B1788&\"'\"&\"!ac2\"),\"\")","v":""},2015,2016,2017,2018,2019,null,{"$f":"IF($B1788<>\"\",INDIRECT(\"'\"&$B1788&\"'\"&\"!z2\"),\"\")","v":""},{"$f":"IF($B1788<>\"\",INDIRECT(\"'\"&$B1788&\"'\"&\"!aa2\"),\"\")","v":""},{"$f":"IF($B1788<>\"\",INDIRECT(\"'\"&$B1788&\"'\"&\"!ab2\"),\"\")","v":""},{"$f":"IF($B1788<>\"\",INDIRECT(\"'\"&$B1788&\"'\"&\"!ac2\"),\"\")","v":""},2015,2016,2017,2018,2019,null,{"$f":"IF($B1788<>\"\",INDIRECT(\"'\"&$B1788&\"'\"&\"!z2\"),\"\")","v":""},{"$f":"IF($B1788<>\"\",INDIRECT(\"'\"&$B1788&\"'\"&\"!aa2\"),\"\")","v":""},{"$f":"IF($B1788<>\"\",INDIRECT(\"'\"&$B1788&\"'\"&\"!ab2\"),\"\")","v":""},{"$f":"IF($B1788<>\"\",INDIRECT(\"'\"&$B1788&\"'\"&\"!ac2\"),\"\")","v":""},2015,2016,2017,2018,2019,null,{"$f":"IF($B1788<>\"\",INDIRECT(\"'\"&$B1788&\"'\"&\"!z2\"),\"\")","v":""},{"$f":"IF($B1788<>\"\",INDIRECT(\"'\"&$B1788&\"'\"&\"!aa2\"),\"\")","v":""},{"$f":"IF($B1788<>\"\",INDIRECT(\"'\"&$B1788&\"'\"&\"!ab2\"),\"\")","v":""},{"$f":"IF($B1788<>\"\",INDIRECT(\"'\"&$B1788&\"'\"&\"!ac2\"),\"\")","v":""},2015,2016,2017,2018,2019,null,{"$f":"IF($B1788<>\"\",INDIRECT(\"'\"&$B1788&\"'\"&\"!z2\"),\"\")","v":""},{"$f":"IF($B1788<>\"\",INDIRECT(\"'\"&$B1788&\"'\"&\"!aa2\"),\"\")","v":""},{"$f":"IF($B1788<>\"\",INDIRECT(\"'\"&$B1788&\"'\"&\"!ab2\"),\"\")","v":""},{"$f":"IF($B1788<>\"\",INDIRECT(\"'\"&$B1788&\"'\"&\"!ac2\"),\"\")","v":""},2015,2016,2017,2018,2019,null,{"$f":"IF($B1788<>\"\",INDIRECT(\"'\"&$B1788&\"'\"&\"!z2\"),\"\")","v":""},{"$f":"IF($B1788<>\"\",INDIRECT(\"'\"&$B1788&\"'\"&\"!aa2\"),\"\")","v":""},{"$f":"IF($B1788<>\"\",INDIRECT(\"'\"&$B1788&\"'\"&\"!ab2\"),\"\")","v":""},{"$f":"IF($B1788<>\"\",INDIRECT(\"'\"&$B1788&\"'\"&\"!ac2\"),\"\")","v":""},2015,2016,2017,2018,2019,null,{"$f":"IF($B1788<>\"\",INDIRECT(\"'\"&$B1788&\"'\"&\"!z2\"),\"\")","v":""},{"$f":"IF($B1788<>\"\",INDIRECT(\"'\"&$B1788&\"'\"&\"!aa2\"),\"\")","v":""},{"$f":"IF($B1788<>\"\",INDIRECT(\"'\"&$B1788&\"'\"&\"!ab2\"),\"\")","v":""},{"$f":"IF($B1788<>\"\",INDIRECT(\"'\"&$B1788&\"'\"&\"!ac2\"),\"\")","v":""},2015,2016,2017,2018,2019,null,{"$f":"IF($B1788<>\"\",INDIRECT(\"'\"&$B1788&\"'\"&\"!z2\"),\"\")","v":""},{"$f":"IF($B1788<>\"\",INDIRECT(\"'\"&$B1788&\"'\"&\"!aa2\"),\"\")","v":""},{"$f":"IF($B1788<>\"\",INDIRECT(\"'\"&$B1788&\"'\"&\"!ab2\"),\"\")","v":""},{"$f":"IF($B1788<>\"\",INDIRECT(\"'\"&$B1788&\"'\"&\"!ac2\"),\"\")","v":""},2015,2016,2017,2018,2019,null,{"$f":"IF($B1788<>\"\",INDIRECT(\"'\"&$B1788&\"'\"&\"!z2\"),\"\")","v":""},{"$f":"IF($B1788<>\"\",INDIRECT(\"'\"&$B1788&\"'\"&\"!aa2\"),\"\")","v":""},{"$f":"IF($B1788<>\"\",INDIRECT(\"'\"&$B1788&\"'\"&\"!ab2\"),\"\")","v":""},{"$f":"IF($B1788<>\"\",INDIRECT(\"'\"&$B1788&\"'\"&\"!ac2\"),\"\")","v":""},2015,2016,2017,2018,2019,null,{"$f":"IF($B1788<>\"\",INDIRECT(\"'\"&$B1788&\"'\"&\"!z2\"),\"\")","v":""},{"$f":"IF($B1788<>\"\",INDIRECT(\"'\"&$B1788&\"'\"&\"!aa2\"),\"\")","v":""},{"$f":"IF($B1788<>\"\",INDIRECT(\"'\"&$B1788&\"'\"&\"!ab2\"),\"\")","v":""},{"$f":"IF($B1788<>\"\",INDIRECT(\"'\"&$B1788&\"'\"&\"!ac2\"),\"\")","v":""},2015,2016,2017,2018,2019,null,{"$f":"IF($B1788<>\"\",INDIRECT(\"'\"&$B1788&\"'\"&\"!z2\"),\"\")","v":""},{"$f":"IF($B1788<>\"\",INDIRECT(\"'\"&$B1788&\"'\"&\"!aa2\"),\"\")","v":""},{"$f":"IF($B1788<>\"\",INDIRECT(\"'\"&$B1788&\"'\"&\"!ab2\"),\"\")","v":""},{"$f":"IF($B1788<>\"\",INDIRECT(\"'\"&$B1788&\"'\"&\"!ac2\"),\"\")","v":""},2015,2016,2017,2018,2019,null,{"$f":"IF($B1788<>\"\",INDIRECT(\"'\"&$B1788&\"'\"&\"!z2\"),\"\")","v":""},{"$f":"IF($B1788<>\"\",INDIRECT(\"'\"&$B1788&\"'\"&\"!aa2\"),\"\")","v":""},{"$f":"IF($B1788<>\"\",INDIRECT(\"'\"&$B1788&\"'\"&\"!ab2\"),\"\")","v":""},{"$f":"IF($B1788<>\"\",INDIRECT(\"'\"&$B1788&\"'\"&\"!ac2\"),\"\")","v":""},2015,2016,2017,2018,2019,{"$nulls":4},2015,2016,2017,2018,2019,"UKUPNO"]
[null,null,"01 - Приходи из буџета",{"$nulls":4},{"$f":"SUMIF(C$1810:C$1909,$C1789,D$1810:E$1909)","v":{"v":3750000,"d":"3,750,000"}},{"$f":"SUMIF(C$1810:C$1909,$C1789,F$1810:G$1909)","v":{"v":1502000,"d":"1,502,000"}},{"$f":"SUMIF(C$1810:C$1909,$C1789,H$1810:I$1909)","v":{"v":1760000,"d":"1,760,000"}},{"$f":"SUMIF(C$1810:C$1909,$C1789,J$1810:K$1909)","v":{"v":1500000,"d":"1,500,000"}},{"$f":"SUMIF(C$1810:C$1909,$C1789,L$1810:L$1909)","v":{"v":1500000,"d":"1,500,000"}},"01 - Приходи из буџета",{"$f":"IF($B1789<>\"\",INDIRECT(\"'\"&$B1789&\"'\"&\"!z2\"),\"\")","v":""},{"$f":"IF($B1789<>\"\",INDIRECT(\"'\"&$B1789&\"'\"&\"!aa2\"),\"\")","v":""},{"$f":"IF($B1789<>\"\",INDIRECT(\"'\"&$B1789&\"'\"&\"!ab2\"),\"\")","v":""},{"$f":"IF($B1789<>\"\",INDIRECT(\"'\"&$B1789&\"'\"&\"!ac2\"),\"\")","v":""},{"$f":"SUMIF(M$1810:M$1909,$C1789,N$1810:O$1909)","v":0},{"$f":"SUMIF(M$1810:M$1909,$C1789,P$1810:Q$1909)","v":0},{"$f":"SUMIF(M$1810:M$1909,$C1789,R$1810:S$1909)","v":0},{"$f":"SUMIF(M$1810:M$1909,$C1789,T$1810:U$1909)","v":0},{"$f":"SUMIF(M$1810:M$1909,$C1789,V$1810:V$1909)","v":0},"01 - Приходи из буџета",{"$f":"IF($B1789<>\"\",INDIRECT(\"'\"&$B1789&\"'\"&\"!z2\"),\"\")","v":""},{"$f":"IF($B1789<>\"\",INDIRECT(\"'\"&$B1789&\"'\"&\"!aa2\"),\"\")","v":""},{"$f":"IF($B1789<>\"\",INDIRECT(\"'\"&$B1789&\"'\"&\"!ab2\"),\"\")","v":""},{"$f":"IF($B1789<>\"\",INDIRECT(\"'\"&$B1789&\"'\"&\"!ac2\"),\"\")","v":""},{"$f":"SUMIF(W$1810:W$1909,$C1789,X$1810:Y$1909)","v":0},{"$f":"SUMIF(W$1810:W$1909,$C1789,Z$1810:AA$1909)","v":0},{"$f":"SUMIF(W$1810:W$1909,$C1789,AB$1810:AC$1909)","v":0},{"$f":"SUMIF(W$1810:W$1909,$C1789,AD$1810:AE$1909)","v":0},{"$f":"SUMIF(W$1810:W$1909,$C1789,AF$1810:AF$1909)","v":0},"01 - Приходи из буџета",{"$f":"IF($B1789<>\"\",INDIRECT(\"'\"&$B1789&\"'\"&\"!z2\"),\"\")","v":""},{"$f":"IF($B1789<>\"\",INDIRECT(\"'\"&$B1789&\"'\"&\"!aa2\"),\"\")","v":""},{"$f":"IF($B1789<>\"\",INDIRECT(\"'\"&$B1789&\"'\"&\"!ab2\"),\"\")","v":""},{"$f":"IF($B1789<>\"\",INDIRECT(\"'\"&$B1789&\"'\"&\"!ac2\"),\"\")","v":""},{"$f":"SUMIF(AG$1810:AG$1909,$C1789,AH$1810:AI$1909)","v":0},{"$f":"SUMIF(AG$1810:AG$1909,$C1789,AJ$1810:AK$1909)","v":0},{"$f":"SUMIF(AG$1810:AG$1909,$C1789,AL$1810:AM$1909)","v":0},{"$f":"SUMIF(AG$1810:AG$1909,$C1789,AN$1810:AO$1909)","v":0},{"$f":"SUMIF(AG$1810:AG$1909,$C1789,AP$1810:AP$1909)","v":0},"01 - Приходи из буџета",{"$f":"IF($B1789<>\"\",INDIRECT(\"'\"&$B1789&\"'\"&\"!z2\"),\"\")","v":""},{"$f":"IF($B1789<>\"\",INDIRECT(\"'\"&$B1789&\"'\"&\"!aa2\"),\"\")","v":""},{"$f":"IF($B1789<>\"\",INDIRECT(\"'\"&$B1789&\"'\"&\"!ab2\"),\"\")","v":""},{"$f":"IF($B1789<>\"\",INDIRECT(\"'\"&$B1789&\"'\"&\"!ac2\"),\"\")","v":""},{"$f":"SUMIF(AQ$1810:AQ$1909,$C1789,AR$1810:AS$1909)","v":0},{"$f":"SUMIF(AQ$1810:AQ$1909,$C1789,AT$1810:AU$1909)","v":0},{"$f":"SUMIF(AQ$1810:AQ$1909,$C1789,AV$1810:AW$1909)","v":0},{"$f":"SUMIF(AQ$1810:AQ$1909,$C1789,AX$1810:AY$1909)","v":0},{"$f":"SUMIF(AQ$1810:AQ$1909,$C1789,AZ$1810:AZ$1909)","v":0},"01 - Приходи из буџета",{"$f":"IF($B1789<>\"\",INDIRECT(\"'\"&$B1789&\"'\"&\"!z2\"),\"\")","v":""},{"$f":"IF($B1789<>\"\",INDIRECT(\"'\"&$B1789&\"'\"&\"!aa2\"),\"\")","v":""},{"$f":"IF($B1789<>\"\",INDIRECT(\"'\"&$B1789&\"'\"&\"!ab2\"),\"\")","v":""},{"$f":"IF($B1789<>\"\",INDIRECT(\"'\"&$B1789&\"'\"&\"!ac2\"),\"\")","v":""},{"$f":"SUMIF(BA$1810:BA$1909,$C1789,BB$1810:BC$1909)","v":0},{"$f":"SUMIF(BA$1810:BA$1909,$C1789,BD$1810:BE$1909)","v":0},{"$f":"SUMIF(BA$1810:BA$1909,$C1789,BF$1810:BG$1909)","v":0},{"$f":"SUMIF(BA$1810:BA$1909,$C1789,BH$1810:BI$1909)","v":0},{"$f":"SUMIF(BA$1810:BA$1909,$C1789,BJ$1810:BJ$1909)","v":0},"01 - Приходи из буџета",{"$f":"IF($B1789<>\"\",INDIRECT(\"'\"&$B1789&\"'\"&\"!z2\"),\"\")","v":""},{"$f":"IF($B1789<>\"\",INDIRECT(\"'\"&$B1789&\"'\"&\"!aa2\"),\"\")","v":""},{"$f":"IF($B1789<>\"\",INDIRECT(\"'\"&$B1789&\"'\"&\"!ab2\"),\"\")","v":""},{"$f":"IF($B1789<>\"\",INDIRECT(\"'\"&$B1789&\"'\"&\"!ac2\"),\"\")","v":""},{"$f":"SUMIF(BK$1810:BK$1909,$C1789,BL$1810:BM$1909)","v":0},{"$f":"SUMIF(BK$1810:BK$1909,$C1789,BN$1810:BO$1909)","v":0},{"$f":"SUMIF(BK$1810:BK$1909,$C1789,BP$1810:BQ$1909)","v":0},{"$f":"SUMIF(BK$1810:BK$1909,$C1789,BR$1810:BS$1909)","v":0},{"$f":"SUMIF(BK$1810:BK$1909,$C1789,BT$1810:BT$1909)","v":0},"01 - Приходи из буџета",{"$f":"IF($B1789<>\"\",INDIRECT(\"'\"&$B1789&\"'\"&\"!z2\"),\"\")","v":""},{"$f":"IF($B1789<>\"\",INDIRECT(\"'\"&$B1789&\"'\"&\"!aa2\"),\"\")","v":""},{"$f":"IF($B1789<>\"\",INDIRECT(\"'\"&$B1789&\"'\"&\"!ab2\"),\"\")","v":""},{"$f":"IF($B1789<>\"\",INDIRECT(\"'\"&$B1789&\"'\"&\"!ac2\"),\"\")","v":""},{"$f":"SUMIF(BU$1810:BU$1909,$C1789,BV$1810:BW$1909)","v":0},{"$f":"SUMIF(BU$1810:BU$1909,$C1789,BX$1810:BY$1909)","v":0},{"$f":"SUMIF(BU$1810:BU$1909,$C1789,BZ$1810:CA$1909)","v":0},{"$f":"SUMIF(BU$1810:BU$1909,$C1789,CB$1810:CC$1909)","v":0},{"$f":"SUMIF(BU$1810:BU$1909,$C1789,CD$1810:CD$1909)","v":0},"01 - Приходи из буџета",{"$f":"IF($B1789<>\"\",INDIRECT(\"'\"&$B1789&\"'\"&\"!z2\"),\"\")","v":""},{"$f":"IF($B1789<>\"\",INDIRECT(\"'\"&$B1789&\"'\"&\"!aa2\"),\"\")","v":""},{"$f":"IF($B1789<>\"\",INDIRECT(\"'\"&$B1789&\"'\"&\"!ab2\"),\"\")","v":""},{"$f":"IF($B1789<>\"\",INDIRECT(\"'\"&$B1789&\"'\"&\"!ac2\"),\"\")","v":""},{"$f":"SUMIF(CE$1810:CE$1909,$C1789,CF$1810:CG$1909)","v":0},{"$f":"SUMIF(CE$1810:CE$1909,$C1789,CH$1810:CI$1909)","v":0},{"$f":"SUMIF(CE$1810:CE$1909,$C1789,CJ$1810:CK$1909)","v":0},{"$f":"SUMIF(CE$1810:CE$1909,$C1789,CL$1810:CM$1909)","v":0},{"$f":"SUMIF(CE$1810:CE$1909,$C1789,CN$1810:CN$1909)","v":0},"01 - Приходи из буџета",{"$f":"IF($B1789<>\"\",INDIRECT(\"'\"&$B1789&\"'\"&\"!z2\"),\"\")","v":""},{"$f":"IF($B1789<>\"\",INDIRECT(\"'\"&$B1789&\"'\"&\"!aa2\"),\"\")","v":""},{"$f":"IF($B1789<>\"\",INDIRECT(\"'\"&$B1789&\"'\"&\"!ab2\"),\"\")","v":""},{"$f":"IF($B1789<>\"\",INDIRECT(\"'\"&$B1789&\"'\"&\"!ac2\"),\"\")","v":""},{"$f":"SUMIF(CO$1810:CO$1909,$C1789,CP$1810:CQ$1909)","v":0},{"$f":"SUMIF(CO$1810:CO$1909,$C1789,CR$1810:CS$1909)","v":0},{"$f":"SUMIF(CO$1810:CO$1909,$C1789,CT$1810:CU$1909)","v":0},{"$f":"SUMIF(CO$1810:CO$1909,$C1789,CV$1810:CW$1909)","v":0},{"$f":"SUMIF(CO$1810:CO$1909,$C1789,CX$1810:CX$1909)","v":0},"01 - Приходи из буџета",{"$f":"IF($B1789<>\"\",INDIRECT(\"'\"&$B1789&\"'\"&\"!z2\"),\"\")","v":""},{"$f":"IF($B1789<>\"\",INDIRECT(\"'\"&$B1789&\"'\"&\"!aa2\"),\"\")","v":""},{"$f":"IF($B1789<>\"\",INDIRECT(\"'\"&$B1789&\"'\"&\"!ab2\"),\"\")","v":""},{"$f":"IF($B1789<>\"\",INDIRECT(\"'\"&$B1789&\"'\"&\"!ac2\"),\"\")","v":""},{"$f":"SUMIF(CY$1810:CY$1909,$C1789,CZ$1810:DA$1909)","v":0},{"$f":"SUMIF(CY$1810:CY$1909,$C1789,DB$1810:DC$1909)","v":0},{"$f":"SUMIF(CY$1810:CY$1909,$C1789,DD$1810:DE$1909)","v":0},{"$f":"SUMIF(CY$1810:CY$1909,$C1789,DF$1810:DG$1909)","v":0},{"$f":"SUMIF(CY$1810:CY$1909,$C1789,DH$1810:DH$1909)","v":0},"01 - Приходи из буџета",{"$f":"IF($B1789<>\"\",INDIRECT(\"'\"&$B1789&\"'\"&\"!z2\"),\"\")","v":""},{"$f":"IF($B1789<>\"\",INDIRECT(\"'\"&$B1789&\"'\"&\"!aa2\"),\"\")","v":""},{"$f":"IF($B1789<>\"\",INDIRECT(\"'\"&$B1789&\"'\"&\"!ab2\"),\"\")","v":""},{"$f":"IF($B1789<>\"\",INDIRECT(\"'\"&$B1789&\"'\"&\"!ac2\"),\"\")","v":""},{"$f":"SUMIF(DI$1810:DI$1909,$C1789,DJ$1810:DK$1909)","v":0},{"$f":"SUMIF(DI$1810:DI$1909,$C1789,DL$1810:DM$1909)","v":0},{"$f":"SUMIF(DI$1810:DI$1909,$C1789,DN$1810:DO$1909)","v":0},{"$f":"SUMIF(DI$1810:DI$1909,$C1789,DP$1810:DQ$1909)","v":0},{"$f":"SUMIF(DI$1810:DI$1909,$C1789,DR$1810:DR$1909)","v":0},"01 - Приходи из буџета",{"$f":"IF($B1789<>\"\",INDIRECT(\"'\"&$B1789&\"'\"&\"!z2\"),\"\")","v":""},{"$f":"IF($B1789<>\"\",INDIRECT(\"'\"&$B1789&\"'\"&\"!aa2\"),\"\")","v":""},{"$f":"IF($B1789<>\"\",INDIRECT(\"'\"&$B1789&\"'\"&\"!ab2\"),\"\")","v":""},{"$f":"IF($B1789<>\"\",INDIRECT(\"'\"&$B1789&\"'\"&\"!ac2\"),\"\")","v":""},{"$f":"SUMIF(DS$1810:DS$1909,$C1789,DT$1810:DU$1909)","v":0},{"$f":"SUMIF(DS$1810:DS$1909,$C1789,DV$1810:DW$1909)","v":0},{"$f":"SUMIF(DS$1810:DS$1909,$C1789,DX$1810:DY$1909)","v":0},{"$f":"SUMIF(DS$1810:DS$1909,$C1789,DZ$1810:EA$1909)","v":0},{"$f":"SUMIF(DS$1810:DS$1909,$C1789,EB$1810:EB$1909)","v":0},"01 - Приходи из буџета",{"$f":"IF($B1789<>\"\",INDIRECT(\"'\"&$B1789&\"'\"&\"!z2\"),\"\")","v":""},{"$f":"IF($B1789<>\"\",INDIRECT(\"'\"&$B1789&\"'\"&\"!aa2\"),\"\")","v":""},{"$f":"IF($B1789<>\"\",INDIRECT(\"'\"&$B1789&\"'\"&\"!ab2\"),\"\")","v":""},{"$f":"IF($B1789<>\"\",INDIRECT(\"'\"&$B1789&\"'\"&\"!ac2\"),\"\")","v":""},{"$f":"SUMIF(EC$1810:EC$1909,$C1789,ED$1810:EE$1909)","v":0},{"$f":"SUMIF(EC$1810:EC$1909,$C1789,EF$1810:EG$1909)","v":0},{"$f":"SUMIF(EC$1810:EC$1909,$C1789,EH$1810:EI$1909)","v":0},{"$f":"SUMIF(EC$1810:EC$1909,$C1789,EJ$1810:EK$1909)","v":0},{"$f":"SUMIF(EC$1810:EC$1909,$C1789,EL$1810:EL$1909)","v":0},"01 - Приходи из буџета",{"$f":"IF($B1789<>\"\",INDIRECT(\"'\"&$B1789&\"'\"&\"!z2\"),\"\")","v":""},{"$f":"IF($B1789<>\"\",INDIRECT(\"'\"&$B1789&\"'\"&\"!aa2\"),\"\")","v":""},{"$f":"IF($B1789<>\"\",INDIRECT(\"'\"&$B1789&\"'\"&\"!ab2\"),\"\")","v":""},{"$f":"IF($B1789<>\"\",INDIRECT(\"'\"&$B1789&\"'\"&\"!ac2\"),\"\")","v":""},{"$f":"SUMIF(EM$1810:EM$1909,$C1789,EN$1810:EO$1909)","v":0},{"$f":"SUMIF(EM$1810:EM$1909,$C1789,EP$1810:EQ$1909)","v":0},{"$f":"SUMIF(EM$1810:EM$1909,$C1789,ER$1810:ES$1909)","v":0},{"$f":"SUMIF(EM$1810:EM$1909,$C1789,ET$1810:EU$1909)","v":0},{"$f":"SUMIF(EM$1810:EM$1909,$C1789,EV$1810:EV$1909)","v":0},"01 - Приходи из буџета",{"$f":"IF($B1789<>\"\",INDIRECT(\"'\"&$B1789&\"'\"&\"!z2\"),\"\")","v":""},{"$f":"IF($B1789<>\"\",INDIRECT(\"'\"&$B1789&\"'\"&\"!aa2\"),\"\")","v":""},{"$f":"IF($B1789<>\"\",INDIRECT(\"'\"&$B1789&\"'\"&\"!ab2\"),\"\")","v":""},{"$f":"IF($B1789<>\"\",INDIRECT(\"'\"&$B1789&\"'\"&\"!ac2\"),\"\")","v":""},{"$f":"SUMIF(EW$1810:EW$1909,$C1789,EX$1810:EY$1909)","v":0},{"$f":"SUMIF(EW$1810:EW$1909,$C1789,EZ$1810:FA$1909)","v":0},{"$f":"SUMIF(EW$1810:EW$1909,$C1789,FB$1810:FC$1909)","v":0},{"$f":"SUMIF(EW$1810:EW$1909,$C1789,FD$1810:FE$1909)","v":0},{"$f":"SUMIF(EW$1810:EW$1909,$C1789,FF$1810:FF$1909)","v":0},"01 - Приходи из буџета",{"$f":"IF($B1789<>\"\",INDIRECT(\"'\"&$B1789&\"'\"&\"!z2\"),\"\")","v":""},{"$f":"IF($B1789<>\"\",INDIRECT(\"'\"&$B1789&\"'\"&\"!aa2\"),\"\")","v":""},{"$f":"IF($B1789<>\"\",INDIRECT(\"'\"&$B1789&\"'\"&\"!ab2\"),\"\")","v":""},{"$f":"IF($B1789<>\"\",INDIRECT(\"'\"&$B1789&\"'\"&\"!ac2\"),\"\")","v":""},{"$f":"SUMIF(FG$1810:FG$1909,$C1789,FH$1810:FI$1909)","v":0},{"$f":"SUMIF(FG$1810:FG$1909,$C1789,FJ$1810:FK$1909)","v":0},{"$f":"SUMIF(FG$1810:FG$1909,$C1789,FL$1810:FM$1909)","v":0},{"$f":"SUMIF(FG$1810:FG$1909,$C1789,FN$1810:FO$1909)","v":0},{"$f":"SUMIF(FG$1810:FG$1909,$C1789,FP$1810:FP$1909)","v":0},{"$f":"IF(FZ1789>0,MAX($FQ$1787:FQ1788)+1,\"\")","v":1},"01 - Приходи из буџета",null,null,{"$f":"FL1789+FB1789+ER1789+EH1789+DX1789+DN1789+DD1789+CT1789+CJ1789+BZ1789+BP1789+BF1789+AV1789+AL1789+AB1789+R1789+H1789","v":{"v":3750000,"d":"3,750,000"}},{"$f":"FM1789+FC1789+ES1789+EI1789+DY1789+DO1789+DE1789+CU1789+CK1789+CA1789+BQ1789+BG1789+AW1789+AM1789+AC1789+S1789+I1789","v":{"v":1502000,"d":"1,502,000"}},{"$f":"FN1789+FD1789+ET1789+EJ1789+DZ1789+DP1789+DF1789+CV1789+CL1789+CB1789+BR1789+BH1789+AX1789+AN1789+AD1789+T1789+J1789","v":{"v":1760000,"d":"1,760,000"}},{"$f":"FO1789+FE1789+EU1789+EK1789+EA1789+DQ1789+DG1789+CW1789+CM1789+CC1789+BS1789+BI1789+AY1789+AO1789+AE1789+U1789+K1789","v":{"v":1500000,"d":"1,500,000"}},{"$f":"FP1789+FF1789+EV1789+EL1789+EB1789+DR1789+DH1789+CX1789+CN1789+CD1789+BT1789+BJ1789+AZ1789+AP1789+AF1789+V1789+L1789","v":{"v":1500000,"d":"1,500,000"}},{"$f":"SUM(FU1789:FY1789)","v":{"v":10012000,"d":"10,012,000"}}]
[null,null,"02 - Трансфери између корисника на истом нивоу",{"$nulls":4},{"$f":"SUMIF(C$1810:C$1909,$C1790,D$1810:E$1909)","v":0},{"$f":"SUMIF(C$1810:C$1909,$C1790,F$1810:G$1909)","v":0},{"$f":"SUMIF(C$1810:C$1909,$C1790,H$1810:I$1909)","v":0},{"$f":"SUMIF(C$1810:C$1909,$C1790,J$1810:K$1909)","v":0},{"$f":"SUMIF(C$1810:C$1909,$C1790,L$1810:L$1909)","v":0},"02 - Трансфери између корисника на истом нивоу",{"$f":"IF($B1790<>\"\",INDIRECT(\"'\"&$B1790&\"'\"&\"!z2\"),\"\")","v":""},{"$f":"IF($B1790<>\"\",INDIRECT(\"'\"&$B1790&\"'\"&\"!aa2\"),\"\")","v":""},{"$f":"IF($B1790<>\"\",INDIRECT(\"'\"&$B1790&\"'\"&\"!ab2\"),\"\")","v":""},{"$f":"IF($B1790<>\"\",INDIRECT(\"'\"&$B1790&\"'\"&\"!ac2\"),\"\")","v":""},{"$f":"SUMIF(M$1810:M$1909,$C1790,N$1810:O$1909)","v":0},{"$f":"SUMIF(M$1810:M$1909,$C1790,P$1810:Q$1909)","v":0},{"$f":"SUMIF(M$1810:M$1909,$C1790,R$1810:S$1909)","v":0},{"$f":"SUMIF(M$1810:M$1909,$C1790,T$1810:U$1909)","v":0},{"$f":"SUMIF(M$1810:M$1909,$C1790,V$1810:V$1909)","v":0},"02 - Трансфери између корисника на истом нивоу",{"$f":"IF($B1790<>\"\",INDIRECT(\"'\"&$B1790&\"'\"&\"!z2\"),\"\")","v":""},{"$f":"IF($B1790<>\"\",INDIRECT(\"'\"&$B1790&\"'\"&\"!aa2\"),\"\")","v":""},{"$f":"IF($B1790<>\"\",INDIRECT(\"'\"&$B1790&\"'\"&\"!ab2\"),\"\")","v":""},{"$f":"IF($B1790<>\"\",INDIRECT(\"'\"&$B1790&\"'\"&\"!ac2\"),\"\")","v":""},{"$f":"SUMIF(W$1810:W$1909,$C1790,X$1810:Y$1909)","v":0},{"$f":"SUMIF(W$1810:W$1909,$C1790,Z$1810:AA$1909)","v":0},{"$f":"SUMIF(W$1810:W$1909,$C1790,AB$1810:AC$1909)","v":0},{"$f":"SUMIF(W$1810:W$1909,$C1790,AD$1810:AE$1909)","v":0},{"$f":"SUMIF(W$1810:W$1909,$C1790,AF$1810:AF$1909)","v":0},"02 - Трансфери између корисника на истом нивоу",{"$f":"IF($B1790<>\"\",INDIRECT(\"'\"&$B1790&\"'\"&\"!z2\"),\"\")","v":""},{"$f":"IF($B1790<>\"\",INDIRECT(\"'\"&$B1790&\"'\"&\"!aa2\"),\"\")","v":""},{"$f":"IF($B1790<>\"\",INDIRECT(\"'\"&$B1790&\"'\"&\"!ab2\"),\"\")","v":""},{"$f":"IF($B1790<>\"\",INDIRECT(\"'\"&$B1790&\"'\"&\"!ac2\"),\"\")","v":""},{"$f":"SUMIF(AG$1810:AG$1909,$C1790,AH$1810:AI$1909)","v":0},{"$f":"SUMIF(AG$1810:AG$1909,$C1790,AJ$1810:AK$1909)","v":0},{"$f":"SUMIF(AG$1810:AG$1909,$C1790,AL$1810:AM$1909)","v":0},{"$f":"SUMIF(AG$1810:AG$1909,$C1790,AN$1810:AO$1909)","v":0},{"$f":"SUMIF(AG$1810:AG$1909,$C1790,AP$1810:AP$1909)","v":0},"02 - Трансфери између корисника на истом нивоу",{"$f":"IF($B1790<>\"\",INDIRECT(\"'\"&$B1790&\"'\"&\"!z2\"),\"\")","v":""},{"$f":"IF($B1790<>\"\",INDIRECT(\"'\"&$B1790&\"'\"&\"!aa2\"),\"\")","v":""},{"$f":"IF($B1790<>\"\",INDIRECT(\"'\"&$B1790&\"'\"&\"!ab2\"),\"\")","v":""},{"$f":"IF($B1790<>\"\",INDIRECT(\"'\"&$B1790&\"'\"&\"!ac2\"),\"\")","v":""},{"$f":"SUMIF(AQ$1810:AQ$1909,$C1790,AR$1810:AS$1909)","v":0},{"$f":"SUMIF(AQ$1810:AQ$1909,$C1790,AT$1810:AU$1909)","v":0},{"$f":"SUMIF(AQ$1810:AQ$1909,$C1790,AV$1810:AW$1909)","v":0},{"$f":"SUMIF(AQ$1810:AQ$1909,$C1790,AX$1810:AY$1909)","v":0},{"$f":"SUMIF(AQ$1810:AQ$1909,$C1790,AZ$1810:AZ$1909)","v":0},"02 - Трансфери између корисника на истом нивоу",{"$f":"IF($B1790<>\"\",INDIRECT(\"'\"&$B1790&\"'\"&\"!z2\"),\"\")","v":""},{"$f":"IF($B1790<>\"\",INDIRECT(\"'\"&$B1790&\"'\"&\"!aa2\"),\"\")","v":""},{"$f":"IF($B1790<>\"\",INDIRECT(\"'\"&$B1790&\"'\"&\"!ab2\"),\"\")","v":""},{"$f":"IF($B1790<>\"\",INDIRECT(\"'\"&$B1790&\"'\"&\"!ac2\"),\"\")","v":""},{"$f":"SUMIF(BA$1810:BA$1909,$C1790,BB$1810:BC$1909)","v":0},{"$f":"SUMIF(BA$1810:BA$1909,$C1790,BD$1810:BE$1909)","v":0},{"$f":"SUMIF(BA$1810:BA$1909,$C1790,BF$1810:BG$1909)","v":0},{"$f":"SUMIF(BA$1810:BA$1909,$C1790,BH$1810:BI$1909)","v":0},{"$f":"SUMIF(BA$1810:BA$1909,$C1790,BJ$1810:BJ$1909)","v":0},"02 - Трансфери између корисника на истом нивоу",{"$f":"IF($B1790<>\"\",INDIRECT(\"'\"&$B1790&\"'\"&\"!z2\"),\"\")","v":""},{"$f":"IF($B1790<>\"\",INDIRECT(\"'\"&$B1790&\"'\"&\"!aa2\"),\"\")","v":""},{"$f":"IF($B1790<>\"\",INDIRECT(\"'\"&$B1790&\"'\"&\"!ab2\"),\"\")","v":""},{"$f":"IF($B1790<>\"\",INDIRECT(\"'\"&$B1790&\"'\"&\"!ac2\"),\"\")","v":""},{"$f":"SUMIF(BK$1810:BK$1909,$C1790,BL$1810:BM$1909)","v":0},{"$f":"SUMIF(BK$1810:BK$1909,$C1790,BN$1810:BO$1909)","v":0},0,0,{"$f":"SUMIF(BK$1810:BK$1909,$C1790,BT$1810:BT$1909)","v":0},"02 - Трансфери између корисника на истом нивоу",{"$f":"IF($B1790<>\"\",INDIRECT(\"'\"&$B1790&\"'\"&\"!z2\"),\"\")","v":""},{"$f":"IF($B1790<>\"\",INDIRECT(\"'\"&$B1790&\"'\"&\"!aa2\"),\"\")","v":""},{"$f":"IF($B1790<>\"\",INDIRECT(\"'\"&$B1790&\"'\"&\"!ab2\"),\"\")","v":""},{"$f":"IF($B1790<>\"\",INDIRECT(\"'\"&$B1790&\"'\"&\"!ac2\"),\"\")","v":""},{"$f":"SUMIF(BU$1810:BU$1909,$C1790,BV$1810:BW$1909)","v":0},{"$f":"SUMIF(BU$1810:BU$1909,$C1790,BX$1810:BY$1909)","v":0},{"$f":"SUMIF(BU$1810:BU$1909,$C1790,BZ$1810:CA$1909)","v":0},{"$f":"SUMIF(BU$1810:BU$1909,$C1790,CB$1810:CC$1909)","v":0},{"$f":"SUMIF(BU$1810:BU$1909,$C1790,CD$1810:CD$1909)","v":0},"02 - Трансфери између корисника на истом нивоу",{"$f":"IF($B1790<>\"\",INDIRECT(\"'\"&$B1790&\"'\"&\"!z2\"),\"\")","v":""},{"$f":"IF($B1790<>\"\",INDIRECT(\"'\"&$B1790&\"'\"&\"!aa2\"),\"\")","v":""},{"$f":"IF($B1790<>\"\",INDIRECT(\"'\"&$B1790&\"'\"&\"!ab2\"),\"\")","v":""},{"$f":"IF($B1790<>\"\",INDIRECT(\"'\"&$B1790&\"'\"&\"!ac2\"),\"\")","v":""},{"$f":"SUMIF(CE$1810:CE$1909,$C1790,CF$1810:CG$1909)","v":0},{"$f":"SUMIF(CE$1810:CE$1909,$C1790,CH$1810:CI$1909)","v":0},{"$f":"SUMIF(CE$1810:CE$1909,$C1790,CJ$1810:CK$1909)","v":0},{"$f":"SUMIF(CE$1810:CE$1909,$C1790,CL$1810:CM$1909)","v":0},{"$f":"SUMIF(CE$1810:CE$1909,$C1790,CN$1810:CN$1909)","v":0},"02 - Трансфери између корисника на истом нивоу",{"$f":"IF($B1790<>\"\",INDIRECT(\"'\"&$B1790&\"'\"&\"!z2\"),\"\")","v":""},{"$f":"IF($B1790<>\"\",INDIRECT(\"'\"&$B1790&\"'\"&\"!aa2\"),\"\")","v":""},{"$f":"IF($B1790<>\"\",INDIRECT(\"'\"&$B1790&\"'\"&\"!ab2\"),\"\")","v":""},{"$f":"IF($B1790<>\"\",INDIRECT(\"'\"&$B1790&\"'\"&\"!ac2\"),\"\")","v":""},{"$f":"SUMIF(CO$1810:CO$1909,$C1790,CP$1810:CQ$1909)","v":0},{"$f":"SUMIF(CO$1810:CO$1909,$C1790,CR$1810:CS$1909)","v":0},{"$f":"SUMIF(CO$1810:CO$1909,$C1790,CT$1810:CU$1909)","v":0},{"$f":"SUMIF(CO$1810:CO$1909,$C1790,CV$1810:CW$1909)","v":0},{"$f":"SUMIF(CO$1810:CO$1909,$C1790,CX$1810:CX$1909)","v":0},"02 - Трансфери између корисника на истом нивоу",{"$f":"IF($B1790<>\"\",INDIRECT(\"'\"&$B1790&\"'\"&\"!z2\"),\"\")","v":""},{"$f":"IF($B1790<>\"\",INDIRECT(\"'\"&$B1790&\"'\"&\"!aa2\"),\"\")","v":""},{"$f":"IF($B1790<>\"\",INDIRECT(\"'\"&$B1790&\"'\"&\"!ab2\"),\"\")","v":""},{"$f":"IF($B1790<>\"\",INDIRECT(\"'\"&$B1790&\"'\"&\"!ac2\"),\"\")","v":""},{"$f":"SUMIF(CY$1810:CY$1909,$C1790,CZ$1810:DA$1909)","v":0},{"$f":"SUMIF(CY$1810:CY$1909,$C1790,DB$1810:DC$1909)","v":0},{"$f":"SUMIF(CY$1810:CY$1909,$C1790,DD$1810:DE$1909)","v":0},{"$f":"SUMIF(CY$1810:CY$1909,$C1790,DF$1810:DG$1909)","v":0},{"$f":"SUMIF(CY$1810:CY$1909,$C1790,DH$1810:DH$1909)","v":0},"02 - Трансфери између корисника на истом нивоу",{"$f":"IF($B1790<>\"\",INDIRECT(\"'\"&$B1790&\"'\"&\"!z2\"),\"\")","v":""},{"$f":"IF($B1790<>\"\",INDIRECT(\"'\"&$B1790&\"'\"&\"!aa2\"),\"\")","v":""},{"$f":"IF($B1790<>\"\",INDIRECT(\"'\"&$B1790&\"'\"&\"!ab2\"),\"\")","v":""},{"$f":"IF($B1790<>\"\",INDIRECT(\"'\"&$B1790&\"'\"&\"!ac2\"),\"\")","v":""},{"$f":"SUMIF(DI$1810:DI$1909,$C1790,DJ$1810:DK$1909)","v":0},{"$f":"SUMIF(DI$1810:DI$1909,$C1790,DL$1810:DM$1909)","v":0},{"$f":"SUMIF(DI$1810:DI$1909,$C1790,DN$1810:DO$1909)","v":0},{"$f":"SUMIF(DI$1810:DI$1909,$C1790,DP$1810:DQ$1909)","v":0},{"$f":"SUMIF(DI$1810:DI$1909,$C1790,DR$1810:DR$1909)","v":0},"02 - Трансфери између корисника на истом нивоу",{"$f":"IF($B1790<>\"\",INDIRECT(\"'\"&$B1790&\"'\"&\"!z2\"),\"\")","v":""},{"$f":"IF($B1790<>\"\",INDIRECT(\"'\"&$B1790&\"'\"&\"!aa2\"),\"\")","v":""},{"$f":"IF($B1790<>\"\",INDIRECT(\"'\"&$B1790&\"'\"&\"!ab2\"),\"\")","v":""},{"$f":"IF($B1790<>\"\",INDIRECT(\"'\"&$B1790&\"'\"&\"!ac2\"),\"\")","v":""},{"$f":"SUMIF(DS$1810:DS$1909,$C1790,DT$1810:DU$1909)","v":0},{"$f":"SUMIF(DS$1810:DS$1909,$C1790,DV$1810:DW$1909)","v":0},{"$f":"SUMIF(DS$1810:DS$1909,$C1790,DX$1810:DY$1909)","v":0},{"$f":"SUMIF(DS$1810:DS$1909,$C1790,DZ$1810:EA$1909)","v":0},{"$f":"SUMIF(DS$1810:DS$1909,$C1790,EB$1810:EB$1909)","v":0},"02 - Трансфери између корисника на истом нивоу",{"$f":"IF($B1790<>\"\",INDIRECT(\"'\"&$B1790&\"'\"&\"!z2\"),\"\")","v":""},{"$f":"IF($B1790<>\"\",INDIRECT(\"'\"&$B1790&\"'\"&\"!aa2\"),\"\")","v":""},{"$f":"IF($B1790<>\"\",INDIRECT(\"'\"&$B1790&\"'\"&\"!ab2\"),\"\")","v":""},{"$f":"IF($B1790<>\"\",INDIRECT(\"'\"&$B1790&\"'\"&\"!ac2\"),\"\")","v":""},{"$f":"SUMIF(EC$1810:EC$1909,$C1790,ED$1810:EE$1909)","v":0},{"$f":"SUMIF(EC$1810:EC$1909,$C1790,EF$1810:EG$1909)","v":0},{"$f":"SUMIF(EC$1810:EC$1909,$C1790,EH$1810:EI$1909)","v":0},{"$f":"SUMIF(EC$1810:EC$1909,$C1790,EJ$1810:EK$1909)","v":0},{"$f":"SUMIF(EC$1810:EC$1909,$C1790,EL$1810:EL$1909)","v":0},"02 - Трансфери између корисника на истом нивоу",{"$f":"IF($B1790<>\"\",INDIRECT(\"'\"&$B1790&\"'\"&\"!z2\"),\"\")","v":""},{"$f":"IF($B1790<>\"\",INDIRECT(\"'\"&$B1790&\"'\"&\"!aa2\"),\"\")","v":""},{"$f":"IF($B1790<>\"\",INDIRECT(\"'\"&$B1790&\"'\"&\"!ab2\"),\"\")","v":""},{"$f":"IF($B1790<>\"\",INDIRECT(\"'\"&$B1790&\"'\"&\"!ac2\"),\"\")","v":""},{"$f":"SUMIF(EM$1810:EM$1909,$C1790,EN$1810:EO$1909)","v":0},{"$f":"SUMIF(EM$1810:EM$1909,$C1790,EP$1810:EQ$1909)","v":0},{"$f":"SUMIF(EM$1810:EM$1909,$C1790,ER$1810:ES$1909)","v":0},{"$f":"SUMIF(EM$1810:EM$1909,$C1790,ET$1810:EU$1909)","v":0},{"$f":"SUMIF(EM$1810:EM$1909,$C1790,EV$1810:EV$1909)","v":0},"02 - Трансфери између корисника на истом нивоу",{"$f":"IF($B1790<>\"\",INDIRECT(\"'\"&$B1790&\"'\"&\"!z2\"),\"\")","v":""},{"$f":"IF($B1790<>\"\",INDIRECT(\"'\"&$B1790&\"'\"&\"!aa2\"),\"\")","v":""},{"$f":"IF($B1790<>\"\",INDIRECT(\"'\"&$B1790&\"'\"&\"!ab2\"),\"\")","v":""},{"$f":"IF($B1790<>\"\",INDIRECT(\"'\"&$B1790&\"'\"&\"!ac2\"),\"\")","v":""},{"$f":"SUMIF(EW$1810:EW$1909,$C1790,EX$1810:EY$1909)","v":0},{"$f":"SUMIF(EW$1810:EW$1909,$C1790,EZ$1810:FA$1909)","v":0},{"$f":"SUMIF(EW$1810:EW$1909,$C1790,FB$1810:FC$1909)","v":0},{"$f":"SUMIF(EW$1810:EW$1909,$C1790,FD$1810:FE$1909)","v":0},{"$f":"SUMIF(EW$1810:EW$1909,$C1790,FF$1810:FF$1909)","v":0},"02 - Трансфери између корисника на истом нивоу",{"$f":"IF($B1790<>\"\",INDIRECT(\"'\"&$B1790&\"'\"&\"!z2\"),\"\")","v":""},{"$f":"IF($B1790<>\"\",INDIRECT(\"'\"&$B1790&\"'\"&\"!aa2\"),\"\")","v":""},{"$f":"IF($B1790<>\"\",INDIRECT(\"'\"&$B1790&\"'\"&\"!ab2\"),\"\")","v":""},{"$f":"IF($B1790<>\"\",INDIRECT(\"'\"&$B1790&\"'\"&\"!ac2\"),\"\")","v":""},{"$f":"SUMIF(FG$1810:FG$1909,$C1790,FH$1810:FI$1909)","v":0},{"$f":"SUMIF(FG$1810:FG$1909,$C1790,FJ$1810:FK$1909)","v":0},{"$f":"SUMIF(FG$1810:FG$1909,$C1790,FL$1810:FM$1909)","v":0},{"$f":"SUMIF(FG$1810:FG$1909,$C1790,FN$1810:FO$1909)","v":0},{"$f":"SUMIF(FG$1810:FG$1909,$C1790,FP$1810:FP$1909)","v":0},{"$f":"IF(FZ1790>0,MAX($FQ$1787:FQ1789)+1,\"\")","v":""},"02 - Трансфери између корисника на истом нивоу",null,null,{"$f":"FL1790+FB1790+ER1790+EH1790+DX1790+DN1790+DD1790+CT1790+CJ1790+BZ1790+BP1790+BF1790+AV1790+AL1790+AB1790+R1790+H1790","v":0},{"$f":"FM1790+FC1790+ES1790+EI1790+DY1790+DO1790+DE1790+CU1790+CK1790+CA1790+BQ1790+BG1790+AW1790+AM1790+AC1790+S1790+I1790","v":0},{"$f":"FN1790+FD1790+ET1790+EJ1790+DZ1790+DP1790+DF1790+CV1790+CL1790+CB1790+BR1790+BH1790+AX1790+AN1790+AD1790+T1790+J1790","v":0},{"$f":"FO1790+FE1790+EU1790+EK1790+EA1790+DQ1790+DG1790+CW1790+CM1790+CC1790+BS1790+BI1790+AY1790+AO1790+AE1790+U1790+K1790","v":0},{"$f":"FP1790+FF1790+EV1790+EL1790+EB1790+DR1790+DH1790+CX1790+CN1790+CD1790+BT1790+BJ1790+AZ1790+AP1790+AF1790+V1790+L1790","v":0},{"$f":"SUM(FU1790:FY1790)","v":0}]
[null,null,"03 - Социјални доприноси",{"$nulls":4},0,0,0,0,0,"03 - Социјални доприноси",{"$f":"IF($B1791<>\"\",INDIRECT(\"'\"&$B1791&\"'\"&\"!z2\"),\"\")","v":""},{"$f":"IF($B1791<>\"\",INDIRECT(\"'\"&$B1791&\"'\"&\"!aa2\"),\"\")","v":""},{"$f":"IF($B1791<>\"\",INDIRECT(\"'\"&$B1791&\"'\"&\"!ab2\"),\"\")","v":""},{"$f":"IF($B1791<>\"\",INDIRECT(\"'\"&$B1791&\"'\"&\"!ac2\"),\"\")","v":""},0,0,0,0,0,"03 - Социјални доприноси",{"$f":"IF($B1791<>\"\",INDIRECT(\"'\"&$B1791&\"'\"&\"!z2\"),\"\")","v":""},{"$f":"IF($B1791<>\"\",INDIRECT(\"'\"&$B1791&\"'\"&\"!aa2\"),\"\")","v":""},{"$f":"IF($B1791<>\"\",INDIRECT(\"'\"&$B1791&\"'\"&\"!ab2\"),\"\")","v":""},{"$f":"IF($B1791<>\"\",INDIRECT(\"'\"&$B1791&\"'\"&\"!ac2\"),\"\")","v":""},0,0,0,0,0,"03 - Социјални доприноси",{"$f":"IF($B1791<>\"\",INDIRECT(\"'\"&$B1791&\"'\"&\"!z2\"),\"\")","v":""},{"$f":"IF($B1791<>\"\",INDIRECT(\"'\"&$B1791&\"'\"&\"!aa2\"),\"\")","v":""},{"$f":"IF($B1791<>\"\",INDIRECT(\"'\"&$B1791&\"'\"&\"!ab2\"),\"\")","v":""},{"$f":"IF($B1791<>\"\",INDIRECT(\"'\"&$B1791&\"'\"&\"!ac2\"),\"\")","v":""},0,0,0,0,0,"03 - Социјални доприноси",{"$f":"IF($B1791<>\"\",INDIRECT(\"'\"&$B1791&\"'\"&\"!z2\"),\"\")","v":""},{"$f":"IF($B1791<>\"\",INDIRECT(\"'\"&$B1791&\"'\"&\"!aa2\"),\"\")","v":""},{"$f":"IF($B1791<>\"\",INDIRECT(\"'\"&$B1791&\"'\"&\"!ab2\"),\"\")","v":""},{"$f":"IF($B1791<>\"\",INDIRECT(\"'\"&$B1791&\"'\"&\"!ac2\"),\"\")","v":""},0,0,0,0,0,"03 - Социјални доприноси",{"$f":"IF($B1791<>\"\",INDIRECT(\"'\"&$B1791&\"'\"&\"!z2\"),\"\")","v":""},{"$f":"IF($B1791<>\"\",INDIRECT(\"'\"&$B1791&\"'\"&\"!aa2\"),\"\")","v":""},{"$f":"IF($B1791<>\"\",INDIRECT(\"'\"&$B1791&\"'\"&\"!ab2\"),\"\")","v":""},{"$f":"IF($B1791<>\"\",INDIRECT(\"'\"&$B1791&\"'\"&\"!ac2\"),\"\")","v":""},0,0,0,0,0,"03 - Социјални доприноси",{"$f":"IF($B1791<>\"\",INDIRECT(\"'\"&$B1791&\"'\"&\"!z2\"),\"\")","v":""},{"$f":"IF($B1791<>\"\",INDIRECT(\"'\"&$B1791&\"'\"&\"!aa2\"),\"\")","v":""},{"$f":"IF($B1791<>\"\",INDIRECT(\"'\"&$B1791&\"'\"&\"!ab2\"),\"\")","v":""},{"$f":"IF($B1791<>\"\",INDIRECT(\"'\"&$B1791&\"'\"&\"!ac2\"),\"\")","v":""},0,0,0,0,0,"03 - Социјални доприноси",{"$f":"IF($B1791<>\"\",INDIRECT(\"'\"&$B1791&\"'\"&\"!z2\"),\"\")","v":""},{"$f":"IF($B1791<>\"\",INDIRECT(\"'\"&$B1791&\"'\"&\"!aa2\"),\"\")","v":""},{"$f":"IF($B1791<>\"\",INDIRECT(\"'\"&$B1791&\"'\"&\"!ab2\"),\"\")","v":""},{"$f":"IF($B1791<>\"\",INDIRECT(\"'\"&$B1791&\"'\"&\"!ac2\"),\"\")","v":""},0,0,0,0,0,"03 - Социјални доприноси",{"$f":"IF($B1791<>\"\",INDIRECT(\"'\"&$B1791&\"'\"&\"!z2\"),\"\")","v":""},{"$f":"IF($B1791<>\"\",INDIRECT(\"'\"&$B1791&\"'\"&\"!aa2\"),\"\")","v":""},{"$f":"IF($B1791<>\"\",INDIRECT(\"'\"&$B1791&\"'\"&\"!ab2\"),\"\")","v":""},{"$f":"IF($B1791<>\"\",INDIRECT(\"'\"&$B1791&\"'\"&\"!ac2\"),\"\")","v":""},0,0,0,0,0,"03 - Социјални доприноси",{"$f":"IF($B1791<>\"\",INDIRECT(\"'\"&$B1791&\"'\"&\"!z2\"),\"\")","v":""},{"$f":"IF($B1791<>\"\",INDIRECT(\"'\"&$B1791&\"'\"&\"!aa2\"),\"\")","v":""},{"$f":"IF($B1791<>\"\",INDIRECT(\"'\"&$B1791&\"'\"&\"!ab2\"),\"\")","v":""},{"$f":"IF($B1791<>\"\",INDIRECT(\"'\"&$B1791&\"'\"&\"!ac2\"),\"\")","v":""},0,0,0,0,0,"03 - Социјални доприноси",{"$f":"IF($B1791<>\"\",INDIRECT(\"'\"&$B1791&\"'\"&\"!z2\"),\"\")","v":""},{"$f":"IF($B1791<>\"\",INDIRECT(\"'\"&$B1791&\"'\"&\"!aa2\"),\"\")","v":""},{"$f":"IF($B1791<>\"\",INDIRECT(\"'\"&$B1791&\"'\"&\"!ab2\"),\"\")","v":""},{"$f":"IF($B1791<>\"\",INDIRECT(\"'\"&$B1791&\"'\"&\"!ac2\"),\"\")","v":""},0,0,0,0,0,"03 - Социјални доприноси",{"$f":"IF($B1791<>\"\",INDIRECT(\"'\"&$B1791&\"'\"&\"!z2\"),\"\")","v":""},{"$f":"IF($B1791<>\"\",INDIRECT(\"'\"&$B1791&\"'\"&\"!aa2\"),\"\")","v":""},{"$f":"IF($B1791<>\"\",INDIRECT(\"'\"&$B1791&\"'\"&\"!ab2\"),\"\")","v":""},{"$f":"IF($B1791<>\"\",INDIRECT(\"'\"&$B1791&\"'\"&\"!ac2\"),\"\")","v":""},0,0,0,0,0,"03 - Социјални доприноси",{"$f":"IF($B1791<>\"\",INDIRECT(\"'\"&$B1791&\"'\"&\"!z2\"),\"\")","v":""},{"$f":"IF($B1791<>\"\",INDIRECT(\"'\"&$B1791&\"'\"&\"!aa2\"),\"\")","v":""},{"$f":"IF($B1791<>\"\",INDIRECT(\"'\"&$B1791&\"'\"&\"!ab2\"),\"\")","v":""},{"$f":"IF($B1791<>\"\",INDIRECT(\"'\"&$B1791&\"'\"&\"!ac2\"),\"\")","v":""},0,0,0,0,0,"03 - Социјални доприноси",{"$f":"IF($B1791<>\"\",INDIRECT(\"'\"&$B1791&\"'\"&\"!z2\"),\"\")","v":""},{"$f":"IF($B1791<>\"\",INDIRECT(\"'\"&$B1791&\"'\"&\"!aa2\"),\"\")","v":""},{"$f":"IF($B1791<>\"\",INDIRECT(\"'\"&$B1791&\"'\"&\"!ab2\"),\"\")","v":""},{"$f":"IF($B1791<>\"\",INDIRECT(\"'\"&$B1791&\"'\"&\"!ac2\"),\"\")","v":""},0,0,0,0,0,"03 - Социјални доприноси",{"$f":"IF($B1791<>\"\",INDIRECT(\"'\"&$B1791&\"'\"&\"!z2\"),\"\")","v":""},{"$f":"IF($B1791<>\"\",INDIRECT(\"'\"&$B1791&\"'\"&\"!aa2\"),\"\")","v":""},{"$f":"IF($B1791<>\"\",INDIRECT(\"'\"&$B1791&\"'\"&\"!ab2\"),\"\")","v":""},{"$f":"IF($B1791<>\"\",INDIRECT(\"'\"&$B1791&\"'\"&\"!ac2\"),\"\")","v":""},0,0,0,0,0,"03 - Социјални доприноси",{"$f":"IF($B1791<>\"\",INDIRECT(\"'\"&$B1791&\"'\"&\"!z2\"),\"\")","v":""},{"$f":"IF($B1791<>\"\",INDIRECT(\"'\"&$B1791&\"'\"&\"!aa2\"),\"\")","v":""},{"$f":"IF($B1791<>\"\",INDIRECT(\"'\"&$B1791&\"'\"&\"!ab2\"),\"\")","v":""},{"$f":"IF($B1791<>\"\",INDIRECT(\"'\"&$B1791&\"'\"&\"!ac2\"),\"\")","v":""},0,0,0,0,0,"03 - Социјални доприноси",{"$f":"IF($B1791<>\"\",INDIRECT(\"'\"&$B1791&\"'\"&\"!z2\"),\"\")","v":""},{"$f":"IF($B1791<>\"\",INDIRECT(\"'\"&$B1791&\"'\"&\"!aa2\"),\"\")","v":""},{"$f":"IF($B1791<>\"\",INDIRECT(\"'\"&$B1791&\"'\"&\"!ab2\"),\"\")","v":""},{"$f":"IF($B1791<>\"\",INDIRECT(\"'\"&$B1791&\"'\"&\"!ac2\"),\"\")","v":""},0,0,0,0,0,{"$f":"IF(FZ1791>0,MAX($FQ$1787:FQ1790)+1,\"\")","v":""},"03 - Социјални доприноси",null,null,0,0,0,0,0,{"$f":"SUM(FU1791:FY1791)","v":0}]
[null,null,"04 - Сопствени приходи буџетских корисника",{"$nulls":4},0,0,0,0,0,"04 - Сопствени приходи буџетских корисника",{"$nulls":4},0,0,0,0,0,"04 - Сопствени приходи буџетских корисника",{"$nulls":4},0,0,0,0,0,"04 - Сопствени приходи буџетских корисника",{"$nulls":4},0,0,0,0,0,"04 - Сопствени приходи буџетских корисника",{"$nulls":4},0,0,0,0,0,"04 - Сопствени приходи буџетских корисника",{"$nulls":4},0,0,0,0,0,"04 - Сопствени приходи буџетских корисника",{"$nulls":4},0,0,0,0,0,"04 - Сопствени приходи буџетских корисника",{"$nulls":4},0,0,0,0,0,"04 - Сопствени приходи буџетских корисника",{"$nulls":4},0,0,0,0,0,"04 - Сопствени приходи буџетских корисника",{"$nulls":4},0,0,0,0,0,"04 - Сопствени приходи буџетских корисника",{"$nulls":4},0,0,0,0,0,"04 - Сопствени приходи буџетских корисника",{"$nulls":4},0,0,0,0,0,"04 - Сопствени приходи буџетских корисника",{"$nulls":4},0,0,0,0,0,"04 - Сопствени приходи буџетских корисника",{"$nulls":4},0,0,0,0,0,"04 - Сопствени приходи буџетских корисника",{"$nulls":4},0,0,0,0,0,"04 - Сопствени приходи буџетских корисника",{"$nulls":4},0,0,0,0,0,"04 - Сопствени приходи буџетских корисника",{"$nulls":4},0,0,0,0,0,{"$f":"IF(FZ1792>0,MAX($FQ$1787:FQ1791)+1,\"\")","v":""},"04 - Сопствени приходи буџетских корисника",null,null,0,0,0,0,0,0]
[null,null,"05 - Донације од иностраних земаља",{"$nulls":4},0,0,0,{"$f":"SUMIF(C$1810:C$1909,$C1793,J$1810:K$1909)","v":0},0,"05 - Донације од иностраних земаља",{"$nulls":4},0,0,0,0,0,"05 - Донације од иностраних земаља",{"$nulls":4},0,0,0,0,0,"05 - Донације од иностраних земаља",{"$nulls":4},0,0,0,0,0,"05 - Донације од иностраних земаља",{"$nulls":4},0,0,0,0,0,"05 - Донације од иностраних земаља",{"$nulls":4},0,0,0,0,0,"05 - Донације од иностраних земаља",{"$nulls":4},{"$f":"SUMIF(BK$1810:BK$1909,$C1793,BL$1810:BM$1909)","v":0},{"$f":"SUMIF(BK$1810:BK$1909,$C1793,BN$1810:BO$1909)","v":0},0,0,0,"05 - Донације од иностраних земаља",{"$nulls":4},0,0,0,0,0,"05 - Донације од иностраних земаља",{"$nulls":4},0,0,0,0,0,"05 - Донације од иностраних земаља",{"$nulls":4},0,0,0,0,0,"05 - Донације од иностраних земаља",{"$nulls":4},0,0,0,0,0,"05 - Донације од иностраних земаља",{"$nulls":4},0,0,0,0,0,"05 - Донације од иностраних земаља",{"$nulls":4},0,0,0,0,0,"05 - Донације од иностраних земаља",{"$nulls":4},0,0,0,0,0,"05 - Донације од иностраних земаља",{"$nulls":4},0,0,0,0,0,"05 - Донације од иностраних земаља",{"$nulls":4},{"$f":"SUMIF(EW$1810:EW$1909,$C1793,EX$1810:EY$1909)","v":0},0,0,0,0,"05 - Донације од иностраних земаља",{"$nulls":4},0,0,0,0,0,{"$f":"IF(FZ1793>0,MAX($FQ$1787:FQ1792)+1,\"\")","v":""},"05 - Донације од иностраних земаља",null,null,0,0,0,0,0,0]
[null,null,"06 - Донације од међународних организација",{"$nulls":4},0,0,0,0,0,"06 - Донације од међународних организација",{"$nulls":4},0,0,0,0,0,"06 - Донације од међународних организација",{"$nulls":4},0,0,0,0,0,"06 - Донације од међународних организација",{"$nulls":4},0,0,0,0,0,"06 - Донације од међународних организација",{"$nulls":4},0,0,0,0,0,"06 - Донације од међународних организација",{"$nulls":4},0,0,0,0,0,"06 - Донације од међународних организација",{"$nulls":4},0,0,0,0,0,"06 - Донације од међународних организација",{"$nulls":4},0,0,0,0,0,"06 - Донације од међународних организација",{"$nulls":4},0,0,0,0,0,"06 - Донације од међународних организација",{"$nulls":4},0,0,0,0,0,"06 - Донације од међународних организација",{"$nulls":4},0,0,0,0,0,"06 - Донације од међународних организација",{"$nulls":4},0,0,0,0,0,"06 - Донације од међународних организација",{"$nulls":4},0,0,0,0,0,"06 - Донације од међународних организација",{"$nulls":4},0,0,0,0,0,"06 - Донације од међународних организација",{"$nulls":4},0,0,0,0,0,"06 - Донације од међународних организација",{"$nulls":4},0,0,0,{"$f":"SUMIF(EW$1810:EW$1909,$C1794,FD$1810:FE$1909)","v":0},0,"06 - Донације од међународних организација",{"$nulls":4},0,0,0,0,0,{"$f":"IF(FZ1794>0,MAX($FQ$1787:FQ1793)+1,\"\")","v":""},"06 - Донације од међународних организација",null,null,0,0,0,0,0,0]
[null,null,"07 - Трансфери од других нивоа власти",{"$nulls":4},0,0,0,0,0,"07 - Трансфери од других нивоа власти",{"$nulls":4},0,0,0,0,0,"07 - Трансфери од других нивоа власти",{"$nulls":4},0,0,0,0,0,"07 - Трансфери од других нивоа власти",{"$nulls":4},0,0,0,0,0,"07 - Трансфери од других нивоа власти",{"$nulls":4},0,0,0,0,0,"07 - Трансфери од других нивоа власти",{"$nulls":4},0,0,0,0,0,"07 - Трансфери од других нивоа власти",{"$nulls":4},0,0,0,0,0,"07 - Трансфери од других нивоа власти",{"$nulls":4},0,0,0,0,0,"07 - Трансфери од других нивоа власти",{"$nulls":4},0,0,0,0,0,"07 - Трансфери од других нивоа власти",{"$nulls":4},0,0,0,0,0,"07 - Трансфери од других нивоа власти",{"$nulls":4},0,0,0,0,0,"07 - Трансфери од других нивоа власти",{"$nulls":4},0,0,0,0,0,"07 - Трансфери од других нивоа власти",{"$nulls":4},0,0,0,0,0,"07 - Трансфери од других нивоа власти",{"$nulls":4},0,0,0,0,0,"07 - Трансфери од других нивоа власти",{"$nulls":4},0,0,0,0,0,"07 - Трансфери од других нивоа власти",{"$nulls":4},0,0,0,0,0,"07 - Трансфери од других нивоа власти",{"$nulls":4},0,0,0,0,0,{"$f":"IF(FZ1795>0,MAX($FQ$1787:FQ1794)+1,\"\")","v":""},"07 - Трансфери од других нивоа власти",null,null,0,0,0,0,0,0]
[null,null,"08 - Добровољни трансфери од физичких и правних лица",{"$nulls":4},0,0,0,0,0,"08 - Добровољни трансфери од физичких и правних лица",{"$nulls":4},0,0,0,0,0,"08 - Добровољни трансфери од физичких и правних лица",{"$nulls":4},0,0,0,0,0,"08 - Добровољни трансфери од физичких и правних лица",{"$nulls":4},0,0,0,0,0,"08 - Добровољни трансфери од физичких и правних лица",{"$nulls":4},0,0,0,0,0,"08 - Добровољни трансфери од физичких и правних лица",{"$nulls":4},0,0,0,0,0,"08 - Добровољни трансфери од физичких и правних лица",{"$nulls":4},0,0,0,0,0,"08 - Добровољни трансфери од физичких и правних лица",{"$nulls":4},0,0,0,0,0,"08 - Добровољни трансфери од физичких и правних лица",{"$nulls":4},0,0,0,0,0,"08 - Добровољни трансфери од физичких и правних лица",{"$nulls":4},0,0,0,0,0,"08 - Добровољни трансфери од физичких и правних лица",{"$nulls":4},0,0,0,0,0,"08 - Добровољни трансфери од физичких и правних лица",{"$nulls":4},0,0,0,0,0,"08 - Добровољни трансфери од физичких и правних лица",{"$nulls":4},0,0,0,0,0,"08 - Добровољни трансфери од физичких и правних лица",{"$nulls":4},0,0,0,0,0,"08 - Добровољни трансфери од физичких и правних лица",{"$nulls":4},0,0,0,0,0,"08 - Добровољни трансфери од физичких и правних лица",{"$nulls":4},0,0,0,0,0,"08 - Добровољни трансфери од физичких и правних лица",{"$nulls":4},0,0,0,0,0,{"$f":"IF(FZ1796>0,MAX($FQ$1787:FQ1795)+1,\"\")","v":""},"08 - Добровољни трансфери од физичких и правних лица",null,null,0,0,0,0,0,0]
[null,null,"09 - Примања од продаје нефинансијске имовине",{"$nulls":4},0,0,0,0,0,"09 - Примања од продаје нефинансијске имовине",{"$nulls":4},0,0,0,0,0,"09 - Примања од продаје нефинансијске имовине",{"$nulls":4},0,0,0,0,0,"09 - Примања од продаје нефинансијске имовине",{"$nulls":4},0,0,0,0,0,"09 - Примања од продаје нефинансијске имовине",{"$nulls":4},0,0,0,0,0,"09 - Примања од продаје нефинансијске имовине",{"$nulls":4},0,0,0,0,0,"09 - Примања од продаје нефинансијске имовине",{"$nulls":4},0,0,0,0,0,"09 - Примања од продаје нефинансијске имовине",{"$nulls":4},0,0,0,0,0,"09 - Примања од продаје нефинансијске имовине",{"$nulls":4},0,0,0,0,0,"09 - Примања од продаје нефинансијске имовине",{"$nulls":4},0,0,0,0,0,"09 - Примања од продаје нефинансијске имовине",{"$nulls":4},0,0,0,0,0,"09 - Примања од продаје нефинансијске имовине",{"$nulls":4},0,0,0,0,0,"09 - Примања од продаје нефинансијске имовине",{"$nulls":4},0,0,0,0,0,"09 - Примања од продаје нефинансијске имовине",{"$nulls":4},0,0,0,0,0,"09 - Примања од продаје нефинансијске имовине",{"$nulls":4},0,0,0,0,0,"09 - Примања од продаје нефинансијске имовине",{"$nulls":4},0,0,0,0,0,"09 - Примања од продаје нефинансијске имовине",{"$nulls":4},0,0,0,0,0,{"$f":"IF(FZ1797>0,MAX($FQ$1787:FQ1796)+1,\"\")","v":""},"09 - Примања од продаје нефинансијске имовине",null,null,0,0,0,0,0,0]
[null,null,"10 - Примања од домаћих задуживања",{"$nulls":4},0,0,0,0,0,"10 - Примања од домаћих задуживања",{"$nulls":4},0,0,0,0,0,"10 - Примања од домаћих задуживања",{"$nulls":4},{"$f":"SUMIF(W$1810:W$1909,$C1798,X$1810:Y$1909)","v":0},0,0,0,0,"10 - Примања од домаћих задуживања",{"$nulls":4},0,0,0,0,0,"10 - Примања од домаћих задуживања",{"$nulls":4},0,0,0,0,0,"10 - Примања од домаћих задуживања",{"$nulls":4},0,0,0,0,0,"10 - Примања од домаћих задуживања",{"$nulls":4},0,0,0,0,0,"10 - Примања од домаћих задуживања",{"$nulls":4},0,0,0,0,0,"10 - Примања од домаћих задуживања",{"$nulls":4},0,0,0,0,0,"10 - Примања од домаћих задуживања",{"$nulls":4},0,0,0,0,0,"10 - Примања од домаћих задуживања",{"$nulls":4},0,0,0,0,0,"10 - Примања од домаћих задуживања",{"$nulls":4},0,0,0,0,0,"10 - Примања од домаћих задуживања",{"$nulls":4},0,0,0,0,0,"10 - Примања од домаћих задуживања",{"$nulls":4},0,0,0,0,0,"10 - Примања од домаћих задуживања",{"$nulls":4},0,0,0,0,0,"10 - Примања од домаћих задуживања",{"$nulls":4},0,0,0,0,0,"10 - Примања од домаћих задуживања",{"$nulls":4},0,0,0,0,0,{"$f":"IF(FZ1798>0,MAX($FQ$1787:FQ1797)+1,\"\")","v":""},"10 - Примања од домаћих задуживања",null,null,0,0,0,0,0,0]
[null,null,"11 - Примања од иностраних задуживања",{"$nulls":4},0,0,0,0,0,"11 - Примања од иностраних задуживања",{"$nulls":4},0,0,0,0,0,"11 - Примања од иностраних задуживања",{"$nulls":4},0,0,0,0,0,"11 - Примања од иностраних задуживања",{"$nulls":4},0,0,0,0,0,"11 - Примања од иностраних задуживања",{"$nulls":4},0,0,0,0,0,"11 - Примања од иностраних задуживања",{"$nulls":4},0,0,0,0,0,"11 - Примања од иностраних задуживања",{"$nulls":4},0,0,0,0,0,"11 - Примања од иностраних задуживања",{"$nulls":4},0,0,0,0,0,"11 - Примања од иностраних задуживања",{"$nulls":4},0,0,0,0,0,"11 - Примања од иностраних задуживања",{"$nulls":4},0,0,0,0,0,"11 - Примања од иностраних задуживања",{"$nulls":4},0,0,0,0,0,"11 - Примања од иностраних задуживања",{"$nulls":4},0,0,0,0,0,"11 - Примања од иностраних задуживања",{"$nulls":4},0,0,0,0,0,"11 - Примања од иностраних задуживања",{"$nulls":4},0,0,0,0,0,"11 - Примања од иностраних задуживања",{"$nulls":4},0,0,0,0,0,"11 - Примања од иностраних задуживања",{"$nulls":4},0,0,{"$f":"SUMIF(EW$1810:EW$1909,$C1799,FB$1810:FC$1909)","v":0},0,0,"11 - Примања од иностраних задуживања",{"$nulls":4},{"$f":"SUMIF(FG$1810:FG$1909,$C1799,FH$1810:FI$1909)","v":0},{"$f":"SUMIF(FG$1810:FG$1909,$C1799,FJ$1810:FK$1909)","v":0},0,0,0,{"$f":"IF(FZ1799>0,MAX($FQ$1787:FQ1798)+1,\"\")","v":""},"11 - Примања од иностраних задуживања",null,null,0,0,0,0,0,0]
[null,null,"12 - Примања од отплате датих кредита и продаје финансијске имовине",{"$nulls":4},0,0,0,0,0,"12 - Примања од отплате датих кредита и продаје финансијске имовине",{"$nulls":4},0,0,0,0,0,"12 - Примања од отплате датих кредита и продаје финансијске имовине",{"$nulls":4},0,0,0,0,0,"12 - Примања од отплате датих кредита и продаје финансијске имовине",{"$nulls":4},0,0,0,0,0,"12 - Примања од отплате датих кредита и продаје финансијске имовине",{"$nulls":4},0,0,0,0,0,"12 - Примања од отплате датих кредита и продаје финансијске имовине",{"$nulls":4},0,0,0,0,0,"12 - Примања од отплате датих кредита и продаје финансијске имовине",{"$nulls":4},0,0,0,0,0,"12 - Примања од отплате датих кредита и продаје финансијске имовине",{"$nulls":4},0,0,0,0,0,"12 - Примања од отплате датих кредита и продаје финансијске имовине",{"$nulls":4},0,0,0,0,0,"12 - Примања од отплате датих кредита и продаје финансијске имовине",{"$nulls":4},0,0,0,0,0,"12 - Примања од отплате датих кредита и продаје финансијске имовине",{"$nulls":4},0,0,0,0,0,"12 - Примања од отплате датих кредита и продаје финансијске имовине",{"$nulls":4},0,0,0,0,0,"12 - Примања од отплате датих кредита и продаје финансијске имовине",{"$nulls":4},0,0,0,0,0,"12 - Примања од отплате датих кредита и продаје финансијске имовине",{"$nulls":4},0,0,0,0,0,"12 - Примања од отплате датих кредита и продаје финансијске имовине",{"$nulls":4},0,0,0,0,0,"12 - Примања од отплате датих кредита и продаје финансијске имовине",{"$nulls":4},0,0,0,0,0,"12 - Примања од отплате датих кредита и продаје финансијске имовине",{"$nulls":4},0,0,0,0,0,{"$f":"IF(FZ1800>0,MAX($FQ$1787:FQ1799)+1,\"\")","v":""},"12 - Примања од отплате датих кредита и продаје финансијске имовине",null,null,0,0,0,0,0,0]
[null,null,"13 - Нераспоређени вишак прихода из ранијих година",{"$nulls":4},0,0,0,0,0,"13 - Нераспоређени вишак прихода из ранијих година",{"$nulls":4},{"v":1748000,"d":"1,748,000"},{"v":2507500,"d":"2,507,500"},{"v":1510000,"d":"1,510,000"},0,0,"13 - Нераспоређени вишак прихода из ранијих година",{"$nulls":4},0,0,0,0,0,"13 - Нераспоређени вишак прихода из ранијих година",{"$nulls":4},0,0,0,0,0,"13 - Нераспоређени вишак прихода из ранијих година",{"$nulls":4},0,0,0,0,0,"13 - Нераспоређени вишак прихода из ранијих година",{"$nulls":4},0,0,0,0,0,"13 - Нераспоређени вишак прихода из ранијих година",{"$nulls":4},0,0,0,0,0,"13 - Нераспоређени вишак прихода из ранијих година",{"$nulls":4},0,0,0,0,0,"13 - Нераспоређени вишак прихода из ранијих година",{"$nulls":4},0,0,0,0,0,"13 - Нераспоређени вишак прихода из ранијих година",{"$nulls":4},0,0,0,0,0,"13 - Нераспоређени вишак прихода из ранијих година",{"$nulls":4},0,0,0,0,0,"13 - Нераспоређени вишак прихода из ранијих година",{"$nulls":4},0,0,0,0,0,"13 - Нераспоређени вишак прихода из ранијих година",{"$nulls":4},0,0,0,0,0,"13 - Нераспоређени вишак прихода из ранијих година",{"$nulls":4},0,0,0,0,0,"13 - Нераспоређени вишак прихода из ранијих година",{"$nulls":4},0,0,0,0,0,"13 - Нераспоређени вишак прихода из ранијих година",{"$nulls":4},0,0,0,0,0,"13 - Нераспоређени вишак прихода из ранијих година",{"$nulls":4},0,0,0,0,0,{"$f":"IF(FZ1801>0,MAX($FQ$1787:FQ1800)+1,\"\")","v":2},"13 - Нераспоређени вишак прихода из ранијих година",null,null,{"v":1748000,"d":"1,748,000"},{"v":2507500,"d":"2,507,500"},{"v":1510000,"d":"1,510,000"},0,0,{"v":5765500,"d":"5,765,500"}]
[null,null,"14 - Неутрошена средства од приватизације из ранијих година",{"$nulls":4},0,0,0,0,0,"14 - Неутрошена средства од приватизације из ранијих година",{"$nulls":4},0,0,0,0,0,"14 - Неутрошена средства од приватизације из ранијих година",{"$nulls":4},0,0,0,0,0,"14 - Неутрошена средства од приватизације из ранијих година",{"$nulls":4},0,0,0,0,0,"14 - Неутрошена средства од приватизације из ранијих година",{"$nulls":4},0,0,0,0,0,"14 - Неутрошена средства од приватизације из ранијих година",{"$nulls":4},0,0,0,0,0,"14 - Неутрошена средства од приватизације из ранијих година",{"$nulls":4},0,0,0,0,0,"14 - Неутрошена средства од приватизације из ранијих година",{"$nulls":4},0,0,0,0,0,"14 - Неутрошена средства од приватизације из ранијих година",{"$nulls":4},0,0,0,0,0,"14 - Неутрошена средства од приватизације из ранијих година",{"$nulls":4},0,0,0,0,0,"14 - Неутрошена средства од приватизације из ранијих година",{"$nulls":4},0,0,0,0,0,"14 - Неутрошена средства од приватизације из ранијих година",{"$nulls":4},0,0,0,0,0,"14 - Неутрошена средства од приватизације из ранијих година",{"$nulls":4},0,0,0,0,0,"14 - Неутрошена средства од приватизације из ранијих година",{"$nulls":4},0,0,0,0,0,"14 - Неутрошена средства од приватизације из ранијих година",{"$nulls":4},0,0,0,0,0,"14 - Неутрошена средства од приватизације из ранијих година",{"$nulls":4},0,0,0,0,0,"14 - Неутрошена средства од приватизације из ранијих година",{"$nulls":4},0,0,0,0,0,{"$f":"IF(FZ1802>0,MAX($FQ$1787:FQ1801)+1,\"\")","v":""},"14 - Неутрошена средства од приватизације из ранијих година",null,null,0,0,0,0,0,0]
[null,null,"15 - Неутрошена средства донација из ранијих година",{"$nulls":4},0,0,0,0,0,"15 - Неутрошена средства донација из ранијих година",{"$nulls":4},0,0,0,0,0,"15 - Неутрошена средства донација из ранијих година",{"$nulls":4},0,0,0,0,0,"15 - Неутрошена средства донација из ранијих година",{"$nulls":4},0,0,0,0,0,"15 - Неутрошена средства донација из ранијих година",{"$nulls":4},0,0,0,0,0,"15 - Неутрошена средства донација из ранијих година",{"$nulls":4},0,0,0,0,0,"15 - Неутрошена средства донација из ранијих година",{"$nulls":4},0,0,0,0,0,"15 - Неутрошена средства донација из ранијих година",{"$nulls":4},0,0,0,0,0,"15 - Неутрошена средства донација из ранијих година",{"$nulls":4},0,0,0,0,0,"15 - Неутрошена средства донација из ранијих година",{"$nulls":4},0,0,0,0,0,"15 - Неутрошена средства донација из ранијих година",{"$nulls":4},0,0,0,0,0,"15 - Неутрошена средства донација из ранијих година",{"$nulls":4},0,0,0,0,0,"15 - Неутрошена средства донација из ранијих година",{"$nulls":4},0,0,0,0,0,"15 - Неутрошена средства донација из ранијих година",{"$nulls":4},0,0,0,0,0,"15 - Неутрошена средства донација из ранијих година",{"$nulls":4},0,0,0,0,0,"15 - Неутрошена средства донација из ранијих година",{"$nulls":4},0,0,0,0,0,"15 - Неутрошена средства донација из ранијих година",{"$nulls":4},0,0,0,0,0,{"$f":"IF(FZ1803>0,MAX($FQ$1787:FQ1802)+1,\"\")","v":""},"15 - Неутрошена средства донација из ранијих година",null,null,0,0,0,0,0,0]
[null,null,"16 - Родитељски динар за ваннаставне активности",{"$nulls":4},0,0,0,0,0,"16 - Родитељски динар за ваннаставне активности",{"$nulls":4},0,0,0,0,0,"16 - Родитељски динар за ваннаставне активности",{"$nulls":4},0,0,0,0,0,"16 - Родитељски динар за ваннаставне активности",{"$nulls":4},0,0,0,0,0,"16 - Родитељски динар за ваннаставне активности",{"$nulls":4},0,0,0,0,0,"16 - Родитељски динар за ваннаставне активности",{"$nulls":4},0,0,0,0,0,"16 - Родитељски динар за ваннаставне активности",{"$nulls":4},0,0,0,0,0,"16 - Родитељски динар за ваннаставне активности",{"$nulls":4},0,0,0,0,0,"16 - Родитељски динар за ваннаставне активности",{"$nulls":4},0,0,0,0,0,"16 - Родитељски динар за ваннаставне активности",{"$nulls":4},0,0,0,0,0,"16 - Родитељски динар за ваннаставне активности",{"$nulls":4},0,0,0,0,0,"16 - Родитељски динар за ваннаставне активности",{"$nulls":4},0,0,0,0,0,"16 - Родитељски динар за ваннаставне активности",{"$nulls":4},0,0,0,0,0,"16 - Родитељски динар за ваннаставне активности",{"$nulls":4},0,0,0,0,0,"16 - Родитељски динар за ваннаставне активности",{"$nulls":4},0,0,0,0,0,"16 - Родитељски динар за ваннаставне активности",{"$nulls":4},0,0,0,0,0,"16 - Родитељски динар за ваннаставне активности",{"$nulls":4},0,0,0,0,0,{"$f":"IF(FZ1804>0,MAX($FQ$1787:FQ1803)+1,\"\")","v":""},"16 - Родитељски динар за ваннаставне активности",null,null,0,0,0,0,0,0]
[null,null,"56 - Финансијска помоћ ЕУ",{"$nulls":4},0,0,0,0,0,"56 - Финансијска помоћ ЕУ",{"$nulls":4},0,0,0,0,0,"56 - Финансијска помоћ ЕУ",{"$nulls":4},0,0,0,0,0,"56 - Финансијска помоћ ЕУ",{"$nulls":4},0,0,0,0,0,"56 - Финансијска помоћ ЕУ",{"$nulls":4},0,0,0,0,0,"56 - Финансијска помоћ ЕУ",{"$nulls":4},0,0,0,0,0,"56 - Финансијска помоћ ЕУ",{"$nulls":4},0,0,0,0,0,"56 - Финансијска помоћ ЕУ",{"$nulls":4},0,0,0,0,0,"56 - Финансијска помоћ ЕУ",{"$nulls":4},0,0,0,0,0,"56 - Финансијска помоћ ЕУ",{"$nulls":4},0,0,0,0,0,"56 - Финансијска помоћ ЕУ",{"$nulls":4},0,0,0,0,0,"56 - Финансијска помоћ ЕУ",{"$nulls":4},0,0,0,0,0,"56 - Финансијска помоћ ЕУ",{"$nulls":4},0,0,0,0,0,"56 - Финансијска помоћ ЕУ",{"$nulls":4},0,0,0,0,0,"56 - Финансијска помоћ ЕУ",{"$nulls":4},0,0,0,0,0,"56 - Финансијска помоћ ЕУ",{"$nulls":4},0,0,0,0,0,"56 - Финансијска помоћ ЕУ",{"$nulls":4},0,0,0,0,0,{"$f":"IF(FZ1805>0,MAX($FQ$1787:FQ1804)+1,\"\")","v":""},"56 - Финансијска помоћ ЕУ",null,null,0,0,0,0,0,0]
[]
[]
[null,null,"prvi red",{"$nulls":9},"drugi red",{"$nulls":9},"3. red",{"$nulls":9},"4. red",{"$nulls":9},"5. red",{"$nulls":9},"6 red",{"$nulls":9},"7. red",{"$nulls":9},"8. red",{"$nulls":9},"9. red",{"$nulls":9},"10 red",{"$nulls":9},"11 red",{"$nulls":9},"12. red",{"$nulls":9},"13. red",{"$nulls":9},"14. red",{"$nulls":9},"15 red",{"$nulls":9},"16. red",{"$nulls":9},"17. red"]
[null,null,"Izvori finansiranja","rashodi 2015",null,"rashodi 2016",null,"rashodi 2017",null,"rashodi 2018",null,"rashodi 2019","Izvori finansiranja","rashodi 2015",null,"rashodi 2016",null,"rashodi 2017",null,"rashodi 2018",null,"rashodi 2019","Izvori finansiranja","rashodi 2015",null,"rashodi 2016",null,"rashodi 2017",null,"rashodi 2018",null,"rashodi 2019","Izvori finansiranja","rashodi 2015",null,"rashodi 2016",null,"rashodi 2017",null,"rashodi 2018",null,"rashodi 2019","Izvori finansiranja","rashodi 2015",null,"rashodi 2016",null,"rashodi 2017",null,"rashodi 2018",null,"rashodi 2019","Izvori finansiranja","rashodi 2015",null,"rashodi 2016",null,"rashodi 2017",null,"rashodi 2018",null,"rashodi 2019","Izvori finansiranja","rashodi 2015",null,"rashodi 2016",null,"rashodi 2017",null,"rashodi 2018",null,"rashodi 2019","Izvori finansiranja","rashodi 2015",null,"rashodi 2016",null,"rashodi 2017",null,"rashodi 2018",null,"rashodi 2019","Izvori finansiranja","rashodi 2015",null,"rashodi 2016",null,"rashodi 2017",null,"rashodi 2018",null,"rashodi 2019","Izvori finansiranja","rashodi 2015",null,"rashodi 2016",null,"rashodi 2017",null,"rashodi 2018",null,2019,"Izvori finansiranja","rashodi 2015",null,"rashodi 2016",null,"rashodi 2017",null,"rashodi 2018",null,"rashodi 2019","Izvori finansiranja","rashodi 2015",null,"rashodi 2016",null,"rashodi 2017",null,"rashodi 2018",null,"rashodi 2019","Izvori finansiranja","rashodi 2015",null,"rashodi 2016",null,"rashodi 2017",null,"rashodi 2018",null,"rashodi 2019","Izvori finansiranja","rashodi 2015",null,"rashodi 2016",null,"rashodi 2017",null,"rashodi 2018",null,"rashodi 2019","Izvori finansiranja","rashodi 2015",null,"rashodi 2016",null,"rashodi 2017",null,"rashodi 2018",null,null,"Izvori finansiranja","rashodi 2015",null,"rashodi 2016",null,"rashodi 2017",null,"rashodi 2018",null,"rashodi 2019","Izvori finansiranja","rashodi 2015",null,"rashodi 2016",null,"rashodi 2017",null,"rashodi 2018",null,"rashodi 2019"]
[1,{"$f":"IF(ISERROR(INDEX(WS,ROWS($A$1810:$A1810))),\"\",MID(INDEX(WS,ROWS($A$1810:$A1810)), FIND(\"]\",INDEX(WS,ROWS($A$1810:$A1810)))+1,32))&T(NOW())","v":"Програм"},{"$f":"IF($B1810<>\"\",INDIRECT(\"'\"&$B1810&\"'\"&\"!y3\"),\"\")","v":0},{"$f":"IF($B1810<>\"\",INDIRECT(\"'\"&$B1810&\"'\"&\"!z3\"),\"\")","v":0},null,{"$f":"IF($B1810<>\"\",INDIRECT(\"'\"&$B1810&\"'\"&\"!ab3\"),\"\")","v":0},null,{"$f":"IF($B1810<>\"\",INDIRECT(\"'\"&$B1810&\"'\"&\"!ad3\"),\"\")","v":0},null,{"$f":"IF($B1810<>\"\",INDIRECT(\"'\"&$B1810&\"'\"&\"!af3\"),\"\")","v":0},null,{"$f":"IF($B1810<>\"\",INDIRECT(\"'\"&$B1810&\"'\"&\"!ah3\"),\"\")","v":0},{"$f":"IF($B1810<>\"\",INDIRECT(\"'\"&$B1810&\"'\"&\"!y4\"),\"\")","v":0},{"$f":"IF($B1810<>\"\",INDIRECT(\"'\"&$B1810&\"'\"&\"!z4\"),\"\")","v":0},null,{"$f":"IF($B1810<>\"\",INDIRECT(\"'\"&$B1810&\"'\"&\"!ab4\"),\"\")","v":0},null,{"$f":"IF($B1810<>\"\",INDIRECT(\"'\"&$B1810&\"'\"&\"!ad4\"),\"\")","v":0},null,{"$f":"IF($B1810<>\"\",INDIRECT(\"'\"&$B1810&\"'\"&\"!af4\"),\"\")","v":0},null,{"$f":"IF($B1810<>\"\",INDIRECT(\"'\"&$B1810&\"'\"&\"!ah4\"),\"\")","v":0},{"$f":"IF($B1810<>\"\",INDIRECT(\"'\"&$B1810&\"'\"&\"!y5\"),\"\")","v":0},{"$f":"IF($B1810<>\"\",INDIRECT(\"'\"&$B1810&\"'\"&\"!z5\"),\"\")","v":0},null,{"$f":"IF($B1810<>\"\",INDIRECT(\"'\"&$B1810&\"'\"&\"!ab5\"),\"\")","v":0},null,{"$f":"IF($B1810<>\"\",INDIRECT(\"'\"&$B1810&\"'\"&\"!ad5\"),\"\")","v":0},null,{"$f":"IF($B1810<>\"\",INDIRECT(\"'\"&$B1810&\"'\"&\"!af5\"),\"\")","v":0},null,{"$f":"IF($B1810<>\"\",INDIRECT(\"'\"&$B1810&\"'\"&\"!ah5\"),\"\")","v":0},{"$f":"IF($B1810<>\"\",INDIRECT(\"'\"&$B1810&\"'\"&\"!y6\"),\"\")","v":0},{"$f":"IF($B1810<>\"\",INDIRECT(\"'\"&$B1810&\"'\"&\"!z6\"),\"\")","v":0},null,{"$f":"IF($B1810<>\"\",INDIRECT(\"'\"&$B1810&\"'\"&\"!ab6\"),\"\")","v":0},null,{"$f":"IF($B1810<>\"\",INDIRECT(\"'\"&$B1810&\"'\"&\"!ad6\"),\"\")","v":0},null,{"$f":"IF($B1810<>\"\",INDIRECT(\"'\"&$B1810&\"'\"&\"!af6\"),\"\")","v":0},null,{"$f":"IF($B1810<>\"\",INDIRECT(\"'\"&$B1810&\"'\"&\"!ah6\"),\"\")","v":0},{"$f":"IF($B1810<>\"\",INDIRECT(\"'\"&$B1810&\"'\"&\"!y7\"),\"\")","v":0},{"$f":"IF($B1810<>\"\",INDIRECT(\"'\"&$B1810&\"'\"&\"!z7\"),\"\")","v":0},null,{"$f":"IF($B1810<>\"\",INDIRECT(\"'\"&$B1810&\"'\"&\"!ab7\"),\"\")","v":0},null,{"$f":"IF($B1810<>\"\",INDIRECT(\"'\"&$B1810&\"'\"&\"!ad7\"),\"\")","v":0},null,{"$f":"IF($B1810<>\"\",INDIRECT(\"'\"&$B1810&\"'\"&\"!af7\"),\"\")","v":0},null,{"$f":"IF($B1810<>\"\",INDIRECT(\"'\"&$B1810&\"'\"&\"!ah7\"),\"\")","v":0},{"$f":"IF($B1810<>\"\",INDIRECT(\"'\"&$B1810&\"'\"&\"!y8\"),\"\")","v":0},{"$f":"IF($B1810<>\"\",INDIRECT(\"'\"&$B1810&\"'\"&\"!z8\"),\"\")","v":0},null,{"$f":"IF($B1810<>\"\",INDIRECT(\"'\"&$B1810&\"'\"&\"!ab8\"),\"\")","v":0},null,{"$f":"IF($B1810<>\"\",INDIRECT(\"'\"&$B1810&\"'\"&\"!ad8\"),\"\")","v":0},null,{"$f":"IF($B1810<>\"\",INDIRECT(\"'\"&$B1810&\"'\"&\"!af8\"),\"\")","v":0},null,{"$f":"IF($B1810<>\"\",INDIRECT(\"'\"&$B1810&\"'\"&\"!ah8\"),\"\")","v":0},{"$f":"IF($B1810<>\"\",INDIRECT(\"'\"&$B1810&\"'\"&\"!y9\"),\"\")","v":0},{"$f":"IF($B1810<>\"\",INDIRECT(\"'\"&$B1810&\"'\"&\"!z9\"),\"\")","v":0},null,{"$f":"IF($B1810<>\"\",INDIRECT(\"'\"&$B1810&\"'\"&\"!ab9\"),\"\")","v":0},null,{"$f":"IF($B1810<>\"\",INDIRECT(\"'\"&$B1810&\"'\"&\"!ad9\"),\"\")","v":0},null,{"$f":"IF($B1810<>\"\",INDIRECT(\"'\"&$B1810&\"'\"&\"!af9\"),\"\")","v":0},null,{"$f":"IF($B1810<>\"\",INDIRECT(\"'\"&$B1810&\"'\"&\"!ah9\"),\"\")","v":0},{"$f":"IF($B1810<>\"\",INDIRECT(\"'\"&$B1810&\"'\"&\"!y10\"),\"\")","v":0},{"$f":"IF($B1810<>\"\",INDIRECT(\"'\"&$B1810&\"'\"&\"!z10\"),\"\")","v":0},null,{"$f":"IF($B1810<>\"\",INDIRECT(\"'\"&$B1810&\"'\"&\"!ab10\"),\"\")","v":0},null,{"$f":"IF($B1810<>\"\",INDIRECT(\"'\"&$B1810&\"'\"&\"!ad10\"),\"\")","v":0},null,{"$f":"IF($B1810<>\"\",INDIRECT(\"'\"&$B1810&\"'\"&\"!af10\"),\"\")","v":0},null,null,{"$f":"IF($B1810<>\"\",INDIRECT(\"'\"&$B1810&\"'\"&\"!y11\"),\"\")","v":0},{"$f":"IF($B1810<>\"\",INDIRECT(\"'\"&$B1810&\"'\"&\"!z11\"),\"\")","v":0},null,{"$f":"IF($B1810<>\"\",INDIRECT(\"'\"&$B1810&\"'\"&\"!ab11\"),\"\")","v":0},null,{"$f":"IF($B1810<>\"\",INDIRECT(\"'\"&$B1810&\"'\"&\"!ad11\"),\"\")","v":0},null,{"$f":"IF($B1810<>\"\",INDIRECT(\"'\"&$B1810&\"'\"&\"!af11\"),\"\")","v":0},null,null,{"$f":"IF($B1810<>\"\",INDIRECT(\"'\"&$B1810&\"'\"&\"!y12\"),\"\")","v":0},{"$f":"IF($B1810<>\"\",INDIRECT(\"'\"&$B1810&\"'\"&\"!z12\"),\"\")","v":0},null,{"$f":"IF($B1810<>\"\",INDIRECT(\"'\"&$B1810&\"'\"&\"!ab12\"),\"\")","v":0},null,{"$f":"IF($B1810<>\"\",INDIRECT(\"'\"&$B1810&\"'\"&\"!ad12\"),\"\")","v":0},null,{"$f":"IF($B1810<>\"\",INDIRECT(\"'\"&$B1810&\"'\"&\"!af12\"),\"\")","v":0},null,null,{"$f":"IF($B1810<>\"\",INDIRECT(\"'\"&$B1810&\"'\"&\"!y13\"),\"\")","v":0},{"$f":"IF($B1810<>\"\",INDIRECT(\"'\"&$B1810&\"'\"&\"!z13\"),\"\")","v":0},null,{"$f":"IF($B1810<>\"\",INDIRECT(\"'\"&$B1810&\"'\"&\"!ab13\"),\"\")","v":0},null,{"$f":"IF($B1810<>\"\",INDIRECT(\"'\"&$B1810&\"'\"&\"!ad13\"),\"\")","v":0},null,{"$f":"IF($B1810<>\"\",INDIRECT(\"'\"&$B1810&\"'\"&\"!af13\"),\"\")","v":0},null,null,{"$f":"IF($B1810<>\"\",INDIRECT(\"'\"&$B1810&\"'\"&\"!y14\"),\"\")","v":0},{"$f":"IF($B1810<>\"\",INDIRECT(\"'\"&$B1810&\"'\"&\"!z14\"),\"\")","v":0},null,{"$f":"IF($B1810<>\"\",INDIRECT(\"'\"&$B1810&\"'\"&\"!ab14\"),\"\")","v":0},null,{"$f":"IF($B1810<>\"\",INDIRECT(\"'\"&$B1810&\"'\"&\"!ad14\"),\"\")","v":0},null,{"$f":"IF($B1810<>\"\",INDIRECT(\"'\"&$B1810&\"'\"&\"!af14\"),\"\")","v":0},null,null,{"$f":"IF($B1810<>\"\",INDIRECT(\"'\"&$B1810&\"'\"&\"!y15\"),\"\")","v":0},{"$f":"IF($B1810<>\"\",INDIRECT(\"'\"&$B1810&\"'\"&\"!z15\"),\"\")","v":0},null,{"$f":"IF($B1810<>\"\",INDIRECT(\"'\"&$B1810&\"'\"&\"!ab15\"),\"\")","v":0},null,{"$f":"IF($B1810<>\"\",INDIRECT(\"'\"&$B1810&\"'\"&\"!ad15\"),\"\")","v":0},null,{"$f":"IF($B1810<>\"\",INDIRECT(\"'\"&$B1810&\"'\"&\"!af15\"),\"\")","v":0},null,null,{"$f":"IF($B1810<>\"\",INDIRECT(\"'\"&$B1810&\"'\"&\"!y16\"),\"\")","v":0},{"$f":"IF($B1810<>\"\",INDIRECT(\"'\"&$B1810&\"'\"&\"!z16\"),\"\")","v":0},null,{"$f":"IF($B1810<>\"\",INDIRECT(\"'\"&$B1810&\"'\"&\"!ab16\"),\"\")","v":0},null,{"$f":"IF($B1810<>\"\",INDIRECT(\"'\"&$B1810&\"'\"&\"!ad16\"),\"\")","v":0},null,{"$f":"IF($B1810<>\"\",INDIRECT(\"'\"&$B1810&\"'\"&\"!af16\"),\"\")","v":0},null,null,{"$f":"IF($B1810<>\"\",INDIRECT(\"'\"&$B1810&\"'\"&\"!y17\"),\"\")","v":0},{"$f":"IF($B1810<>\"\",INDIRECT(\"'\"&$B1810&\"'\"&\"!z17\"),\"\")","v":0},null,{"$f":"IF($B1810<>\"\",INDIRECT(\"'\"&$B1810&\"'\"&\"!ab17\"),\"\")","v":0},null,{"$f":"IF($B1810<>\"\",INDIRECT(\"'\"&$B1810&\"'\"&\"!ad17\"),\"\")","v":0},null,{"$f":"IF($B1810<>\"\",INDIRECT(\"'\"&$B1810&\"'\"&\"!af17\"),\"\")","v":0},null,null,{"$f":"IF($B1810<>\"\",INDIRECT(\"'\"&$B1810&\"'\"&\"!y18\"),\"\")","v":0},{"$f":"IF($B1810<>\"\",INDIRECT(\"'\"&$B1810&\"'\"&\"!z18\"),\"\")","v":0},null,{"$f":"IF($B1810<>\"\",INDIRECT(\"'\"&$B1810&\"'\"&\"!ab18\"),\"\")","v":0},null,{"$f":"IF($B1810<>\"\",INDIRECT(\"'\"&$B1810&\"'\"&\"!ad18\"),\"\")","v":0},null,{"$f":"IF($B1810<>\"\",INDIRECT(\"'\"&$B1810&\"'\"&\"!af18\"),\"\")","v":0},null,null,{"$f":"IF($B1810<>\"\",INDIRECT(\"'\"&$B1810&\"'\"&\"!y19\"),\"\")","v":0},{"$f":"IF($B1810<>\"\",INDIRECT(\"'\"&$B1810&\"'\"&\"!z19\"),\"\")","v":0},null,{"$f":"IF($B1810<>\"\",INDIRECT(\"'\"&$B1810&\"'\"&\"!ab19\"),\"\")","v":0},null,{"$f":"IF($B1810<>\"\",INDIRECT(\"'\"&$B1810&\"'\"&\"!ad19\"),\"\")","v":0},null,{"$f":"IF($B1810<>\"\",INDIRECT(\"'\"&$B1810&\"'\"&\"!af19\"),\"\")","v":0}]
[2,{"$f":"IF(ISERROR(INDEX(WS,ROWS($A$1810:$A1811))),\"\",MID(INDEX(WS,ROWS($A$1810:$A1811)), FIND(\"]\",INDEX(WS,ROWS($A$1810:$A1811)))+1,32))&T(NOW())","v":"ПА-0002"},"01 - Приходи из буџета",{"$f":"IF($B1811<>\"\",INDIRECT(\"'\"&$B1811&\"'\"&\"!z3\"),\"\")","v":{"v":3750000,"d":"3,750,000"}},null,{"$f":"IF($B1811<>\"\",INDIRECT(\"'\"&$B1811&\"'\"&\"!ab3\"),\"\")","v":{"v":1502000,"d":"1,502,000"}},null,{"$f":"IF($B1811<>\"\",INDIRECT(\"'\"&$B1811&\"'\"&\"!ad3\"),\"\")","v":{"v":1760000,"d":"1,760,000"}},null,{"$f":"IF($B1811<>\"\",INDIRECT(\"'\"&$B1811&\"'\"&\"!af3\"),\"\")","v":{"v":1500000,"d":"1,500,000"}},null,{"$f":"IF($B1811<>\"\",INDIRECT(\"'\"&$B1811&\"'\"&\"!ah3\"),\"\")","v":{"v":1500000,"d":"1,500,000"}},{"$f":"IF($B1811<>\"\",INDIRECT(\"'\"&$B1811&\"'\"&\"!y4\"),\"\")","v":"13 - Нераспоређени вишак прихода из ранијих година"},{"$f":"IF($B1811<>\"\",INDIRECT(\"'\"&$B1811&\"'\"&\"!z4\"),\"\")","v":{"v":1748000,"d":"1,748,000"}},null,{"$f":"IF($B1811<>\"\",INDIRECT(\"'\"&$B1811&\"'\"&\"!ab4\"),\"\")","v":{"v":2507500,"d":"2,507,500"}},null,{"$f":"IF($B1811<>\"\",INDIRECT(\"'\"&$B1811&\"'\"&\"!ad4\"),\"\")","v":{"v":1510000,"d":"1,510,000"}},null,{"$f":"IF($B1811<>\"\",INDIRECT(\"'\"&$B1811&\"'\"&\"!af4\"),\"\")","v":0},null,{"$f":"IF($B1811<>\"\",INDIRECT(\"'\"&$B1811&\"'\"&\"!ah4\"),\"\")","v":0},{"$f":"IF($B1811<>\"\",INDIRECT(\"'\"&$B1811&\"'\"&\"!y5\"),\"\")","v":0},{"$f":"IF($B1811<>\"\",INDIRECT(\"'\"&$B1811&\"'\"&\"!z5\"),\"\")","v":0},null,{"$f":"IF($B1811<>\"\",INDIRECT(\"'\"&$B1811&\"'\"&\"!ab5\"),\"\")","v":0},null,{"$f":"IF($B1811<>\"\",INDIRECT(\"'\"&$B1811&\"'\"&\"!ad5\"),\"\")","v":0},null,{"$f":"IF($B1811<>\"\",INDIRECT(\"'\"&$B1811&\"'\"&\"!af5\"),\"\")","v":0},null,{"$f":"IF($B1811<>\"\",INDIRECT(\"'\"&$B1811&\"'\"&\"!ah5\"),\"\")","v":0},{"$f":"IF($B1811<>\"\",INDIRECT(\"'\"&$B1811&\"'\"&\"!y6\"),\"\")","v":0},{"$f":"IF($B1811<>\"\",INDIRECT(\"'\"&$B1811&\"'\"&\"!z6\"),\"\")","v":0},null,{"$f":"IF($B1811<>\"\",INDIRECT(\"'\"&$B1811&\"'\"&\"!ab6\"),\"\")","v":0},null,{"$f":"IF($B1811<>\"\",INDIRECT(\"'\"&$B1811&\"'\"&\"!ad6\"),\"\")","v":0},null,{"$f":"IF($B1811<>\"\",INDIRECT(\"'\"&$B1811&\"'\"&\"!af6\"),\"\")","v":0},null,{"$f":"IF($B1811<>\"\",INDIRECT(\"'\"&$B1811&\"'\"&\"!ah6\"),\"\")","v":0},{"$f":"IF($B1811<>\"\",INDIRECT(\"'\"&$B1811&\"'\"&\"!y7\"),\"\")","v":0},{"$f":"IF($B1811<>\"\",INDIRECT(\"'\"&$B1811&\"'\"&\"!z7\"),\"\")","v":0},null,{"$f":"IF($B1811<>\"\",INDIRECT(\"'\"&$B1811&\"'\"&\"!ab7\"),\"\")","v":0},null,{"$f":"IF($B1811<>\"\",INDIRECT(\"'\"&$B1811&\"'\"&\"!ad7\"),\"\")","v":0},null,{"$f":"IF($B1811<>\"\",INDIRECT(\"'\"&$B1811&\"'\"&\"!af7\"),\"\")","v":0},null,{"$f":"IF($B1811<>\"\",INDIRECT(\"'\"&$B1811&\"'\"&\"!ah7\"),\"\")","v":0},{"$f":"IF($B1811<>\"\",INDIRECT(\"'\"&$B1811&\"'\"&\"!y8\"),\"\")","v":0},{"$f":"IF($B1811<>\"\",INDIRECT(\"'\"&$B1811&\"'\"&\"!z8\"),\"\")","v":0},null,{"$f":"IF($B1811<>\"\",INDIRECT(\"'\"&$B1811&\"'\"&\"!ab8\"),\"\")","v":0},null,{"$f":"IF($B1811<>\"\",INDIRECT(\"'\"&$B1811&\"'\"&\"!ad8\"),\"\")","v":0},null,{"$f":"IF($B1811<>\"\",INDIRECT(\"'\"&$B1811&\"'\"&\"!af8\"),\"\")","v":0},null,{"$f":"IF($B1811<>\"\",INDIRECT(\"'\"&$B1811&\"'\"&\"!ah8\"),\"\")","v":0},{"$f":"IF($B1811<>\"\",INDIRECT(\"'\"&$B1811&\"'\"&\"!y9\"),\"\")","v":0},{"$f":"IF($B1811<>\"\",INDIRECT(\"'\"&$B1811&\"'\"&\"!z9\"),\"\")","v":0},null,{"$f":"IF($B1811<>\"\",INDIRECT(\"'\"&$B1811&\"'\"&\"!ab9\"),\"\")","v":0},null,{"$f":"IF($B1811<>\"\",INDIRECT(\"'\"&$B1811&\"'\"&\"!ad9\"),\"\")","v":0},null,{"$f":"IF($B1811<>\"\",INDIRECT(\"'\"&$B1811&\"'\"&\"!af9\"),\"\")","v":0},null,{"$f":"IF($B1811<>\"\",INDIRECT(\"'\"&$B1811&\"'\"&\"!ah9\"),\"\")","v":0},{"$f":"IF($B1811<>\"\",INDIRECT(\"'\"&$B1811&\"'\"&\"!y10\"),\"\")","v":0},{"$f":"IF($B1811<>\"\",INDIRECT(\"'\"&$B1811&\"'\"&\"!z10\"),\"\")","v":0},null,{"$f":"IF($B1811<>\"\",INDIRECT(\"'\"&$B1811&\"'\"&\"!ab10\"),\"\")","v":0},null,{"$f":"IF($B1811<>\"\",INDIRECT(\"'\"&$B1811&\"'\"&\"!ad10\"),\"\")","v":0},null,{"$f":"IF($B1811<>\"\",INDIRECT(\"'\"&$B1811&\"'\"&\"!af10\"),\"\")","v":0},null,null,{"$f":"IF($B1811<>\"\",INDIRECT(\"'\"&$B1811&\"'\"&\"!y11\"),\"\")","v":0},{"$f":"IF($B1811<>\"\",INDIRECT(\"'\"&$B1811&\"'\"&\"!z11\"),\"\")","v":0},null,{"$f":"IF($B1811<>\"\",INDIRECT(\"'\"&$B1811&\"'\"&\"!ab11\"),\"\")","v":0},null,{"$f":"IF($B1811<>\"\",INDIRECT(\"'\"&$B1811&\"'\"&\"!ad11\"),\"\")","v":0},null,{"$f":"IF($B1811<>\"\",INDIRECT(\"'\"&$B1811&\"'\"&\"!af11\"),\"\")","v":0},null,null,{"$f":"IF($B1811<>\"\",INDIRECT(\"'\"&$B1811&\"'\"&\"!y12\"),\"\")","v":0},{"$f":"IF($B1811<>\"\",INDIRECT(\"'\"&$B1811&\"'\"&\"!z12\"),\"\")","v":0},null,{"$f":"IF($B1811<>\"\",INDIRECT(\"'\"&$B1811&\"'\"&\"!ab12\"),\"\")","v":0},null,{"$f":"IF($B1811<>\"\",INDIRECT(\"'\"&$B1811&\"'\"&\"!ad12\"),\"\")","v":0},null,{"$f":"IF($B1811<>\"\",INDIRECT(\"'\"&$B1811&\"'\"&\"!af12\"),\"\")","v":0},null,null,{"$f":"IF($B1811<>\"\",INDIRECT(\"'\"&$B1811&\"'\"&\"!y13\"),\"\")","v":0},{"$f":"IF($B1811<>\"\",INDIRECT(\"'\"&$B1811&\"'\"&\"!z13\"),\"\")","v":0},null,{"$f":"IF($B1811<>\"\",INDIRECT(\"'\"&$B1811&\"'\"&\"!ab13\"),\"\")","v":0},null,{"$f":"IF($B1811<>\"\",INDIRECT(\"'\"&$B1811&\"'\"&\"!ad13\"),\"\")","v":0},null,{"$f":"IF($B1811<>\"\",INDIRECT(\"'\"&$B1811&\"'\"&\"!af13\"),\"\")","v":0},null,null,{"$f":"IF($B1811<>\"\",INDIRECT(\"'\"&$B1811&\"'\"&\"!y14\"),\"\")","v":0},{"$f":"IF($B1811<>\"\",INDIRECT(\"'\"&$B1811&\"'\"&\"!z14\"),\"\")","v":0},null,{"$f":"IF($B1811<>\"\",INDIRECT(\"'\"&$B1811&\"'\"&\"!ab14\"),\"\")","v":0},null,{"$f":"IF($B1811<>\"\",INDIRECT(\"'\"&$B1811&\"'\"&\"!ad14\"),\"\")","v":0},null,{"$f":"IF($B1811<>\"\",INDIRECT(\"'\"&$B1811&\"'\"&\"!af14\"),\"\")","v":0},null,null,{"$f":"IF($B1811<>\"\",INDIRECT(\"'\"&$B1811&\"'\"&\"!y15\"),\"\")","v":0},{"$f":"IF($B1811<>\"\",INDIRECT(\"'\"&$B1811&\"'\"&\"!z15\"),\"\")","v":0},null,{"$f":"IF($B1811<>\"\",INDIRECT(\"'\"&$B1811&\"'\"&\"!ab15\"),\"\")","v":0},null,{"$f":"IF($B1811<>\"\",INDIRECT(\"'\"&$B1811&\"'\"&\"!ad15\"),\"\")","v":0},null,{"$f":"IF($B1811<>\"\",INDIRECT(\"'\"&$B1811&\"'\"&\"!af15\"),\"\")","v":0},null,null,{"$f":"IF($B1811<>\"\",INDIRECT(\"'\"&$B1811&\"'\"&\"!y16\"),\"\")","v":0},{"$f":"IF($B1811<>\"\",INDIRECT(\"'\"&$B1811&\"'\"&\"!z16\"),\"\")","v":0},null,{"$f":"IF($B1811<>\"\",INDIRECT(\"'\"&$B1811&\"'\"&\"!ab16\"),\"\")","v":0},null,{"$f":"IF($B1811<>\"\",INDIRECT(\"'\"&$B1811&\"'\"&\"!ad16\"),\"\")","v":0},null,{"$f":"IF($B1811<>\"\",INDIRECT(\"'\"&$B1811&\"'\"&\"!af16\"),\"\")","v":0},null,null,{"$f":"IF($B1811<>\"\",INDIRECT(\"'\"&$B1811&\"'\"&\"!y17\"),\"\")","v":0},{"$f":"IF($B1811<>\"\",INDIRECT(\"'\"&$B1811&\"'\"&\"!z17\"),\"\")","v":0},null,{"$f":"IF($B1811<>\"\",INDIRECT(\"'\"&$B1811&\"'\"&\"!ab17\"),\"\")","v":0},null,{"$f":"IF($B1811<>\"\",INDIRECT(\"'\"&$B1811&\"'\"&\"!ad17\"),\"\")","v":0},null,{"$f":"IF($B1811<>\"\",INDIRECT(\"'\"&$B1811&\"'\"&\"!af17\"),\"\")","v":0},null,null,{"$f":"IF($B1811<>\"\",INDIRECT(\"'\"&$B1811&\"'\"&\"!y18\"),\"\")","v":0},{"$f":"IF($B1811<>\"\",INDIRECT(\"'\"&$B1811&\"'\"&\"!z18\"),\"\")","v":0},null,{"$f":"IF($B1811<>\"\",INDIRECT(\"'\"&$B1811&\"'\"&\"!ab18\"),\"\")","v":0},null,{"$f":"IF($B1811<>\"\",INDIRECT(\"'\"&$B1811&\"'\"&\"!ad18\"),\"\")","v":0},null,{"$f":"IF($B1811<>\"\",INDIRECT(\"'\"&$B1811&\"'\"&\"!af18\"),\"\")","v":0},null,null,{"$f":"IF($B1811<>\"\",INDIRECT(\"'\"&$B1811&\"'\"&\"!y19\"),\"\")","v":0},{"$f":"IF($B1811<>\"\",INDIRECT(\"'\"&$B1811&\"'\"&\"!z19\"),\"\")","v":0},null,{"$f":"IF($B1811<>\"\",INDIRECT(\"'\"&$B1811&\"'\"&\"!ab19\"),\"\")","v":0},null,{"$f":"IF($B1811<>\"\",INDIRECT(\"'\"&$B1811&\"'\"&\"!ad19\"),\"\")","v":0},null,{"$f":"IF($B1811<>\"\",INDIRECT(\"'\"&$B1811&\"'\"&\"!af19\"),\"\")","v":0}]
[3,{"$f":"IF(ISERROR(INDEX(WS,ROWS($A$1810:$A1812))),\"\",MID(INDEX(WS,ROWS($A$1810:$A1812)), FIND(\"]\",INDEX(WS,ROWS($A$1810:$A1812)))+1,32))&T(NOW())","v":"Пројекат"},0,0,null,0,null,0,null,0,null,0,0,0,null,0,null,0,null,0,null,0,0,0,null,0,null,0,null,0,null,0,0,0,null,0,null,0,null,0,null,0,0,0,null,0,null,0,null,0,null,0,0,0,null,0,null,0,null,0,null,0,0,0,null,0,null,0,null,0,null,0,0,0,null,0,null,0,null,0,null,null,0,0,null,0,null,0,null,0,null,null,0,0,null,0,null,0,null,0,null,null,0,0,null,0,null,0,null,0,null,null,0,0,null,0,null,0,null,0,null,null,0,0,null,0,null,0,null,0,null,null,0,0,null,0,null,0,null,0,null,null,0,0,null,0,null,0,null,0,null,null,0,0,null,0,null,0,null,0,null,null,0,0,null,0,null,0,null,0]
[4,{"$f":"IF(ISERROR(INDEX(WS,ROWS($A$1810:$A1813))),\"\",MID(INDEX(WS,ROWS($A$1810:$A1813)), FIND(\"]\",INDEX(WS,ROWS($A$1810:$A1813)))+1,32))&T(NOW())","v":"Упутство"},0,0,null,0,null,0,null,0,null,0,0,0,null,0,null,0,null,0,null,0,0,0,null,0,null,0,null,0,null,0,0,0,null,0,null,0,null,0,null,0,0,0,null,0,null,0,null,0,null,0,0,0,null,0,null,0,null,0,null,0,0,0,null,0,null,0,null,0,null,0,0,0,null,0,null,0,null,0,null,null,0,0,null,0,null,0,null,0,null,null,0,0,null,0,null,0,null,0,null,null,0,0,null,0,null,0,null,0,null,null,0,0,null,0,null,0,null,0,null,null,0,0,null,0,null,0,null,0,null,null,0,0,null,0,null,0,null,0,null,null,0,0,null,0,null,0,null,0,null,null,0,0,null,0,null,0,null,0,null,null,0,0,null,0,null,0,null,0]
[5,{"$f":"IF(ISERROR(INDEX(WS,ROWS($A$1810:$A1814))),\"\",MID(INDEX(WS,ROWS($A$1810:$A1814)), FIND(\"]\",INDEX(WS,ROWS($A$1810:$A1814)))+1,32))&T(NOW())","v":""},"","",null,"",null,"",null,"",null,null,"","",null,"",null,"",null,"",null,"","","",null,"",null,"",null,"",null,"","","",null,"",null,"",null,"",null,"","","",null,"",null,"",null,"",null,"","","",null,"",null,"",null,"",null,"","","",null,"",null,"",null,"",null,"","","",null,"",null,"",null,"",null,null,"","",null,"",null,"",null,"",null,null,"","",null,"",null,"",null,"",null,null,"","",null,"",null,"",null,"",null,null,"","",null,"",null,"",null,"",null,null,"","",null,"",null,"",null,"",null,null,"","",null,"",null,"",null,"",null,null,"","",null,"",null,"",null,"",null,null,"","",null,"",null,"",null,"",null,null,"","",null,"",null,"",null,""]
[6,{"$f":"IF(ISERROR(INDEX(WS,ROWS($A$1810:$A1815))),\"\",MID(INDEX(WS,ROWS($A$1810:$A1815)), FIND(\"]\",INDEX(WS,ROWS($A$1810:$A1815)))+1,32))&T(NOW())","v":""},"","",null,"",null,"",null,"",null,null,"","",null,"",null,"",null,"",null,"","","",null,"",null,"",null,"",null,"","","",null,"",null,"",null,"",null,"","","",null,"",null,"",null,"",null,"","","",null,"",null,"",null,"",null,"","","",null,"",null,"",null,"",null,"","","",null,"",null,"",null,"",null,null,"","",null,"",null,"",null,"",null,null,"","",null,"",null,"",null,"",null,null,"","",null,"",null,"",null,"",null,null,"","",null,"",null,"",null,"",null,null,"","",null,"",null,"",null,"",null,null,"","",null,"",null,"",null,"",null,null,"","",null,"",null,"",null,"",null,null,"","",null,"",null,"",null,"",null,null,"","",null,"",null,"",null,""]
[7,{"$f":"IF(ISERROR(INDEX(WS,ROWS($A$1810:$A1816))),\"\",MID(INDEX(WS,ROWS($A$1810:$A1816)), FIND(\"]\",INDEX(WS,ROWS($A$1810:$A1816)))+1,32))&T(NOW())","v":""},"","",null,"",null,"",null,"",null,null,"","",null,"",null,"",null,"",null,"","","",null,"",null,"",null,"",null,"","","",null,"",null,"",null,"",null,"","","",null,"",null,"",null,"",null,"","","",null,"",null,"",null,"",null,"","","",null,"",null,"",null,"",null,"","","",null,"",null,"",null,"",null,null,"","",null,"",null,"",null,"",null,null,"","",null,"",null,"",null,"",null,null,"","",null,"",null,"",null,"",null,null,"","",null,"",null,"",null,"",null,null,"","",null,"",null,"",null,"",null,null,"","",null,"",null,"",null,"",null,null,"","",null,"",null,"",null,"",null,null,"","",null,"",null,"",null,"",null,null,"","",null,"",null,"",null,""]
[8,{"$f":"IF(ISERROR(INDEX(WS,ROWS($A$1810:$A1817))),\"\",MID(INDEX(WS,ROWS($A$1810:$A1817)), FIND(\"]\",INDEX(WS,ROWS($A$1810:$A1817)))+1,32))&T(NOW())","v":""},"","",null,"",null,"",null,"",null,null,"","",null,"",null,"",null,"",null,"","","",null,"",null,"",null,"",null,"","","",null,"",null,"",null,"",null,"","","",null,"",null,"",null,"",null,"","","",null,"",null,"",null,"",null,"","","",null,"",null,"",null,"",null,"","","",null,"",null,"",null,"",null,null,"","",null,"",null,"",null,"",null,null,"","",null,"",null,"",null,"",null,null,"","",null,"",null,"",null,"",null,null,"","",null,"",null,"",null,"",null,null,"","",null,"",null,"",null,"",null,null,"","",null,"",null,"",null,"",null,null,"","",null,"",null,"",null,"",null,null,"","",null,"",null,"",null,"",null,null,"","",null,"",null,"",null,""]
[9,{"$f":"IF(ISERROR(INDEX(WS,ROWS($A$1810:$A1818))),\"\",MID(INDEX(WS,ROWS($A$1810:$A1818)), FIND(\"]\",INDEX(WS,ROWS($A$1810:$A1818)))+1,32))&T(NOW())","v":""},"","",null,"",null,"",null,"",null,null,"","",null,"",null,"",null,"",null,"","","",null,"",null,"",null,"",null,"","","",null,"",null,"",null,"",null,"","","",null,"",null,"",null,"",null,"","","",null,"",null,"",null,"",null,"","","",null,"",null,"",null,"",null,"","","",null,"",null,"",null,"",null,null,"","",null,"",null,"",null,"",null,null,"","",null,"",null,"",null,"",null,null,"","",null,"",null,"",null,"",null,null,"","",null,"",null,"",null,"",null,null,"","",null,"",null,"",null,"",null,null,"","",null,"",null,"",null,"",null,null,"","",null,"",null,"",null,"",null,null,"","",null,"",null,"",null,"",null,null,"","",null,"",null,"",null,""]
[10,{"$f":"IF(ISERROR(INDEX(WS,ROWS($A$1810:$A1819))),\"\",MID(INDEX(WS,ROWS($A$1810:$A1819)), FIND(\"]\",INDEX(WS,ROWS($A$1810:$A1819)))+1,32))&T(NOW())","v":""},"","",null,"",null,"",null,"",null,null,"","",null,"",null,"",null,"",null,"","","",null,"",null,"",null,"",null,"","","",null,"",null,"",null,"",null,"","","",null,"",null,"",null,"",null,"","","",null,"",null,"",null,"",null,"","","",null,"",null,"",null,"",null,"","","",null,"",null,"",null,"",null,null,"","",null,"",null,"",null,"",null,null,"","",null,"",null,"",null,"",null,null,"","",null,"",null,"",null,"",null,null,"","",null,"",null,"",null,"",null,null,"","",null,"",null,"",null,"",null,null,"","",null,"",null,"",null,"",null,null,"","",null,"",null,"",null,"",null,null,"","",null,"",null,"",null,"",null,null,"","",null,"",null,"",null,""]
[11,{"$f":"IF(ISERROR(INDEX(WS,ROWS($A$1810:$A1820))),\"\",MID(INDEX(WS,ROWS($A$1810:$A1820)), FIND(\"]\",INDEX(WS,ROWS($A$1810:$A1820)))+1,32))&T(NOW())","v":""},"","",null,"",null,"",null,"",null,null,"","",null,"",null,"",null,"",null,"","","",null,"",null,"",null,"",null,"","","",null,"",null,"",null,"",null,"","","",null,"",null,"",null,"",null,"","","",null,"",null,"",null,"",null,"","","",null,"",null,"",null,"",null,"","","",null,"",null,"",null,"",null,null,"","",null,"",null,"",null,"",null,null,"","",null,"",null,"",null,"",null,null,"","",null,"",null,"",null,"",null,null,"","",null,"",null,"",null,"",null,null,"","",null,"",null,"",null,"",null,null,"","",null,"",null,"",null,"",null,null,"","",null,"",null,"",null,"",null,null,"","",null,"",null,"",null,"",null,null,"","",null,"",null,"",null,""]
[12,{"$f":"IF(ISERROR(INDEX(WS,ROWS($A$1810:$A1821))),\"\",MID(INDEX(WS,ROWS($A$1810:$A1821)), FIND(\"]\",INDEX(WS,ROWS($A$1810:$A1821)))+1,32))&T(NOW())","v":""},"","",null,"",null,"",null,"",null,null,"","",null,"",null,"",null,"",null,"","","",null,"",null,"",null,"",null,"","","",null,"",null,"",null,"",null,"","","",null,"",null,"",null,"",null,"","","",null,"",null,"",null,"",null,"","","",null,"",null,"",null,"",null,"","","",null,"",null,"",null,"",null,null,"","",null,"",null,"",null,"",null,null,"","",null,"",null,"",null,"",null,null,"","",null,"",null,"",null,"",null,null,"","",null,"",null,"",null,"",null,null,"","",null,"",null,"",null,"",null,null,"","",null,"",null,"",null,"",null,null,"","",null,"",null,"",null,"",null,null,"","",null,"",null,"",null,"",null,null,"","",null,"",null,"",null,""]
[13,{"$f":"IF(ISERROR(INDEX(WS,ROWS($A$1810:$A1822))),\"\",MID(INDEX(WS,ROWS($A$1810:$A1822)), FIND(\"]\",INDEX(WS,ROWS($A$1810:$A1822)))+1,32))&T(NOW())","v":""},"","",null,"",null,"",null,"",null,null,"","",null,"",null,"",null,"",null,"","","",null,"",null,"",null,"",null,"","","",null,"",null,"",null,"",null,"","","",null,"",null,"",null,"",null,"","","",null,"",null,"",null,"",null,"","","",null,"",null,"",null,"",null,"","","",null,"",null,"",null,"",null,null,"","",null,"",null,"",null,"",null,null,"","",null,"",null,"",null,"",null,null,"","",null,"",null,"",null,"",null,null,"","",null,"",null,"",null,"",null,null,"","",null,"",null,"",null,"",null,null,"","",null,"",null,"",null,"",null,null,"","",null,"",null,"",null,"",null,null,"","",null,"",null,"",null,"",null,null,"","",null,"",null,"",null,""]
[14,{"$f":"IF(ISERROR(INDEX(WS,ROWS($A$1810:$A1823))),\"\",MID(INDEX(WS,ROWS($A$1810:$A1823)), FIND(\"]\",INDEX(WS,ROWS($A$1810:$A1823)))+1,32))&T(NOW())","v":""},"","",null,"",null,"",null,"",null,null,"","",null,"",null,"",null,"",null,"","","",null,"",null,"",null,"",null,"","","",null,"",null,"",null,"",null,"","","",null,"",null,"",null,"",null,"","","",null,"",null,"",null,"",null,"","","",null,"",null,"",null,"",null,"","","",null,"",null,"",null,"",null,null,"","",null,"",null,"",null,"",null,null,"","",null,"",null,"",null,"",null,null,"","",null,"",null,"",null,"",null,null,"","",null,"",null,"",null,"",null,null,"","",null,"",null,"",null,"",null,null,"","",null,"",null,"",null,"",null,null,"","",null,"",null,"",null,"",null,null,"","",null,"",null,"",null,"",null,null,"","",null,"",null,"",null,""]
[15,{"$f":"IF(ISERROR(INDEX(WS,ROWS($A$1810:$A1824))),\"\",MID(INDEX(WS,ROWS($A$1810:$A1824)), FIND(\"]\",INDEX(WS,ROWS($A$1810:$A1824)))+1,32))&T(NOW())","v":""},"","",null,"",null,"",null,"",null,null,"","",null,"",null,"",null,"",null,"","","",null,"",null,"",null,"",null,"","","",null,"",null,"",null,"",null,"","","",null,"",null,"",null,"",null,"","","",null,"",null,"",null,"",null,"","","",null,"",null,"",null,"",null,"","","",null,"",null,"",null,"",null,null,"","",null,"",null,"",null,"",null,null,"","",null,"",null,"",null,"",null,null,"","",null,"",null,"",null,"",null,null,"","",null,"",null,"",null,"",null,null,"","",null,"",null,"",null,"",null,null,"","",null,"",null,"",null,"",null,null,"","",null,"",null,"",null,"",null,null,"","",null,"",null,"",null,"",null,null,"","",null,"",null,"",null,""]
[16,{"$f":"IF(ISERROR(INDEX(WS,ROWS($A$1810:$A1825))),\"\",MID(INDEX(WS,ROWS($A$1810:$A1825)), FIND(\"]\",INDEX(WS,ROWS($A$1810:$A1825)))+1,32))&T(NOW())","v":""},"","",null,"",null,"",null,"",null,null,"","",null,"",null,"",null,"",null,"","","",null,"",null,"",null,"",null,"","","",null,"",null,"",null,"",null,"","","",null,"",null,"",null,"",null,"","","",null,"",null,"",null,"",null,"","","",null,"",null,"",null,"",null,"","","",null,"",null,"",null,"",null,null,"","",null,"",null,"",null,"",null,null,"","",null,"",null,"",null,"",null,null,"","",null,"",null,"",null,"",null,null,"","",null,"",null,"",null,"",null,null,"","",null,"",null,"",null,"",null,null,"","",null,"",null,"",null,"",null,null,"","",null,"",null,"",null,"",null,null,"","",null,"",null,"",null,"",null,null,"","",null,"",null,"",null,""]
[17,{"$f":"IF(ISERROR(INDEX(WS,ROWS($A$1810:$A1826))),\"\",MID(INDEX(WS,ROWS($A$1810:$A1826)), FIND(\"]\",INDEX(WS,ROWS($A$1810:$A1826)))+1,32))&T(NOW())","v":""},"","",null,"",null,"",null,"",null,null,"","",null,"",null,"",null,"",null,"","","",null,"",null,"",null,"",null,"","","",null,"",null,"",null,"",null,"","","",null,"",null,"",null,"",null,"","","",null,"",null,"",null,"",null,"","","",null,"",null,"",null,"",null,"","","",null,"",null,"",null,"",null,null,"","",null,"",null,"",null,"",null,null,"","",null,"",null,"",null,"",null,null,"","",null,"",null,"",null,"",null,null,"","",null,"",null,"",null,"",null,null,"","",null,"",null,"",null,"",null,null,"","",null,"",null,"",null,"",null,null,"","",null,"",null,"",null,"",null,null,"","",null,"",null,"",null,"",null,null,"","",null,"",null,"",null,""]
[18,{"$f":"IF(ISERROR(INDEX(WS,ROWS($A$1810:$A1827))),\"\",MID(INDEX(WS,ROWS($A$1810:$A1827)), FIND(\"]\",INDEX(WS,ROWS($A$1810:$A1827)))+1,32))&T(NOW())","v":""},"","",null,"",null,"",null,"",null,null,"","",null,"",null,"",null,"",null,"","","",null,"",null,"",null,"",null,"","","",null,"",null,"",null,"",null,"","","",null,"",null,"",null,"",null,"","","",null,"",null,"",null,"",null,"","","",null,"",null,"",null,"",null,"","","",null,"",null,"",null,"",null,null,"","",null,"",null,"",null,"",null,null,"","",null,"",null,"",null,"",null,null,"","",null,"",null,"",null,"",null,null,"","",null,"",null,"",null,"",null,null,"","",null,"",null,"",null,"",null,null,"","",null,"",null,"",null,"",null,null,"","",null,"",null,"",null,"",null,null,"","",null,"",null,"",null,"",null,null,"","",null,"",null,"",null,""]
[19,{"$f":"IF(ISERROR(INDEX(WS,ROWS($A$1810:$A1828))),\"\",MID(INDEX(WS,ROWS($A$1810:$A1828)), FIND(\"]\",INDEX(WS,ROWS($A$1810:$A1828)))+1,32))&T(NOW())","v":""},"","",null,"",null,"",null,"",null,null,"","",null,"",null,"",null,"",null,"","","",null,"",null,"",null,"",null,"","","",null,"",null,"",null,"",null,"","","",null,"",null,"",null,"",null,"","","",null,"",null,"",null,"",null,"","","",null,"",null,"",null,"",null,"","","",null,"",null,"",null,"",null,null,"","",null,"",null,"",null,"",null,null,"","",null,"",null,"",null,"",null,null,"","",null,"",null,"",null,"",null,null,"","",null,"",null,"",null,"",null,null,"","",null,"",null,"",null,"",null,null,"","",null,"",null,"",null,"",null,null,"","",null,"",null,"",null,"",null,null,"","",null,"",null,"",null,"",null,null,"","",null,"",null,"",null,""]
[20,{"$f":"IF(ISERROR(INDEX(WS,ROWS($A$1810:$A1829))),\"\",MID(INDEX(WS,ROWS($A$1810:$A1829)), FIND(\"]\",INDEX(WS,ROWS($A$1810:$A1829)))+1,32))&T(NOW())","v":""},"","",null,"",null,"",null,"",null,null,"","",null,"",null,"",null,"",null,"","","",null,"",null,"",null,"",null,"","","",null,"",null,"",null,"",null,"","","",null,"",null,"",null,"",null,"","","",null,"",null,"",null,"",null,"","","",null,"",null,"",null,"",null,"","","",null,"",null,"",null,"",null,null,"","",null,"",null,"",null,"",null,null,"","",null,"",null,"",null,"",null,null,"","",null,"",null,"",null,"",null,null,"","",null,"",null,"",null,"",null,null,"","",null,"",null,"",null,"",null,null,"","",null,"",null,"",null,"",null,null,"","",null,"",null,"",null,"",null,null,"","",null,"",null,"",null,"",null,null,"","",null,"",null,"",null,""]
[21,{"$f":"IF(ISERROR(INDEX(WS,ROWS($A$1810:$A1830))),\"\",MID(INDEX(WS,ROWS($A$1810:$A1830)), FIND(\"]\",INDEX(WS,ROWS($A$1810:$A1830)))+1,32))&T(NOW())","v":""},"","",null,"",null,"",null,"",null,null,"","",null,"",null,"",null,"",null,"","","",null,"",null,"",null,"",null,"","","",null,"",null,"",null,"",null,"","","",null,"",null,"",null,"",null,"","","",null,"",null,"",null,"",null,"","","",null,"",null,"",null,"",null,"","","",null,"",null,"",null,"",null,null,"","",null,"",null,"",null,"",null,null,"","",null,"",null,"",null,"",null,null,"","",null,"",null,"",null,"",null,null,"","",null,"",null,"",null,"",null,null,"","",null,"",null,"",null,"",null,null,"","",null,"",null,"",null,"",null,null,"","",null,"",null,"",null,"",null,null,"","",null,"",null,"",null,"",null,null,"","",null,"",null,"",null,""]
[22,{"$f":"IF(ISERROR(INDEX(WS,ROWS($A$1810:$A1831))),\"\",MID(INDEX(WS,ROWS($A$1810:$A1831)), FIND(\"]\",INDEX(WS,ROWS($A$1810:$A1831)))+1,32))&T(NOW())","v":""},"","",null,"",null,"",null,"",null,null,"","",null,"",null,"",null,"",null,"","","",null,"",null,"",null,"",null,"","","",null,"",null,"",null,"",null,"","","",null,"",null,"",null,"",null,"","","",null,"",null,"",null,"",null,"","","",null,"",null,"",null,"",null,"","","",null,"",null,"",null,"",null,null,"","",null,"",null,"",null,"",null,null,"","",null,"",null,"",null,"",null,null,"","",null,"",null,"",null,"",null,null,"","",null,"",null,"",null,"",null,null,"","",null,"",null,"",null,"",null,null,"","",null,"",null,"",null,"",null,null,"","",null,"",null,"",null,"",null,null,"","",null,"",null,"",null,"",null,null,"","",null,"",null,"",null,""]
[23,{"$f":"IF(ISERROR(INDEX(WS,ROWS($A$1810:$A1832))),\"\",MID(INDEX(WS,ROWS($A$1810:$A1832)), FIND(\"]\",INDEX(WS,ROWS($A$1810:$A1832)))+1,32))&T(NOW())","v":""},"","",null,"",null,"",null,"",null,null,"","",null,"",null,"",null,"",null,"","","",null,"",null,"",null,"",null,"","","",null,"",null,"",null,"",null,"","","",null,"",null,"",null,"",null,"","","",null,"",null,"",null,"",null,"","","",null,"",null,"",null,"",null,"","","",null,"",null,"",null,"",null,null,"","",null,"",null,"",null,"",null,null,"","",null,"",null,"",null,"",null,null,"","",null,"",null,"",null,"",null,null,"","",null,"",null,"",null,"",null,null,"","",null,"",null,"",null,"",null,null,"","",null,"",null,"",null,"",null,null,"","",null,"",null,"",null,"",null,null,"","",null,"",null,"",null,"",null,null,"","",null,"",null,"",null,""]
[24,{"$f":"IF(ISERROR(INDEX(WS,ROWS($A$1810:$A1833))),\"\",MID(INDEX(WS,ROWS($A$1810:$A1833)), FIND(\"]\",INDEX(WS,ROWS($A$1810:$A1833)))+1,32))&T(NOW())","v":""},"","",null,"",null,"",null,"",null,null,"","",null,"",null,"",null,"",null,"","","",null,"",null,"",null,"",null,"","","",null,"",null,"",null,"",null,"","","",null,"",null,"",null,"",null,"","","",null,"",null,"",null,"",null,"","","",null,"",null,"",null,"",null,"","","",null,"",null,"",null,"",null,null,"","",null,"",null,"",null,"",null,null,"","",null,"",null,"",null,"",null,null,"","",null,"",null,"",null,"",null,null,"","",null,"",null,"",null,"",null,null,"","",null,"",null,"",null,"",null,null,"","",null,"",null,"",null,"",null,null,"","",null,"",null,"",null,"",null,null,"","",null,"",null,"",null,"",null,null,"","",null,"",null,"",null,""]
[25,{"$f":"IF(ISERROR(INDEX(WS,ROWS($A$1810:$A1834))),\"\",MID(INDEX(WS,ROWS($A$1810:$A1834)), FIND(\"]\",INDEX(WS,ROWS($A$1810:$A1834)))+1,32))&T(NOW())","v":""},"","",null,"",null,"",null,"",null,null,"","",null,"",null,"",null,"",null,"","","",null,"",null,"",null,"",null,"","","",null,"",null,"",null,"",null,"","","",null,"",null,"",null,"",null,"","","",null,"",null,"",null,"",null,"","","",null,"",null,"",null,"",null,"","","",null,"",null,"",null,"",null,null,"","",null,"",null,"",null,"",null,null,"","",null,"",null,"",null,"",null,null,"","",null,"",null,"",null,"",null,null,"","",null,"",null,"",null,"",null,null,"","",null,"",null,"",null,"",null,null,"","",null,"",null,"",null,"",null,null,"","",null,"",null,"",null,"",null,null,"","",null,"",null,"",null,"",null,null,"","",null,"",null,"",null,""]
[26,{"$f":"IF(ISERROR(INDEX(WS,ROWS($A$1810:$A1835))),\"\",MID(INDEX(WS,ROWS($A$1810:$A1835)), FIND(\"]\",INDEX(WS,ROWS($A$1810:$A1835)))+1,32))&T(NOW())","v":""},"","",null,"",null,"",null,"",null,null,"","",null,"",null,"",null,"",null,"","","",null,"",null,"",null,"",null,"","","",null,"",null,"",null,"",null,"","","",null,"",null,"",null,"",null,"","","",null,"",null,"",null,"",null,"","","",null,"",null,"",null,"",null,"","","",null,"",null,"",null,"",null,null,"","",null,"",null,"",null,"",null,null,"","",null,"",null,"",null,"",null,null,"","",null,"",null,"",null,"",null,null,"","",null,"",null,"",null,"",null,null,"","",null,"",null,"",null,"",null,null,"","",null,"",null,"",null,"",null,null,"","",null,"",null,"",null,"",null,null,"","",null,"",null,"",null,"",null,null,"","",null,"",null,"",null,""]
[27,{"$f":"IF(ISERROR(INDEX(WS,ROWS($A$1810:$A1836))),\"\",MID(INDEX(WS,ROWS($A$1810:$A1836)), FIND(\"]\",INDEX(WS,ROWS($A$1810:$A1836)))+1,32))&T(NOW())","v":""},"","",null,"",null,"",null,"",null,null,"","",null,"",null,"",null,"",null,"","","",null,"",null,"",null,"",null,"","","",null,"",null,"",null,"",null,"","","",null,"",null,"",null,"",null,"","","",null,"",null,"",null,"",null,"","","",null,"",null,"",null,"",null,"","","",null,"",null,"",null,"",null,null,"","",null,"",null,"",null,"",null,null,"","",null,"",null,"",null,"",null,null,"","",null,"",null,"",null,"",null,null,"","",null,"",null,"",null,"",null,null,"","",null,"",null,"",null,"",null,null,"","",null,"",null,"",null,"",null,null,"","",null,"",null,"",null,"",null,null,"","",null,"",null,"",null,"",null,null,"","",null,"",null,"",null,""]
[28,{"$f":"IF(ISERROR(INDEX(WS,ROWS($A$1810:$A1837))),\"\",MID(INDEX(WS,ROWS($A$1810:$A1837)), FIND(\"]\",INDEX(WS,ROWS($A$1810:$A1837)))+1,32))&T(NOW())","v":""},"","",null,"",null,"",null,"",null,null,"","",null,"",null,"",null,"",null,"","","",null,"",null,"",null,"",null,"","","",null,"",null,"",null,"",null,"","","",null,"",null,"",null,"",null,"","","",null,"",null,"",null,"",null,"","","",null,"",null,"",null,"",null,"","","",null,"",null,"",null,"",null,null,"","",null,"",null,"",null,"",null,null,"","",null,"",null,"",null,"",null,null,"","",null,"",null,"",null,"",null,null,"","",null,"",null,"",null,"",null,null,"","",null,"",null,"",null,"",null,null,"","",null,"",null,"",null,"",null,null,"","",null,"",null,"",null,"",null,null,"","",null,"",null,"",null,"",null,null,"","",null,"",null,"",null,""]
[29,{"$f":"IF(ISERROR(INDEX(WS,ROWS($A$1810:$A1838))),\"\",MID(INDEX(WS,ROWS($A$1810:$A1838)), FIND(\"]\",INDEX(WS,ROWS($A$1810:$A1838)))+1,32))&T(NOW())","v":""},"","",null,"",null,"",null,"",null,null,"","",null,"",null,"",null,"",null,"","","",null,"",null,"",null,"",null,"","","",null,"",null,"",null,"",null,"","","",null,"",null,"",null,"",null,"","","",null,"",null,"",null,"",null,"","","",null,"",null,"",null,"",null,"","","",null,"",null,"",null,"",null,null,"","",null,"",null,"",null,"",null,null,"","",null,"",null,"",null,"",null,null,"","",null,"",null,"",null,"",null,null,"","",null,"",null,"",null,"",null,null,"","",null,"",null,"",null,"",null,null,"","",null,"",null,"",null,"",null,null,"","",null,"",null,"",null,"",null,null,"","",null,"",null,"",null,"",null,null,"","",null,"",null,"",null,""]
[30,{"$f":"IF(ISERROR(INDEX(WS,ROWS($A$1810:$A1839))),\"\",MID(INDEX(WS,ROWS($A$1810:$A1839)), FIND(\"]\",INDEX(WS,ROWS($A$1810:$A1839)))+1,32))&T(NOW())","v":""},"","",null,"",null,"",null,"",null,null,"","",null,"",null,"",null,"",null,"","","",null,"",null,"",null,"",null,"","","",null,"",null,"",null,"",null,"","","",null,"",null,"",null,"",null,"","","",null,"",null,"",null,"",null,"","","",null,"",null,"",null,"",null,"","","",null,"",null,"",null,"",null,null,"","",null,"",null,"",null,"",null,null,"","",null,"",null,"",null,"",null,null,"","",null,"",null,"",null,"",null,null,"","",null,"",null,"",null,"",null,null,"","",null,"",null,"",null,"",null,null,"","",null,"",null,"",null,"",null,null,"","",null,"",null,"",null,"",null,null,"","",null,"",null,"",null,"",null,null,"","",null,"",null,"",null,""]
[31,{"$f":"IF(ISERROR(INDEX(WS,ROWS($A$1810:$A1840))),\"\",MID(INDEX(WS,ROWS($A$1810:$A1840)), FIND(\"]\",INDEX(WS,ROWS($A$1810:$A1840)))+1,32))&T(NOW())","v":""},"","",null,"",null,"",null,"",null,null,"","",null,"",null,"",null,"",null,"","","",null,"",null,"",null,"",null,"","","",null,"",null,"",null,"",null,"","","",null,"",null,"",null,"",null,"","","",null,"",null,"",null,"",null,"","","",null,"",null,"",null,"",null,"","","",null,"",null,"",null,"",null,null,"","",null,"",null,"",null,"",null,null,"","",null,"",null,"",null,"",null,null,"","",null,"",null,"",null,"",null,null,"","",null,"",null,"",null,"",null,null,"","",null,"",null,"",null,"",null,null,"","",null,"",null,"",null,"",null,null,"","",null,"",null,"",null,"",null,null,"","",null,"",null,"",null,"",null,null,"","",null,"",null,"",null,""]
[32,{"$f":"IF(ISERROR(INDEX(WS,ROWS($A$1810:$A1841))),\"\",MID(INDEX(WS,ROWS($A$1810:$A1841)), FIND(\"]\",INDEX(WS,ROWS($A$1810:$A1841)))+1,32))&T(NOW())","v":""},"","",null,"",null,"",null,"",null,null,"","",null,"",null,"",null,"",null,"","","",null,"",null,"",null,"",null,"","","",null,"",null,"",null,"",null,"","","",null,"",null,"",null,"",null,"","","",null,"",null,"",null,"",null,"","","",null,"",null,"",null,"",null,"","","",null,"",null,"",null,"",null,null,"","",null,"",null,"",null,"",null,null,"","",null,"",null,"",null,"",null,null,"","",null,"",null,"",null,"",null,null,"","",null,"",null,"",null,"",null,null,"","",null,"",null,"",null,"",null,null,"","",null,"",null,"",null,"",null,null,"","",null,"",null,"",null,"",null,null,"","",null,"",null,"",null,"",null,null,"","",null,"",null,"",null,""]
[33,{"$f":"IF(ISERROR(INDEX(WS,ROWS($A$1810:$A1842))),\"\",MID(INDEX(WS,ROWS($A$1810:$A1842)), FIND(\"]\",INDEX(WS,ROWS($A$1810:$A1842)))+1,32))&T(NOW())","v":""},{"$f":"IF($B1842<>\"\",INDIRECT(\"'\"&$B1842&\"'\"&\"!y3\"),\"\")","v":""},"",null,"",null,"",null,"",null,null,"","",null,"",null,"",null,"",null,"","","",null,"",null,"",null,"",null,"","","",null,"",null,"",null,"",null,"","","",null,"",null,"",null,"",null,"","","",null,"",null,"",null,"",null,"","","",null,"",null,"",null,{"$f":"IF($B1842<>\"\",INDIRECT(\"'\"&$B1842&\"'\"&\"!af9\"),\"\")","v":""},null,"","","",null,"",null,"",null,"",null,null,"","",null,"",null,"",null,"",null,null,"","",null,"",null,"",null,"",null,null,"","",null,"",null,"",null,"",null,null,"","",null,"",null,"",null,"",null,null,"","",null,"",null,"",null,"",null,null,"","",null,"",null,"",null,"",null,null,"","",null,"",null,"",null,"",null,null,"","",null,"",null,"",null,"",null,null,"","",null,"",null,"",null,""]
[34,{"$f":"IF(ISERROR(INDEX(WS,ROWS($A$1810:$A1843))),\"\",MID(INDEX(WS,ROWS($A$1810:$A1843)), FIND(\"]\",INDEX(WS,ROWS($A$1810:$A1843)))+1,32))&T(NOW())","v":""},"","",null,"",null,"",null,"",null,null,"","",null,"",null,"",null,"",null,"","","",null,"",null,"",null,"",null,"","","",null,"",null,"",null,"",null,"","","",null,"",null,"",null,"",null,"","","",null,"",null,"",null,"",null,"","","",null,"",null,"",null,"",null,"","","",null,"",null,"",null,"",null,null,"","",null,"",null,"",null,"",null,null,"","",null,"",null,"",null,"",null,null,"","",null,"",null,"",null,"",null,null,"","",null,"",null,"",null,"",null,null,"","",null,"",null,"",null,"",null,null,"","",null,"",null,"",null,"",null,null,"","",null,"",null,"",null,"",null,null,"","",null,"",null,"",null,"",null,null,"","",null,"",null,"",null,""]
[35,{"$f":"IF(ISERROR(INDEX(WS,ROWS($A$1810:$A1844))),\"\",MID(INDEX(WS,ROWS($A$1810:$A1844)), FIND(\"]\",INDEX(WS,ROWS($A$1810:$A1844)))+1,32))&T(NOW())","v":""},"","",null,"",null,"",null,"",null,null,"","",null,"",null,"",null,"",null,"","","",null,"",null,"",null,"",null,"","","",null,"",null,"",null,"",null,"","","",null,"",null,"",null,"",null,"","","",null,"",null,"",null,"",null,"","","",null,"",null,"",null,"",null,"","","",null,"",null,"",null,"",null,null,"","",null,"",null,"",null,"",null,null,"","",null,"",null,"",null,"",null,null,"","",null,"",null,"",null,"",null,null,"","",null,"",null,"",null,"",null,null,"","",null,"",null,"",null,"",null,null,"","",null,"",null,"",null,"",null,null,"","",null,"",null,"",null,"",null,null,"","",null,"",null,"",null,"",null,null,"","",null,"",null,"",null,""]
[36,{"$f":"IF(ISERROR(INDEX(WS,ROWS($A$1810:$A1845))),\"\",MID(INDEX(WS,ROWS($A$1810:$A1845)), FIND(\"]\",INDEX(WS,ROWS($A$1810:$A1845)))+1,32))&T(NOW())","v":""},"","",null,"",null,"",null,"",null,null,"","",null,"",null,"",null,"",null,"","","",null,"",null,"",null,"",null,"","","",null,"",null,"",null,"",null,"","","",null,"",null,"",null,"",null,"","","",null,"",null,"",null,"",null,"","","",null,"",null,"",null,"",null,"","","",null,"",null,"",null,"",null,null,"","",null,"",null,"",null,"",null,null,"","",null,"",null,"",null,"",null,null,"","",null,"",null,"",null,"",null,null,"","",null,"",null,"",null,"",null,null,"","",null,"",null,"",null,"",null,null,"","",null,"",null,"",null,"",null,null,"","",null,"",null,"",null,"",null,null,"","",null,"",null,"",null,"",null,null,"","",null,"",null,"",null,""]
[37,{"$f":"IF(ISERROR(INDEX(WS,ROWS($A$1810:$A1846))),\"\",MID(INDEX(WS,ROWS($A$1810:$A1846)), FIND(\"]\",INDEX(WS,ROWS($A$1810:$A1846)))+1,32))&T(NOW())","v":""},"","",null,"",null,"",null,"",null,null,"","",null,"",null,"",null,"",null,"","","",null,"",null,"",null,"",null,"","","",null,"",null,"",null,"",null,"","","",null,"",null,"",null,"",null,"","","",null,"",null,"",null,"",null,"","","",null,"",null,"",null,"",null,"","","",null,"",null,"",null,"",null,null,"","",null,"",null,"",null,"",null,null,"","",null,"",null,"",null,"",null,null,"","",null,"",null,"",null,"",null,null,"","",null,"",null,"",null,"",null,null,"","",null,"",null,"",null,"",null,null,"","",null,"",null,"",null,"",null,null,"","",null,"",null,"",null,"",null,null,"","",null,"",null,"",null,"",null,null,"","",null,"",null,"",null,""]
[38,{"$f":"IF(ISERROR(INDEX(WS,ROWS($A$1810:$A1847))),\"\",MID(INDEX(WS,ROWS($A$1810:$A1847)), FIND(\"]\",INDEX(WS,ROWS($A$1810:$A1847)))+1,32))&T(NOW())","v":""},"","",null,"",null,"",null,"",null,null,"","",null,"",null,"",null,"",null,"","","",null,"",null,"",null,"",null,"","","",null,"",null,"",null,"",null,"","","",null,"",null,"",null,"",null,"","","",null,"",null,"",null,"",null,"","","",null,"",null,"",null,"",null,"","","",null,"",null,"",null,"",null,null,"","",null,"",null,"",null,"",null,null,"","",null,"",null,"",null,"",null,null,"","",null,"",null,"",null,"",null,null,"","",null,"",null,"",null,"",null,null,"","",null,"",null,"",null,"",null,null,"","",null,"",null,"",null,"",null,null,"","",null,"",null,"",null,"",null,null,"","",null,"",null,"",null,"",null,null,"","",null,"",null,"",null,""]
[39,{"$f":"IF(ISERROR(INDEX(WS,ROWS($A$1810:$A1848))),\"\",MID(INDEX(WS,ROWS($A$1810:$A1848)), FIND(\"]\",INDEX(WS,ROWS($A$1810:$A1848)))+1,32))&T(NOW())","v":""},"","",null,"",null,"",null,"",null,null,"","",null,"",null,"",null,"",null,"","","",null,"",null,"",null,"",null,"","","",null,"",null,"",null,"",null,"","","",null,"",null,"",null,"",null,"","","",null,"",null,"",null,"",null,"","","",null,"",null,"",null,"",null,"","","",null,"",null,"",null,"",null,null,"","",null,"",null,"",null,"",null,null,"","",null,"",null,"",null,"",null,null,"","",null,"",null,"",null,"",null,null,"","",null,"",null,"",null,"",null,null,"","",null,"",null,"",null,"",null,null,"","",null,"",null,"",null,"",null,null,"","",null,"",null,"",null,"",null,null,"","",null,"",null,"",null,"",null,null,"","",null,"",null,"",null,""]
[40,{"$f":"IF(ISERROR(INDEX(WS,ROWS($A$1810:$A1849))),\"\",MID(INDEX(WS,ROWS($A$1810:$A1849)), FIND(\"]\",INDEX(WS,ROWS($A$1810:$A1849)))+1,32))&T(NOW())","v":""},"","",null,"",null,"",null,"",null,null,"","",null,"",null,"",null,"",null,"","","",null,"",null,"",null,"",null,"","","",null,"",null,"",null,"",null,"","","",null,"",null,"",null,"",null,"","","",null,"",null,"",null,"",null,"","","",null,"",null,"",null,"",null,"","","",null,"",null,"",null,"",null,null,"","",null,"",null,"",null,"",null,null,"","",null,"",null,"",null,"",null,null,"","",null,"",null,"",null,"",null,null,"","",null,"",null,"",null,"",null,null,"","",null,"",null,"",null,"",null,null,"","",null,"",null,"",null,"",null,null,"","",null,"",null,"",null,"",null,null,"","",null,"",null,"",null,"",null,null,"","",null,"",null,"",null,""]
[41,{"$f":"IF(ISERROR(INDEX(WS,ROWS($A$1810:$A1850))),\"\",MID(INDEX(WS,ROWS($A$1810:$A1850)), FIND(\"]\",INDEX(WS,ROWS($A$1810:$A1850)))+1,32))&T(NOW())","v":""},"","",null,"",null,"",null,"",null,null,"","",null,"",null,"",null,"",null,"","","",null,"",null,"",null,"",null,"","","",null,"",null,"",null,"",null,"","","",null,"",null,"",null,"",null,"","","",null,"",null,"",null,"",null,"","","",null,"",null,"",null,"",null,"","","",null,"",null,"",null,"",null,null,"","",null,"",null,"",null,"",null,null,"","",null,"",null,"",null,"",null,null,"","",null,"",null,"",null,"",null,null,"","",null,"",null,"",null,"",null,null,"","",null,"",null,"",null,"",null,null,"","",null,"",null,"",null,"",null,null,"","",null,"",null,"",null,"",null,null,"","",null,"",null,"",null,"",null,null,"","",null,"",null,"",null,""]
[42,{"$f":"IF(ISERROR(INDEX(WS,ROWS($A$1810:$A1851))),\"\",MID(INDEX(WS,ROWS($A$1810:$A1851)), FIND(\"]\",INDEX(WS,ROWS($A$1810:$A1851)))+1,32))&T(NOW())","v":""},"","",null,"",null,"",null,"",null,null,"","",null,"",null,"",null,"",null,"","","",null,"",null,"",null,"",null,"","","",null,"",null,"",null,"",null,"","","",null,"",null,"",null,"",null,"","","",null,"",null,"",null,"",null,"","","",null,"",null,"",null,"",null,"","","",null,"",null,"",null,"",null,null,"","",null,"",null,"",null,"",null,null,"","",null,"",null,"",null,"",null,null,"","",null,"",null,"",null,"",null,null,"","",null,"",null,"",null,"",null,null,"","",null,"",null,"",null,"",null,null,"","",null,"",null,"",null,"",null,null,"","",null,"",null,"",null,"",null,null,"","",null,"",null,"",null,"",null,null,"","",null,"",null,"",null,""]
[43,{"$f":"IF(ISERROR(INDEX(WS,ROWS($A$1810:$A1852))),\"\",MID(INDEX(WS,ROWS($A$1810:$A1852)), FIND(\"]\",INDEX(WS,ROWS($A$1810:$A1852)))+1,32))&T(NOW())","v":""},"","",null,"",null,"",null,"",null,null,"","",null,"",null,"",null,"",null,"","","",null,"",null,"",null,"",null,"","","",null,"",null,"",null,"",null,"","","",null,"",null,"",null,"",null,"","","",null,"",null,"",null,"",null,"","","",null,"",null,"",null,"",null,"","","",null,"",null,"",null,"",null,null,"","",null,"",null,"",null,"",null,null,"","",null,"",null,"",null,"",null,null,"","",null,"",null,"",null,"",null,null,"","",null,"",null,"",null,"",null,null,"","",null,"",null,"",null,"",null,null,"","",null,"",null,"",null,"",null,null,"","",null,"",null,"",null,"",null,null,"","",null,"",null,"",null,"",null,null,"","",null,"",null,"",null,""]
[44,{"$f":"IF(ISERROR(INDEX(WS,ROWS($A$1810:$A1853))),\"\",MID(INDEX(WS,ROWS($A$1810:$A1853)), FIND(\"]\",INDEX(WS,ROWS($A$1810:$A1853)))+1,32))&T(NOW())","v":""},"","",null,"",null,"",null,"",null,null,"","",null,"",null,"",null,"",null,"","","",null,"",null,"",null,"",null,"","","",null,"",null,"",null,"",null,"","","",null,"",null,"",null,"",null,"","","",null,"",null,"",null,"",null,"","","",null,"",null,"",null,"",null,"","","",null,"",null,"",null,"",null,null,"","",null,"",null,"",null,"",null,null,"","",null,"",null,"",null,"",null,null,"","",null,"",null,"",null,"",null,null,"","",null,"",null,"",null,"",null,null,"","",null,"",null,"",null,"",null,null,"","",null,"",null,"",null,"",null,null,"","",null,"",null,"",null,"",null,null,"","",null,"",null,"",null,"",null,null,"","",null,"",null,"",null,""]
[45,{"$f":"IF(ISERROR(INDEX(WS,ROWS($A$1810:$A1854))),\"\",MID(INDEX(WS,ROWS($A$1810:$A1854)), FIND(\"]\",INDEX(WS,ROWS($A$1810:$A1854)))+1,32))&T(NOW())","v":""},"","",null,"",null,"",null,"",null,null,"","",null,"",null,"",null,"",null,"","","",null,"",null,"",null,"",null,"","","",null,"",null,"",null,"",null,"","","",null,"",null,"",null,"",null,"","","",null,"",null,"",null,"",null,"","","",null,"",null,"",null,"",null,"","","",null,"",null,"",null,"",null,null,"","",null,"",null,"",null,"",null,null,"","",null,"",null,"",null,"",null,null,"","",null,"",null,"",null,"",null,null,"","",null,"",null,"",null,"",null,null,"","",null,"",null,"",null,"",null,null,"","",null,"",null,"",null,"",null,null,"","",null,"",null,"",null,"",null,null,"","",null,"",null,"",null,"",null,null,"","",null,"",null,"",null,""]
[46,{"$f":"IF(ISERROR(INDEX(WS,ROWS($A$1810:$A1855))),\"\",MID(INDEX(WS,ROWS($A$1810:$A1855)), FIND(\"]\",INDEX(WS,ROWS($A$1810:$A1855)))+1,32))&T(NOW())","v":""},"","",null,"",null,"",null,"",null,null,"","",null,"",null,"",null,"",null,"","","",null,"",null,"",null,"",null,"","","",null,"",null,"",null,"",null,"","","",null,"",null,"",null,"",null,"","","",null,"",null,"",null,"",null,"","","",null,"",null,"",null,"",null,"","","",null,"",null,"",null,"",null,null,"","",null,"",null,"",null,"",null,null,"","",null,"",null,"",null,"",null,null,"","",null,"",null,"",null,"",null,null,"","",null,"",null,"",null,"",null,null,"","",null,"",null,"",null,"",null,null,"","",null,"",null,"",null,"",null,null,"","",null,"",null,"",null,"",null,null,"","",null,"",null,"",null,"",null,null,"","",null,"",null,"",null,""]
[47,{"$f":"IF(ISERROR(INDEX(WS,ROWS($A$1810:$A1856))),\"\",MID(INDEX(WS,ROWS($A$1810:$A1856)), FIND(\"]\",INDEX(WS,ROWS($A$1810:$A1856)))+1,32))&T(NOW())","v":""},"","",null,"",null,"",null,"",null,null,"","",null,"",null,"",null,"",null,"","","",null,"",null,"",null,"",null,"","","",null,"",null,"",null,"",null,"","","",null,"",null,"",null,"",null,"","","",null,"",null,"",null,"",null,"","","",null,"",null,"",null,"",null,"","","",null,"",null,"",null,"",null,null,"","",null,"",null,"",null,"",null,null,"","",null,"",null,"",null,"",null,null,"","",null,"",null,"",null,"",null,null,"","",null,"",null,"",null,"",null,null,"","",null,"",null,"",null,"",null,null,"","",null,"",null,"",null,"",null,null,"","",null,"",null,"",null,"",null,null,"","",null,"",null,"",null,"",null,null,"","",null,"",null,"",null,""]
[48,{"$f":"IF(ISERROR(INDEX(WS,ROWS($A$1810:$A1857))),\"\",MID(INDEX(WS,ROWS($A$1810:$A1857)), FIND(\"]\",INDEX(WS,ROWS($A$1810:$A1857)))+1,32))&T(NOW())","v":""},"","",null,"",null,"",null,"",null,null,"","",null,"",null,"",null,"",null,"","","",null,"",null,"",null,"",null,"","","",null,"",null,"",null,"",null,"","","",null,"",null,"",null,"",null,"","","",null,"",null,"",null,"",null,"","","",null,"",null,"",null,"",null,"","","",null,"",null,"",null,"",null,null,"","",null,"",null,"",null,"",null,null,"","",null,"",null,"",null,"",null,null,"","",null,"",null,"",null,"",null,null,"","",null,"",null,"",null,"",null,null,"","",null,"",null,"",null,"",null,null,"","",null,"",null,"",null,"",null,null,"","",null,"",null,"",null,"",null,null,"","",null,"",null,"",null,"",null,null,"","",null,"",null,"",null,""]
[49,{"$f":"IF(ISERROR(INDEX(WS,ROWS($A$1810:$A1858))),\"\",MID(INDEX(WS,ROWS($A$1810:$A1858)), FIND(\"]\",INDEX(WS,ROWS($A$1810:$A1858)))+1,32))&T(NOW())","v":""},"","",null,"",null,"",null,"",null,null,"","",null,"",null,"",null,"",null,"","","",null,"",null,"",null,"",null,"","","",null,"",null,"",null,"",null,"","","",null,"",null,"",null,"",null,"","","",null,"",null,"",null,"",null,"","","",null,"",null,"",null,"",null,"","","",null,"",null,"",null,"",null,null,"","",null,"",null,"",null,"",null,null,"","",null,"",null,"",null,"",null,null,"","",null,"",null,"",null,"",null,null,"","",null,"",null,"",null,"",null,null,"","",null,"",null,"",null,"",null,null,"","",null,"",null,"",null,"",null,null,"","",null,"",null,"",null,"",null,null,"","",null,"",null,"",null,"",null,null,"","",null,"",null,"",null,""]
[50,{"$f":"IF(ISERROR(INDEX(WS,ROWS($A$1810:$A1859))),\"\",MID(INDEX(WS,ROWS($A$1810:$A1859)), FIND(\"]\",INDEX(WS,ROWS($A$1810:$A1859)))+1,32))&T(NOW())","v":""},"","",null,"",null,"",null,"",null,null,"","",null,"",null,"",null,"",null,"","","",null,"",null,"",null,"",null,"","","",null,"",null,"",null,"",null,"","","",null,"",null,"",null,"",null,"","","",null,"",null,"",null,"",null,"","","",null,"",null,"",null,"",null,"","","",null,"",null,"",null,"",null,null,"","",null,"",null,"",null,"",null,null,"","",null,"",null,"",null,"",null,null,"","",null,"",null,"",null,"",null,null,"","",null,"",null,"",null,"",null,null,"","",null,"",null,"",null,"",null,null,"","",null,"",null,"",null,"",null,null,"","",null,"",null,"",null,"",null,null,"","",null,"",null,"",null,"",null,null,"","",null,"",null,"",null,""]
[51,{"$f":"IF(ISERROR(INDEX(WS,ROWS($A$1810:$A1860))),\"\",MID(INDEX(WS,ROWS($A$1810:$A1860)), FIND(\"]\",INDEX(WS,ROWS($A$1810:$A1860)))+1,32))&T(NOW())","v":""},"","",null,"",null,"",null,"",null,null,"","",null,"",null,"",null,"",null,"","","",null,"",null,"",null,"",null,"","","",null,"",null,"",null,"",null,"","","",null,"",null,"",null,"",null,"","","",null,"",null,"",null,"",null,"","","",null,"",null,"",null,"",null,"","","",null,"",null,"",null,"",null,null,"","",null,"",null,"",null,"",null,null,"","",null,"",null,"",null,"",null,null,"","",null,"",null,"",null,"",null,null,"","",null,"",null,"",null,"",null,null,"","",null,"",null,"",null,"",null,null,"","",null,"",null,"",null,"",null,null,"","",null,"",null,"",null,"",null,null,"","",null,"",null,"",null,"",null,null,"","",null,"",null,"",null,""]
[52,{"$f":"IF(ISERROR(INDEX(WS,ROWS($A$1810:$A1861))),\"\",MID(INDEX(WS,ROWS($A$1810:$A1861)), FIND(\"]\",INDEX(WS,ROWS($A$1810:$A1861)))+1,32))&T(NOW())","v":""},"","",null,"",null,"",null,"",null,null,"","",null,"",null,"",null,"",null,"","","",null,"",null,"",null,"",null,"","","",null,"",null,"",null,"",null,"","","",null,"",null,"",null,"",null,"","","",null,"",null,"",null,"",null,"","","",null,"",null,"",null,"",null,"","","",null,"",null,"",null,"",null,null,"","",null,"",null,"",null,"",null,null,"","",null,"",null,"",null,"",null,null,"","",null,"",null,"",null,"",null,null,"","",null,"",null,"",null,"",null,null,"","",null,"",null,"",null,"",null,null,"","",null,"",null,"",null,"",null,null,"","",null,"",null,"",null,"",null,null,"","",null,"",null,"",null,"",null,null,"","",null,"",null,"",null,""]
[53,{"$f":"IF(ISERROR(INDEX(WS,ROWS($A$1810:$A1862))),\"\",MID(INDEX(WS,ROWS($A$1810:$A1862)), FIND(\"]\",INDEX(WS,ROWS($A$1810:$A1862)))+1,32))&T(NOW())","v":""},"","",null,"",null,"",null,"",null,null,"","",null,"",null,"",null,"",null,"","","",null,"",null,"",null,"",null,"","","",null,"",null,"",null,"",null,"","","",null,"",null,"",null,"",null,"","","",null,"",null,"",null,"",null,"","","",null,"",null,"",null,"",null,"","","",null,"",null,"",null,"",null,null,"","",null,"",null,"",null,"",null,null,"","",null,"",null,"",null,"",null,null,"","",null,"",null,"",null,"",null,null,"","",null,"",null,"",null,"",null,null,"","",null,"",null,"",null,"",null,null,"","",null,"",null,"",null,"",null,null,"","",null,"",null,"",null,"",null,null,"","",null,"",null,"",null,"",null,null,"","",null,"",null,"",null,""]
[54,{"$f":"IF(ISERROR(INDEX(WS,ROWS($A$1810:$A1863))),\"\",MID(INDEX(WS,ROWS($A$1810:$A1863)), FIND(\"]\",INDEX(WS,ROWS($A$1810:$A1863)))+1,32))&T(NOW())","v":""},"","",null,"",null,"",null,"",null,null,"","",null,"",null,"",null,"",null,"","","",null,"",null,"",null,"",null,"","","",null,"",null,"",null,"",null,"","","",null,"",null,"",null,"",null,"","","",null,"",null,"",null,"",null,"","","",null,"",null,"",null,"",null,"","","",null,"",null,"",null,"",null,null,"","",null,"",null,"",null,"",null,null,"","",null,"",null,"",null,"",null,null,"","",null,"",null,"",null,"",null,null,"","",null,"",null,"",null,"",null,null,"","",null,"",null,"",null,"",null,null,"","",null,"",null,"",null,"",null,null,"","",null,"",null,"",null,"",null,null,"","",null,"",null,"",null,"",null,null,"","",null,"",null,"",null,""]
[55,{"$f":"IF(ISERROR(INDEX(WS,ROWS($A$1810:$A1864))),\"\",MID(INDEX(WS,ROWS($A$1810:$A1864)), FIND(\"]\",INDEX(WS,ROWS($A$1810:$A1864)))+1,32))&T(NOW())","v":""},"","",null,"",null,"",null,"",null,null,"","",null,"",null,"",null,"",null,"","","",null,"",null,"",null,"",null,"","","",null,"",null,"",null,"",null,"","","",null,"",null,"",null,"",null,"","","",null,"",null,"",null,"",null,"","","",null,"",null,"",null,"",null,"","","",null,"",null,"",null,"",null,null,"","",null,"",null,"",null,"",null,null,"","",null,"",null,"",null,"",null,null,"","",null,"",null,"",null,"",null,null,"","",null,"",null,"",null,"",null,null,"","",null,"",null,"",null,"",null,null,"","",null,"",null,"",null,"",null,null,"","",null,"",null,"",null,"",null,null,"","",null,"",null,"",null,"",null,null,"","",null,"",null,"",null,""]
[56,{"$f":"IF(ISERROR(INDEX(WS,ROWS($A$1810:$A1865))),\"\",MID(INDEX(WS,ROWS($A$1810:$A1865)), FIND(\"]\",INDEX(WS,ROWS($A$1810:$A1865)))+1,32))&T(NOW())","v":""},"","",null,"",null,"",null,"",null,null,"","",null,"",null,"",null,"",null,"","","",null,"",null,"",null,"",null,"","","",null,"",null,"",null,"",null,"","","",null,"",null,"",null,"",null,"","","",null,"",null,"",null,"",null,"","","",null,"",null,"",null,"",null,"","","",null,"",null,"",null,"",null,null,"","",null,"",null,"",null,"",null,null,"","",null,"",null,"",null,"",null,null,"","",null,"",null,"",null,"",null,null,"","",null,"",null,"",null,"",null,null,"","",null,"",null,"",null,"",null,null,"","",null,"",null,"",null,"",null,null,"","",null,"",null,"",null,"",null,null,"","",null,"",null,"",null,"",null,null,"","",null,"",null,"",null,""]
[57,{"$f":"IF(ISERROR(INDEX(WS,ROWS($A$1810:$A1866))),\"\",MID(INDEX(WS,ROWS($A$1810:$A1866)), FIND(\"]\",INDEX(WS,ROWS($A$1810:$A1866)))+1,32))&T(NOW())","v":""},"","",null,"",null,"",null,"",null,null,"","",null,"",null,"",null,"",null,"","","",null,"",null,"",null,"",null,"","","",null,"",null,"",null,"",null,"","","",null,"",null,"",null,"",null,"","","",null,"",null,"",null,"",null,"","","",null,"",null,"",null,"",null,"","","",null,"",null,"",null,"",null,null,"","",null,"",null,"",null,"",null,null,"","",null,"",null,"",null,"",null,null,"","",null,"",null,"",null,"",null,null,"","",null,"",null,"",null,"",null,null,"","",null,"",null,"",null,"",null,null,"","",null,"",null,"",null,"",null,null,"","",null,"",null,"",null,"",null,null,"","",null,"",null,"",null,"",null,null,"","",null,"",null,"",null,""]
[58,{"$f":"IF(ISERROR(INDEX(WS,ROWS($A$1810:$A1867))),\"\",MID(INDEX(WS,ROWS($A$1810:$A1867)), FIND(\"]\",INDEX(WS,ROWS($A$1810:$A1867)))+1,32))&T(NOW())","v":""},"","",null,"",null,"",null,"",null,null,"","",null,"",null,"",null,"",null,"","","",null,"",null,"",null,"",null,"","","",null,"",null,"",null,"",null,"","","",null,"",null,"",null,"",null,"","","",null,"",null,"",null,"",null,"","","",null,"",null,"",null,"",null,"","","",null,"",null,"",null,"",null,null,"","",null,"",null,"",null,"",null,null,"","",null,"",null,"",null,"",null,null,"","",null,"",null,"",null,"",null,null,"","",null,"",null,"",null,"",null,null,"","",null,"",null,"",null,"",null,null,"","",null,"",null,"",null,"",null,null,"","",null,"",null,"",null,"",null,null,"","",null,"",null,"",null,"",null,null,"","",null,"",null,"",null,""]
[59,{"$f":"IF(ISERROR(INDEX(WS,ROWS($A$1810:$A1868))),\"\",MID(INDEX(WS,ROWS($A$1810:$A1868)), FIND(\"]\",INDEX(WS,ROWS($A$1810:$A1868)))+1,32))&T(NOW())","v":""},"","",null,"",null,"",null,"",null,null,"","",null,"",null,"",null,"",null,"","","",null,"",null,"",null,"",null,"","","",null,"",null,"",null,"",null,"","","",null,"",null,"",null,"",null,"","","",null,"",null,"",null,"",null,"","","",null,"",null,"",null,"",null,"","","",null,"",null,"",null,"",null,null,"","",null,"",null,"",null,"",null,null,"","",null,"",null,"",null,"",null,null,"","",null,"",null,"",null,"",null,null,"","",null,"",null,"",null,"",null,null,"","",null,"",null,"",null,"",null,null,"","",null,"",null,"",null,"",null,null,"","",null,"",null,"",null,"",null,null,"","",null,"",null,"",null,"",null,null,"","",null,"",null,"",null,""]
[60,{"$f":"IF(ISERROR(INDEX(WS,ROWS($A$1810:$A1869))),\"\",MID(INDEX(WS,ROWS($A$1810:$A1869)), FIND(\"]\",INDEX(WS,ROWS($A$1810:$A1869)))+1,32))&T(NOW())","v":""},"","",null,"",null,"",null,"",null,null,"","",null,"",null,"",null,"",null,"","","",null,"",null,"",null,"",null,"","","",null,"",null,"",null,"",null,"","","",null,"",null,"",null,"",null,"","","",null,"",null,"",null,"",null,"","","",null,"",null,"",null,"",null,"","","",null,"",null,"",null,"",null,null,"","",null,"",null,"",null,"",null,null,"","",null,"",null,"",null,"",null,null,"","",null,"",null,"",null,"",null,null,"","",null,"",null,"",null,"",null,null,"","",null,"",null,"",null,"",null,null,"","",null,"",null,"",null,"",null,null,"","",null,"",null,"",null,"",null,null,"","",null,"",null,"",null,"",null,null,"","",null,"",null,"",null,""]
[61,{"$f":"IF(ISERROR(INDEX(WS,ROWS($A$1810:$A1870))),\"\",MID(INDEX(WS,ROWS($A$1810:$A1870)), FIND(\"]\",INDEX(WS,ROWS($A$1810:$A1870)))+1,32))&T(NOW())","v":""},"","",null,"",null,"",null,"",null,null,"","",null,"",null,"",null,"",null,"","","",null,"",null,"",null,"",null,"","","",null,"",null,"",null,"",null,"","","",null,"",null,"",null,"",null,"","","",null,"",null,"",null,"",null,"","","",null,"",null,"",null,"",null,"","","",null,"",null,"",null,"",null,null,"","",null,"",null,"",null,"",null,null,"","",null,"",null,"",null,"",null,null,"","",null,"",null,"",null,"",null,null,"","",null,"",null,"",null,"",null,null,"","",null,"",null,"",null,"",null,null,"","",null,"",null,"",null,"",null,null,"","",null,"",null,"",null,"",null,null,"","",null,"",null,"",null,"",null,null,"","",null,"",null,"",null,""]
[62,{"$f":"IF(ISERROR(INDEX(WS,ROWS($A$1810:$A1871))),\"\",MID(INDEX(WS,ROWS($A$1810:$A1871)), FIND(\"]\",INDEX(WS,ROWS($A$1810:$A1871)))+1,32))&T(NOW())","v":""},"","",null,"",null,"",null,"",null,null,"","",null,"",null,"",null,"",null,"","","",null,"",null,"",null,"",null,"","","",null,"",null,"",null,"",null,"","","",null,"",null,"",null,"",null,"","","",null,"",null,"",null,"",null,"","","",null,"",null,"",null,"",null,"","","",null,"",null,"",null,"",null,null,"","",null,"",null,"",null,"",null,null,"","",null,"",null,"",null,"",null,null,"","",null,"",null,"",null,"",null,null,"","",null,"",null,"",null,"",null,null,"","",null,"",null,"",null,"",null,null,"","",null,"",null,"",null,"",null,null,"","",null,"",null,"",null,"",null,null,"","",null,"",null,"",null,"",null,null,"","",null,"",null,"",null,""]
[63,{"$f":"IF(ISERROR(INDEX(WS,ROWS($A$1810:$A1872))),\"\",MID(INDEX(WS,ROWS($A$1810:$A1872)), FIND(\"]\",INDEX(WS,ROWS($A$1810:$A1872)))+1,32))&T(NOW())","v":""},"","",null,"",null,"",null,"",null,null,"","",null,"",null,"",null,"",null,"","","",null,"",null,"",null,"",null,"","","",null,"",null,"",null,"",null,"","","",null,"",null,"",null,"",null,"","","",null,"",null,"",null,"",null,"","","",null,"",null,"",null,"",null,"","","",null,"",null,"",null,"",null,null,"","",null,"",null,"",null,"",null,null,"","",null,"",null,"",null,"",null,null,"","",null,"",null,"",null,"",null,null,"","",null,"",null,"",null,"",null,null,"","",null,"",null,"",null,"",null,null,"","",null,"",null,"",null,"",null,null,"","",null,"",null,"",null,"",null,null,"","",null,"",null,"",null,"",null,null,"","",null,"",null,"",null,""]
[64,{"$f":"IF(ISERROR(INDEX(WS,ROWS($A$1810:$A1873))),\"\",MID(INDEX(WS,ROWS($A$1810:$A1873)), FIND(\"]\",INDEX(WS,ROWS($A$1810:$A1873)))+1,32))&T(NOW())","v":""},"","",null,"",null,"",null,"",null,null,"","",null,"",null,"",null,"",null,"","","",null,"",null,"",null,"",null,"","","",null,"",null,"",null,"",null,"","","",null,"",null,"",null,"",null,"","","",null,"",null,"",null,"",null,"","","",null,"",null,"",null,"",null,"","","",null,"",null,"",null,"",null,null,"","",null,"",null,"",null,"",null,null,"","",null,"",null,"",null,"",null,null,"","",null,"",null,"",null,"",null,null,"","",null,"",null,"",null,"",null,null,"","",null,"",null,"",null,"",null,null,"","",null,"",null,"",null,"",null,null,"","",null,"",null,"",null,"",null,null,"","",null,"",null,"",null,"",null,null,"","",null,"",null,"",null,""]
[65,{"$f":"IF(ISERROR(INDEX(WS,ROWS($A$1810:$A1874))),\"\",MID(INDEX(WS,ROWS($A$1810:$A1874)), FIND(\"]\",INDEX(WS,ROWS($A$1810:$A1874)))+1,32))&T(NOW())","v":""},{"$f":"IF($B1874<>\"\",INDIRECT(\"'\"&$B1874&\"'\"&\"!y3\"),\"\")","v":""},"",null,"",null,"",null,"",null,null,"","",null,"",null,"",null,"",null,"","","",null,"",null,"",null,"",null,"","","",null,"",null,"",null,"",null,"","","",null,"",null,"",null,"",null,"","","",null,"",null,"",null,"",null,"","","",null,"",null,"",null,{"$f":"IF($B1874<>\"\",INDIRECT(\"'\"&$B1874&\"'\"&\"!af9\"),\"\")","v":""},null,"","","",null,"",null,"",null,"",null,null,"","",null,"",null,"",null,"",null,null,"","",null,"",null,"",null,"",null,null,"","",null,"",null,"",null,"",null,null,"","",null,"",null,"",null,"",null,null,"","",null,"",null,"",null,"",null,null,"","",null,"",null,"",null,"",null,null,"","",null,"",null,"",null,"",null,null,"","",null,"",null,"",null,"",null,null,"","",null,"",null,"",null,""]
[66,{"$f":"IF(ISERROR(INDEX(WS,ROWS($A$1810:$A1875))),\"\",MID(INDEX(WS,ROWS($A$1810:$A1875)), FIND(\"]\",INDEX(WS,ROWS($A$1810:$A1875)))+1,32))&T(NOW())","v":""},"",{"$f":"IF($B1875<>\"\",INDIRECT(\"'\"&$B1875&\"'\"&\"!z3\"),\"\")","v":""},null,{"$f":"IF($B1875<>\"\",INDIRECT(\"'\"&$B1875&\"'\"&\"!ab3\"),\"\")","v":""},null,{"$f":"IF($B1875<>\"\",INDIRECT(\"'\"&$B1875&\"'\"&\"!ad3\"),\"\")","v":""},null,{"$f":"IF($B1875<>\"\",INDIRECT(\"'\"&$B1875&\"'\"&\"!af3\"),\"\")","v":""},null,null,{"$f":"IF($B1875<>\"\",INDIRECT(\"'\"&$B1875&\"'\"&\"!y4\"),\"\")","v":""},{"$f":"IF($B1875<>\"\",INDIRECT(\"'\"&$B1875&\"'\"&\"!z4\"),\"\")","v":""},null,{"$f":"IF($B1875<>\"\",INDIRECT(\"'\"&$B1875&\"'\"&\"!ab4\"),\"\")","v":""},null,{"$f":"IF($B1875<>\"\",INDIRECT(\"'\"&$B1875&\"'\"&\"!ad4\"),\"\")","v":""},null,{"$f":"IF($B1875<>\"\",INDIRECT(\"'\"&$B1875&\"'\"&\"!af4\"),\"\")","v":""},null,{"$f":"IF($B1875<>\"\",INDIRECT(\"'\"&$B1875&\"'\"&\"!ah4\"),\"\")","v":""},{"$f":"IF($B1875<>\"\",INDIRECT(\"'\"&$B1875&\"'\"&\"!y5\"),\"\")","v":""},{"$f":"IF($B1875<>\"\",INDIRECT(\"'\"&$B1875&\"'\"&\"!z5\"),\"\")","v":""},null,{"$f":"IF($B1875<>\"\",INDIRECT(\"'\"&$B1875&\"'\"&\"!ab5\"),\"\")","v":""},null,{"$f":"IF($B1875<>\"\",INDIRECT(\"'\"&$B1875&\"'\"&\"!ad5\"),\"\")","v":""},null,{"$f":"IF($B1875<>\"\",INDIRECT(\"'\"&$B1875&\"'\"&\"!af5\"),\"\")","v":""},null,{"$f":"IF($B1875<>\"\",INDIRECT(\"'\"&$B1875&\"'\"&\"!ah5\"),\"\")","v":""},{"$f":"IF($B1875<>\"\",INDIRECT(\"'\"&$B1875&\"'\"&\"!y6\"),\"\")","v":""},{"$f":"IF($B1875<>\"\",INDIRECT(\"'\"&$B1875&\"'\"&\"!z6\"),\"\")","v":""},null,{"$f":"IF($B1875<>\"\",INDIRECT(\"'\"&$B1875&\"'\"&\"!ab6\"),\"\")","v":""},null,{"$f":"IF($B1875<>\"\",INDIRECT(\"'\"&$B1875&\"'\"&\"!ad6\"),\"\")","v":""},null,{"$f":"IF($B1875<>\"\",INDIRECT(\"'\"&$B1875&\"'\"&\"!af6\"),\"\")","v":""},null,{"$f":"IF($B1875<>\"\",INDIRECT(\"'\"&$B1875&\"'\"&\"!ah6\"),\"\")","v":""},{"$f":"IF($B1875<>\"\",INDIRECT(\"'\"&$B1875&\"'\"&\"!y7\"),\"\")","v":""},{"$f":"IF($B1875<>\"\",INDIRECT(\"'\"&$B1875&\"'\"&\"!z7\"),\"\")","v":""},null,{"$f":"IF($B1875<>\"\",INDIRECT(\"'\"&$B1875&\"'\"&\"!ab7\"),\"\")","v":""},null,{"$f":"IF($B1875<>\"\",INDIRECT(\"'\"&$B1875&\"'\"&\"!ad7\"),\"\")","v":""},null,{"$f":"IF($B1875<>\"\",INDIRECT(\"'\"&$B1875&\"'\"&\"!af7\"),\"\")","v":""},null,{"$f":"IF($B1875<>\"\",INDIRECT(\"'\"&$B1875&\"'\"&\"!ah7\"),\"\")","v":""},{"$f":"IF($B1875<>\"\",INDIRECT(\"'\"&$B1875&\"'\"&\"!y8\"),\"\")","v":""},{"$f":"IF($B1875<>\"\",INDIRECT(\"'\"&$B1875&\"'\"&\"!z8\"),\"\")","v":""},null,{"$f":"IF($B1875<>\"\",INDIRECT(\"'\"&$B1875&\"'\"&\"!ab8\"),\"\")","v":""},null,{"$f":"IF($B1875<>\"\",INDIRECT(\"'\"&$B1875&\"'\"&\"!ad8\"),\"\")","v":""},null,{"$f":"IF($B1875<>\"\",INDIRECT(\"'\"&$B1875&\"'\"&\"!af8\"),\"\")","v":""},null,{"$f":"IF($B1875<>\"\",INDIRECT(\"'\"&$B1875&\"'\"&\"!ah8\"),\"\")","v":""},{"$f":"IF($B1875<>\"\",INDIRECT(\"'\"&$B1875&\"'\"&\"!y9\"),\"\")","v":""},{"$f":"IF($B1875<>\"\",INDIRECT(\"'\"&$B1875&\"'\"&\"!z9\"),\"\")","v":""},null,{"$f":"IF($B1875<>\"\",INDIRECT(\"'\"&$B1875&\"'\"&\"!ab9\"),\"\")","v":""},null,{"$f":"IF($B1875<>\"\",INDIRECT(\"'\"&$B1875&\"'\"&\"!ad9\"),\"\")","v":""},null,"",null,{"$f":"IF($B1875<>\"\",INDIRECT(\"'\"&$B1875&\"'\"&\"!ah9\"),\"\")","v":""},{"$f":"IF($B1875<>\"\",INDIRECT(\"'\"&$B1875&\"'\"&\"!y10\"),\"\")","v":""},{"$f":"IF($B1875<>\"\",INDIRECT(\"'\"&$B1875&\"'\"&\"!z10\"),\"\")","v":""},null,{"$f":"IF($B1875<>\"\",INDIRECT(\"'\"&$B1875&\"'\"&\"!ab10\"),\"\")","v":""},null,{"$f":"IF($B1875<>\"\",INDIRECT(\"'\"&$B1875&\"'\"&\"!ad10\"),\"\")","v":""},null,{"$f":"IF($B1875<>\"\",INDIRECT(\"'\"&$B1875&\"'\"&\"!af10\"),\"\")","v":""},null,null,{"$f":"IF($B1875<>\"\",INDIRECT(\"'\"&$B1875&\"'\"&\"!y11\"),\"\")","v":""},{"$f":"IF($B1875<>\"\",INDIRECT(\"'\"&$B1875&\"'\"&\"!z11\"),\"\")","v":""},null,{"$f":"IF($B1875<>\"\",INDIRECT(\"'\"&$B1875&\"'\"&\"!ab11\"),\"\")","v":""},null,{"$f":"IF($B1875<>\"\",INDIRECT(\"'\"&$B1875&\"'\"&\"!ad11\"),\"\")","v":""},null,{"$f":"IF($B1875<>\"\",INDIRECT(\"'\"&$B1875&\"'\"&\"!af11\"),\"\")","v":""},null,null,{"$f":"IF($B1875<>\"\",INDIRECT(\"'\"&$B1875&\"'\"&\"!y12\"),\"\")","v":""},{"$f":"IF($B1875<>\"\",INDIRECT(\"'\"&$B1875&\"'\"&\"!z12\"),\"\")","v":""},null,{"$f":"IF($B1875<>\"\",INDIRECT(\"'\"&$B1875&\"'\"&\"!ab12\"),\"\")","v":""},null,{"$f":"IF($B1875<>\"\",INDIRECT(\"'\"&$B1875&\"'\"&\"!ad12\"),\"\")","v":""},null,{"$f":"IF($B1875<>\"\",INDIRECT(\"'\"&$B1875&\"'\"&\"!af12\"),\"\")","v":""},null,null,{"$f":"IF($B1875<>\"\",INDIRECT(\"'\"&$B1875&\"'\"&\"!y13\"),\"\")","v":""},{"$f":"IF($B1875<>\"\",INDIRECT(\"'\"&$B1875&\"'\"&\"!z13\"),\"\")","v":""},null,{"$f":"IF($B1875<>\"\",INDIRECT(\"'\"&$B1875&\"'\"&\"!ab13\"),\"\")","v":""},null,{"$f":"IF($B1875<>\"\",INDIRECT(\"'\"&$B1875&\"'\"&\"!ad13\"),\"\")","v":""},null,{"$f":"IF($B1875<>\"\",INDIRECT(\"'\"&$B1875&\"'\"&\"!af13\"),\"\")","v":""},null,null,{"$f":"IF($B1875<>\"\",INDIRECT(\"'\"&$B1875&\"'\"&\"!y14\"),\"\")","v":""},{"$f":"IF($B1875<>\"\",INDIRECT(\"'\"&$B1875&\"'\"&\"!z14\"),\"\")","v":""},null,{"$f":"IF($B1875<>\"\",INDIRECT(\"'\"&$B1875&\"'\"&\"!ab14\"),\"\")","v":""},null,{"$f":"IF($B1875<>\"\",INDIRECT(\"'\"&$B1875&\"'\"&\"!ad14\"),\"\")","v":""},null,{"$f":"IF($B1875<>\"\",INDIRECT(\"'\"&$B1875&\"'\"&\"!af14\"),\"\")","v":""},null,null,{"$f":"IF($B1875<>\"\",INDIRECT(\"'\"&$B1875&\"'\"&\"!y15\"),\"\")","v":""},{"$f":"IF($B1875<>\"\",INDIRECT(\"'\"&$B1875&\"'\"&\"!z15\"),\"\")","v":""},null,{"$f":"IF($B1875<>\"\",INDIRECT(\"'\"&$B1875&\"'\"&\"!ab15\"),\"\")","v":""},null,{"$f":"IF($B1875<>\"\",INDIRECT(\"'\"&$B1875&\"'\"&\"!ad15\"),\"\")","v":""},null,{"$f":"IF($B1875<>\"\",INDIRECT(\"'\"&$B1875&\"'\"&\"!af15\"),\"\")","v":""},null,null,{"$f":"IF($B1875<>\"\",INDIRECT(\"'\"&$B1875&\"'\"&\"!y16\"),\"\")","v":""},{"$f":"IF($B1875<>\"\",INDIRECT(\"'\"&$B1875&\"'\"&\"!z16\"),\"\")","v":""},null,{"$f":"IF($B1875<>\"\",INDIRECT(\"'\"&$B1875&\"'\"&\"!ab16\"),\"\")","v":""},null,{"$f":"IF($B1875<>\"\",INDIRECT(\"'\"&$B1875&\"'\"&\"!ad16\"),\"\")","v":""},null,{"$f":"IF($B1875<>\"\",INDIRECT(\"'\"&$B1875&\"'\"&\"!af16\"),\"\")","v":""},null,null,{"$f":"IF($B1875<>\"\",INDIRECT(\"'\"&$B1875&\"'\"&\"!y17\"),\"\")","v":""},{"$f":"IF($B1875<>\"\",INDIRECT(\"'\"&$B1875&\"'\"&\"!z17\"),\"\")","v":""},null,{"$f":"IF($B1875<>\"\",INDIRECT(\"'\"&$B1875&\"'\"&\"!ab17\"),\"\")","v":""},null,{"$f":"IF($B1875<>\"\",INDIRECT(\"'\"&$B1875&\"'\"&\"!ad17\"),\"\")","v":""},null,{"$f":"IF($B1875<>\"\",INDIRECT(\"'\"&$B1875&\"'\"&\"!af17\"),\"\")","v":""},null,null,{"$f":"IF($B1875<>\"\",INDIRECT(\"'\"&$B1875&\"'\"&\"!y18\"),\"\")","v":""},{"$f":"IF($B1875<>\"\",INDIRECT(\"'\"&$B1875&\"'\"&\"!z18\"),\"\")","v":""},null,{"$f":"IF($B1875<>\"\",INDIRECT(\"'\"&$B1875&\"'\"&\"!ab18\"),\"\")","v":""},null,{"$f":"IF($B1875<>\"\",INDIRECT(\"'\"&$B1875&\"'\"&\"!ad18\"),\"\")","v":""},null,{"$f":"IF($B1875<>\"\",INDIRECT(\"'\"&$B1875&\"'\"&\"!af18\"),\"\")","v":""},null,null,{"$f":"IF($B1875<>\"\",INDIRECT(\"'\"&$B1875&\"'\"&\"!y19\"),\"\")","v":""},{"$f":"IF($B1875<>\"\",INDIRECT(\"'\"&$B1875&\"'\"&\"!z19\"),\"\")","v":""},null,{"$f":"IF($B1875<>\"\",INDIRECT(\"'\"&$B1875&\"'\"&\"!ab19\"),\"\")","v":""},null,{"$f":"IF($B1875<>\"\",INDIRECT(\"'\"&$B1875&\"'\"&\"!ad19\"),\"\")","v":""},null,{"$f":"IF($B1875<>\"\",INDIRECT(\"'\"&$B1875&\"'\"&\"!af19\"),\"\")","v":""}]
[67,{"$f":"IF(ISERROR(INDEX(WS,ROWS($A$1810:$A1876))),\"\",MID(INDEX(WS,ROWS($A$1810:$A1876)), FIND(\"]\",INDEX(WS,ROWS($A$1810:$A1876)))+1,32))&T(NOW())","v":""},"","",null,"",null,"",null,"",null,null,"","",null,"",null,"",null,"",null,"","","",null,"",null,"",null,"",null,"","","",null,"",null,"",null,"",null,"","","",null,"",null,"",null,"",null,"","","",null,"",null,"",null,"",null,"","","",null,"",null,"",null,"",null,"","","",null,"",null,"",null,"",null,null,"","",null,"",null,"",null,"",null,null,"","",null,"",null,"",null,"",null,null,"","",null,"",null,"",null,"",null,null,"","",null,"",null,"",null,"",null,null,"","",null,"",null,"",null,"",null,null,"","",null,"",null,"",null,"",null,null,"","",null,"",null,"",null,"",null,null,"","",null,"",null,"",null,"",null,null,"","",null,"",null,"",null,""]
[68,{"$f":"IF(ISERROR(INDEX(WS,ROWS($A$1810:$A1877))),\"\",MID(INDEX(WS,ROWS($A$1810:$A1877)), FIND(\"]\",INDEX(WS,ROWS($A$1810:$A1877)))+1,32))&T(NOW())","v":""},"","",null,"",null,"",null,"",null,null,"","",null,"",null,"",null,"",null,"","","",null,"",null,"",null,"",null,"","","",null,"",null,"",null,"",null,"","","",null,"",null,"",null,"",null,"","","",null,"",null,"",null,"",null,"","","",null,"",null,"",null,"",null,"","","",null,"",null,"",null,"",null,null,"","",null,"",null,"",null,"",null,null,"","",null,"",null,"",null,"",null,null,"","",null,"",null,"",null,"",null,null,"","",null,"",null,"",null,"",null,null,"","",null,"",null,"",null,"",null,null,"","",null,"",null,"",null,"",null,null,"","",null,"",null,"",null,"",null,null,"","",null,"",null,"",null,"",null,null,"","",null,"",null,"",null,""]
[69,{"$f":"IF(ISERROR(INDEX(WS,ROWS($A$1810:$A1878))),\"\",MID(INDEX(WS,ROWS($A$1810:$A1878)), FIND(\"]\",INDEX(WS,ROWS($A$1810:$A1878)))+1,32))&T(NOW())","v":""},"","",null,"",null,"",null,"",null,null,"","",null,"",null,"",null,"",null,"","","",null,"",null,"",null,"",null,"","","",null,"",null,"",null,"",null,"","","",null,"",null,"",null,"",null,"","","",null,"",null,"",null,"",null,"","","",null,"",null,"",null,"",null,"","","",null,"",null,"",null,"",null,null,"","",null,"",null,"",null,"",null,null,"","",null,"",null,"",null,"",null,null,"","",null,"",null,"",null,"",null,null,"","",null,"",null,"",null,"",null,null,"","",null,"",null,"",null,"",null,null,"","",null,"",null,"",null,"",null,null,"","",null,"",null,"",null,"",null,null,"","",null,"",null,"",null,"",null,null,"","",null,"",null,"",null,""]
[70,{"$f":"IF(ISERROR(INDEX(WS,ROWS($A$1810:$A1879))),\"\",MID(INDEX(WS,ROWS($A$1810:$A1879)), FIND(\"]\",INDEX(WS,ROWS($A$1810:$A1879)))+1,32))&T(NOW())","v":""},"","",null,"",null,"",null,"",null,null,"","",null,"",null,"",null,"",null,"","","",null,"",null,"",null,"",null,"","","",null,"",null,"",null,"",null,"","","",null,"",null,"",null,"",null,"","","",null,"",null,"",null,"",null,"","","",null,"",null,"",null,"",null,"","","",null,"",null,"",null,"",null,null,"","",null,"",null,"",null,"",null,null,"","",null,"",null,"",null,"",null,null,"","",null,"",null,"",null,"",null,null,"","",null,"",null,"",null,"",null,null,"","",null,"",null,"",null,"",null,null,"","",null,"",null,"",null,"",null,null,"","",null,"",null,"",null,"",null,null,"","",null,"",null,"",null,"",null,null,"","",null,"",null,"",null,""]
[71,{"$f":"IF(ISERROR(INDEX(WS,ROWS($A$1810:$A1880))),\"\",MID(INDEX(WS,ROWS($A$1810:$A1880)), FIND(\"]\",INDEX(WS,ROWS($A$1810:$A1880)))+1,32))&T(NOW())","v":""},"","",null,"",null,"",null,"",null,null,"","",null,"",null,"",null,"",null,"","","",null,"",null,"",null,"",null,"","","",null,"",null,"",null,"",null,"","","",null,"",null,"",null,"",null,"","","",null,"",null,"",null,"",null,"","","",null,"",null,"",null,"",null,"","","",null,"",null,"",null,"",null,null,"","",null,"",null,"",null,"",null,null,"","",null,"",null,"",null,"",null,null,"","",null,"",null,"",null,"",null,null,"","",null,"",null,"",null,"",null,null,"","",null,"",null,"",null,"",null,null,"","",null,"",null,"",null,"",null,null,"","",null,"",null,"",null,"",null,null,"","",null,"",null,"",null,"",null,null,"","",null,"",null,"",null,""]
[72,{"$f":"IF(ISERROR(INDEX(WS,ROWS($A$1810:$A1881))),\"\",MID(INDEX(WS,ROWS($A$1810:$A1881)), FIND(\"]\",INDEX(WS,ROWS($A$1810:$A1881)))+1,32))&T(NOW())","v":""},"","",null,"",null,"",null,"",null,null,"","",null,"",null,"",null,"",null,"","","",null,"",null,"",null,"",null,"","","",null,"",null,"",null,"",null,"","","",null,"",null,"",null,"",null,"","","",null,"",null,"",null,"",null,"","","",null,"",null,"",null,"",null,"","","",null,"",null,"",null,"",null,null,"","",null,"",null,"",null,"",null,null,"","",null,"",null,"",null,"",null,null,"","",null,"",null,"",null,"",null,null,"","",null,"",null,"",null,"",null,null,"","",null,"",null,"",null,"",null,null,"","",null,"",null,"",null,"",null,null,"","",null,"",null,"",null,"",null,null,"","",null,"",null,"",null,"",null,null,"","",null,"",null,"",null,""]
[73,{"$f":"IF(ISERROR(INDEX(WS,ROWS($A$1810:$A1882))),\"\",MID(INDEX(WS,ROWS($A$1810:$A1882)), FIND(\"]\",INDEX(WS,ROWS($A$1810:$A1882)))+1,32))&T(NOW())","v":""},"","",null,"",null,"",null,"",null,null,"","",null,"",null,"",null,"",null,"","","",null,"",null,"",null,"",null,"","","",null,"",null,"",null,"",null,"","","",null,"",null,"",null,"",null,"","","",null,"",null,"",null,"",null,"","","",null,"",null,"",null,"",null,"","","",null,"",null,"",null,"",null,null,"","",null,"",null,"",null,"",null,null,"","",null,"",null,"",null,"",null,null,"","",null,"",null,"",null,"",null,null,"","",null,"",null,"",null,"",null,null,"","",null,"",null,"",null,"",null,null,"","",null,"",null,"",null,"",null,null,"","",null,"",null,"",null,"",null,null,"","",null,"",null,"",null,"",null,null,"","",null,"",null,"",null,""]
[74,{"$f":"IF(ISERROR(INDEX(WS,ROWS($A$1810:$A1883))),\"\",MID(INDEX(WS,ROWS($A$1810:$A1883)), FIND(\"]\",INDEX(WS,ROWS($A$1810:$A1883)))+1,32))&T(NOW())","v":""},"","",null,"",null,"",null,"",null,null,"","",null,"",null,"",null,"",null,"","","",null,"",null,"",null,"",null,"","","",null,"",null,"",null,"",null,"","","",null,"",null,"",null,"",null,"","","",null,"",null,"",null,"",null,"","","",null,"",null,"",null,"",null,"","","",null,"",null,"",null,"",null,null,"","",null,"",null,"",null,"",null,null,"","",null,"",null,"",null,"",null,null,"","",null,"",null,"",null,"",null,null,"","",null,"",null,"",null,"",null,null,"","",null,"",null,"",null,"",null,null,"","",null,"",null,"",null,"",null,null,"","",null,"",null,"",null,"",null,null,"","",null,"",null,"",null,"",null,null,"","",null,"",null,"",null,""]
[75,{"$f":"IF(ISERROR(INDEX(WS,ROWS($A$1810:$A1884))),\"\",MID(INDEX(WS,ROWS($A$1810:$A1884)), FIND(\"]\",INDEX(WS,ROWS($A$1810:$A1884)))+1,32))&T(NOW())","v":""},"","",null,"",null,"",null,"",null,null,"","",null,"",null,"",null,"",null,"","","",null,"",null,"",null,"",null,"","","",null,"",null,"",null,"",null,"","","",null,"",null,"",null,"",null,"","","",null,"",null,"",null,"",null,"","","",null,"",null,"",null,"",null,"","","",null,"",null,"",null,"",null,null,"","",null,"",null,"",null,"",null,null,"","",null,"",null,"",null,"",null,null,"","",null,"",null,"",null,"",null,null,"","",null,"",null,"",null,"",null,null,"","",null,"",null,"",null,"",null,null,"","",null,"",null,"",null,"",null,null,"","",null,"",null,"",null,"",null,null,"","",null,"",null,"",null,"",null,null,"","",null,"",null,"",null,""]
[76,{"$f":"IF(ISERROR(INDEX(WS,ROWS($A$1810:$A1885))),\"\",MID(INDEX(WS,ROWS($A$1810:$A1885)), FIND(\"]\",INDEX(WS,ROWS($A$1810:$A1885)))+1,32))&T(NOW())","v":""},"","",null,"",null,"",null,"",null,null,"","",null,"",null,"",null,"",null,"","","",null,"",null,"",null,"",null,"","","",null,"",null,"",null,"",null,"","","",null,"",null,"",null,"",null,"","","",null,"",null,"",null,"",null,"","","",null,"",null,"",null,"",null,"","","",null,"",null,"",null,"",null,null,"","",null,"",null,"",null,"",null,null,"","",null,"",null,"",null,"",null,null,"","",null,"",null,"",null,"",null,null,"","",null,"",null,"",null,"",null,null,"","",null,"",null,"",null,"",null,null,"","",null,"",null,"",null,"",null,null,"","",null,"",null,"",null,"",null,null,"","",null,"",null,"",null,"",null,null,"","",null,"",null,"",null,""]
[77,{"$f":"IF(ISERROR(INDEX(WS,ROWS($A$1810:$A1886))),\"\",MID(INDEX(WS,ROWS($A$1810:$A1886)), FIND(\"]\",INDEX(WS,ROWS($A$1810:$A1886)))+1,32))&T(NOW())","v":""},"","",null,"",null,"",null,"",null,null,"","",null,"",null,"",null,"",null,"","","",null,"",null,"",null,"",null,"","","",null,"",null,"",null,"",null,"","","",null,"",null,"",null,"",null,"","","",null,"",null,"",null,"",null,"","","",null,"",null,"",null,"",null,"","","",null,"",null,"",null,"",null,null,"","",null,"",null,"",null,"",null,null,"","",null,"",null,"",null,"",null,null,"","",null,"",null,"",null,"",null,null,"","",null,"",null,"",null,"",null,null,"","",null,"",null,"",null,"",null,null,"","",null,"",null,"",null,"",null,null,"","",null,"",null,"",null,"",null,null,"","",null,"",null,"",null,"",null,null,"","",null,"",null,"",null,""]
[78,{"$f":"IF(ISERROR(INDEX(WS,ROWS($A$1810:$A1887))),\"\",MID(INDEX(WS,ROWS($A$1810:$A1887)), FIND(\"]\",INDEX(WS,ROWS($A$1810:$A1887)))+1,32))&T(NOW())","v":""},"","",null,"",null,"",null,"",null,null,"","",null,"",null,"",null,"",null,"","","",null,"",null,"",null,"",null,"","","",null,"",null,"",null,"",null,"","","",null,"",null,"",null,"",null,"","","",null,"",null,"",null,"",null,"","","",null,"",null,"",null,"",null,"","","",null,"",null,"",null,"",null,null,"","",null,"",null,"",null,"",null,null,"","",null,"",null,"",null,"",null,null,"","",null,"",null,"",null,"",null,null,"","",null,"",null,"",null,"",null,null,"","",null,"",null,"",null,"",null,null,"","",null,"",null,"",null,"",null,null,"","",null,"",null,"",null,"",null,null,"","",null,"",null,"",null,"",null,null,"","",null,"",null,"",null,""]
[79,{"$f":"IF(ISERROR(INDEX(WS,ROWS($A$1810:$A1888))),\"\",MID(INDEX(WS,ROWS($A$1810:$A1888)), FIND(\"]\",INDEX(WS,ROWS($A$1810:$A1888)))+1,32))&T(NOW())","v":""},"","",null,"",null,"",null,"",null,null,"","",null,"",null,"",null,"",null,"","","",null,"",null,"",null,"",null,"","","",null,"",null,"",null,"",null,"","","",null,"",null,"",null,"",null,"","","",null,"",null,"",null,"",null,"","","",null,"",null,"",null,"",null,"","","",null,"",null,"",null,"",null,null,"","",null,"",null,"",null,"",null,null,"","",null,"",null,"",null,"",null,null,"","",null,"",null,"",null,"",null,null,"","",null,"",null,"",null,"",null,null,"","",null,"",null,"",null,"",null,null,"","",null,"",null,"",null,"",null,null,"","",null,"",null,"",null,"",null,null,"","",null,"",null,"",null,"",null,null,"","",null,"",null,"",null,""]
[80,{"$f":"IF(ISERROR(INDEX(WS,ROWS($A$1810:$A1889))),\"\",MID(INDEX(WS,ROWS($A$1810:$A1889)), FIND(\"]\",INDEX(WS,ROWS($A$1810:$A1889)))+1,32))&T(NOW())","v":""},"","",null,"",null,"",null,"",null,null,"","",null,"",null,"",null,"",null,"","","",null,"",null,"",null,"",null,"","","",null,"",null,"",null,"",null,"","","",null,"",null,"",null,"",null,"","","",null,"",null,"",null,"",null,"","","",null,"",null,"",null,"",null,"","","",null,"",null,"",null,"",null,null,"","",null,"",null,"",null,"",null,null,"","",null,"",null,"",null,"",null,null,"","",null,"",null,"",null,"",null,null,"","",null,"",null,"",null,"",null,null,"","",null,"",null,"",null,"",null,null,"","",null,"",null,"",null,"",null,null,"","",null,"",null,"",null,"",null,null,"","",null,"",null,"",null,"",null,null,"","",null,"",null,"",null,""]
[81,{"$f":"IF(ISERROR(INDEX(WS,ROWS($A$1810:$A1890))),\"\",MID(INDEX(WS,ROWS($A$1810:$A1890)), FIND(\"]\",INDEX(WS,ROWS($A$1810:$A1890)))+1,32))&T(NOW())","v":""},"","",null,"",null,"",null,"",null,null,"","",null,"",null,"",null,"",null,"","","",null,"",null,"",null,"",null,"","","",null,"",null,"",null,"",null,"","","",null,"",null,"",null,"",null,"","","",null,"",null,"",null,"",null,"","","",null,"",null,"",null,"",null,"","","",null,"",null,"",null,"",null,null,"","",null,"",null,"",null,"",null,null,"","",null,"",null,"",null,"",null,null,"","",null,"",null,"",null,"",null,null,"","",null,"",null,"",null,"",null,null,"","",null,"",null,"",null,"",null,null,"","",null,"",null,"",null,"",null,null,"","",null,"",null,"",null,"",null,null,"","",null,"",null,"",null,"",null,null,"","",null,"",null,"",null,""]
[82,{"$f":"IF(ISERROR(INDEX(WS,ROWS($A$1810:$A1891))),\"\",MID(INDEX(WS,ROWS($A$1810:$A1891)), FIND(\"]\",INDEX(WS,ROWS($A$1810:$A1891)))+1,32))&T(NOW())","v":""},"","",null,"",null,"",null,"",null,null,"","",null,"",null,"",null,"",null,"","","",null,"",null,"",null,"",null,"","","",null,"",null,"",null,"",null,"","","",null,"",null,"",null,"",null,"","","",null,"",null,"",null,"",null,"","","",null,"",null,"",null,"",null,"","","",null,"",null,"",null,"",null,null,"","",null,"",null,"",null,"",null,null,"","",null,"",null,"",null,"",null,null,"","",null,"",null,"",null,"",null,null,"","",null,"",null,"",null,"",null,null,"","",null,"",null,"",null,"",null,null,"","",null,"",null,"",null,"",null,null,"","",null,"",null,"",null,"",null,null,"","",null,"",null,"",null,"",null,null,"","",null,"",null,"",null,""]
[83,{"$f":"IF(ISERROR(INDEX(WS,ROWS($A$1810:$A1892))),\"\",MID(INDEX(WS,ROWS($A$1810:$A1892)), FIND(\"]\",INDEX(WS,ROWS($A$1810:$A1892)))+1,32))&T(NOW())","v":""},"","",null,"",null,"",null,"",null,null,"","",null,"",null,"",null,"",null,"","","",null,"",null,"",null,"",null,"","","",null,"",null,"",null,"",null,"","","",null,"",null,"",null,"",null,"","","",null,"",null,"",null,"",null,"","","",null,"",null,"",null,"",null,"","","",null,"",null,"",null,"",null,null,"","",null,"",null,"",null,"",null,null,"","",null,"",null,"",null,"",null,null,"","",null,"",null,"",null,"",null,null,"","",null,"",null,"",null,"",null,null,"","",null,"",null,"",null,"",null,null,"","",null,"",null,"",null,"",null,null,"","",null,"",null,"",null,"",null,null,"","",null,"",null,"",null,"",null,null,"","",null,"",null,"",null,""]
[84,{"$f":"IF(ISERROR(INDEX(WS,ROWS($A$1810:$A1893))),\"\",MID(INDEX(WS,ROWS($A$1810:$A1893)), FIND(\"]\",INDEX(WS,ROWS($A$1810:$A1893)))+1,32))&T(NOW())","v":""},"","",null,"",null,"",null,"",null,null,"","",null,"",null,"",null,"",null,"","","",null,"",null,"",null,"",null,"","","",null,"",null,"",null,"",null,"","","",null,"",null,"",null,"",null,"","","",null,"",null,"",null,"",null,"","","",null,"",null,"",null,"",null,"","","",null,"",null,"",null,"",null,null,"","",null,"",null,"",null,"",null,null,"","",null,"",null,"",null,"",null,null,"","",null,"",null,"",null,"",null,null,"","",null,"",null,"",null,"",null,null,"","",null,"",null,"",null,"",null,null,"","",null,"",null,"",null,"",null,null,"","",null,"",null,"",null,"",null,null,"","",null,"",null,"",null,"",null,null,"","",null,"",null,"",null,""]
[85,{"$f":"IF(ISERROR(INDEX(WS,ROWS($A$1810:$A1894))),\"\",MID(INDEX(WS,ROWS($A$1810:$A1894)), FIND(\"]\",INDEX(WS,ROWS($A$1810:$A1894)))+1,32))&T(NOW())","v":""},"","",null,"",null,"",null,"",null,null,"","",null,"",null,"",null,"",null,"","","",null,"",null,"",null,"",null,"","","",null,"",null,"",null,"",null,"","","",null,"",null,"",null,"",null,"","","",null,"",null,"",null,"",null,"","","",null,"",null,"",null,"",null,"","","",null,"",null,"",null,"",null,null,"","",null,"",null,"",null,"",null,null,"","",null,"",null,"",null,"",null,null,"","",null,"",null,"",null,"",null,null,"","",null,"",null,"",null,"",null,null,"","",null,"",null,"",null,"",null,null,"","",null,"",null,"",null,"",null,null,"","",null,"",null,"",null,"",null,null,"","",null,"",null,"",null,"",null,null,"","",null,"",null,"",null,""]
[86,{"$f":"IF(ISERROR(INDEX(WS,ROWS($A$1810:$A1895))),\"\",MID(INDEX(WS,ROWS($A$1810:$A1895)), FIND(\"]\",INDEX(WS,ROWS($A$1810:$A1895)))+1,32))&T(NOW())","v":""},"","",null,"",null,"",null,"",null,null,"","",null,"",null,"",null,"",null,"","","",null,"",null,"",null,"",null,"","","",null,"",null,"",null,"",null,"","","",null,"",null,"",null,"",null,"","","",null,"",null,"",null,"",null,"","","",null,"",null,"",null,"",null,"","","",null,"",null,"",null,"",null,null,"","",null,"",null,"",null,"",null,null,"","",null,"",null,"",null,"",null,null,"","",null,"",null,"",null,"",null,null,"","",null,"",null,"",null,"",null,null,"","",null,"",null,"",null,"",null,null,"","",null,"",null,"",null,"",null,null,"","",null,"",null,"",null,"",null,null,"","",null,"",null,"",null,"",null,null,"","",null,"",null,"",null,""]
[87,{"$f":"IF(ISERROR(INDEX(WS,ROWS($A$1810:$A1896))),\"\",MID(INDEX(WS,ROWS($A$1810:$A1896)), FIND(\"]\",INDEX(WS,ROWS($A$1810:$A1896)))+1,32))&T(NOW())","v":""},"","",null,"",null,"",null,"",null,null,"","",null,"",null,"",null,"",null,"","","",null,"",null,"",null,"",null,"","","",null,"",null,"",null,"",null,"","","",null,"",null,"",null,"",null,"","","",null,"",null,"",null,"",null,"","","",null,"",null,"",null,"",null,"","","",null,"",null,"",null,"",null,null,"","",null,"",null,"",null,"",null,null,"","",null,"",null,"",null,"",null,null,"","",null,"",null,"",null,"",null,null,"","",null,"",null,"",null,"",null,null,"","",null,"",null,"",null,"",null,null,"","",null,"",null,"",null,"",null,null,"","",null,"",null,"",null,"",null,null,"","",null,"",null,"",null,"",null,null,"","",null,"",null,"",null,""]
[88,{"$f":"IF(ISERROR(INDEX(WS,ROWS($A$1810:$A1897))),\"\",MID(INDEX(WS,ROWS($A$1810:$A1897)), FIND(\"]\",INDEX(WS,ROWS($A$1810:$A1897)))+1,32))&T(NOW())","v":""},"","",null,"",null,"",null,"",null,null,"","",null,"",null,"",null,"",null,"","","",null,"",null,"",null,"",null,"","","",null,"",null,"",null,"",null,"","","",null,"",null,"",null,"",null,"","","",null,"",null,"",null,"",null,"","","",null,"",null,"",null,"",null,"","","",null,"",null,"",null,"",null,null,"","",null,"",null,"",null,"",null,null,"","",null,"",null,"",null,"",null,null,"","",null,"",null,"",null,"",null,null,"","",null,"",null,"",null,"",null,null,"","",null,"",null,"",null,"",null,null,"","",null,"",null,"",null,"",null,null,"","",null,"",null,"",null,"",null,null,"","",null,"",null,"",null,"",null,null,"","",null,"",null,"",null,""]
[89,{"$f":"IF(ISERROR(INDEX(WS,ROWS($A$1810:$A1898))),\"\",MID(INDEX(WS,ROWS($A$1810:$A1898)), FIND(\"]\",INDEX(WS,ROWS($A$1810:$A1898)))+1,32))&T(NOW())","v":""},"","",null,"",null,"",null,"",null,null,"","",null,"",null,"",null,"",null,"","","",null,"",null,"",null,"",null,"","","",null,"",null,"",null,"",null,"","","",null,"",null,"",null,"",null,"","","",null,"",null,"",null,"",null,"","","",null,"",null,"",null,"",null,"","","",null,"",null,"",null,"",null,null,"","",null,"",null,"",null,"",null,null,"","",null,"",null,"",null,"",null,null,"","",null,"",null,"",null,"",null,null,"","",null,"",null,"",null,"",null,null,"","",null,"",null,"",null,"",null,null,"","",null,"",null,"",null,"",null,null,"","",null,"",null,"",null,"",null,null,"","",null,"",null,"",null,"",null,null,"","",null,"",null,"",null,""]
[90,{"$f":"IF(ISERROR(INDEX(WS,ROWS($A$1810:$A1899))),\"\",MID(INDEX(WS,ROWS($A$1810:$A1899)), FIND(\"]\",INDEX(WS,ROWS($A$1810:$A1899)))+1,32))&T(NOW())","v":""},"","",null,"",null,"",null,"",null,null,"","",null,"",null,"",null,"",null,"","","",null,"",null,"",null,"",null,"","","",null,"",null,"",null,"",null,"","","",null,"",null,"",null,"",null,"","","",null,"",null,"",null,"",null,"","","",null,"",null,"",null,"",null,"","","",null,"",null,"",null,"",null,null,"","",null,"",null,"",null,"",null,null,"","",null,"",null,"",null,"",null,null,"","",null,"",null,"",null,"",null,null,"","",null,"",null,"",null,"",null,null,"","",null,"",null,"",null,"",null,null,"","",null,"",null,"",null,"",null,null,"","",null,"",null,"",null,"",null,null,"","",null,"",null,"",null,"",null,null,"","",null,"",null,"",null,""]
[91,{"$f":"IF(ISERROR(INDEX(WS,ROWS($A$1810:$A1900))),\"\",MID(INDEX(WS,ROWS($A$1810:$A1900)), FIND(\"]\",INDEX(WS,ROWS($A$1810:$A1900)))+1,32))&T(NOW())","v":""},"","",null,"",null,"",null,"",null,null,"","",null,"",null,"",null,"",null,"","","",null,"",null,"",null,"",null,"","","",null,"",null,"",null,"",null,"","","",null,"",null,"",null,"",null,"","","",null,"",null,"",null,"",null,"","","",null,"",null,"",null,"",null,"","","",null,"",null,"",null,"",null,null,"","",null,"",null,"",null,"",null,null,"","",null,"",null,"",null,"",null,null,"","",null,"",null,"",null,"",null,null,"","",null,"",null,"",null,"",null,null,"","",null,"",null,"",null,"",null,null,"","",null,"",null,"",null,"",null,null,"","",null,"",null,"",null,"",null,null,"","",null,"",null,"",null,"",null,null,"","",null,"",null,"",null,""]
[92,{"$f":"IF(ISERROR(INDEX(WS,ROWS($A$1810:$A1901))),\"\",MID(INDEX(WS,ROWS($A$1810:$A1901)), FIND(\"]\",INDEX(WS,ROWS($A$1810:$A1901)))+1,32))&T(NOW())","v":""},"","",null,"",null,"",null,"",null,null,"","",null,"",null,"",null,"",null,"","","",null,"",null,"",null,"",null,"","","",null,"",null,"",null,"",null,"","","",null,"",null,"",null,"",null,"","","",null,"",null,"",null,"",null,"","","",null,"",null,"",null,"",null,"","","",null,"",null,"",null,"",null,null,"","",null,"",null,"",null,"",null,null,"","",null,"",null,"",null,"",null,null,"","",null,"",null,"",null,"",null,null,"","",null,"",null,"",null,"",null,null,"","",null,"",null,"",null,"",null,null,"","",null,"",null,"",null,"",null,null,"","",null,"",null,"",null,"",null,null,"","",null,"",null,"",null,"",null,null,"","",null,"",null,"",null,""]
[93,{"$f":"IF(ISERROR(INDEX(WS,ROWS($A$1810:$A1902))),\"\",MID(INDEX(WS,ROWS($A$1810:$A1902)), FIND(\"]\",INDEX(WS,ROWS($A$1810:$A1902)))+1,32))&T(NOW())","v":""},"","",null,"",null,"",null,"",null,null,"","",null,"",null,"",null,"",null,"","","",null,"",null,"",null,"",null,"","","",null,"",null,"",null,"",null,"","","",null,"",null,"",null,"",null,"","","",null,"",null,"",null,"",null,"","","",null,"",null,"",null,"",null,"","","",null,"",null,"",null,"",null,null,"","",null,"",null,"",null,"",null,null,"","",null,"",null,"",null,"",null,null,"","",null,"",null,"",null,"",null,null,"","",null,"",null,"",null,"",null,null,"","",null,"",null,"",null,"",null,null,"","",null,"",null,"",null,"",null,null,"","",null,"",null,"",null,"",null,null,"","",null,"",null,"",null,"",null,null,"","",null,"",null,"",null,""]
[94,{"$f":"IF(ISERROR(INDEX(WS,ROWS($A$1810:$A1903))),\"\",MID(INDEX(WS,ROWS($A$1810:$A1903)), FIND(\"]\",INDEX(WS,ROWS($A$1810:$A1903)))+1,32))&T(NOW())","v":""},"","",null,"",null,"",null,"",null,null,"","",null,"",null,"",null,"",null,"","","",null,"",null,"",null,"",null,"","","",null,"",null,"",null,"",null,"","","",null,"",null,"",null,"",null,"","","",null,"",null,"",null,"",null,"","","",null,"",null,"",null,"",null,"","","",null,"",null,"",null,"",null,null,"","",null,"",null,"",null,"",null,null,"","",null,"",null,"",null,"",null,null,"","",null,"",null,"",null,"",null,null,"","",null,"",null,"",null,"",null,null,"","",null,"",null,"",null,"",null,null,"","",null,"",null,"",null,"",null,null,"","",null,"",null,"",null,"",null,null,"","",null,"",null,"",null,"",null,null,"","",null,"",null,"",null,""]
[95,{"$f":"IF(ISERROR(INDEX(WS,ROWS($A$1810:$A1904))),\"\",MID(INDEX(WS,ROWS($A$1810:$A1904)), FIND(\"]\",INDEX(WS,ROWS($A$1810:$A1904)))+1,32))&T(NOW())","v":""},"","",null,"",null,"",null,"",null,null,"","",null,"",null,"",null,"",null,"","","",null,"",null,"",null,"",null,"","","",null,"",null,"",null,"",null,"","","",null,"",null,"",null,"",null,"","","",null,"",null,"",null,"",null,"","","",null,"",null,"",null,"",null,"","","",null,"",null,"",null,"",null,null,"","",null,"",null,"",null,"",null,null,"","",null,"",null,"",null,"",null,null,"","",null,"",null,"",null,"",null,null,"","",null,"",null,"",null,"",null,null,"","",null,"",null,"",null,"",null,null,"","",null,"",null,"",null,"",null,null,"","",null,"",null,"",null,"",null,null,"","",null,"",null,"",null,"",null,null,"","",null,"",null,"",null,""]
[96,{"$f":"IF(ISERROR(INDEX(WS,ROWS($A$1810:$A1905))),\"\",MID(INDEX(WS,ROWS($A$1810:$A1905)), FIND(\"]\",INDEX(WS,ROWS($A$1810:$A1905)))+1,32))&T(NOW())","v":""},"","",null,"",null,"",null,"",null,null,"","",null,"",null,"",null,"",null,"","","",null,"",null,"",null,"",null,"","","",null,"",null,"",null,"",null,"","","",null,"",null,"",null,"",null,"","","",null,"",null,"",null,"",null,"","","",null,"",null,"",null,"",null,"","","",null,"",null,"",null,"",null,null,"","",null,"",null,"",null,"",null,null,"","",null,"",null,"",null,"",null,null,"","",null,"",null,"",null,"",null,null,"","",null,"",null,"",null,"",null,null,"","",null,"",null,"",null,"",null,null,"","",null,"",null,"",null,"",null,null,"","",null,"",null,"",null,"",null,null,"","",null,"",null,"",null,"",null,null,"","",null,"",null,"",null,""]
[97,{"$f":"IF(ISERROR(INDEX(WS,ROWS($A$1810:$A1906))),\"\",MID(INDEX(WS,ROWS($A$1810:$A1906)), FIND(\"]\",INDEX(WS,ROWS($A$1810:$A1906)))+1,32))&T(NOW())","v":""},"","",null,"",null,"",null,"",null,null,"","",null,"",null,"",null,"",null,"","","",null,"",null,"",null,"",null,"","","",null,"",null,"",null,"",null,"","","",null,"",null,"",null,"",null,"","","",null,"",null,"",null,"",null,"","","",null,"",null,"",null,"",null,"","","",null,"",null,"",null,"",null,null,"","",null,"",null,"",null,"",null,null,"","",null,"",null,"",null,"",null,null,"","",null,"",null,"",null,"",null,null,"","",null,"",null,"",null,"",null,null,"","",null,"",null,"",null,"",null,null,"","",null,"",null,"",null,"",null,null,"","",null,"",null,"",null,"",null,null,"","",null,"",null,"",null,"",null,null,"","",null,"",null,"",null,""]
[98,{"$f":"IF(ISERROR(INDEX(WS,ROWS($A$1810:$A1907))),\"\",MID(INDEX(WS,ROWS($A$1810:$A1907)), FIND(\"]\",INDEX(WS,ROWS($A$1810:$A1907)))+1,32))&T(NOW())","v":""},"","",null,"",null,"",null,"",null,null,"","",null,"",null,"",null,"",null,"","","",null,"",null,"",null,"",null,"","","",null,"",null,"",null,"",null,"","","",null,"",null,"",null,"",null,"","","",null,"",null,"",null,"",null,"","","",null,"",null,"",null,"",null,"","","",null,"",null,"",null,"",null,null,"","",null,"",null,"",null,"",null,null,"","",null,"",null,"",null,"",null,null,"","",null,"",null,"",null,"",null,null,"","",null,"",null,"",null,"",null,null,"","",null,"",null,"",null,"",null,null,"","",null,"",null,"",null,"",null,null,"","",null,"",null,"",null,"",null,null,"","",null,"",null,"",null,"",null,null,"","",null,"",null,"",null,""]
[99,{"$f":"IF(ISERROR(INDEX(WS,ROWS($A$1810:$A1908))),\"\",MID(INDEX(WS,ROWS($A$1810:$A1908)), FIND(\"]\",INDEX(WS,ROWS($A$1810:$A1908)))+1,32))&T(NOW())","v":""},"","",null,"",null,"",null,"",null,null,"","",null,"",null,"",null,"",null,"","","",null,"",null,"",null,"",null,"","","",null,"",null,"",null,"",null,"","","",null,"",null,"",null,"",null,"","","",null,"",null,"",null,"",null,"","","",null,"",null,"",null,"",null,"","","",null,"",null,"",null,"",null,null,"","",null,"",null,"",null,"",null,null,"","",null,"",null,"",null,"",null,null,"","",null,"",null,"",null,"",null,null,"","",null,"",null,"",null,"",null,null,"","",null,"",null,"",null,"",null,null,"","",null,"",null,"",null,"",null,null,"","",null,"",null,"",null,"",null,null,"","",null,"",null,"",null,"",null,null,"","",null,"",null,"",null,""]
[100,{"$f":"IF(ISERROR(INDEX(WS,ROWS($A$1810:$A1909))),\"\",MID(INDEX(WS,ROWS($A$1810:$A1909)), FIND(\"]\",INDEX(WS,ROWS($A$1810:$A1909)))+1,32))&T(NOW())","v":""},"","",null,"",null,"",null,"",null,null,"","",null,"",null,"",null,"",null,"","","",null,"",null,"",null,"",null,"","","",null,"",null,"",null,"",null,"","","",null,"",null,"",null,"",null,"","","",null,"",null,"",null,"",null,"","","",null,"",null,"",null,"",null,"","","",null,"",null,"",null,"",null,null,"","",null,"",null,"",null,"",null,null,"","",null,"",null,"",null,"",null,null,"","",null,"",null,"",null,"",null,null,"","",null,"",null,"",null,"",null,null,"","",null,"",null,"",null,"",null,null,"","",null,"",null,"",null,"",null,null,"","",null,"",null,"",null,"",null,null,"","",null,"",null,"",null,"",null,null,"","",null,"",null,"",null,""]
[]
[]
["010000","НЕФИНАНСИЈСКА ИМОВИНА У СТАЛНИМ СРЕДСТВИМА"]
["011000","НЕКРЕТНИНЕ И ОПРЕМА"]
["011100","Зграде и грађевински објекти"]
["011110","Стамбене зграде и станови"]
["011111","Стамбене зграде за јавне службенике"]
["011112","Стамбени простор за социјалне групе"]
["011113","Стамбени простор за избеглице"]
["011115","Остале стамбене зграде"]
["011116","Лизинг стамбених зграда и станова"]
["011117","Добити које су резултат промене вредности стамбених зграда и станова"]
["011118","Друге промене у обиму стамбених зграда и станова"]
["011119","Исправка вредности стамбених зграда и станова"]
["011120","Пословне зграде"]
["011121","Болнице, домови здравља и старачки домови"]
["011125","Остале пословне зграде"]
["011126","Лизинг пословних зграда"]
["011127"," Добити које су резултат промене вредности пословних зграда"]
["011128","Друге промене у обиму пословних зграда"]
["011129","Исправка вредности пословних зграда"]
["011130","Пословни простор и други објекти"]
["011131","Објекти за потребе образовања"]
["011132","Ресторани, одмаралишта"]
["011133","Складишта, силоси, гараже и сл."]
["011134","Гранични прелази"]
["011135","Ôàáðè÷êå õàëå"]
["011136","Лизинг пословног простора и других објеката"]
["011137"," Добити које су резултат промене вредности пословног простора и других објеката"]
["011138"," Друге промене у обиму пословног простора и других објеката"]
["011139","Исправка вредности пословног простора и других објеката"]
["011140","Саобраћајни објекти"]
["011141","Аутопутеви, мостови, надвожњаци и тунели"]
["011142","Пруге"]
["011143","Аеродромске писте"]
["011145","Остали саобраћајни објекти"]
["011146","Лизинг саобраћајних објеката"]
["011147"," Добити које су резултат промене вредности саобраћајних објеката"]
["011148","Друге промене у обиму саобраћајних објеката"]
["011149","Исправка вредности саобраћајних објеката"]
["011150","Водоводна инфраструктура"]
["011151","Водовод"]
["011152","Канализација"]
["011153","Луке"]
["011154","Бране"]
["011155","Остали облици водоводне инфраструктуре"]
["011156","Лизинг водоводне инфраструктуре"]
["011157"," Добити које су резултат промене вредности водоводне инфраструктуре"]
["011158"," Друге промене у обиму водоводне инфраструктуре"]
["011159","Исправка вредности водоводне инфраструктуре"]
["011190","Остали објекти"]
["011191","Плиноводи"]
["011192","Комуникациони и електрични водови"]
["011193","Спортски и рекреациони објекти"]
["011194","Установе културе"]
["011195","Затвори"]
["011196","Лизинг осталих објеката"]
["011197"," Добити које су резултат промене вредности осталих објеката"]
["011198","Друге промене у обиму осталих објеката"]
["011199","Исправка вредности осталих објеката"]
["011200","Опрема"]
["011210","Опрема за саобраћај"]
["011211","Опрема за копнени саобраћај"]
["011212","Пловни објекти"]
["011213","Опрема за ваздушни саобраћај"]
["011215","Остала опрема за саобраћај"]
["011216","Лизинг опреме за саобраћај"]
["011217"," Добити које су резултат промене вредности саобраћајне опреме"]
["011218"," Друге промене у обиму саобраћајне опреме"]
["011219","Исправка вредности саобраћајне опреме"]
["011220","Административна опрема"]
["011221","Канцеларијска опрема"]
["011222","Рачунарска опрема"]
["011223","Комуникациона опрема"]
["011224","Електронска и фотографска опрема"]
["011225","Опрема за домаћинство и угоститељство"]
["011226","Лизинг административне опреме"]
["011227"," Добити које су резултат промене вредности административне опреме"]
["011228"," Друге промене у обиму административне опреме"]
["011229","Исправка вредности административне опреме"]
["011230","Опрема за пољопривреду"]
["011231","Опрема за пољопривреду"]
["011236","Лизинг опреме за пољопривреду"]
["011237"," Добити које су резултат промене вредности пољопривредне опреме"]
["011238"," Друге промене у обиму пољопривредне опреме"]
["011239","Исправка вредности пољопривредне опреме"]
["011240","Опрема за заштиту животне средине"]
["011241","Опрема за заштиту животне средине"]
["011246","Лизинг опреме за заштиту животне средине"]
["011247","Добити које су резултат промене вредности опреме за заштиту животне средине"]
["011248","Друге промене у обиму опреме за заштиту животне средине"]
["011249","Исправка вредности опреме за заштиту животне околине"]
["011250","Медицинска и лабораторијска опрема"]
["011251","Медицинска опрема"]
["011252","Лабораторијска опрема"]
["011253","Мерни и контролни инструменти"]
["011255","Остала медицинска и лабораторијска опрема"]
["011256","Лизинг медицинске и лабораторијске опреме"]
["011257","Добити које су резултат промене вредности медицинске и лабораторијске опреме"]
["011258","Друге промене у обиму медицинске и лабораторијске опреме"]
["011259","Исправка вредности медицинске и лабораторијске опреме"]
["011260","Опрема за образовање, науку, културу и спорт"]
["011261","Опрема за образовање"]
["011262","Опрема за науку"]
["011263","Опрема за културу"]
["011264","Опрема за спорт"]
["011266","Лизинг опреме за образовање, науку, културу и спорт"]
["011267","Добити које су резултат промене вредности опреме за образовање, науку, културу и спорт"]
["011268","Друге промене у обиму опреме за образовање, науку, културу и спорт"]
["011269","Исправка вредности опреме за образовање, науку, културу и спорт"]
["011270","Опрема за војску"]
["011271","Опрема за војску"]
["011276","Лизинг опреме за војску"]
["011277","Добити које су резултат промене вредности опреме за војску"]
["011278","Друге промене у обиму опреме за војску"]
["011279","Исправка вредности опреме за војску"]
["011280","Опрема за јавну безбедност"]
["011281","Опрема за јавну безбедност"]
["011286","Лизинг опреме за јавну безбедност"]
["011287","Добити које су резултат промене вредности опреме за јавну безбедност"]
["011288"," Друге промене у обиму опреме зa јавну безбедност"]
["011289","Исправка вредности опреме за јавну безбедност"]
["011290","Опрема за производњу, моторна, непокретна и немоторна опрема"]
["011291","Производна опрема"]
["011292","Моторна опрема"]
["011293","Непокретна опрема"]
["011294","Немоторна опрема"]
["011296","Лизинг опреме за производњу, моторну, непокретну и немоторну опрему"]
["011297","Добити које су резултат промене вредности опреме за производњу, моторне, непокретне и немоторне опреме"]
["011298"," Друге промене у обиму опреме за производњу, моторне, непокретне и немоторне опреме"]
["011299","Исправка вредности опреме за производњу, моторне, непокретне и немоторне опреме"]
["011300","Остале некретнине и опрема"]
["011310","Остале некретнине и опрема"]
["011311","Остале некретнине и опрема"]
["011316","Лизинг-остале некретнине и опрема"]
["011317"," Добити које су резултат промене вредности-остале некретнине и опрема"]
["011318"," Друге промене у обиму-остале некретнине и опрема"]
["011319","Исправка вредности-остале некретнине и опрема"]
["012000","КУЛТИВИСАНА ИМОВИНА"]
["012100","Култивисана имовина"]
["012110","Култивисана имовина"]
["012111","Основно стадо"]
["012112","Вишегодишњи засади"]
["012117"," Добити које су резултат промене вредности култивисане имовине"]
["012118"," Друге промене у обиму култивисане имовине"]
["012119","Исправка вредности култивисане имовине"]
["013000","ДРАГОЦЕНОСТИ"]
["013100","Драгоцености"]
["013110","Драгоцености"]
["013111","Злато"]
["013112","Сребро"]
["013113","Накит од племенитих метала"]
["013114","Антика и други предмети"]
["013115","Îñòàëå äðàãîöåíîñòè"]
["013117"," Добити које су резултат промене вредности драгоцености"]
["013118"," Äðóãå ïðîìåíå ó îáèìó äðàãîöåíîñòè"]
["013119","Исправка вредности драгоцености"]
["014000","ПРИРОДНА ИМОВИНА"]
["014100","Земљиште"]
["014110","Земљиште"]
["014111","Пољопривредно земљиште"]
["014112","Грађевинско земљиште"]
["014113","Земља која је испод зграда и објеката"]
["014114","Спортски терени и придружена водена површина"]
["014115","Остало земљиште и придружена водена површина"]
["014117"," Добити које су резултат промене вредности земљишта"]
["014118"," Друге промене у обиму земљишта"]
["014119","Исправка вредности земљишта"]
["014200","Подземна блага"]
["014210","Подземна блага"]
["014211","Копови"]
["014212","Угаљ, нафта и природни гас"]
["014213"," Минералне резерве метала"]
["014217"," Добити које су резултат промене вредности подземних блага"]
["014218"," Друге промене у обиму подземних блага"]
["014219"," Исправка вредности подземних блага"]
["014300","Шуме и воде"]
["014310","Шуме"]
["014311","Шуме"]
["014317"," Äîáèòè êî¼å ñó ðåçóëòàò ïðîìåíå âðåäíîñòè øóìà"]
["014318"," Друге промене у обиму шума"]
["014319"," Трошење вредности шума"]
["014320","Воде"]
["014321","Воде"]
["014327"," Добити које су резултат промене вредности воде"]
["014328"," Друге промене у обиму воде"]
["014329"," Исправка вредности воде"]
["015000","НЕФИНАНСИЈСКА ИМОВИНА У ПРИПРЕМИ И АВАНСИ"]
["015100","Нефинансијска имовина у припреми"]
["015110","Грађевински објекти у припреми"]
["015111","Стамбени грађевински објекти у припреми"]
["015112","Пословне зграде и други грађевински објекти у припреми"]
["015113","Саобраћајни објекти у припреми"]
["015114","Водоводна инфраструктура у припреми"]
["015115","Други објекти у припреми"]
["015120","Опрема у припреми"]
["015121","Саобраћајна опрема у припреми"]
["015122"," Административна опрема у припреми"]
["015123"," Пољопривредна опрема у припреми"]
["015124"," Опрема за заштиту животне средине у припреми"]
["015125"," Медицинска и лабораторијска опрема у припреми"]
["015126"," Опрема за образовање, науку, културу и спорт у припреми"]
["015127"," Опрема за војску у припреми"]
["015128"," Опрема за јавну безбедност у припреми"]
["015129"," Опрема за производњу, моторна, непокретна и немоторна опрема у припреми"]
["015130","Остале некретнине и опрема у припреми"]
["015131","Остале некретнине и опрема у припреми"]
["015140","Култивисана имовина у припреми"]
["015141","Култивисана имовина у припреми"]
["015150","Драгоцености у припреми"]
["015151","Драгоцености у припреми"]
["015160","Земљиште у припреми"]
["015161","Земљиште у припреми"]
["015170","Подземна блага у припреми"]
["015171","Подземна блага у припреми"]
["015180","Шуме и воде у припреми"]
["015181","Шуме у припреми"]
["015182","Вода у припреми"]
["015200","Аванси за нефинансијску имовину"]
["015210","Аванси за грађевинске објекте"]
["015211","Аванси за стамбене објекте"]
["015212","Аванси за пословне зграде и друге објекте"]
["015213","Аванси за саобраћајне објекте"]
["015214","Аванси за водоводну инфраструктуру"]
["015215","Аванси за друге објекте"]
["015220","Аванси за опрему"]
["015221","Аванси за саобраћајну опрему"]
["015222"," Аванси за административну опрему"]
["015223"," Аванси за пољопривредну опрему"]
["015224"," Аванси за опрему за заштиту животне средине"]
["015225"," Аванси за медицинску и лабораторијску опрему"]
["015226"," Аванси за опрему за образовање, науку, културу и спорт"]
["015227"," Аванси за опрему за војску"]
["015228"," Аванси за опрему за јавну безбедност"]
["015229"," Аванси за опрему за производњу, моторну, непокретну и немоторну опрему"]
["015230","Аванси за остале некретнине и опрему"]
["015231","Аванси за остале некретнине и опрему"]
["015240","Аванси за култивисану имовину"]
["015241","Аванси за култивисану имовину"]
["015250","Аванси за драгоцености"]
["015251","Аванси за драгоцености"]
["015260","Аванси за земљиште"]
["015261","Аванси за земљиште"]
["015270","Аванси за подземна блага"]
["015271","Аванси за подземна блага"]
["015280","Аванси за шуме и воде"]
["015281","Аванси за шуме"]
["015282"," Аванси за воде"]
["016000","Нематеријална ИМОВИНА"]
["016100","Нематеријална имовина"]
["016110","Компјутерски софтвер"]
["016111","Компјутерски софтвер"]
["016117","Добити које су резултат промене компјутерског софтвера"]
["016118"," Друге промене у обиму компјутерског софтвера"]
["016119"," Исправка вредности нематеријалних улагања у компјутерски софтвер"]
["016120","Књижевна и уметничка дела"]
["016121","Књижевна и уметничка дела"]
["016127","Добити које су резултат промене књижевних и уметничких дела"]
["016128","Друге промене у обиму нематеријалних књижевних и уметничких дела"]
["016129"," Исправка вредности нематеријалних улагања у књижевна и уметничка дела"]
["016130","Патенти"]
["016131","Патенти"]
["016137","Добити које су резултат промене патената"]
["016138","Друге промене у обиму нематеријалних патената"]
["016139","Исправка вредности нематеријалних улагања у патенте"]
["016140","Goodwill"]
["016141","Goodwill"]
["016147"," Добити које су резултат промене Goodwill-а"]
["016148"," Друге промене у обиму Goodwill-а"]
["016149"," Исправка вредности нематеријалних улагања у Goodwill"]
["016150","Трошкови за развој"]
["016151","Трошкови за развој"]
["016157"," Добити које су резултат промене нематеријалних основних средстава"]
["016158"," Друге промене у обиму нематеријалних основних средстава"]
["016159"," Исправка вредности нематеријалних улагања у основна средства"]
["016160","Остала нематеријална основна средства"]
["016161","Остала нематеријална основна средства"]
["016167","Добити које су резултат промене осталих нематеријалних основних средстава"]
["016168"," Друге промене у обиму осталих нематеријалних основних средстава"]
["016169"," Исправка вредности нематеријалних улагања у остала нематеријална основна средстава"]
["016170","Остала нематеријална имовина"]
["016171","Остала нематеријална имовина"]
["016177","Добити које су резултат промене остале нематеријалне имовине"]
["016178"," Друге промене у обиму остале нематеријалне имовине"]
["016179"," Исправка вредности нематеријалних улагања у осталу нематеријалну имовину"]
["016180","Нематеријална имовина у припреми"]
["016181","Íåìàòåðè¼àëíà èìîâèíà ó ïðèïðåìè"]
["016190","Аванси за нематеријалну имовину"]
["016191","Àâàíñè çà íåìàòåðè¼àëíó èìîâèíó"]
["020000","НЕФИНАНСИЈСКА ИМОВИНА У ЗАЛИХАМА"]
["021000","ЗАЛИХЕ"]
["021100","Робне резерве"]
["021110","Робне резерве"]
["021111","Робне резерве"]
["021117","Добити које су резултат промене вредности робних резерви"]
["021118"," Друге промене у обиму робних резерви"]
["021119"," Исправка вредности робних резерви"]
["021200","Залихе производње"]
["021210","Материјали"]
["021211","Материјали"]
["021220","Недовршена производња"]
["021221","Недовршена производња"]
["021230","Готови производи"]
["021231","Готови производи"]
["021300","Роба за даљу продају"]
["021310","Роба за даљу продају"]
["021311","Роба за даљу продају у промету на велико"]
["021312","Робa за даљу продају у промету на мало"]
["021313","Укалкулисана разлика у цени робе за даљу продају"]
["021314","Укалкулисани порез робе за даљу продају"]
["021319","Исправка вредности робе за даљу продају"]
["022000","ЗАЛИХЕ СИТНОГ ИНВЕНТАРА И ПОТРОШНОГ МАТЕРИЈАЛА"]
["022100","Залихе ситног инвентара"]
["022110","Залихе ситног инвентара"]
["022111","Залихе ситног инвентара"]
["022120","Ситан инвентар у употреби"]
["022121","Ситан инвентар у употреби"]
["022129","Исправка вредности ситног инвентара"]
["022200","Залихе потрошног материјала"]
["022210","Залихе материјала за сталне трошкове"]
["022211","Залихе материјала за грејање"]
["022220","Залихе материјала за поправке и одржавање"]
["022221","Залихе материјала за поправке зграда"]
["022222","Залихе материјала за поправке опреме"]
["022230","Залихе материјала у делатности"]
["022231","Залихе административног материјала"]
["022232","Залихе материјала за пољопривреду"]
["022233","Залихе материјала за образовање запослених"]
["022234","Залихе материјала за саобраћај"]
["022235","Залихе материјала за очување животне средине"]
["022236","Залихе материјала за образовање, науку, културу и спорт"]
["022237","Залихе медицинског и лабораторијског материјала"]
["022238","Залихе материјала за домаћинство и угоститељство"]
["022239","Залихе материјала за посебне намене"]
["022240","Залихе лекова на рецепт и помагала у апотекама"]
["022241","Залихе лекова на рецепт и помагала у апотекама"]
["022242","Укалкулисана разлика у цени за лекове на рецепт и помагала"]
["022243","Укалкулисани порез на лекове на рецепт и помагала"]
["022290","Исправка вредности залиха потрошног материјала"]
["022291","Исправка вредности залиха материјала за сталне трошкове"]
["022292","Исправка вредности залиха материјала за поправке и одржавање"]
["022293","Исправка вредности залиха материјала делатности"]
["022294","Исправка вредности лекова на рецепт и помагала"]
[100000,"ФИНАНСИЈСКА ИМОВИНА"]
[110000,"ДУГОРОЧНА ФИНАНСИЈСКА ИМОВИНА"]
[111000,"ДУГОРОЧНА ДОМАЋА ФИНАНСИЈСКА ИМОВИНА"]
[111100,"Дугорочне домаће хартије од вредности, изузев акција"]
[111110,"Набавка домаћих дугорочних хартија од вредности, изузев акција"]
[111111,"Набавка домаћих дугорочних хартија од вредности, изузев акција"]
[111190,"Исправка вредности дугорочних домаћих хартија од вредности, изузев акција"]
[111191,"Исправка вредности дугорочних домаћих хартија од вредности, изузев акција"]
[111200,"Кредити осталим нивоима власти"]
[111210,"Кредити нивоу Републике"]
[111211,"Кредити нивоу Републике"]
[111220,"Кредити нивоу територијалних аутономија"]
[111221,"Кредити нивоу територијалних аутономија"]
[111230,"Кредити нивоу градова"]
[111231,"Кредити нивоу градова"]
[111240,"Кредити нивоу општина"]
[111241,"Кредити нивоу општина"]
[111250,"Кредити организацијама за обавезно социјално осигурање"]
[111251,"Кредити Републичком фонду за здравствено осигурање"]
[111252,"Кредити Републичком фонду за ПИО"]
[111255,"Кредити Националној служби за запошљавање"]
[111256,"Кредити Фонду за социјално осигурање војних осигураника"]
[111290,"Исправка вредности кредита осталим нивоима власти"]
[111291,"Исправка вредности кредита нивоу Републике"]
[111292,"Исправка вредности кредита нивоу територијалних аутономија"]
[111293,"Исправка вредности кредита нивоу градова"]
[111294,"Исправка вредности кредита нивоу општина"]
[111295,"Исправка вредности кредита организацијама за обавезно социјално осигурање"]
[111300,"Кредити домаћим јавним финансијским институцијама"]
[111310,"Кредити Народној банци Србије"]
[111311,"Кредити Народној банци Србије"]
[111380,"Кредити осталим домаћим јавним финансијским институцијама"]
[111381,"Кредити осталим домаћим јавним финансијским институцијама"]
[111390,"Исправка вредности кредита домаћим јавним финансијским институцијама"]
[111391,"Исправка вредности кредита Народној банци Србије"]
[111398,"Исправка вредности кредита осталим домаћим јавним финансијским институцијама"]
[111400,"Кредити домаћим пословним банкама"]
[111410,"Кредити домаћим пословним банкама"]
[111411,"Кредити домаћим пословним банкама"]
[111490,"Исправка вредности кредита домаћим пословним банкама"]
[111491,"Исправка вредности кредита домаћим пословним банкама"]
[111500,"Кредити домаћим јавним нефинансијским институцијама"]
[111510,"Кредити домаћим јавним нефинансијским институцијама"]
[111511,"Кредити домаћим јавним нефинансијским институцијама"]
[111590,"Исправка вредности кредита домаћим јавним нефинансијским институцијама"]
[111591,"Исправка вредности кредита домаћим јавним нефинансијским институцијама"]
[111600,"Кредити физичким лицима и домаћинствима у земљи"]
[111610,"Кредити физичким лицима и домаћинствима у земљи"]
[111611,"Кредити физичким лицима у земљи за потребе становања"]
[111612,"Кредити физичким лицима у земљи за комерцијалне потребе"]
[111613,"Кредити студентима и ученицима у земљи"]
[111690,"Исправка вредности кредита физичким лицима и домаћинствима у земљи"]
[111691,"Исправка вредности кредита физичким лицима и домаћинствима у земљи"]
[111700,"Кредити домаћим невладиним организацијама"]
[111710,"Кредити удружењима грађана у земљи"]
[111711,"Кредити удружењима грађана у земљи"]
[111712,"Кредити непрофитним организацијама у земљи"]
[111790,"Исправка вредности кредита домаћим невладиним организацијама"]
[111791,"Исправка вредности кредита домаћим невладиним организацијама"]
[111800,"Кредити домаћим нефинансијским приватним предузећима"]
[111810,"Кредити домаћим нефинансијским приватним предузећима"]
[111811,"Кредити домаћим нефинансијским приватним предузећима"]
[111890,"Исправка вредности кредита домаћим нефинансијским приватним предузећима"]
[111891,"Исправка вредности кредита домаћим нефинансијским приватним предузећима"]
[111900,"Домаће акције и остали капитал"]
[111910,"Учешће капитала у домаћим јавним нефинансијским предузећима и институцијама"]
[111911,"Учешће капитала у домаћим јавним нефинансијским предузећима и институцијама"]
[111920,"Учешће капитала у домаћим јавним финансијским институцијама"]
[111921,"Учешће капитала у Народној банци Србије"]
[111922,"Учешће капитала у осталим домаћим финансијским институцијама"]
[111930,"Учешће капитала у домаћим нефинансијским приватним предузећима"]
[111931,"Учешће капитала у домаћим нефинансијским приватним предузећима"]
[111940,"Учешће капитала у домаћим пословним банкама"]
[111941,"Учешће капитала у домаћим пословним банкама"]
[111990,"Исправка вредности домаћих акција и осталог капитала"]
[111991,"Исправка вредности учешћa капитала у домаћим јавним нефинансијским предузећима и институцијама"]
[111992,"Исправка вредности учешћа капитала у домаћим јавним финансијским институцијама"]
[111993,"Исправка вредности учешћа капитала у домаћим приватним нефинансијским предузећима"]
[111994,"Исправка вредности учешћа капитала у домаћим пословним банкама"]
[112000,"ДУГОРОЧНА СТРАНА ФИНАНСИЈСКА ИМОВИНА"]
[112100,"Дугорочне стране хартије од вредности, изузев акција"]
[112110,"Дугорочне стране хартије од вредности, изузев акција"]
[112111,"Дугорочне стране хартије од вредности, изузев акција"]
[112190,"Исправка вредности дугорочних страних хартија од вредности, изузев акција"]
[112191,"Исправка вредности дугорочних страних хартија од вредности, изузев акција"]
[112200,"Кредити страним владама"]
[112210,"Кредити страним владама"]
[112211,"Кредити страним владама"]
[112290,"Исправка вредности кредита датих страним владама"]
[112291,"Исправка вредности кредита датих страним владама"]
[112300,"Кредити међународним организацијама"]
[112310,"Кредити међународним организацијама"]
[112311,"Кредити међународним организацијама"]
[112312,"Кредити за премошћавање финансирања пројеката ЕУ"]
[112390,"Исправка вредности кредита међународним организацијама"]
[112391,"Исправка вредности кредита међународним организацијама"]
[112400,"Кредити страним пословним банкама"]
[112410,"Кредити страним пословним банкама"]
[112411,"Кредити страним пословним банкама"]
[112490,"Исправка вредности кредита страним пословним банкама"]
[112491,"Исправка вредности кредита страним пословним банкама"]
[112500,"Кредити страним нефинансијским институцијама"]
[112510,"Кредити страним нефинансијским институцијама"]
[112511,"Кредити страним нефинансијским институцијама"]
[112590,"Исправка вредности кредита страним нефинансијским институцијама"]
[112591,"Исправка вредности кредита страним нефинансијским институцијама"]
[112600,"Кредити страним невладиним организацијама"]
[112610,"Кредити страним невладиним организацијама"]
[112611,"Кредити страним удружењима грађана"]
[112612,"Кредити страним непрофитним институцијама"]
[112690,"Исправка вредности кредита страним невладиним организацијама"]
[112691,"Исправка вредности кредита страним невладиним организацијама"]
[112700,"Стране акције и остали капитал"]
[112710,"Учешће капитала у међународним финансијским институцијама"]
[112711,"Учешће капитала у међународним финансијским институцијама"]
[112720,"Учешће капитала у страним компанијама и нефинансијским институцијама"]
[112721,"Учешће капитала у страним компанијама и нефинансијским институцијама"]
[112790,"Исправка вредности страних акција и осталог капитала"]
[112791,"Исправка вредности учешћa капитала у међународним финансијским институцијама"]
[112792,"Исправка вредности учешћа капитала у страним компанијама и нефинансијским институцијама"]
[112800,"Страни финансијски деривати"]
[112810,"Страни финансијски деривати"]
[112811,"Страни финансијски деривати"]
[120000,"НОВЧАНА СРЕДСТВА, ПЛЕМЕНИТИ МЕТАЛИ, ХАРТИЈЕ ОД ВРЕДНОСТИ, ПОТРАЖИВАЊА И КРАТКОРОЧНИ ПЛАСМАНИ"]
[121000,"НОВЧАНА СРЕДСТВА, ПЛЕМЕНИТИ МЕТАЛИ, ХАРТИЈЕ ОД ВРЕДНОСТИ"]
[121100,"Жиро и текући рачуни"]
[121110,"Жиро и текући рачуни"]
[121111,"Жиро рачуни"]
[121112,"Текући рачуни"]
[121113,"Прелазни рачун"]
[121200,"Издвојена новчана средства и акредитиви"]
[121210,"Издвојена новчана средства и акредитиви"]
[121211,"Издвојена новчана средства за инвестиције"]
[121212,"Издвојена новчана средства за исплату чекова"]
[121213,"Издвојена новчана средства за плаћање царина и осталих дажбина"]
[121214,"Издвојена средства за сталне резерве"]
[121215,"Издвојена средства за посебне намене"]
[121216,"Издвојена средства за стамбену изградњу"]
[121217,"Неопозиви документарни акредитиви"]
[121218,"Остали акредитиви"]
[121219,"Остала издвојена средства"]
[121300,"Благајна"]
[121310,"Благајна"]
[121311,"Главна благајна"]
[121312,"Помоћна благајна"]
[121313,"Благајна поштанских марака"]
[121314,"Благајна судских марака"]
[121315,"Благајна бонова за гориво"]
[121319,"Остале благајне"]
[121400,"Девизни рачун"]
[121410,"Девизни рачун"]
[121411,"Девизни рачун код домаћих банака"]
[121412,"Девизни рачун код банака у иностранству"]
[121413,"Девизни рачун за улог страног лица"]
[121414,"Остали девизни рачуни"]
[121418,"Добити које су резултат промене вредности девизних рачуна"]
[121419,"Прелазни девизни рачун"]
[121500,"Девизни акредитиви"]
[121510,"Девизни акредитиви"]
[121511,"Акредитиви за плаћање увоза робе"]
[121512,"Акредитиви за плаћање услуга у иностранству"]
[121513,"Остали девизни акредитиви"]
[121518,"Добити које су резултат промене вредности девизних акредитива"]
[121600,"Девизна благајна"]
[121610,"Девизна благајна"]
[121611,"Главна девизна благајна"]
[121612,"Девизна благајна мењачнице"]
[121618,"Добити које су резултат промене вредности девизних средстава у благајни"]
[121619,"Остале девизне благајне"]
[121700,"Остала новчана средства"]
[121710,"Остала новчана средства"]
[121711,"Новчана средства депонована за неисплаћене зараде запослених"]
[121712,"Новчана средства за накнаде зарада за рефундирано боловање, војне вежбе и слично"]
[121713,"Новчана средства евидентног рачуна прихода буџетских корисника"]
[121714,"Новчана средства судског депозита"]
[121715,"Новчана средства код банке за куповину девиза"]
[121716,"Новчана средства код банке од продаје девиза"]
[121717,"Новчана средства упутница код поште"]
[121718,"Новчана средства упутница код Управе за трезор"]
[121719,"Остала новчана средства"]
[121800,"Племенити метали"]
[121810,"Племенити метали"]
[121811,"Монетарно злато"]
[121812,"Специјална права вучења"]
[121900,"Хартије од вредности"]
[121910,"Чекови"]
[121911,"Динарски чекови правних лица"]
[121912,"Динарски чекови предузетника"]
[121913,"Динарски чекови грађана"]
[121914,"Остали динарски чекови"]
[121915,"Чекови дати на наплату"]
[121916,"Протестовани чекови"]
[121917,"Чекови у страној валути"]
[121920,"Остале хартије од вредности"]
[121921,"Обвезнице"]
[121922,"Менице"]
[121990,"Исправка вредности"]
[121991,"Исправка вредности чекова"]
[121992,"Исправка вредности осталих хартија од вредности"]
[122000,"КРАТКОРОЧНА ПОТРАЖИВАЊА"]
[122100,"Потраживања по основу продаје и друга потраживања"]
[122110,"Купци у земљи"]
[122111,"Потраживања од купаца"]
[122112,"Потраживања за продату комисиону и консигнациону робу"]
[122113,"Спорна потраживања од купаца"]
[122119,"Исправка вредности потраживања од купаца у земљи"]
[122120,"Купци у иностранству"]
[122121,"Потраживања од купаца"]
[122122,"Спорна потраживања од купаца"]
[122129,"Исправка вредности потраживања од купаца у иностранству"]
[122130,"Потраживања за камате и дивиденде"]
[122131,"Потраживања за уговорене камате"]
[122132,"Потраживања за затезне камате"]
[122133,"Потраживања за дивиденде"]
[122139,"Исправка вредности потраживања за камате и дивиденде"]
[122140,"Потраживања од запослених"]
[122141,"Аконтације за службено путовање у земљи"]
[122142,"Аконтације за службено путовање у иностранство"]
[122143,"Потраживања по основу накнаде штете"]
[122144,"Потраживања по основу мањкова"]
[122145,"Потраживања по основу бензинских бонова"]
[122146,"Потраживања за откупљене станове"]
[122147,"Потраживања за стамбене кредите"]
[122148,"Остала потраживања од запослених"]
[122149,"Исправка вредности потраживања од запослених"]
[122150,"Потраживања од других органа и организација"]
[122151,"Потраживања од јавних прихода за мање дозначена средства"]
[122152,"Потраживања на основу субвенција и дотација"]
[122153,"Потраживања за регресе, премије и компензације"]
[122154,"Потраживања за повраћај царина и других дажбина"]
[122155,"Остала потраживања од државних органа и организација"]
[122156,"Потраживања за неосигурана лица"]
[122157,"Спорна потраживања"]
[122159,"Исправка вредности потраживања од других органа и организација"]
[122160,"Потраживања по основу преплаћених пореза и доприноса"]
[122161,"Потраживања за преплаћене порезе на промет производа и услуга"]
[122162,"Потраживања за преплаћене порезе на зараде и накнаде зарада"]
[122163,"Потраживања за преплаћене доприносе на зараде и накнаде зарада"]
[122164,"Потраживања за преплаћене остале порезе и доприносе"]
[122165,"Накнадно враћен порез на додату вредност купцима - страним држављанима"]
[122169,"Исправка вредности потраживања по основу преплаћених пореза и доприноса"]
[122190,"Остала потраживања"]
[122191,"Потраживања по основу позајмице из сталне буџетске резерве"]
[122192,"Потраживања од фондова по основу исплаћених накнада запосленима"]
[122193,"Потраживања од осигуравајућих организација за накнаду штете"]
[122194,"Потраживања од других правних и физичких лица за накнаду штете"]
[122195,"Потраживања за доспеле отплате по дугорочним пласманима"]
[122196,"Депозити код судова за вештачење и за учешће на лицитацији"]
[122197,"Спорна потраживања"]
[122198,"Остала краткорочна потраживања"]
[122199,"Исправка вредности осталих потраживања"]
[123000,"КРАТКОРОЧНИ ПЛАСМАНИ"]
[123100,"Краткорочни кредити"]
[123110,"Краткорочни кредити дати у земљи"]
[123111,"Кредити дати осталим нивоима власти"]
[123112,"Кредити дати запосленима у складу са прописима"]
[123113,"Дати потрошачки кредити"]
[123119,"Остали домаћи дати кредити"]
[123120,"Краткорочни кредити дати у иностранству"]
[123121,"Кредити дати страним владама"]
[123122,"Кредити дати страним појединцима"]
[123129,"Остали страни кредити"]
[123130,"Спорна потраживања"]
[123131,"Спорна потраживања"]
[123190,"Исправка вредности краткорочних кредита"]
[123191,"Исправка вредности краткорочних кредита"]
[123200,"Дати аванси, депозити и кауције"]
[123210,"Аванси за набавку материјала"]
[123211,"Аванси за набавку материјала"]
[123220,"Аванси за набавку робе"]
[123221,"Аванси за набавку робе"]
[123230,"Аванси за обављање услуга"]
[123231,"Аванси за обављање услуга"]
[123240,"Аванси за остале потребе"]
[123241,"Аванси за остале потребе"]
[123250,"Краткорочни депозити"]
[123251,"Краткорочни депозити"]
[123260,"Краткорочне кауције"]
[123261,"Краткорочне кауције"]
[123290,"Исправка вредности аванса, депозита и кауција"]
[123291,"Исправка вредности аванса, депозита и кауција"]
[123300,"Хартије од вредности намењене продаји"]
[123310,"Акције"]
[123311,"Акције"]
[123320,"Обвезнице"]
[123321,"Обвезнице"]
[123330,"Благајнички записи"]
[123331,"Благајнички записи"]
[123340,"Комерцијални записи"]
[123341,"Комерцијални записи"]
[123350,"Државни записи и сертификати о депозиту"]
[123351,"Државни записи и сертификати о депозиту"]
[123360,"Финансијски деривати којима се тргује на берзи"]
[123361,"Финансијски деривати којима се тргује на берзи"]
[123370,"Остале краткорочне и дугорочне хартије од вредности намењене продаји"]
[123371,"Остале краткорочне и дугорочне хартије од вредности намењене продаји"]
[123380,"Удео у капиталу другог правног лица"]
[123381,"Удео у капиталу другог правног лица"]
[123390,"Исправка вредности хартија од вредности намењених продаји"]
[123391,"Исправка вредности хартија од вредности намењених продаји"]
[123900,"Остали краткорочни пласмани"]
[123910,"Краткорочно орочена динарска средства"]
[123911,"Краткорочно орочена динарска средства"]
[123920,"Краткорочно орочена девизна средства"]
[123921,"Краткорочно орочена девизна средства"]
[123930,"Остали краткорочни пласмани у земљи"]
[123931,"Остали краткорочни пласмани у земљи"]
[123940,"Остали краткорочни пласмани у иностранству"]
[123941,"Остали краткорочни пласмани у иностранству"]
[123950,"Спорни остали краткорочни пласмани"]
[123951,"Спорни остали краткорочни пласмани"]
[123960,"Порез на додату вредност"]
[123961,"Порез на додату вредност у примљеним фактурама по општој стопи (осим плаћених аванса)"]
[123962,"Порез на додату вредност у примљеним фактурама по посебној стопи (осим плаћених аванса)"]
[123963,"Порез на додату вредност у датим авансима по општој стопи"]
[123964,"Порез на додату вредност у датим авансима по посебној стопи"]
[123965,"Порез на додату вредност плаћен при увозу добара по општој стопи"]
[123966,"Порез на додату вредност плаћен при увозу добара по посебној стопи"]
[123967,"Порез на додату вредност обрачунат на услуге иностраних лица"]
[123968,"ПДВ надокнада плаћена пољопривреднику"]
[123969,"Потраживање за више плаћени порез на додату вредност"]
[123990,"Исправка вредности осталих краткорочних пласмана"]
[123991,"Исправка вредности осталих краткорочних пласмана"]
[130000,"АКТИВНА ВРЕМЕНСКА РАЗГРАНИЧЕЊА"]
[131000,"АКТИВНА ВРЕМЕНСКА РАЗГРАНИЧЕЊА"]
[131100,"Разграничени расходи до једне године"]
[131110,"Разграничени расходи до једне године"]
[131111,"Унапред плаћена премија осигурања"]
[131112,"Унапред плаћена закупнина"]
[131113,"Унапред плаћена претплата за стручне часописе и публикације"]
[131114,"Унапред плаћени расходи грејања"]
[131119,"Остали унапред плаћени расходи"]
[131200,"Обрачунати неплаћени расходи и издаци"]
[131210,"Обрачунати неплаћени расходи и издаци"]
[131211,"Обрачунати неплаћени расходи"]
[131212,"Обрачунати неплаћени издаци"]
[131300,"Остала активна временска разграничења"]
[131310,"Остала активна временска разграничења"]
[131311,"Обрачунати приходи од камата које се односе на обрачунски период, а доспевају за наплату у наредном периоду"]
[131312,"Остала активна временска разграничења"]
[200000,"ОБАВЕЗЕ"]
[210000,"ДУГОРОЧНЕ ОБАВЕЗЕ"]
[211000,"ДОМАЋЕ ДУГОРОЧНЕ ОБАВЕЗЕ"]
[211100,"Обавезе по основу емитованих хартија од вредности, изузев акција"]
[211110,"Обавезе по основу емитованих хартија од вредности, изузев акција"]
[211111,"Обавезе по основу емитованих хартија од вредности, изузев акција"]
[211200,"Обавезе по основу дугорочних кредита од осталих нивоа власти"]
[211210,"Обавезе по основу дугорочних кредита од нивоа Републике"]
[211211,"Обавезе по основу дугорочних кредита од нивоа Републике"]
[211220,"Обавезе по основу дугорочних кредита од нивоа територијалних аутономија"]
[211221,"Обавезе по основу дугорочних кредита од нивоа територијалних аутономија"]
[211230,"Обавезе по основу дугорочних кредита од нивоа градова"]
[211231,"Обавезе по основу дугорочних кредита од нивоа градова"]
[211240,"Обавезе по основу дугорочних кредита од нивоа општина"]
[211241,"Обавезе по основу дугорочних кредита од нивоа општина"]
[211250,"Обавезе по основу дугорочних кредита од организација за обавезно социјално осигурање"]
[211251,"Обавезе по основу дугорочних кредита од Републичког фонда за здравствено осигурање"]
[211252,"Обавезе по основу дугорочних кредита од Републичког фонда за ПИО"]
[211255,"Обавезе по основу дугорочних кредита од Националне службе за запошљавање"]
[211256,"Обавезе по основу дугорочних кредита од Фонда за социјално осигурање војних осигураника"]
[211300,"Обавезе по основу дугорочних кредита од домаћих јавних финансијских институција"]
[211310,"Обавезе по основу дугорочних кредита од домаћих јавних финансијских институција"]
[211311,"Обавезе по основу дугорочних кредита од НБС"]
[211390,"Обавезе по основу дугорочних кредита од осталих домаћих јавних финансијских институција"]
[211391,"Обавезе по основу дугорочних кредита од осталих домаћих јавних финансијских институција"]
[211400,"Обавезе по основу дугорочних кредита од домаћих пословних банака"]
[211410,"Обавезе по основу дугорочних кредита од домаћих пословних банака"]
[211411,"Обавезе по основу дугорочних кредита од домаћих пословних банака"]
[211500,"Обавезе по основу дугорочних кредита од осталих домаћих кредитора"]
[211510,"Обавезе по основу дугорочних кредита од осталих домаћих кредитора"]
[211511,"Обавезе по основу дугорочних кредита од осталих домаћих кредитора"]
[211600,"Обавезе по основу дугорочних кредита од домаћинстава у земљи"]
[211610,"Обавезе по основу дугорочних кредита од домаћинстава у земљи"]
[211611,"Обавезе по основу дугорочних кредита од домаћинстава у земљи"]
[211700,"Дугорочне обавезе по основу домаћих финансијских деривата"]
[211710,"Дугорочне обавезе по основу домаћих финансијских деривата"]
[211711,"Дугорочне обавезе по основу домаћих финансијских деривата"]
[211800,"Дугорочне обавезе по основу домаћих меница"]
[211810,"Дугорочне обавезе по основу домаћих меница"]
[211811,"Дугорочне обавезе по основу домаћих меница"]
[211900,"Дугорочне обавезе за финансијске лизинге"]
[211910,"Дугорочне обавезе за финансијске лизинге"]
[211911,"Дугорочне обавезе за финансијске лизинге за зграде и грађевинске објекте"]
[211912,"Дугорочне обавезе за финансијске лизинге за опрему"]
[211913,"Дугорочне обавезе за финансијске лизинге за осталу нефинансијску имовину"]
[212000,"СТРАНЕ ДУГОРОЧНЕ ОБАВЕЗЕ"]
[212100,"Дугорочне стране обавезе по основу емитованих хартија од вредности, изузев акција"]
[212110,"Дугорочне стране обавезе по основу емитованих хартија од вредности, изузев акција"]
[212111,"Дугорочне стране обавезе по основу емитованих хартија од вредности, изузев акција"]
[212200,"Обавезе по основу дугорочних кредита од страних влада"]
[212210,"Обавезе по основу дугорочних кредита од Париског клуба"]
[212211,"Обавезе по основу дугорочних кредита од Париског клуба"]
[212220,"Обавезе по основу дугорочних кредита од извозно увозних банака"]
[212221,"Обавезе по основу дугорочних кредита од извозно увозних банака"]
[212290,"Обавезе по основу дугорочних кредита од осталих страних влада"]
[212291,"Обавезе по основу дугорочних кредита од осталих страних влада"]
[212300,"Обавезе по основу дугорочних кредита од мултилатералних институција"]
[212310,"Обавезе по основу дугорочних кредита од Светске банке"]
[212311,"Обавезе по основу дугорочних кредита од Светске банке"]
[212320,"Обавезе по основу дугорочних кредита од IBRD"]
[212321,"Обавезе по основу дугорочних кредита од IBRD"]
[212330,"Обавезе по основу дугорочних кредита од EBRD"]
[212331,"Обавезе по основу дугорочних кредита од EBRD"]
[212340,"Обавезе по основу дугорочних кредита од EIB"]
[212341,"Обавезе по основу дугорочних кредита од EIB"]
[212350,"Обавезе по основу дугорочних кредита од CEB"]
[212351,"Обавезе по основу дугорочних кредита од CEB"]
[212390,"Обавезе по основу дугорочних кредита од осталих мултилатералних институција"]
[212391,"Обавезе по основу дугорочних кредита од осталих мултилатералних институција"]
[212400,"Обавезе по основу дугорочних кредита од страних пословних банака"]
[212410,"Обавезе по основу дугорочних кредита од Лондонског клуба"]
[212411,"Обавезе по основу дугорочних кредита од Лондонског клуба"]
[212490,"Обавезе по основу дугорочних кредита од осталих страних пословних банака"]
[212491,"Обавезе по основу дугорочних кредита од осталих страних пословних банака"]
[212500,"Обавезе по основу дугорочних кредита од осталих страних кредитора"]
[212510,"Обавезе по основу дугорочних кредита од осталих страних кредитора"]
[212511,"Обавезе по основу дугорочних кредита од осталих страних кредитора"]
[212600,"Дугорочне обавезе по основу страних финансијских деривата"]
[212610,"Дугорочне обавезе по основу страних финансијских деривата"]
[212611,"Дугорочне обавезе по основу страних финансијских деривата"]
[213000,"ДУГОРОЧНЕ ОБАВЕЗЕ ПО ОСНОВУ ГАРАНЦИЈА"]
[213100,"Дугорочне обавезе по основу гаранција"]
[213110,"Дугорочне обавезе по основу гаранција"]
[213111,"Дугорочне обавезе по основу гаранција"]
[214000,"ОБАВЕЗЕ ПО ОСНОВУ ОТПЛАТЕ ГЛАВНИЦЕ ЗА ФИНАНСИЈСКИ ЛИЗИНГ"]
[214100,"Обавезе по основу отплате главнице за финансијски лизинг"]
[214110,"Обавезе по основу отплате главнице за финансијски лизинг"]
[214111,"Обавезе по основу отплате главнице за финансијски лизинг"]
[215000,"ОБАВЕЗЕ ПО ОСНОВУ ОТПЛАТА ГАРАНЦИЈА ПО КОМЕРЦИЈАЛНИМ ТРАНСАКЦИЈАМА"]
[215100,"Обавезе по основу отплата гаранција по комерцијалним трансакцијама"]
[215110,"Обавезе по основу отплате гаранција по комерцијалним трансакцијама"]
[215111,"Обавезе по основу отплата гаранција по комерцијалним трансакцијама"]
[220000,"КРАТКОРОЧНЕ ОБАВЕЗЕ"]
[221000,"КРАТКОРОЧНЕ ДОМАЋЕ ОБАВЕЗЕ"]
[221100,"Краткорочне домаће обавезе по основу емитованих хартија од вредности, изузев акција"]
[221110,"Краткорочне домаће обавезе по основу емитованих хартија од вредности, изузев акција"]
[221111,"Краткорочне домаће обавезе по основу емитованих хартија од вредности, изузев акција"]
[221200,"Обавезе по основу краткорочних кредита од осталих нивоа власти"]
[221210,"Обавезе по основу краткорочних кредита од нивоа Републике"]
[221211,"Обавезе по основу краткорочних кредита од нивоа Републике"]
[221220,"Обавезе по основу краткорочних кредита од нивоа територијалних аутономија"]
[221221,"Обавезе по основу краткорочних кредита од нивоа територијалних аутономија"]
[221230,"Обавезе по основу краткорочних кредита од нивоа градова"]
[221231,"Обавезе по основу краткорочних кредита од нивоа градова"]
[221240,"Обавезе по основу краткорочних кредита од нивоа општина"]
[221241,"Обавезе по основу краткорочних кредита од нивоа општина"]
[221250,"Обавезе по основу краткорочних кредита од организација за обавезно социјално осигурање"]
[221251,"Обавезе по основу краткорочних кредита од Републичког фонда за здравствено осигурање"]
[221252,"Обавезе по основу краткорочних кредита од Републичког фонда за ПИО"]
[221255,"Обавезе по основу краткорочних кредита од Националне службе за запошљавање"]
[221256,"Обавезе по основу краткорочних кредита од Фонда за социјално осигурање војних осигураника"]
[221300,"Обавезе по основу краткорочних кредита од домаћих јавних финансијских институција"]
[221310,"Обавезе по основу краткорочних кредита од НБС"]
[221311,"Обавезе по основу краткорочних кредита од НБС"]
[221390,"Обавезе по основу краткорочних кредита од осталих домаћих јавних финансијских институција"]
[221391,"Обавезе по основу краткорочних кредита од осталих домаћих јавних финансијских институција"]
[221400,"Обавезе по основу краткорочних кредита од домаћих пословних банака"]
[221410,"Обавезе по основу краткорочних кредита од домаћих пословних банака"]
[221411,"Обавезе по основу краткорочних кредита од домаћих пословних банака"]
[221500,"Обавезе по основу краткорочних кредита од осталих домаћих кредитора"]
[221510,"Обавезе по основу краткорочних кредита од осталих домаћих кредитора"]
[221511,"Обавезе по основу краткорочних кредита од осталих домаћих кредитора"]
[221600,"Обавезе по основу краткорочних кредита од домаћинстава у земљи"]
[221610,"Обавезе по основу краткорочних кредита од домаћинстава у земљи"]
[221611,"Обавезе по основу краткорочних кредита од домаћинстава у земљи"]
[221700,"Краткорочне обавезе по основу домаћих финансијских деривата"]
[221710,"Краткорочне обавезе по основу домаћих финансијских деривата"]
[221711,"Краткорочне обавезе по основу домаћих финансијских деривата"]
[221800,"Краткорочне обавезе по основу домаћих меница"]
[221810,"Краткорочне обавезе по основу домаћих меница"]
[221811,"Краткорочне обавезе по основу домаћих меница"]
[222000,"КРАТКОРОЧНЕ СТРАНЕ ОБАВЕЗЕ"]
[222100,"Краткорочне стране обавезе по основу емитованих хартија од вредности, изузев акција"]
[222110,"Краткорочне стране обавезе по основу емитованих хартија од вредности, изузев акција"]
[222111,"Краткорочне стране обавезе по основу емитованих хартија од вредности, изузев акција"]
[222200,"Обавезе по основу краткорочних крeдита од страних влада"]
[222210,"Обавезе по основу краткорочних кредита од Париског клуба"]
[222211,"Обавезе по основу краткорочних кредита од Париског клуба"]
[222220,"Обавезе по основу краткорочних кредита од извозно - увозних банака"]
[222221,"Обавезе по основу краткорочних кредита од извозно - увозних банака"]
[222290,"Обавезе по основу краткорочних кредита од осталих страних влада"]
[222291,"Обавезе по основу краткорочних кредита од осталих страних влада"]
[222300,"Обавезе по основу краткорочних кредита од мултилатералних институција"]
[222310,"Обавезе по основу краткорочних кредита од Светске банке"]
[222311,"Обавезе по основу краткорочних кредита од Светске банке"]
[222320,"Обавезе по основу краткорочних кредита од IBRD"]
[222321,"Обавезе по основу краткорочних кредита од IBRD"]
[222330,"Обавезе по основу краткорочних кредита од EBRD"]
[222331,"Обавезе по основу краткорочних кредита од EBRD"]
[222340,"Обавезе по основу краткорочних кредита од EIB"]
[222341,"Обавезе по основу краткорочних кредита од EIB"]
[222350,"Обавезе по основу краткорочних кредита од CEB"]
[222351,"Обавезе по основу краткорочних кредита од CEB"]
[222390,"Обавезе по основу краткорочних кредита од осталих мултилатералних институција"]
[222391,"Обавезе по основу краткорочних кредита од осталих мултилатералних институција"]
[222400,"Обавезе по основу краткорочних кредита од страних пословних банака"]
[222410,"Обавезе по основу краткорочних кредита од Лондонског клуба"]
[222411,"Обавезе по основу краткорочних кредита од Лондонског клуба"]
[222490,"Обавезе по основу краткорочних кредита од осталих страних пословних банака"]
[222491,"Обавезе по основу краткорочних кредита од осталих страних пословних банака"]
[222500,"Обавезе по основу краткорочних кредита од осталих страних кредитора"]
[222510,"Обавезе по основу краткорочних кредита од осталих страних кредитора"]
[222511,"Обавезе по основу краткорочних кредита од осталих страних кредитора"]
[222600,"Краткорочне обавезе по основу страних финансијских деривата"]
[222610,"Краткорочне обавезе по основу страних финансијских деривата"]
[222611,"Краткорочне обавезе по основу страних финансијских деривата"]
[223000,"КРАТКОРОЧНЕ ОБАВЕЗЕ ПО ОСНОВУ ГАРАНЦИЈА"]
[223100,"Краткорочне обавезе по основу гаранција"]
[223110,"Краткорочне обавезе по основу гаранција"]
[223111,"Краткорочне обавезе по основу гаранција"]
[230000,"ОБАВЕЗЕ ПО ОСНОВУ РАСХОДА ЗА ЗАПОСЛЕНЕ"]
[231000,"ОБАВЕЗЕ ЗА ПЛАТЕ И ДОДАТКЕ"]
[231100,"Обавезе за нето плате и додатке"]
[231110,"Обавезе за нето плате и додатке"]
[231111,"Обавезе за нето плате и додатке"]
[231200,"Обавезе по основу пореза на плате и додатке"]
[231210,"Обавезе по основу пореза на плате и додатке"]
[231211,"Обавезе по основу пореза на плате и додатке"]
[231300,"Обавезе по основу доприноса за пензијско и инвалидско осигурање на плате и додатке"]
[231310,"Обавезе по основу доприноса за пензијско и инвалидско осигурање на плате и додатке"]
[231311,"Обавезе по основу доприноса за пензијско и инвалидско осигурање на плате и додатке"]
[231400,"Обавезе по основу доприноса за здравствено осигурање на плате и додатке"]
[231410,"Обавезе по основу доприноса за здравствено осигурање на плате и додатке"]
[231411,"Обавезе по основу доприноса за здравствено осигурање на плате и додатке"]
[231500,"Обавезе по основу доприноса за незапосленост на плате и додатке"]
[231510,"Обавезе по основу доприноса за незапосленост на плате и додатке"]
[231511,"Обавезе по основу доприноса за незапосленост на плате и додатке"]
[232000,"ОБАВЕЗЕ ПО ОСНОВУ НАКНАДА ЗАПОСЛЕНИМА"]
[232100,"Обавезе по основу нето накнада запосленима"]
[232110,"Обавезе по основу нето накнада запосленима"]
[232111,"Обавезе по основу нето накнада запосленима"]
[232200,"Обавезе по основу пореза за накнаде запосленима"]
[232210,"Обавезе по основу пореза за накнаде запосленима"]
[232211,"Обавезе по основу пореза за накнаде запосленима"]
[232300,"Обавезе по основу доприноса за пензијско и инвалидско осигурање за накнаде запосленима"]
[232310,"Обавезе по основу доприноса за пензијско и инвалидско осигурање за накнаде запосленима"]
[232311,"Обавезе по основу доприноса за пензијско и инвалидско осигурање за накнаде запосленима"]
[232400,"Обавезе по основу доприноса за здравствено осигурање за накнаде запосленима"]
[232410,"Обавезе по основу доприноса за здравствено осигурање за накнаде запосленима"]
[232411,"Обавезе по основу доприноса за здравствено осигурање за накнаде запосленима"]
[232500,"Обавезе по основу доприноса за незапосленост за накнаде запосленима"]
[232510,"Обавезе по основу доприноса за незапосленост за накнаде запосленима"]
[232511,"Обавезе по основу доприноса за незапосленост за накнаде запосленима"]
[233000,"ОБАВЕЗЕ ЗА НАГРАДЕ И ОСТАЛЕ ПОСЕБНЕ РАСХОДЕ"]
[233100,"Обавезе по основу нето исплата награда и осталих посебних расхода"]
[233110,"Обавезе по основу нето исплата награда и осталих посебних расхода"]
[233111,"Обавезе по основу нето исплата награда и осталих посебних расхода"]
[233200,"Обавезе по основу пореза на награде и остале посебне расходе"]
[233210,"Обавезе по основу пореза на награде и остале посебне расходе"]
[233211,"Обавезе по основу пореза на награде и остале посебне расходе"]
[233300,"Обавезе по основу доприноса за пензијско и инвалидско осигурање за награде и остале посебне расходе"]
[233310,"Обавезе по основу доприноса за пензијско и инвалидско осигурање за награде и остале посебне расходе"]
[233311,"Обавезе по основу доприноса за пензијско и инвалидско осигурање за награде и остале посебне расходе"]
[233400,"Обавезе по основу доприноса за здравствено осигурање за награде и остале посебне расходе"]
[233410,"Обавезе по основу доприноса за здравствено осигурање за награде и остале посебне расходе"]
[233411,"Обавезе по основу доприноса за здравствено осигурање за награде и остале посебне расходе"]
[233500,"Обавезе по основу доприноса за случај незапослености за награде и остале посебне расходе"]
[233510,"Обавезе по основу доприноса за случај незапослености за награде и остале посебне расходе"]
[233511,"Обавезе по основу доприноса за случај незапослености за награде и остале посебне расходе"]
[234000,"ОБАВЕЗЕ ПО ОСНОВУ СОЦИЈАЛНИХ ДОПРИНОСА НА ТЕРЕТ ПОСЛОДАВЦА"]
[234100,"Обавезе по основу доприноса за пензијско и инвалидско осигурање на терет послодавца"]
[234110,"Обавезе по основу доприноса за пензијско и инвалидско осигурање на терет послодавца"]
[234111,"Обавезе по основу доприноса за пензијско и инвалидско осигурање на терет послодавца"]
[234200,"Обавезе по основу доприноса за здравствено осигурање на терет послодавца"]
[234210,"Обавезе по основу доприноса за здравствено осигурање на терет послодавца"]
[234211,"Обавезе по основу доприноса за здравствено осигурање на терет послодавца"]
[234300,"Обавезе по основу доприноса за случај незапослености на терет послодавца"]
[234310,"Обавезе по основу доприноса за случај незапослености на терет послодавца"]
[234311,"Обавезе по основу доприноса за случај незапослености на терет послодавца"]
[235000,"ОБАВЕЗЕ ПО ОСНОВУ НАКНАДА У НАТУРИ"]
[235100,"Обавезе по основу нето накнада у натури"]
[235110,"Обавезе по основу нето накнада у натури"]
[235111,"Обавезе по основу нето накнада у натури"]
[235200,"Обавезе по основу пореза на накнаде у натури"]
[235210,"Обавезе по основу пореза на накнаде у натури"]
[235211,"Обавезе по основу пореза на накнаде у натури"]
[235300,"Обавезе по основу доприноса за пензијско и инвалидско осигурање за накнаде у натури"]
[235310,"Обавезе по основу доприноса за пензијско и инвалидско осигурање за накнаде у натури"]
[235311,"Обавезе по основу доприноса за пензијско и инвалидско осигурање за накнаде у натури"]
[235400,"Обавезе по основу доприноса за здравствено осигурање за накнаде у натури"]
[235410,"Обавезе по основу доприноса за здравствено осигурање за накнаде у натури"]
[235411,"Обавезе по основу доприноса за здравствено осигурање за накнаде у натури"]
[235500,"Обавезе по основу доприноса за случај незапослености за накнаде у натури"]
[235510,"Обавезе по основу доприноса за случај незапослености за накнаде у натури"]
[235511,"Обавезе по основу доприноса за случај незапослености за накнаде у натури"]
[236000,"ОБАВЕЗЕ ПО ОСНОВУ СОЦИЈАЛНЕ ПОМОЋИ ЗАПОСЛЕНИМА"]
[236100,"Обавезе по основу нето исплата социјалне помоћи запосленима"]
[236110,"Обавезе по основу нето исплата социјалне помоћи запосленима"]
[236111,"Обавезе по основу нето исплата социјалне помоћи запосленима"]
[236120,"Обавезе по основу нето накнада рефундације"]
[236121,"Обавезе по основу нето накнада за породиљско одсуство"]
[236122,"Обавезе по основу нето накнада за боловање преко 30 дана"]
[236123,"Обавезе по основу нето накнада за инвалидност другог степена"]
[236200,"Обавезе по основу пореза на социјалну помоћ запосленима"]
[236210,"Обавезе по основу пореза на социјалну помоћ запосленима"]
[236211,"Обавезе по основу пореза на социјалну помоћ запосленима"]
[236300,"Обавезе по основу доприноса за пензијско и инвалидско осигурање за социјалну помоћ запосленима"]
[236310,"Обавезе по основу доприноса за пензијско и инвалидско осигурање за социјалну помоћ запосленима"]
[236311,"Обавезе по основу доприноса за пензијско и инвалидско осигурање за социјалну помоћ запосленима"]
[236400,"Обавезе по основу доприноса за здравствено осигурање за социјалну помоћ запосленима"]
[236410,"Обавезе по основу доприноса за здравствено осигурање за социјалну помоћ запосленима"]
[236411,"Обавезе по основу доприноса за здравствено осигурање за социјалну помоћ запосленима"]
[236500,"Обавезе по основу доприноса за случај незапослености за социјалну помоћ запосленима"]
[236510,"Обавезе по основу доприноса за случај незапослености за социјалну помоћ запосленима"]
[236511,"Обавезе по основу доприноса за случај незапослености за социјалну помоћ запосленима"]
[237000,"СЛУЖБЕНА ПУТОВАЊА И УСЛУГЕ ПО УГОВОРУ"]
[237100,"Обавезе по основу нето исплата за службена путовања"]
[237110,"Обавезе по основу нето исплата за службена путовања"]
[237111,"Обавезе по основу нето исплата за службена путовања у земљи"]
[237112,"Обавезе по основу нето исплата за службена путовања у иностранство"]
[237200,"Обавезе по основу пореза на исплате за службена путовања"]
[237210,"Обавезе по основу пореза на исплате за службена путовања"]
[237211,"Обавезе по основу пореза на исплате за службена путовања"]
[237300,"Обавезе по основу нето исплата за услуге по уговору"]
[237310,"Обавезе по основу нето исплата за услуге по уговору"]
[237311,"Обавезе по основу нето исплата за услуге по уговору"]
[237400,"Обавезе по основу пореза на исплате за услуге по уговору"]
[237410,"Обавезе по основу пореза на исплате за услуге по уговору"]
[237411,"Обавезе по основу пореза на исплате за услуге по уговору"]
[237500,"Обавезе по основу доприноса за пензијско и инвалидско осигурање за услуге по уговору"]
[237510,"Обавезе по основу доприноса за пензијско и инвалидско осигурање за услуге по уговору"]
[237511,"Обавезе по основу доприноса за пензијско и инвалидско осигурање за услуге по уговору"]
[237600,"Обавезе по основу доприноса за здравствено осигурање за услуге по уговору"]
[237610,"Обавезе по основу доприноса за здравствено осигурање за услуге по уговору"]
[237611,"Обавезе по основу доприноса за здравствено осигурање за услуге по уговору"]
[237700,"Обавезе по основу доприноса за случај незапослености за услуге по уговору"]
[237710,"Обавезе по основу доприноса за случај незапослености за услуге по уговору"]
[237711,"Обавезе по основу доприноса за случај незапослености за услуге по уговору"]
[238000,"ОБАВЕЗЕ ПО ОСНОВУ ПОСЛАНИЧКИХ ДОДАТАКА"]
[238100,"Обавезе за нето исплаћени посланички додатак"]
[238110,"Обавезе за нето исплаћени посланички додатак"]
[238111,"Обавезе за нето исплаћени посланички додатак"]
[238200,"Обавезе по основу пореза на исплаћени посланички додатак"]
[238210,"Обавезе по основу пореза на исплаћени посланички додатак"]
[238211,"Обавезе по основу пореза на исплаћени посланички додатак"]
[238300,"Обавезе по основу доприноса за пензијско и инвалидско осигурање за посланички додатак"]
[238310,"Обавезе по основу доприноса за пензијско и инвалидско осигурање за посланички додатак"]
[238311,"Обавезе по основу доприноса за пензијско и инвалидско осигурање за посланички додатак"]
[238400,"Обавезе по основу доприноса за здравствено осигурање за посланички додатак"]
[238410,"Обавезе по основу доприноса за здравствено осигурање за посланички додатак"]
[238411,"Обавезе по основу доприноса за здравствено осигурање за посланички додатак"]
[238500,"Обавезе по основу доприноса за случај незапослености за посланички додатак"]
[238510,"Обавезе по основу доприноса за случај незапослености за посланички додатак"]
[238511,"Обавезе по основу доприноса за случај незапослености за посланички додатак"]
[239000,"ОБАВЕЗЕ ПО ОСНОВУ СУДИЈСКИХ ДОДАТАКА"]
[239100,"Обавезе за нето исплаћени судијски додатак"]
[239110,"Обавезе за нето исплаћени судијски додатак"]
[239111,"Обавезе за нето исплаћени судијски додатак"]
[239200,"Обавезе по основу пореза на исплаћени судијски додатак"]
[239210,"Обавезе по основу пореза на исплаћени судијски додатак"]
[239211,"Обавезе по основу пореза на исплаћени судијски додатак"]
[239300,"Обавезе по основу доприноса за пензијско и инвалидско осигурање за судијски додатак"]
[239310,"Обавезе по основу доприноса за пензијско и инвалидско осигурање за судијски додатак"]
[239311,"Обавезе по основу доприноса за пензијско и инвалидско осигурање за судијски додатак"]
[239400,"Обавезе по основу доприноса за здравствено осигурање за судијски додатак"]
[239410,"Обавезе по основу доприноса за здравствено осигурање за судијски додатак"]
[239411,"Обавезе по основу доприноса за здравствено осигурање за судијски додатак"]
[239500,"Обавезе по основу доприноса за случај незапослености за судијски додатак"]
[239510,"Обавезе по основу доприноса за случај незапослености за судијски додатак"]
[239511,"Обавезе по основу доприноса за случај незапослености за судијски додатак"]
[240000,"ОБАВЕЗЕ ПО ОСНОВУ ОСТАЛИХ РАСХОДА, ИЗУЗЕВ РАСХОДА ЗА ЗАПОСЛЕНЕ"]
[241000,"ОБАВЕЗЕ ПО ОСНОВУ ОТПЛАТЕ КАМАТА И ПРАТЕЋИХ ТРОШКОВА ЗАДУЖИВАЊА"]
[241100,"Обавезе по основу отплате домаћих камата"]
[241110,"Обавезе по основу отплате камата на домаће хартије од вредности"]
[241111,"Обавезе по основу отплате камата на краткорочне домаће хартије од вредности"]
[241112,"Обавезе по основу отплате камата на дугорочне домаће хартије од вредности"]
[241120,"Обавезе по основу отплате камата осталим нивоима власти"]
[241121,"Обавезе по основу отплате камата нивоу Републике"]
[241122,"Обавезе по основу отплате камата нивоу територијалних аутономија"]
[241123,"Обавезе по основу отплате камата нивоу градова"]
[241124,"Обавезе по основу отплате камата нивоу општина"]
[241125,"Обавезе по основу отплате камата организацијама за обавезно социјално осигурање"]
[241130,"Обавезе по основу отплате камата домаћим јавним финансијским институцијама"]
[241131,"Обавезе по основу отплате камата НБС"]
[241132,"Обавезе по основу отплате камата осталим домаћим јавним финансијским институцијама"]
[241140,"Обавезе по основу отплате камата домаћим пословним банкама"]
[241141,"Обавезе по основу отплате камата домаћим пословним банкама"]
[241150,"Обавезе по основу отплате камата осталим домаћим кредиторима"]
[241151,"Обавезе по основу отплате камата осталим домаћим кредиторима"]
[241160,"Обавезе по основу отплате камата домаћинствима у земљи"]
[241161,"Обавезе по основу отплате камата домаћинствима у земљи"]
[241170,"Обавезе по основу отплате камата на домаће финансијске деривате"]
[241171,"Обавезе по основу отплате камата на домаће финансијске деривате"]
[241180,"Обавезе по основу отплате камата на менице"]
[241181,"Обавезе по основу отплате камата на менице"]
[241200,"Обавезе по основу отплате страних камата"]
[241210,"Обавезе по основу отплате камата на стране хартије од вредности"]
[241211,"Обавезе по основу отплате камата на краткорочне стране хартије од вредности"]
[241212,"Обавезе по основу отплате камата на дугорочне стране хартије од вредности"]
[241220,"Обавезе по основу отплате камата страним владама"]
[241221,"Обавезе по основу отплате камата Париском клубу"]
[241222,"Обавезе по основу отплате камата извозно увозним банкама"]
[241229,"Обавезе по основу отплате камата осталим страним владама"]
[241230,"Обавезе по основу отплате камата мултилатералним институцијама"]
[241231,"Обавезе по основу отплате камата Светској банци"]
[241232,"Обавезе по основу отплате камата IBRD"]
[241233,"Обавезе по основу отплате камата EBRD"]
[241234,"Обавезе по основу отплате камата EIB"]
[241235,"Обавезе по основу отплате камата CEB"]
[241239,"Обавезе по основу отплате камата осталим мултилатералним институцијама"]
[241240,"Обавезе по основу отплате камата страним пословним банкама"]
[241241,"Обавезе по основу отплате камата Лондонском клубу"]
[241249,"Обавезе по основу отплате камата осталим страним пословним банкама"]
[241250,"Обавезе по основу отплате камата осталим страним кредиторима"]
[241251,"Обавезе по основу отплате камата осталим страним кредиторима"]
[241260,"Обавезе по основу отплате камата на стране финансијске деривате"]
[241261,"Обавезе по основу отплате камата на стране финансијске деривате"]
[241300,"Обавезе по основу отплате камата по гаранцијама"]
[241310,"Обавезе по основу отплате камата по гаранцијама"]
[241311,"Обавезе по основу отплате камата по гаранцијама"]
[241400,"Обавезе по основу пратећих трошкова задуживања"]
[241410,"Обавезе по основу пратећих трошкова задуживања"]
[241411,"Негативна курсна разлика"]
[241412,"Затезне камате"]
[241413,"Остали пратећи трошкови задуживања"]
[242000,"ОБАВЕЗЕ ПО ОСНОВУ СУБВЕНЦИЈА"]
[242100,"Обавезе по основу субвенција нефинансијским предузећима"]
[242110,"Обавезе по основу текућих субвенција нефинансијским предузећима"]
[242111,"Обавезе по основу текућих субвенција јавном градском саобраћају"]
[242112,"Обавезе по основу текућих субвенција у јавном железничком саобраћају"]
[242113,"Обавезе по основу текућих субвенција водопривреди"]
[242114,"Обавезе по основу текућих субвенција у пољопривреди"]
[242119,"Обавезе по основу текућих субвенција осталим јавним нефинансијским предузећима"]
[242120,"Обавеза по основу капиталних субвенција јавним нефинансијским предузећима"]
[242121,"Обавезе по основу капиталних субвенција јавном градском саобраћају"]
[242122,"Обавезе по основу капиталних субвенција у јавном железничком саобраћају"]
[242123,"Обавезе по основу капиталних субвенција водопривреди"]
[242124,"Обавезе по основу капиталних субвенција у пољопривреди"]
[242129,"Обавезе по основу капиталних субвенција осталим јавним нефинансијским предузећима"]
[242200,"Обавезе по основу субвенција приватним финансијским предузећима"]
[242210,"Обавезе по основу текућих субвенција приватним финансијским предузећима"]
[242211,"Обавезе по основу текућих субвенција пословним и трговачким банкама"]
[242219,"Обавезе по основу текућих субвенција осталим приватним финансијским предузећима"]
[242220,"Обавезе по основу капиталних субвенција приватним финансијским предузећима"]
[242221,"Обавезе по основу капиталних субвенција пословним и трговачким банкама"]
[242229,"Обавезе по основу капиталних субвенција осталим приватним финансијским предузећима"]
[242300,"Обавезе по основу субвенција јавним финансијским установама"]
[242310,"Обавезе по основу текућих субвенција јавним финансијским установама"]
[242311,"Обавезе по основу текућих субвенција НБС"]
[242319,"Обавезе по основу текућих субвенција осталим домаћим јавним финансијским установама"]
[242320,"Обавезе по основу капиталних субвенција јавним финансијским установама"]
[242321,"Обавезе по основу капиталних субвенција НБС"]
[242329,"Обавезе по основу капиталних субвенција осталим домаћим јавним финансијским установама"]
[242400,"Обавезе по основу субвенција приватним предузећима"]
[242410,"Обавезе по основу текућих субвенција приватним предузећима"]
[242411,"Обавезе по основу текућих субвенција приватним предузећима"]
[242420,"Обавезе по основу капиталних субвенција приватним предузећима"]
[242421,"Обавезе по основу капиталних субвенција приватним предузећима"]
[243000,"ОБАВЕЗЕ ПО ОСНОВУ ДОНАЦИЈА, ДОТАЦИЈА И ТРАНСФЕРА"]
[243100,"Обавезе по основу донација страним владама"]
[243110,"Обавезе по основу текућих донација страним владама"]
[243111,"Обавезе по основу текућих донација страним владама"]
[243120,"Обавезе по основу капиталних донација страним владама"]
[243121,"Обавезе по основу капиталних донација страним владама"]
[243200,"Обавезе по основу дотација међународним организацијама"]
[243210,"Обавезе по основу текућих дотација међународним организацијама"]
[243211,"Обавезе по основу текућих дотација Црвеном крсту"]
[243212,"Обавезе по основу текућих дотација за међународне чланарине"]
[243219,"Обавезе по основу текућих дотација осталим међународним организацијама"]
[243220,"Обавезе по основу капиталних дотација међународним организацијама"]
[243221,"Обавезе по основу капиталних дотација Црвеном крсту"]
[243222,"Обавезе по основу капиталних дотација за међународне чланарине"]
[243229,"Обавезе по основу капиталних дотација осталим међународним организацијама"]
[243300,"Обавезе по основу трансфера осталим нивоима власти"]
[243310,"Обавезе по основу текућих трансфера осталим нивоима власти"]
[243311,"Обавезе по основу текућих трансфера нивоу Републике"]
[243312,"Обавезе по основу текућих трансфера нивоу територијалних аутономија"]
[243313,"Обавезе по основу текућих трансфера нивоу градова"]
[243314,"Обавезе по основу текућих трансфера нивоу општина"]
[243320,"Обавезе по основу капиталних трансфера осталим нивоима власти"]
[243321,"Обавезе по основу капиталних трансфера нивоу Републике"]
[243322,"Обавезе по основу капиталних трансфера нивоу територијалних аутономија"]
[243323,"Обавезе по основу капиталних трансфера нивоу градова"]
[243324,"Обавезе по основу капиталних трансфера нивоу општина"]
[243400,"Обавезе по основу дотација организацијама за обавезно социјално осигурање"]
[243410,"Обавезе по основу текућих дотација организацијама за обавезно социјално осигурање"]
[243411,"Обавезе по основу текућих дотација Републичком фонду за здравствено осигурање"]
[243412,"Обавезе по основу текућих дотација Републичком фонду за ПИО осигураникa запослених"]
[243413,"Обавезе по основу текућих дотација Републичком фонду за ПИО осигураника пољопривредника"]
[243414,"Обавезе по основу текућих дотација Републичком фонду за ПИО осигураника самосталних делатности"]
[243415,"Обавезе по основу текућих дотација Националној служби за запошљавање"]
[243416,"Обавезе по основу текућих дотација Фонду за социјално осигурање војних осигураника"]
[243420,"Обавезе по основу капиталних дотација организацијама за обавезно социјално осигурање"]
[243421,"Обавезе по основу капиталних дотација Републичком фонду за здравствено осигурање"]
[243422,"Обавезе по основу капиталних дотација Републичком фонду за ПИО"]
[243425,"Обавезе по основу капиталних дотација Националној служби за запошљавање"]
[243426,"Обавезе по основу капиталних дотација Фонду за социјално осигурање војних осигураника"]
[244000,"ОБАВЕЗЕ ЗА СОЦИЈАЛНО ОСИГУРАЊЕ"]
[244100,"Обавезе по основу права из социјалног осигурања код организација за обавезно социјално осигурање"]
[244110,"Обавезе по основу социјалног осигурања које се исплаћује непосредно домаћинствима"]
[244111,"Обавезе по основу накнада зарада осигураницима услед привремене неспособности за рад"]
[244112,"Обавезе по основу права из пензијског осигурања"]
[244113,"Обавезе по основу накнада из инвалидског осигурања"]
[244114,"Обавезе по основу накнада које исплаћује Национална служба за запошљавање"]
[244119,"Обавезе по основу осталих социјалних давања исплаћених непосредно домаћинствима"]
[244120,"Обавезе по основу права из социјалног осигурања исплаћених непосредно пружаоцима услуга"]
[244121,"Обавезе по основу трошкова здравствене заштите у земљи плаћених непосредно пружаоцима услуга"]
[244122,"Обавезе по основу услуга здравствене заштите у иностранству плаћених непосредно пружаоцима услуга"]
[244123,"Обавезе по основу бриге о пензионисаним лицима"]
[244124,"Обавезе по основу бриге о инвалидима"]
[244125,"Обавезе по основу исплата послодавцима које врши Национална служба за запошљавање"]
[244126,"Обавезе по основу пружања услуга обуке преко Националне службе за запошљавање"]
[244129,"Обавезе по основу осталих права која се плаћају непосредно пружаоцима услуга"]
[244190,"Обавезе по основу дотација другим организацијама за обавезно социјално осигурање за доприносе за осигурање"]
[244191,"Обавезе по основу дотација Републичком фонду за здравствено осигурање за доприносе за осигурање"]
[244192,"Обавезе по основу дотација Републичком фонду за ПИО осигураника запослених за доприносе за осигурање"]
[244193,"Обавезе по основу дотација Републичком фонду за ПИО осигураника пољопривредника за доприносе за осигурање"]
[244194,"Обавезе по основу дотација Републичком фонду за ПИО осигураника самосталних делатности за доприносе за осигурање"]
[244195,"Обавезе по основу дотација Националној служби за запошљавање"]
[244196,"Обавезе по основу дотација Фонду за социјално осигурање војних осигураника"]
[244200,"Обавезе по основу социјалне помоћи из буџета"]
[244210,"Обавезе по основу боловања и инвалиднина из буџета"]
[244211,"Боловање"]
[244212,"Инвалиднине"]
[244213,"Инвалиднине ратним инвалидима"]
[244220,"Обавезе по основу накнада из буџета за породиљско боловање"]
[244221,"Обавезе по основу накнада из буџета за породиљско боловање"]
[244230,"Обавезе по основу накнада из буџета за децу и породицу"]
[244231,"Обавезе по основу накнада из буџета за децу и породицу"]
[244240,"Обавезе по основу накнада из буџета за случај незапослености"]
[244241,"Обавезе по основу накнада из буџета за случај незапослености"]
[244250,"Обавезе по основу старосних и породичних пензија из буџета"]
[244251,"Обавезе по основу права из редовног пензијског осигурања из буџета"]
[244252,"Обавезе по основу права из коришћења породичних пензија, из буџета"]
[244260,"Обавезе по основу накнада из буџета за случај смрти"]
[244261,"Обавезе по основу накнада из буџета за случај смрти"]
[244270,"Обавезе по основу накнада из буџета за образовање, културу, науку и спорт"]
[244271,"Обавезе по основу накнада за образовање"]
[244272,"Обавезе по основу накнада за културу"]
[244273,"Обавезе по основу накнада за науку"]
[244274,"Обавезе по основу накнада за спорт"]
[244280,"Обавезе по основу накнада из буџета за становање и живот"]
[244281,"Обавезе по основу накнада из буџета за становање и живот"]
[244290,"Обавезе по основу осталих накнада из буџета"]
[244291,"Обавезе по основу накнада бившим политичким затвореницима"]
[244292,"Обавезе по основу накнада затвореницима"]
[244293,"Обавезе по основу једнократне помоћи из буџета"]
[245000,"ОБАВЕЗЕ ЗА ОСТАЛЕ РАСХОДЕ"]
[245100,"Обавезе по основу дотација невладиним организацијама"]
[245110,"Обавезе по основу дотација непрофитним институцијама које пружају услуге домаћинствима"]
[245111,"Обавезе по основу дотација непрофитним институцијама које пружају услуге домаћинствима"]
[245112,"Обавезе по основу неновчаних дотација непрофитним организацијама које пружају услуге домаћинствима"]
[245113,"Обавезе по основу дотација Црвеном крсту Србије"]
[245190,"Обавезе по основу дотација осталим непрофитним институцијама"]
[245191,"Обавезе по основу дотација спортским и омладинским организацијама"]
[245192,"Обавезе по основу дотација етничким заједницама и мањинама"]
[245193,"Обавезе по основу дотација верским заједницама"]
[245194,"Обавезе по основу дотација осталим удружењима грађана и политичким странкама"]
[245195,"Обавезе по основу дотација привредној комори"]
[245196,"Обавезе по основу дотација приватним и алтернативним школама"]
[245199,"Обавезе по основу дотација осталим непрофитним институцијама"]
[245200,"Обавезе за остале порезе, обавезне таксе и казне"]
[245210,"Обавезе по основу осталих пореза"]
[245211,"Обавезе по основу пореза на имовину"]
[245212,"Обавезе по основу пореза на робе и услуге"]
[245213,"Обавезе по основу пореза на коришћење роба или обављање услуга"]
[245214,"Обавезе по основу пореза на међународну трговину"]
[245219,"Обавезе по основу других пореза"]
[245220,"Обавезе по основу обавезних такси"]
[245221,"Републичке таксе"]
[245222,"Покрајинске таксе"]
[245223,"Градске таксе"]
[245224,"Општинске таксе"]
[245225,"Судске таксе"]
[245230,"Обавезе за новчане казне"]
[245231,"Републичке казне"]
[245232,"Покрајинске казне"]
[245233,"Градске казне"]
[245234,"Општинске казне"]
[245240,"Обавезе за порез на додату вредност"]
[245241,"Обавеза за порез на додату вредност по издатим фактурама по општој стопи (осим примљених аванса)"]
[245242,"Обавеза за порез на додату вредност по издатим фактурама по посебној стопи (осим примљених аванса)"]
[245243,"Обавеза за порез на додату вредност по примљеним авансима по општој стопи"]
[245244,"Обавеза за порез на додату вредност по примљеним авансима по посебној стопи"]
[245245,"Обавеза за порез на додату вредност по основу сопствене потрошње по општој стопи"]
[245246,"Обавеза за порез на додату вредност по основу сопствене потрошње по посебној стопи"]
[245247,"Обавеза за порез на додату вредност по основу продаје за готовину"]
[245248,"Обавеза по основу ПДВ надокнаде пољопривреднику"]
[245249,"Обавеза за порез на додату вредност по основу разлике обрачунатог пореза на додату вредност и претходног пореза"]
[245300,"Обавезе по основу казни и пенала по решењима судова"]
[245310,"Обавезе по основу казни и пенала по решењима судова"]
[245311,"Обавезе по основу казни и пенала по решењима судова"]
[245400,"Обавезе по основу накнаде штете за повреде и штете услед елементарних непогода"]
[245410,"Обавезе по основу накнаде штете за повреде и штете услед елементарних непогода"]
[245411,"Обавезе по основу накнаде штете за повреде и штете услед елементарних непогода"]
[245420,"Обавезе по основу накнаде штете од дивљачи"]
[245421,"Обавезе по основу накнаде штете од дивљачи"]
[245500,"Обавезе по основу накнаде штете или повреда нанетих од стране државних органа"]
[245510,"Обавезе по основу накнаде штете или повреда нанетих од стране државних органа"]
[245511,"Обавезе по основу накнаде штете или повреда нанетих од стране државних органа"]
[250000,"ОБАВЕЗЕ ИЗ ПОСЛОВАЊА"]
[251000,"ПРИМЉЕНИ АВАНСИ, ДЕПОЗИТИ И КАУЦИЈЕ"]
[251100,"Примљени аванси"]
[251110,"Примљени аванси"]
[251111,"Примљени аванси"]
[251200,"Примљени депозити"]
[251210,"Примљени депозити"]
[251211,"Примљени депозити"]
[251212,"Примљени судски депозити"]
[251219,"Примљени остали депозити"]
[251300,"Примљене кауције"]
[251310,"Примљене кауције"]
[251311,"Примљене кауције"]
[252000,"ОБАВЕЗЕ ПРЕМА ДОБАВЉАЧИМА"]
[252100,"Добављачи у земљи"]
[252110,"Добављачи у земљи"]
[252111,"Добављачи у земљи"]
[252200,"Добављачи у иностранству"]
[252210,"Добављачи у иностранству"]
[252211,"Добављачи у иностранству"]
[253000,"ОБАВЕЗЕ ЗА ИЗДАТЕ ЧЕКОВЕ И ОБВЕЗНИЦЕ"]
[253100,"Обавезе за издате чекове и обвезнице"]
[253110,"Обавезе за издате чекове и обвезнице"]
[253111,"Обавезе за издате чекове"]
[253112,"Обавезе за издате обвезнице"]
[254000,"ОСТАЛЕ ОБАВЕЗЕ"]
[254100,"Обавезе из односа буџета и буџетских корисника"]
[254110,"Обавезе из односа буџета и буџетских корисника"]
[254111,"Обавезе према буџету"]
[254112,"Обавезе према буџетским корисницима"]
[254113,"Обавезе за преузете обавезе из односа буџета и буџетских корисника"]
[254114,"Oбавезе према јавним предузећима"]
[254200,"Остале обавезе буџета"]
[254210,"Остале обавезе буџета"]
[254211,"Остале обавезе буџета"]
[254900,"Остале обавезе из пословања"]
[254910,"Обавезе према запосленима"]
[254911,"Обавезе по судским и административним забранама"]
[254912,"Обавезе за синдикалне чланарине"]
[254913,"Обавезе за неисплаћене плате"]
[254920,"Обавезе према члановима управног и надзорног одбора и комисија"]
[254921,"Обавезе према члановима управног и надзорног одбора"]
[254922,"Обавезе према члановима комисија"]
[254930,"Обавезе по упутницама"]
[254931,"Обавезе по упутницама"]
[254932,"Обавезе за враћене упутнице"]
[290000,"ПАСИВНА ВРЕМЕНСКА РАЗГРАНИЧЕЊА"]
[291000,"ПАСИВНА ВРЕМЕНСКА РАЗГРАНИЧЕЊА"]
[291100,"Разграничени приходи и примања"]
[291110,"Разграничени приходи из донација"]
[291111,"Разграничени приходи из донација"]
[291190,"Разграничени остали приходи и примања"]
[291191,"Разграничени остали приходи и примања"]
[291200,"Разграничени плаћени расходи и издаци"]
[291210,"Плаћени аванси"]
[291211,"Плаћени аванси за набавку материјала"]
[291212,"Плаћени аванси за нематеријална улагања и основна средства"]
[291213,"Плаћени аванси за куповину услуга"]
[291220,"Аконтације за пословна путовања"]
[291221,"Аконтације за пословна путовања"]
[291300,"Обрачунати ненаплаћени приходи и примања"]
[291310,"Обрачунати ненаплаћени приходи и примања"]
[291311,"Обрачунати ненаплаћени приходи"]
[291312,"Обрачуната ненаплаћена примања из продаје нефинансијске имовине"]
[291900,"Остала пасивна временска разграничења"]
[291910,"Остала пасивна временска разграничења"]
[291911,"Обавезе фондова за исплаћене обавезе по основу накнада запосленима"]
[291919,"Остала пасивна временска разграничења"]
[300000,"КАПИТАЛ, УТВРЂИВАЊЕ РЕЗУЛТАТА ПОСЛОВАЊА И ВАНБИЛАНСНА ЕВИДЕНЦИЈА"]
[310000,"КАПИТАЛ"]
[311000,"КАПИТАЛ"]
[311100,"Нефинансијска имовина у сталним средствима"]
[311110,"Основна средства"]
[311111,"Зграде и грађевински објекти"]
[311112,"Опрема"]
[311113,"Остале некретнине и опрема"]
[311120,"Култивисана имовина"]
[311121,"Култивисана имовина"]
[311130,"Драгоцености"]
[311131,"Драгоцености"]
[311140,"Природна богатства"]
[311141,"Природна богатства"]
[311150,"Нефинансијска имовина у припреми"]
[311151,"Нефинансијска имовина у припреми"]
[311160,"Нематеријална имовина"]
[311161,"Нематеријална имовина"]
[311200,"Нефинансијска имовина у залихама"]
[311210,"Залихе робних резерви"]
[311211,"Залихе робних резерви"]
[311220,"Залихе материјала за производњу"]
[311221,"Залихе материјала за производњу"]
[311230,"Залихе недовршене производње"]
[311231,"Залихе недовршене производње"]
[311240,"Залихе готових производа"]
[311241,"Залихе готових производа"]
[311250,"Залихе робе за даљу продају"]
[311251,"Залихе робе за даљу продају"]
[311260,"Залихе потрошног материјала"]
[311261,"Залихе потрошног материјала"]
[311270,"Залихе ситног инвентара"]
[311271,"Залихе ситног инвентара"]
[311280,"Залихе лекова на рецепт и помагала у апотекама"]
[311281,"Залихе лекова на рецепт и помагала у апотекама"]
[311300,"Исправка вредности сопствених извора нефинансијске имовине, у сталним средствима, за набавке из кредита"]
[311310,"Исправка вредности сопствених извора нефинансијске имовине, у сталним средствима, за набавке из кредита"]
[311311,"Исправка вредности сопствених извора нефинансијске имовине, у сталним средствима, за набавке из кредита"]
[311400,"Финансијска имовина"]
[311410,"Финансијска имовина"]
[311411,"Дугорочна домаћа финансијска имовина"]
[311412,"Дугорочна финансијска имовина у страним владама, компанијама, организацијама и институцијама"]
[311419,"Остала финансијска имовина"]
[311500,"Извори новчаних средстава"]
[311510,"Извори новчаних средстава"]
[311511,"Примања од продаје финансијске имовине"]
[311512,"Примања од отплате датих кредита"]
[311513,"Примања од продаје стране валуте"]
[311519,"Остали извори новчаних средстава"]
[311600,"Утрошена средства текућих прихода и примања од продаје нефинансијске имовине у току једне године"]
[311610,"Утрошена средства текућих прихода и примања од продаје нефинансијске имовине у току једне године"]
[311611,"Утрошена средства текућих прихода и примања од продаје нефинансијске имовине за отплату обавеза по кредитима"]
[311612,"Утрошена средства текућих прихода и примања од продаје нефинансијске имовине за набавку финансијске имовине"]
[311700,"Пренета неутрошена средства из ранијих година"]
[311710,"Пренета неутрошена средства из ранијих година"]
[311711,"Пренета неутрошена средства од приватизације"]
[311712,"Пренета неутрошена средства за посебне намене"]
[311713,"Пренета неутрошена средства за стамбену изградњу"]
[311900,"Остали сопствени извори"]
[311910,"Остали сопствени извори"]
[311911,"Остали сопствени извори"]
[320000,"УТВРЂИВАЊЕ РЕЗУЛТАТА ПОСЛОВАЊА"]
[321000,"УТВРЂИВАЊЕ РЕЗУЛТАТА ПОСЛОВАЊА"]
[321100,"Утврђивање резултата пословања"]
[321110,"Обрачун прихода и примања и расхода и издатака пословања"]
[321111,"Обрачун прихода и примања и расхода и издатака пословања"]
[321120,"Вишак или мањак прихода и примања"]
[321121,"Вишак прихода и примања- суфицит"]
[321122,"Мањак прихода и примања- дефицит"]
[321200,"Распоред вишка прихода и примања"]
[321210,"Распоред вишка прихода и примања"]
[321211,"Распоред вишка прихода и примања"]
[321300,"Нераспоређени вишак прихода и примања или дефицит из ранијих година"]
[321310,"Нераспоређени вишак прихода и примања или дефицит из ранијих година"]
[321311,"Нераспоређени вишак прихода и примања из ранијих година"]
[321312,"Дефицит из ранијих година"]
[330000,"ДОБИТИ КОЈЕ СУ РЕЗУЛТАТ ПРОМЕНЕ ВРЕДНОСТИ"]
[331000,"ДОБИТИ КОЈЕ СУ РЕЗУЛТАТ ПРОМЕНЕ ВРЕДНОСТИ"]
[331100,"Добити које су резултат промене вредности"]
[331110,"Добити које су резултат промене вредности стамбених зграда и станова"]
[331111,"Добити које су резултат промене вредности стамбених зграда и станова"]
[331120,"Добити које су резултат промене вредности пословних зграда и других објеката"]
[331121,"Добити које су резултат промене вредности пословних зграда и других објеката"]
[331130,"Добити које су резултат промене вредности опреме"]
[331131,"Добити које су резултат промене вредности опреме"]
[331140,"Добити који су резултат промене вредности култивисане имовине"]
[331141,"Добити који су резултат промене вредности култивисане имовине"]
[331150,"Добити које су резултат промене вредности драгоцености"]
[331151,"Добити које су резултат промене вредности драгоцености"]
[331160,"Добити које су резултат промене вредности природног богатства"]
[331161,"Добити које су резултат промене вредности природне имовине"]
[331170,"Добити које су резултат промене вредности нематеријалних основних средстава"]
[331171,"Добити које су резултат промене вредности нематеријалних основних средстава"]
[331180,"Добити које су резултат промене вредности залиха"]
[331181,"Добити које су резултат промене вредности залиха"]
[340000,"ДРУГЕ ПРОМЕНЕ У ОБИМУ"]
[341000,"ДРУГЕ ПРОМЕНЕ У ОБИМУ"]
[341100,"Друге промене у обиму"]
[341110," Друге промене у обиму стамбених зграда и станова"]
[341111," Друге промене у обиму стамбених зграда и станова"]
[341120," Друге промене у обиму пословних зграда и других објеката"]
[341121,"Друге промене у обиму пословних зграда и других објеката"]
[341130," Друге промене у обиму опреме"]
[341131," Друге промене у обиму опреме"]
[341140,"Друге промене у обиму култивисане имовине"]
[341141,"Друге промене у обиму култивисане имовине"]
[341150,"Друге промене у обиму драгоцености"]
[341151,"Друге промене у обиму драгоцености"]
[341160,"Друге промене у обиму природних богатстава"]
[341161,"Друге промене у обиму природних богатстава"]
[341170," Друге промене у обиму нематеријалних основних средстава"]
[341171,"Друге промене у обиму нематеријалних основних средстава"]
[341180,"Друге промене у обиму залиха"]
[341181,"Друге промене у обиму залиха"]
[350000,"ВАНБИЛАНСНА ЕВИДЕНЦИЈА"]
[351000,"ВАНБИЛАНСНА АКТИВА"]
[351100,"Ванбилансна актива"]
[351110,"Основна средства у закупу"]
[351111,"Основна средства у закупу"]
[351120,"Примљена туђа роба и материјал"]
[351121,"Примљена роба у јавном складишту"]
[351122,"Примљена роба у комисион"]
[351123,"Примљен материјал на обраду и дораду"]
[351130,"Хартије од вредности ван промета"]
[351131,"Хартије од вредности ван промета"]
[351140,"Авали и друге гаранције"]
[351141,"Авали и друге гаранције"]
[351150,"Остала ванбилансна актива"]
[351151,"Остала ванбилансна актива"]
[352000,"ВАНБИЛАНСНА ПАСИВА"]
[352100,"Ванбилансна пасива"]
[352110,"Обавезе за основна средства у закупу"]
[352111,"Обавезе за основна средства у закупу"]
[352120,"Обавезе за примљену туђу робу и материјал"]
[352121,"Обавезе за робу у јавном складишту"]
[352122,"Обавезе за робу у комисиону"]
[352123,"Обавезе за материјале примљене на обраду и дораду"]
[352130,"Обавезе за хартије од вредности ван промета"]
[352131,"Обавезе за хартије од вредности ван промета"]
[352140,"Обавезе за авале и остале гаранције"]
[352141,"Обавезе за авале и остале гаранције"]
[352150,"Остала ванбилансна пасива"]
[352151,"Остала ванбилансна пасива"]
[400000,"ТЕКУЋИ РАСХОДИ"]
[410000,"РАСХОДИ ЗА ЗАПОСЛЕНЕ"]
[411000,"ПЛАТЕ, ДОДАЦИ И НАКНАДЕ ЗАПОСЛЕНИХ (ЗАРАДЕ)"]
[411100,"Плате, додаци и накнаде запослених"]
[411110,"Плате, додаци и накнаде запослених"]
[411111,"Плате по основу цене рада"]
[411112,"Додатак за рад дужи од пуног радног времена"]
[411113,"Додатак за рад на дан државног и верског празника"]
[411114,"Додатак за рад ноћу"]
[411115,"Додатак за време проведено на раду (минули рад)"]
[411116,"Теренски додатак"]
[411117,"Накнада зараде за време привремене спречености за рад до 30 дана услед болести"]
[411118,"Накнада зараде за време одсуствовања са рада на дан празника који је нерадни дан, годишњег одмора, плаћеног одсуства, војне вежбе и одазивања на позив државног органа"]
[411119,"Остали додаци и накнаде запосленима"]
[411120,"Плате приправника"]
[411121,"Плате приправника које плаћа послодавац"]
[411122,"Плате приправника које плаћа Национална служба за запошљавање"]
[411130,"Плате привремено запослених"]
[411131,"Плате привремено запослених"]
[411140,"Плате по основу судских пресуда"]
[411141,"Плате по основу судских пресуда"]
[411150,"Накнада штете запослених"]
[411151,"Накнада штете запосленом за неискоришћени годишњи одмор"]
[411159,"Остале накнаде штете запосленом"]
[411190,"Остале исплате зарада за специјалне задатке или пројекте"]
[411191,"Остале исплате зарада за специјалне задатке или пројекте"]
[412000,"СОЦИЈАЛНИ ДОПРИНОСИ НА ТЕРЕТ ПОСЛОДАВЦА"]
[412100,"Допринос за пензијско и инвалидско осигурање"]
[412110,"Допринос за пензијско и инвалидско осигурање"]
[412111,"Допринос за пензијско и инвалидско осигурање"]
[412112,"Допринос за добровољно пензијско и инвалидско осигурање"]
[412113,"Допринос за пензијско и инвалидско осигурање - за радни стаж који се рачуна са увећаним доприносом"]
[412200,"Допринос за здравствено осигурање"]
[412210,"Допринос за здравствено осигурање"]
[412211,"Допринос за здравствено осигурање"]
[412221,"Допринос за добровољно здравствено осигурање"]
[412300,"Допринос за незапосленост"]
[412310,"Допринос за незапосленост"]
[412311,"Допринос за незапосленост"]
[413000,"НАКНАДЕ У НАТУРИ"]
[413100,"Накнаде у натури"]
[413110,"Накнаде у натури"]
[413111,"Оброци (храна)"]
[413112,"Пиће"]
[413119,"Остале накнаде у натури у смислу заштите здравља запослених"]
[413120,"Обезбеђивање стамбеног простора запосленима"]
[413121,"Обезбеђивање стамбеног простора запосленима"]
[413130,"Дуготрајна роба"]
[413131,"Возила за приватне и пословне потребе"]
[413139,"Остала дуготрајна роба"]
[413140,"Роба и услуге које обезбеђује послодавац"]
[413141,"Одмаралишта, спортски и рекреациони објекти"]
[413142,"Поклони за децу запослених"]
[413150,"Превоз на посао и са посла (маркица)"]
[413151,"Превоз на посао и са посла (маркица)"]
[413160,"Паркирање"]
[413161,"Паркирање"]
[413170,"Дечији вртић који плаћа послодавац"]
[413171,"Дечији вртић који плаћа послодавац"]
[413180,"Износ разлике између редовне и снижене каматне стопе код давања кредита запосленима"]
[413181,"Износ разлике између редовне и снижене каматне стопе код давања кредита запосленима"]
[414000,"СОЦИЈАЛНА ДАВАЊА ЗАПОСЛЕНИМА"]
[414100,"Исплата накнада за време одсуствовања с посла на терет фондова"]
[414110,"Породиљско боловање"]
[414111,"Породиљско боловање"]
[414120,"Боловање преко 30 дана"]
[414121,"Боловање преко 30 дана"]
[414130,"Инвалидност рада другог степена"]
[414131,"Инвалидност рада другог степена"]
[414200,"Расходи за образовање деце запослених"]
[414210,"Расходи за образовање деце запослених"]
[414211,"Расходи за образовање деце запослених"]
[414300,"Отпремнине и помоћи"]
[414310,"Отпремнине и помоћи"]
[414311,"Отпремнина приликом одласка у пензију"]
[414312,"Отпремнина у случају отпуштања с посла"]
[414314,"Помоћ у случају смрти запосленог или члана уже породице"]
[414400,"Помоћ у медицинском лечењу запосленог или чланова уже породице и друге помоћи запосленом"]
[414410,"Помоћ у медицинском лечењу запосленог или чланова уже породице и друге помоћи запосленом"]
[414411,"Помоћ у медицинском лечењу запосленог или члана уже породице"]
[414412,"Помоћ у случају оштећења или уништења имовине"]
[414419,"Остале помоћи запосленим радницима"]
[415000,"НАКНАДЕ ТРОШКОВА ЗА ЗАПОСЛЕНЕ"]
[415100,"Накнаде трошкова за запослене"]
[415110,"Накнаде трошкова за запослене"]
[415111,"Накнаде трошкова за одвојен живот од породице"]
[415112,"Накнаде трошкова за превоз на посао и са посла"]
[415113,"Накнаде трошкова за смештај изабраних, постављених и именованих лица"]
[415114,"Накнаде за селидбене трошкове запослених"]
[415119,"Остале накнаде трошкова запослених"]
[416000,"НАГРАДЕ ЗАПОСЛЕНИМА И ОСТАЛИ ПОСЕБНИ РАСХОДИ"]
[416100,"Награде запосленима и остали посебни расходи"]
[416110,"Награде запосленима"]
[416111,"Јубиларне награде"]
[416112,"Награде за посебне резултате рада"]
[416119,"Остале награде запосленима"]
[416120,"Бонуси"]
[416121,"Бонуси за државне празнике"]
[416130,"Накнаде члановима управних, надзорних одбора и комисија"]
[416131,"Накнаде члановима управних и надзорних одбора"]
[416132,"Накнаде члановима комисија"]
[417000,"ПОСЛАНИЧКИ ДОДАТАК"]
[417100,"Посланички додатак"]
[417110,"Посланички додатак"]
[417111,"Посланички додатак"]
[418000,"СУДИЈСКИ ДОДАТАК"]
[418100,"Судијски додатак"]
[418110,"Судијски додатак"]
[418111,"Судијски додатак"]
[420000,"КОРИШЋЕЊЕ УСЛУГА И РОБА"]
[421000,"СТАЛНИ ТРОШКОВИ"]
[421100,"Трошкови платног промета и банкарских услуга"]
[421110,"Трошкови платног промета"]
[421111,"Трошкови платног промета"]
[421120,"Трошкови банкарских услуга"]
[421121,"Трошкови банкарских услуга"]
[421200,"Енергетске услуге"]
[421210,"Услуге за електричну енергију"]
[421211,"Услуге за електричну енергију"]
[421220,"Трошкови грејања"]
[421221,"Природни гас"]
[421222,"Угаљ"]
[421223,"Дрво"]
[421224,"Лож-уље"]
[421225,"Централно грејање"]
[421300,"Комуналне услуге"]
[421310,"Услуге водовода и канализације"]
[421311,"Услуге водовода и канализације"]
[421320,"Услуге редовног одржавања и старања"]
[421321,"Дератизација"]
[421322,"Димњачарске услуге"]
[421323,"Услуга заштите имовине"]
[421324,"Одвоз отпада"]
[421325,"Услуге чишћења"]
[421390,"Остале комуналне услуге"]
[421391,"Допринос за коришћење градског земљишта и слично"]
[421392,"Допринос за коришћење вода"]
[421400,"Услуге комуникација"]
[421410,"Телефони"]
[421411,"Телефон, телекс и телефакс"]
[421412,"Интернет и слично"]
[421413,"Претплата на пејџер"]
[421414,"Услуге мобилног телефона"]
[421419,"Остале услуге комуникације"]
[421420,"Услуге поште и доставе"]
[421421,"Пошта"]
[421422,"Услуге доставе"]
[421429,"Остале ПТТ услуге"]
[421500,"Трошкови осигурања"]
[421510,"Осигурање имовине"]
[421511,"Осигурање зграда"]
[421512,"Осигурање возила"]
[421513,"Осигурање опреме"]
[421519,"Осигурање остале дугорочне имовине"]
[421520,"Осигурање запослених"]
[421521,"Осигурање запослених у случају несреће на раду"]
[421522,"Здравствено осигурање запослених"]
[421523,"Осигурање од одговорности према трећим лицима"]
[421600,"Закуп имовине и опреме"]
[421610,"Закуп имовине"]
[421611,"Закуп стамбеног простора"]
[421612,"Закуп нестамбеног простора"]
[421619,"Закуп осталог простора"]
[421620,"Закуп опреме"]
[421621,"Закуп опреме за саобраћај"]
[421622,"Закуп административне опреме"]
[421623,"Закуп опреме за пољопривреду"]
[421624,"Закуп опреме за очување животне средине и науку"]
[421625,"Закуп медицинске и лабораторијске опреме"]
[421626,"Закуп опреме за образовање, културу и спорт"]
[421627,"Закуп опреме за војску"]
[421628,"Закуп опреме за јавну безбедност"]
[421629,"Закуп опреме за производњу, моторна, непокретна и немоторна"]
[421900,"Остали трошкови"]
[421910,"Остали трошкови"]
[421911,"Радио - телевизијска претплата"]
[421919,"Остали непоменути трошкови"]
[422000,"ТРОШКОВИ ПУТОВАЊА"]
[422100,"Трошкови службених путовања у земљи"]
[422110,"Трошкови дневница (исхране) на службеном путу"]
[422111,"Трошкови дневница (исхране) на службеном путу"]
[422120,"Трошкови превоза на службеном путу у земљи (авион, аутобус, воз и сл.)"]
[422121,"Трошкови превоза на службеном путу у земљи (авион, аутобус, воз и сл.)"]
[422130,"Трошкови смештаја на службеном путу"]
[422131,"Трошкови смештаја на службеном путу"]
[422190,"Остале услуге службеног превоза"]
[422191,"Превоз у јавном саобраћају"]
[422192,"Такси превоз"]
[422193,"Превоз у граду по службеном послу"]
[422194,"Накнада за употребу сопственог возила"]
[422199,"Остали трошкови за пословна путовања у земљи"]
[422200,"Трошкови службених путовања у иностранство"]
[422210,"Трошкови дневница за службени пут у иностранство"]
[422211,"Трошкови дневница за службени пут у иностранство"]
[422220,"Трошкови превоза за службени пут у иностранство (авион, аутобус, воз и сл.)"]
[422221,"Трошкови превоза за службени пут у иностранство (авион, аутобус, воз и сл.)"]
[422230,"Трошкови смештаја на службеном путу у иностранство"]
[422231,"Трошкови смештаја на службеном путу у иностранство"]
[422290,"Остале услуге службеног превоза"]
[422291,"Услуге превоза у јавном саобраћају"]
[422292,"Такси превоз"]
[422293,"Накнада за употребу сопственог возила"]
[422299,"Остали трошкови за пословна путовања у иностранство"]
[422300,"Трошкови путовања у оквиру редовног рада"]
[422310,"Дневница (исхрана) за путовање у оквиру редовног рада"]
[422311,"Дневница (исхрана) за путовање у оквиру редовног рада"]
[422320,"Трошкови путовања у оквиру редовног рада (авион, аутобус, воз)"]
[422321,"Трошкови путовања у оквиру редовног рада (авион, аутобус, воз)"]
[422330,"Трошкови смештаја на путовању у оквиру редовног рада"]
[422331,"Трошкови смештаја на путовању у оквиру редовног рада"]
[422390,"Остале услуге путовања у оквиру редовног рада"]
[422391,"Превоз средствима јавног превоза"]
[422392,"Такси превоз"]
[422393,"Накнада за превоз у граду по службеном послу"]
[422394,"Накнада за коришћење сопственог аутомобила"]
[422399,"Остали трошкови превоза у оквиру редовног рада"]
[422400,"Трошкови путовања ученика"]
[422410,"Трошкови путовања ученика"]
[422411,"Превоз ученика"]
[422412,"Трошкови путовања ученика који учествују на републичким и међународним такмичењима"]
[422900,"Остали трошкови транспорта"]
[422910,"Остали трошкови транспорта"]
[422911,"Трошкови селидбе и превоза"]
[423000,"УСЛУГЕ ПО УГОВОРУ"]
[423100,"Административне услуге"]
[423110,"Услуге превођења"]
[423111,"Услуге превођења"]
[423120,"Секретарске услуге"]
[423121,"Секретарске услуге"]
[423130,"Рачуноводствене услуге"]
[423131,"Рачуноводствене услуге"]
[423190,"Остале административне услуге"]
[423191,"Остале административне услуге"]
[423200,"Компјутерске услуге"]
[423210,"Услуге за израду и одржавање софтвера"]
[423211,"Услуге за израду софтвера"]
[423212,"Услуге за одржавање софтвера"]
[423220,"Услуге одржавања рачунара"]
[423221,"Услуге одржавања рачунара"]
[423290,"Остале компјутерске услуге"]
[423291,"Остале компјутерске услуге"]
[423300,"Услуге образовања и усавршавања запослених"]
[423310,"Услуге образовања и усавршавања запослених"]
[423311,"Услуге образовања и усавршавања запослених"]
[423320,"Котизације"]
[423321,"Котизација за семинаре"]
[423322,"Котизација за стручна саветовања"]
[423323,"Котизација за учествовање на сајмовима"]
[423390,"Друге услуге образовања и усавршавања запослених"]
[423391,"Издаци за стручне испите"]
[423399,"Остали издаци за стручно образовање"]
[423400,"Услуге информисања"]
[423410,"Услуге штампања"]
[423411,"Услуге штампања билтена"]
[423412,"Услуге штампања часописа"]
[423413,"Услуге штампања публикација"]
[423419,"Остале услуге штампања"]
[423420,"Услуге информисања јавности и односа са јавношћу"]
[423421,"Услуге информисања јавности"]
[423422,"Односи са јавношћу"]
[423430,"Услуге рекламе и пропаганде"]
[423431,"Услуге рекламе и пропаганде"]
[423432,"Објављивање тендера и информативних огласа"]
[423439,"Остале услуге рекламе и пропаганде"]
[423440,"Медијске услуге"]
[423441,"Медијске услуге радија и телевизије"]
[423449,"Остале медијске услуге"]
[423500,"Стручне услуге"]
[423510,"Услуге ревизије"]
[423511,"Услуге ревизије"]
[423520,"Адвокатске услуге"]
[423521,"Правно заступање пред домаћим судовима"]
[423522,"Правно заступање пред међународним судовима"]
[423530,"Правне услуге"]
[423531,"Услуге вештачења"]
[423532,"Услуге поротника"]
[423539,"Остале правне услуге"]
[423540,"Финансијске услуге"]
[423541,"Услуге финансијских саветника"]
[423542,"Остале финансијске услуге"]
[423590,"Остале стручне услуге"]
[423591,"Накнаде члановима управних, надзорних одбора и комисија"]
[423599,"Остале стручне услуге"]
[423600,"Услуге за домаћинство и угоститељство"]
[423610,"Услуге за домаћинство"]
[423611,"Прање веша"]
[423612,"Хемијско чишћење"]
[423620,"Угоститељске услуге"]
[423621,"Угоститељске услуге"]
[423700,"Репрезентација"]
[423710,"Репрезентација"]
[423711,"Репрезентација"]
[423712,"Поклони"]
[423900,"Остале опште услуге"]
[423910,"Остале опште услуге"]
[423911,"Остале опште услуге"]
[424000,"СПЕЦИЈАЛИЗОВАНЕ УСЛУГЕ"]
[424100,"Пољопривредне услуге"]
[424110,"Услуге заштите животиња и биља"]
[424111,"Услуге ветеринарског прегледа и вакцинације"]
[424112,"Заштита биља"]
[424113,"Испитивање узорака земљишта и вештачког ђубрива"]
[424119,"Остале услуге заштите животиња и биља"]
[424200,"Услуге образовања, културе и спорта"]
[424210,"Услуге образовања"]
[424211,"Услуге образовања"]
[424212,"Образовање деце грађана који живе у иностранству"]
[424213,"Услуге предшколског образовања"]
[424220,"Услуге културе"]
[424221,"Услуге културе"]
[424230,"Услуге спорта"]
[424231,"Услуге спорта"]
[424300,"Медицинске услуге"]
[424310,"Здравствена заштита по уговору"]
[424311,"Здравствена заштита по уговору"]
[424320,"Здравствена заштита по конвенцији"]
[424321,"Здравствена заштита по конвенцији"]
[424330,"Услуге јавног здравства - инспекција и анализа"]
[424331,"Услуге јавног здравства - инспекција и анализа"]
[424340,"Лабораторијске услуге"]
[424341,"Лабораторијске услуге"]
[424350,"Остале медицинске услуге"]
[424351,"Остале медицинске услуге"]
[424400,"Услуге одржавања аутопутева"]
[424410,"Услуге одржавања аутопутева"]
[424411,"Услуге одржавања аутопутева"]
[424500,"Услуге одржавања националних паркова и природних површина"]
[424510,"Услуге одржавања националних паркова и природних површина"]
[424511,"Услуге одржавања националних паркова и природних површина"]
[424600,"Услуге очувања животне средине, науке и геодетске услуге"]
[424610,"Услуге очувања животне средине"]
[424611,"Услуге очувања животне средине"]
[424620,"Услуге науке"]
[424621,"Услуге науке"]
[424630,"Геодетске услуге"]
[424631,"Геодетске услуге"]
[424900,"Остале специјализоване услуге"]
[424910,"Остале специјализоване услуге"]
[424911,"Остале специјализоване услуге"]
[425000,"ТЕКУЋЕ ПОПРАВКЕ И ОДРЖАВАЊЕ"]
[425100,"Текуће поправке и одржавање зграда и објеката"]
[425110,"Текуће поправке и одржавање зграда"]
[425111,"Зидарски радови"]
[425112,"Столарски радови"]
[425113,"Молерски радови"]
[425114,"Радови на крову"]
[425115,"Радови на водоводу и канализацији"]
[425116,"Централно грејање"]
[425117,"Електричне инсталације"]
[425118,"Радови на комуникацијским инсталацијама"]
[425119,"Остале услуге и материјали за текуће поправке и одржавање зграда"]
[425190,"Текуће поправке и одржавање осталих објеката"]
[425191,"Текуће поправке и одржавање осталих објеката"]
[425200,"Текуће поправке и одржавање опреме"]
[425210,"Текуће поправке и одржавање опреме за саобраћај"]
[425211,"Механичке поправке"]
[425212,"Поправке електричне и електронске опреме"]
[425213,"Лимарски радови на возилима"]
[425219,"Остале поправке и одржавање опреме за саобраћај"]
[425220,"Текуће поправке и одржавање административне опреме"]
[425221,"Намештај"]
[425222,"Рачунарска опрема"]
[425223,"Опрема за комуникацију"]
[425224,"Електронска и фотографска опрема"]
[425225,"Опрема за домаћинство и угоститељство"]
[425226,"Биротехничка опрема"]
[425227,"Уградна опрема"]
[425229,"Остале поправке и одржавање административне опреме"]
[425230,"Текуће поправке и одржавање опреме за пољопривреду"]
[425231,"Текуће поправке и одржавање опреме за пољопривреду"]
[425240,"Текуће поправке и одржавање опреме за очување животне средине и науку"]
[425241,"Текуће поправке и одржавање опреме за очување животне средине"]
[425242,"Текуће поправке и одржавање опреме за науку"]
[425250,"Текуће поправке и одржавање медицинске и лабораторијске опреме"]
[425251,"Текуће поправке и одржавање медицинске опреме"]
[425252,"Текуће поправке и одржавање лабораторијске опреме"]
[425253,"Текуће поправке и одржавање мерних и контролних инструмената"]
[425260,"Текуће поправке и одржавање опреме за образовање, културу и спорт"]
[425261,"Текуће поправке и одржавање опреме за образовање"]
[425262,"Текуће поправке и одржавање опреме за културу"]
[425263,"Текуће поправке и одржавање опреме за спорт"]
[425270,"Текуће поправке и одржавање опреме за војску"]
[425271,"Текуће поправке и одржавање опреме за војску"]
[425280,"Текуће поправке и одржавање опреме за јавну безбедност"]
[425281,"Текуће поправке и одржавање опреме за јавну безбедност"]
[425290,"Текуће поправке и одржавање производне, моторне, непокретне и немоторне опреме"]
[425291,"Текуће поправке и одржавање производне, моторне, непокретне и немоторне опреме"]
[426000,"МАТЕРИЈАЛ"]
[426100,"Административни материјал"]
[426110,"Канцеларијски материјал"]
[426111,"Канцеларијски материјал"]
[426120,"Одећа, обућа и униформе"]
[426121,"Расходи за радну униформу"]
[426122,"Службена одећа"]
[426123,"Униформе"]
[426124,"ХТЗ опрема"]
[426129,"Остали расходи за одећу, обућу и униформе"]
[426130,"Биодекорација"]
[426131,"Цвеће и зеленило"]
[426190,"Остали административни материјал"]
[426191,"Остали административни материјал"]
[426200,"Материјали за пољопривреду"]
[426210,"Храна за животиње"]
[426211,"Храна за животиње"]
[426220,"Стока за експерименте"]
[426221,"Стока за експерименте"]
[426230,"Природна и вештачка ђубрива и слично"]
[426231,"Природна и вештачка ђубрива и слично"]
[426240,"Семе"]
[426241,"Семе"]
[426250,"Биљке"]
[426251,"Биљке"]
[426290,"Остали материјал за пољопривреду"]
[426291,"Остали материјал за пољопривреду"]
[426300,"Материјали за образовање и усавршавање запослених"]
[426310,"Публикације, часописи и гласила"]
[426311,"Стручна литература за редовне потребе запослених"]
[426312,"Стручна литература за образовање запослених"]
[426320,"Материјали за образовање"]
[426321,"Материјали за образовање"]
[426400,"Материјали за саобраћај"]
[426410,"Издаци за гориво"]
[426411,"Бензин"]
[426412,"Дизел гориво"]
[426413,"Уља и мазива"]
[426490,"Остали материјал за превозна средства"]
[426491,"Остали материјал за превозна средства"]
[426500,"Материјали за очување животне средине и науку"]
[426510,"Материјали за метеоролошка мерења"]
[426511,"Материјали за метеоролошка мерења"]
[426520,"Материјали за истраживање и развој"]
[426521,"Материјали за истраживање и развој"]
[426530,"Материјали за тестирање ваздуха"]
[426531,"Материјали за тестирање ваздуха"]
[426540,"Материјали за тестирање воде"]
[426541,"Материјали за тестирање воде"]
[426550,"Материјали за тестирање тла"]
[426551,"Материјали за тестирање тла"]
[426590,"Остали материјали за очување животне средине и науку"]
[426591,"Остали материјали за очување животне средине и науку"]
[426600,"Материјали за образовање, културу и спорт"]
[426610,"Материјали за образовање"]
[426611,"Материјали за образовање"]
[426620,"Материјали за културу"]
[426621,"Материјали за културу"]
[426630,"Материјали за спорт"]
[426631,"Материјали за спорт"]
[426700,"Медицински и лабораторијски материјали"]
[426710,"Материјали за медицинске тестове"]
[426711,"Материјали за медицинске тестове"]
[426720,"Материјали за лабораторијске тестове"]
[426721,"Материјали за лабораторијске тестове"]
[426730,"Материјали за вакцинацију"]
[426731,"Материјали за вакцинацију"]
[426740,"Материјали за имунизацију"]
[426741,"Материјали за имунизацију"]
[426750,"Лекови на рецепт"]
[426751,"Лекови на рецепт"]
[426760,"Ортопедски материјали"]
[426761,"Ортопедски материјали"]
[426790,"Остали медицински и лабораторијски материјали"]
[426791,"Остали медицински и лабораторијски материјали"]
[426800,"Материјали за одржавање хигијене и угоститељство"]
[426810,"Материјали за одржавање хигијене"]
[426811,"Хемијска средства за чишћење"]
[426812,"Инвентар за одржавање хигијене"]
[426819,"Остали материјал за одржавање хигијене"]
[426820,"Материјали за угоститељство"]
[426821,"Храна"]
[426822,"Пића"]
[426823,"Намирнице за припремање хране"]
[426829,"Остали материјали за угоститељство"]
[426900,"Материјали за посебне намене"]
[426910,"Материјали за посебне намене"]
[426911,"Потрошни материјал"]
[426912,"Резервни делови"]
[426913,"Алат и инвентар"]
[426914,"Со за путеве"]
[426919,"Остали материјали за посебне намене"]
[430000,"АМОРТИЗАЦИЈА И УПОТРЕБА СРЕДСТАВА ЗА РАД"]
[431000,"АМОРТИЗАЦИЈА НЕКРЕТНИНА И ОПРЕМЕ"]
[431100,"Амортизација зграда и грађевинских објеката"]
[431110,"Амортизација зграда и грађевинских објеката"]
[431111,"Амортизација зграда и грађевинских објеката"]
[431200,"Амортизација опреме"]
[431210,"Амортизација опреме"]
[431211,"Амортизација опреме"]
[431300,"Амортизација осталих некретнина и опреме"]
[431310,"Амортизација осталих некретнина и опреме"]
[431311,"Амортизација осталих некретнина и опреме"]
[432000,"АМОРТИЗАЦИЈА КУЛТИВИСАНЕ ИМОВИНЕ"]
[432100,"Амортизација култивисане имовине"]
[432110,"Амортизација култивисане имовине"]
[432111,"Амортизација култивисане имовине"]
[433000,"УПОТРЕБА ДРАГОЦЕНОСТИ"]
[433100,"Употреба драгоцености"]
[433110,"Употреба драгоцености"]
[433111,"Употреба драгоцености"]
[434000,"УПОТРЕБА ПРИРОДНЕ ИМОВИНЕ"]
[434100,"Употреба земљишта"]
[434110,"Употреба земљишта"]
[434111,"Употреба земљишта"]
[434200,"Употреба подземног блага"]
[434210,"Употреба подземног блага"]
[434211,"Употреба подземног блага"]
[434300,"Употреба шума и вода"]
[434310,"Употреба шума"]
[434311,"Употреба шума"]
[434320,"Употреба вода"]
[434321,"Употреба вода"]
[435000,"АМОРТИЗАЦИЈА НЕМАТЕРИЈАЛНЕ ИМОВИНЕ"]
[435100,"Амортизација нематеријалне имовине"]
[435110,"Амортизација нематеријалне имовине"]
[435111,"Амортизација нематеријалне имовине"]
[440000,"ОТПЛАТА КАМАТА И ПРАТЕЋИ ТРОШКОВИ ЗАДУЖИВАЊА"]
[441000,"ОТПЛАТА ДОМАЋИХ КАМАТА"]
[441100,"Отплата камата на домаће хартије од вредности"]
[441110,"Отплата камата на домаће краткорочне хартије од вредности"]
[441111,"Отплата камата на домаће краткорочне хартије од вредности"]
[441120,"Отплата камата на домаће дугорочне хартије од вредности"]
[441121,"Отплата камата на домаће дугорочне хартије од вредности"]
[441200,"Отплата камата осталим нивоима власти"]
[441210,"Отплата камата нивоу Републике"]
[441211,"Отплата камата нивоу Републике"]
[441220,"Отплате камата нивоу територијалних аутономија"]
[441221,"Отплате камата нивоу територијалних аутономија"]
[441230,"Отплата камата нивоу градова"]
[441231,"Отплата камата нивоу градова"]
[441240,"Отплата камата нивоу општина"]
[441241,"Отплата камата нивоу општина"]
[441250,"Отплата камата организацијама за обавезно социјално осигурање"]
[441251,"Отплата камата Републичком фонда за здравствено осигурање"]
[441252,"Отплата камата Републичком фонду за ПИО"]
[441255,"Отплата камата Националној служби за запошљавање"]
[441256,"Отплата камата Фонду за социјално осигурање војних осигураника"]
[441300,"Отплата камата домаћим јавним финансијским институцијама"]
[441310,"Отплата камата НБС"]
[441311,"Отплата камата НБС"]
[441390,"Отплата камата осталим домаћим јавним финансијским институцијама"]
[441391,"Отплата камата осталим домаћим јавним финансијским институцијама"]
[441400,"Отплата камата домаћим пословним банкама"]
[441410,"Отплата камата домаћим пословним банкама"]
[441411,"Отплата камата домаћим пословним банкама"]
[441500,"Отплата камата осталим домаћим кредиторима"]
[441510,"Отплата камата осталим домаћим кредиторима"]
[441511,"Отплата камата осталим домаћим кредиторима"]
[441600,"Отплата камата домаћинствима у земљи"]
[441610,"Отплата камата домаћинствима у земљи"]
[441611,"Отплата камата домаћинствима у земљи"]
[441700,"Отплата камата на домаће финансијске деривате"]
[441710,"Отплата камата на домаће финансијске деривате"]
[441711,"Отплата камата на домаће финансијске деривате"]
[441800,"Отплата камата на домаће менице"]
[441810,"Отплата камата на домаће менице"]
[441811,"Отплата камата на домаће менице"]
[441900,"Финансијске промене на финансијским лизинзима"]
[441910,"Финансијске промене на финансијским лизинзима"]
[441911,"Камате на куповине путем лизинга"]
[442000,"ОТПЛАТА СТРАНИХ КАМАТА"]
[442100,"Отплата камата на хартије од вредности емитоване на иностраном финансијском тржишту"]
[442110,"Отплата камата на краткорочне хартије од вредности емитоване на иностраном финансијском тржишту"]
[442111,"Отплата камата на краткорочне хартије од вредности емитоване на иностраном финансијском тржишту"]
[442120,"Отплата камата на дугорочне хартије од вредности емитоване на иностраном финансијском тржишту"]
[442121,"Отплата камата на дугорочне хартије од вредности емитоване на иностраном тржишту"]
[442200,"Отплата камата страним владама"]
[442210,"Отплата камата Париском клубу"]
[442211,"Отплата камата Париском клубу"]
[442220,"Отплата камата страним увозно извозним банкама"]
[442221,"Отплата камата страним увозно извозним банкама"]
[442290,"Отплата камата осталим страним владама"]
[442291,"Отплата камата осталим страним владама"]
[442300,"Отплата камата мултилатералним институцијама"]
[442310,"Отплата камата Светској банци"]
[442311,"Отплата камата Светској банци"]
[442320,"Отплата камата IBRD"]
[442321,"Отплата камата IBRD"]
[442330,"Отплата камата EBRD"]
[442331,"Отплата камата EBRD"]
[442340,"Отплата камата EIB"]
[442341,"Отплата камата EIB"]
[442350,"Отплата камата CEB"]
[442351,"Отплата камата CEB"]
[442390,"Отплата камата осталим мултилатералним институцијама"]
[442391,"Отплата камата осталим мултилатералним институцијама"]
[442400,"Отплата камата страним пословним банкама"]
[442410,"Отплата камата Лондонском клубу"]
[442411,"Отплата камата Лондонском клубу"]
[442490,"Отплата камата осталим страним пословним банкама"]
[442491,"Отплата камата осталим страним пословним банкама"]
[442500,"Отплата камата осталим страним кредиторима"]
[442510,"Отплата камата осталим страним кредиторима"]
[442511,"Отплата камата осталим страним кредиторима"]
[442600,"Отплата камата на стране финансијске деривате"]
[442610,"Отплата камата на стране финансијске деривате"]
[442611,"Отплата камата на стране финансијске деривате"]
[443000,"ОТПЛАТА КАМАТА ПО ГАРАНЦИЈАМА"]
[443100,"Отплата камата по гаранцијама"]
[443110,"Отплата камата по гаранцијама"]
[443111,"Отплата камата по гаранцијама"]
[444000,"ПРАТЕЋИ ТРОШКОВИ ЗАДУЖИВАЊА"]
[444100,"Негативне курсне разлике"]
[444110,"Негативне курсне разлике"]
[444111,"Негативне курсне разлике"]
[444200,"Казне за кашњење"]
[444210,"Казне за кашњење"]
[444211,"Казне за кашњење"]
[444212,"Казне по решењу правосудних органа"]
[444219,"Остале казне"]
[444300,"Остали пратећи трошкови задуживања"]
[444310,"Таксе које проистичу из задуживања"]
[444311,"Таксе које проистичу из задуживања"]
[444320,"Трошкови накнада за неповучена средства"]
[444321,"Трошкови накнада за неповучена средства Светској банци"]
[444322,"Трошкови накнада за неповучена средства Међународној банци за обнову и развој (IBRD)"]
[444323,"Трошкови накнада за неповучена средства Европској банци за обнову и развој (EBRD)"]
[444324,"Трошкови накнада за неповучена средства Европској инвестиционој банци (EIB)"]
[444325,"Трошкови накнада за неповучена средства Развојној банци Савета Европе (CEB)"]
[444326,"Трошкови накнада за неповучена средства Немачкој развојној банци (KfW)"]
[444327,"Трошкови накнада за неповучена средства Извозно-увозној банци Кине (Export-Import Bank of China)"]
[444328,"Трошкови накнада за неповучена средства осталим билатералним институцијама"]
[444329,"Трошкови накнада за неповучена средства осталим мултилатералним институцијама"]
[444330,"Трошкови процене кредитног рејтинга"]
[444331,"Трошкови процене кредитног рејтинга Републике Србије"]
[444332,"Трошкови процене кредитног рејтинга хартија од вредности Републике Србије емитованих на међународном финансијском тржишту"]
[444339,"Остали трошкови процене кредитног рејтинга"]
[444340,"Трошкови правних услуга"]
[444341,"Трошкови правних услуга за емисије хартија од вредности Републике Србије на међународном финансијском тржишту"]
[444342,"Трошкови правних услуга за трансакције са финансијским дериватима"]
[444349,"Остали трошкови правних услуга"]
[444390,"Остали пратећи трошкови задуживања"]
[444391,"Остали пратећи трошкови задуживања"]
[450000,"СУБВЕНЦИЈЕ"]
[451000,"СУБВЕНЦИЈЕ ЈАВНИМ НЕФИНАНСИЈСКИМ ПРЕДУЗЕЋИМА И ОРГАНИЗАЦИЈАМА"]
[451100,"Текуће субвенције јавним нефинансијским предузећима и организацијама"]
[451110,"Текуће субвенције јавном градском саобраћају"]
[451111,"Текуће субвенције јавном градском саобраћају"]
[451120,"Текуће субвенције јавном железничком саобраћају"]
[451121,"Текуће субвенције јавном железничком саобраћају за исплату зарада"]
[451122,"Текуће субвенције јавном железничком саобраћају за отплату камата"]
[451129,"Остале текуће субвенције јавном железничком саобраћају"]
[451130,"Текуће субвенције за водопривреду"]
[451131,"Текуће субвенције за водопривреду"]
[451140,"Текуће субвенције за пољопривреду"]
[451141,"Текуће субвенције за пољопривреду"]
[451190,"Текуће субвенције осталим јавним нефинансијским предузећима и организацијама"]
[451191,"Текуће субвенције осталим јавним нефинансијским предузећима и организацијама"]
[451200,"Капиталне субвенције јавним нефинансијским предузећима и организацијама"]
[451210,"Капиталне субвенције јавном градском саобраћају"]
[451211,"Капиталне субвенције јавном градском саобраћају"]
[451220,"Капиталне субвенције јавном железничком саобраћају"]
[451221,"Капиталне субвенције јавном железничком саобраћају"]
[451230,"Капиталне субвенције за водопривреду"]
[451231,"Капиталне субвенције за водопривреду"]
[451240,"Капиталне субвенције за пољопривреду"]
[451241,"Капиталне субвенције за пољопривреду"]
[451290,"Капиталне субвенције осталим јавним нефинансијским предузећима и организацијама"]
[451291,"Капиталне субвенције осталим јавним нефинансијским предузећима и организацијама"]
[452000,"СУБВЕНЦИЈЕ ПРИВАТНИМ ФИНАНСИЈСКИМ ИНСТИТУЦИЈАМА"]
[452100,"Текуће субвенције приватним финансијским институцијама"]
[452110,"Текуће субвенције пословним и трговачким банкама"]
[452111,"Текуће субвенције пословним и трговачким банкама"]
[452190,"Текуће субвенције осталим финансијским институцијама"]
[452191,"Текуће субвенције осталим финансијским институцијама"]
[452200,"Капиталне субвенције приватним финансијским институцијама"]
[452210,"Капиталне субвенције пословним и трговачким банкама"]
[452211,"Капиталне субвенције пословним и трговачким банкама"]
[452290,"Капиталне субвенције осталим финансијским институцијама"]
[452291,"Капиталне субвенције осталим финансијским институцијама"]
[453000,"СУБВЕНЦИЈЕ ЈАВНИМ ФИНАНСИЈСКИМ ИНСТИТУЦИЈАМА"]
[453100,"Текуће субвенције јавним финансијским институцијама"]
[453110,"Текуће субвенције НБС"]
[453111,"Текуће субвенције НБС"]
[453190,"Текуће субвенције осталим јавним финансијским институцијама"]
[453191,"Текуће субвенције осталим јавним финансијским институцијама"]
[453200,"Капиталне субвенције јавним финансијским институцијама"]
[453210,"Капиталне субвенције НБС"]
[453211,"Капиталне субвенције НБС"]
[453290,"Капиталне субвенције осталим јавним финансијским институцијама"]
[453291,"Капиталне субвенције осталим јавним финансијским институцијама"]
[454000,"СУБВЕНЦИЈЕ ПРИВАТНИМ ПРЕДУЗЕЋИМА"]
[454100,"Текуће субвенције приватним предузећима"]
[454110,"Текуће субвенције приватним предузећима"]
[454111,"Текуће субвенције приватним предузећима"]
[454200,"Капиталне субвенције приватним предузећима"]
[454210,"Капиталне субвенције приватним предузећима"]
[454211,"Капиталне субвенције приватним предузећима"]
[460000,"ДОНАЦИЈЕ, ДОТАЦИЈЕ И ТРАНСФЕРИ"]
[461000,"ДОНАЦИЈЕ СТРАНИМ ВЛАДАМА"]
[461100,"Текуће донације страним владама"]
[461110,"Текуће донације страним владама"]
[461111,"Текуће донације страним владама"]
[461200,"Капиталне донације страним владама"]
[461210,"Капиталне донације страним владама"]
[461211,"Капиталне донације страним владама"]
[462000,"ДОТАЦИЈЕ МЕЂУНАРОДНИМ ОРГАНИЗАЦИЈАМА"]
[462100,"Текуће дотације међународним организацијама"]
[462110,"Текуће дотације међународном Црвеном крсту"]
[462111,"Текуће дотације међународном Црвеном крсту"]
[462120,"Текуће дотације за међународне чланарине"]
[462121,"Текуће дотације за међународне чланарине"]
[462190,"Остале текуће дотације међународним организацијама"]
[462191,"Остале текуће дотације међународним организацијама"]
[462200,"Капиталне дотације међународним организацијама"]
[462210,"Капиталне дотације међународном Црвеном крсту"]
[462211,"Капиталне дотације међународном Црвеном крсту"]
[462290,"Остале капиталне дотације међународним организацијама"]
[462291,"Остале капиталне дотације међународним организацијама"]
[463000,"ТРАНСФЕРИ ОСТАЛИМ НИВОИМА ВЛАСТИ"]
[463100,"Текући трансфери осталим нивоима власти"]
[463110,"Текући трансфери нивоу Републике"]
[463111,"Текући трансфери нивоу Републике"]
[463120,"Текући трансфери нивоу територијалних аутономија"]
[463121,"Текући трансфери за АП Војводина"]
[463122,"Текући трансфери за југ Србије и АП Косово и Метохија"]
[463130,"Текући трансфери нивоу градова"]
[463131,"Текући трансфери нивоу градова"]
[463132,"Наменски трансфери нивоу градова"]
[463133,"Ненаменски трансфери нивоу градова"]
[463140,"Текући трансфери нивоу општина"]
[463141,"Текући трансфери нивоу општина"]
[463142,"Наменски трансфери нивоу општина"]
[463143,"Ненаменски трансфери нивоу општина"]
[463200,"Капитални трансфери осталим нивоима власти"]
[463210,"Капитални трансфери нивоу Републике"]
[463211,"Капитални трансфери нивоу Републике"]
[463220,"Капитални трансфери нивоу територијалних аутономија"]
[463221,"Капитални трансфери за АП Војводина"]
[463222,"Капитални трансфери за југ Србије и Косово и Метохију"]
[463230,"Капитални трансфери нивоу градова"]
[463231,"Капитални трансфери нивоу градова"]
[463240,"Капитални трансфери нивоу општина"]
[463241,"Капитални трансфери нивоу општина"]
[464000,"ДОТАЦИЈЕ ОРГАНИЗАЦИЈАМА ЗА ОБАВЕЗНО СОЦИЈАЛНО ОСИГУРАЊЕ"]
[464100,"Текуће дотације организацијама за обавезно социјално осигурање"]
[464110,"Текуће дотације Републичком фонду за здравствено осигурање"]
[464111,"Текуће дотације Републичком фонду за здравствено осигурање"]
[464112,"Текуће дотације здравственим установама за инвестиције и инвестиционо одржавање"]
[464113,"Текуће дотације здравственим установама за набавку медицинске и друге опреме"]
[464120,"Текуће дотације Републичком фонду за ПИО запослених"]
[464121,"Текуће дотације Републичком фонду за ПИО осигураника запослених"]
[464130,"Текуће дотације Републичком фонду за ПИО пољопривредника"]
[464131,"Текуће дотације Републичком фонду за ПИО осигураника пољопривредника"]
[464140,"Текуће дотације Републичком фонду за ПИО самосталних делатности"]
[464141,"Текуће дотације Републичком фонду за ПИО осигураника самосталних делатности"]
[464150,"Текуће дотације Националној служби за запошљавање"]
[464151,"Текуће дотације Националној служби за запошљавање"]
[464160,"Текуће дотације Фонду за социјално осигурање војних осигураника"]
[464161,"Текуће дотације Фонду за социјално осигурање војних осигураника"]
[464200,"Капиталне дотације организацијама за обавезно социјално осигурање"]
[464210,"Капиталне дотације Републичком фонду за здравствено осигурање"]
[464211,"Капиталне дотације Републичком фонду за здравствено осигурање"]
[464212,"Капиталне дотације здравственим установама за инвестиције и инвестиционо одржавање"]
[464213,"Капиталне дотације здравственим установама за набавку медицинске и друге опреме"]
[464220,"Капиталне дотације Републичком фонду за ПИО"]
[464221,"Капиталне дотације Републичком фонду за ПИО"]
[464250,"Капиталне дотације Националној служби за запошљавање"]
[464251,"Капиталне дотације Националној служби за запошљавање"]
[464260,"Капиталне дотације Фонду за социјално осигурање војних осигураника"]
[464261,"Капиталне дотације Фонду за социјално осигурање војних осигураника"]
[465000,"ОСТАЛЕ ДОТАЦИЈЕ И ТРАНСФЕРИ"]
[465100,"Остале текуће дотације и трансфери"]
[465110,"Остале текуће дотације и трансфери"]
[465111,"Остале текуће дотације и трансфери"]
[465112,"Остале текуће дотације по закону"]
[465200,"Остале капиталне дотације и трансфери"]
[465210,"Остале капиталне дотације и трансфери"]
[465211,"Остале капиталне дотације и трансфери"]
[470000,"СОЦИЈАЛНО ОСИГУРАЊЕ И СОЦИЈАЛНА ЗАШТИТА"]
[471000,"ПРАВА ИЗ СОЦИЈАЛНОГ ОСИГУРАЊА (ОРГАНИЗАЦИЈЕ ЗА ОБАВЕЗНО СОЦИЈАЛНО ОСИГУРАЊЕ)"]
[471100,"Права из социјалног осигурања која се исплаћују непосредно домаћинствима"]
[471110,"Накнаде зарада осигураницима услед привремене неспособности за рад"]
[471111,"Накнаде зарада у току привремене неспособности за рад проузроковане повредом на раду или професионалном болешћу"]
[471112,"Накнаде зарада у току привремене неспособности за рад проузроковане болешћу"]
[471113,"Накнаде зарада у току привремене неспособности за рад услед карантина, неге и сл."]
[471114,"Накнаде за продужену негу детета у складу са Законом"]
[471120,"Права из пензијског осигурања"]
[471121,"Основне пензије"]
[471122,"Пензије по уредби"]
[471123,"Иностране пензије"]
[471124,"Нега и помоћ пензионера"]
[471125,"Телесно оштећење пензионера"]
[471129,"Остала права из пензијског осигурања у складу са законом"]
[471130,"Накнаде из инвалидског осигурања"]
[471131,"Накнада за скраћено радно време за инвалиде II категорије"]
[471132,"Накнада за инвалиде I и II категорије"]
[471133,"Збирна накнада за инвалиде II категорије"]
[471134,"Привремена накнада зараде од дана настајања инвалидности до запошљавања на друго одговарајуће радно место"]
[471135,"Накнаде за телесно оштећење"]
[471136,"Накнаде за инвалиде III категорије"]
[471137,"Нега и помоћ осигураника"]
[471139,"Накнаде за друго одговарајуће радно место - остала права из инвалидског осигурања"]
[471140,"Исплате Националне службе за запошљавање"]
[471141,"Накнаде за случај незапослености"]
[471142,"Накнаде зарада"]
[471143,"Средства за обуку и едукацију"]
[471144,"Једнократна помоћ"]
[471149,"Остале исплате Националне службе за запошљавање директно домаћинствима"]
[471190,"Остала социјална давања непосредно домаћинствима"]
[471191,"Исплате дневница и путних трошкова за путовања у земљи"]
[471192,"Исплате дневница и путних трошкова за путовања у иностранство"]
[471193,"Погребни трошкови"]
[471194,"Накнаде за становање"]
[471195,"Услуге рехабилитације и рекреације"]
[471199,"Остала права исплаћена непосредно домаћинствима"]
[471200,"Права из социјалног осигурања која се исплаћују непосредно пружаоцима услуга"]
[471210,"Трошкови здравствене заштите у земљи плаћени непосредно пружаоцима услуга"]
[471211,"Услуге болница, поликлиника и амбуланти"]
[471212,"Услуге дијализе"]
[471213,"Фармацеутске услуге и материјали"]
[471214,"Стоматолошке услуге"]
[471215,"Болничке услуге"]
[471216,"Помагала и направе"]
[471217,"Услуге које пружају установе социјалне заштите"]
[471219,"Остале услуге здравствене заштите у земљи"]
[471220,"Услуге здравствене заштите у иностранству плаћене непосредно пружаоцима услуга"]
[471221,"Здравствена заштита по конвенцији"]
[471222,"Здравствена заштита по принципу реципроцитета"]
[471223,"Здравствена заштита осигураника који живе у иностранству"]
[471224,"Трошкови слања осигураних лица на лечење у иностранство"]
[471229,"Остали трошкови здравствене заштите у иностранству"]
[471230,"Брига о пензионисаним лицима"]
[471231,"Трошкови смештаја пензионера у домове за старе"]
[471232,"Трошкови дневног смештаја, помоћи у кући и заштићеног становања"]
[471240,"Брига о инвалидима"]
[471241,"Трошкови смештаја деце инвалида"]
[471242,"Трошкови образовања деце инвалида"]
[471243,"Трошкови за заштитне радионице"]
[471250,"Исплате послодавцима које врши Национална служба за запошљавање за запошљавање лица са евиденције"]
[471251,"Учешће у финансирању зарада лица са евиденција која запошљавају фирме"]
[471252,"Једнократна помоћ фирмама које запошљавају лица са евиденција"]
[471253,"Средства за целокупни износ зарада фирмама које запошљавају лица са евиденције"]
[471260,"Услуге обуке преко Националне службе за запошљавање"]
[471261,"Опште услуге обуке"]
[471262,"Услуге преквалификације"]
[471263,"Специјализована обука"]
[471290,"Остала права која се плаћају директно пружаоцима услуга"]
[471291,"Услуге хитне помоћи"]
[471292,"Услуге рехабилитације и рекреације"]
[471299,"Остала права из социјалног осигурања која се исплаћују непосредно пружаоцима услуга"]
[471900,"Трансфери другим организацијама за обавезно социјално осигурање за доприносе за осигурање"]
[471910,"Трансфери Републичком фонду за здравствено осигурање за доприносе за осигурање"]
[471911,"Трансфери Републичком фонду за здравствено осигурање за доприносе за осигурање"]
[471912,"Трансфери за здравствено осигурање инвалида II и III категорије"]
[471913,"Трансфери Републичком фонду за здравствено осигурање за накнаде зарада од дана инвалидности до дана правоснажности решења"]
[471914,"Трансфери Републичком фонду за здравствено осигурање за доприносе за осигурање незапослених лица"]
[471915,"Трансфери Републичком фонду за здравствено осигурање за доприносе за осигурање незапослених лица - продужено осигурање"]
[471920,"Трансфери Републичком фонду за ПИО осигураника запослених за доприносе за осигурање"]
[471921,"Трансфери Републичком фонду за ПИО осигураника запослених за доприносе за осигурање"]
[471922,"Трансфери Републичком фонду за ПИО осигураника запослених за доприносе за осигурање незапослених"]
[471923,"Трансфери Републичком фонду за ПИО осигураника запослених за доприносе за осигурање незапослених - продужено осигурање"]
[471930,"Трансфери Републичком фонду за ПИО осигураника пољопривредника за доприносе за осигурање"]
[471931,"Трансфери Републичком фонду за ПИО осигураника пољопривредника за доприносе за осигурање"]
[471940,"Трансфери Републичком фонду за ПИО осигураника самосталних делатности за доприносе за осигурање"]
[471941,"Трансфери Републичком фонду за ПИО осигураника самосталних делатности за доприносе за осигурање"]
[471942,"Трансфери Републичком фонду за ПИО осигураника самосталних делатности за доприносе за осигурање незапослених"]
[471943,"Трансфери Републичком фонду за ПИО осигураника самосталних делатности за доприносе за осигурање незапослених - продужено осигурање"]
[471950,"Трансфери Националној служби за запошљавање за доприносе за осигурање"]
[471951,"Трансфери Националној служби за запошљавање за доприносе за осигурање"]
[471960,"Трансфери Фонду за социјално осигурање војних осигураника за доприносе за осигурање"]
[471961,"Трансфери Фонду за социјално осигурање војних осигураника за доприносе за осигурање"]
[472000,"НАКНАДЕ ЗА СОЦИЈАЛНУ ЗАШТИТУ ИЗ БУЏЕТА"]
[472100,"Накнаде из буџета у случају болести и инвалидности"]
[472110,"Накнаде за боловање"]
[472111,"Накнаде за боловање"]
[472120,"Накнаде за инвалидност"]
[472121,"Накнаде за инвалидност"]
[472130,"Накнаде ратним инвалидима"]
[472131,"Накнаде ратним војним инвалидима"]
[472132,"Накнаде ратним цивилним инвалидима"]
[472200,"Накнаде из буџета за породиљско одсуство"]
[472210,"Накнаде из буџета за породиљско одсуство"]
[472211,"Накнаде из буџета за породиљско одсуство"]
[472300,"Накнаде из буџета за децу и породицу"]
[472310,"Накнаде из буџета за децу и породицу"]
[472311,"Накнаде из буџета за децу и породицу"]
[472400,"Накнаде из буџета за случај незапослености"]
[472410,"Накнаде из буџета за случај незапослености"]
[472411,"Накнаде из буџета за случај незапослености"]
[472500,"Старосне и породичне пензије из буџета"]
[472510,"Старосне пензије"]
[472511,"Старосне пензије"]
[472520,"Породичне пензије"]
[472521,"Породичне пензије"]
[472600,"Накнаде из буџета у случају смрти"]
[472610,"Накнаде из буџета у случају смрти"]
[472611,"Накнаде из буџета у случају смрти"]
[472700,"Накнаде из буџета за образовање, културу, науку и спорт"]
[472710,"Накнаде из буџета за образовање"]
[472711,"Академске награде"]
[472712,"Студентске награде"]
[472713,"Ученичке награде"]
[472714,"Студентске стипендије"]
[472715,"Ученичке стипендије"]
[472716,"Исхрана и смештај студената"]
[472717,"Исхрана и смештај ученика"]
[472718,"Превоз ученика"]
[472719,"Остале накнаде за образовање"]
[472720,"Накнаде из буџета за културу"]
[472721,"Накнаде из буџета за културу"]
[472730,"Накнаде из буџета за спорт"]
[472731,"Спортске награде"]
[472732,"Спортске стипендије"]
[472740,"Накнаде из буџета за науку"]
[472741,"Накнаде из буџета за науку"]
[472742,"Накнаде за образовање и усавршавање научноистраживачких кадрова"]
[472800,"Накнаде из буџета за становање и живот"]
[472810,"Накнаде из буџета за становање и живот"]
[472811,"Накнаде из буџета за становање и живот"]
[472900,"Остале накнаде из буџета"]
[472910,"Исплате бившим политичким затвореницима"]
[472911,"Исплате бившим политичким затвореницима"]
[472920,"Исплате лицима лишених слободе"]
[472921,"Исплате осуђеницима"]
[472922,"Накнада трошкова на име остваривања права лица лишених слободе"]
[472930,"Једнократна помоћ"]
[472931,"Једнократна помоћ"]
[480000,"ОСТАЛИ РАСХОДИ"]
[481000,"ДОТАЦИЈЕ НЕВЛАДИНИМ ОРГАНИЗАЦИЈАМА"]
[481100,"Дотације непрофитним организацијама које пружају помоћ домаћинствима"]
[481110,"Дотације непрофитним организацијама које пружају помоћ домаћинствима"]
[481111,"Дотације непрофитним здравственим организацијама"]
[481112,"Дотације непрофитним здравственим организацијама за лечење особа лишених слободе"]
[481113,"Дотације непрофитним здравственим организацијама за лечење особа непознатог пребивалишта"]
[481120,"Дотације у натури непрофитним организацијама које пружају услуге домаћинствима"]
[481121,"Дотације добротворним организацијама у храни, одећи, ћебадима и лековима за домаћинства"]
[481130,"Дотације Црвеном крсту Србије"]
[481131,"Дотације Црвеном крсту Србије"]
[481900,"Дотације осталим непрофитним институцијама"]
[481910,"Дотације спортским омладинским организацијама"]
[481911,"Дотације спортским омладинским организацијама"]
[481920,"Дотације етничким заједницама и мањинама"]
[481921,"Дотације етничким заједницама и мањинама"]
[481930,"Дотације верским заједницама"]
[481931,"Дотације верским заједницама"]
[481940,"Дотације осталим удружењима грађана и политичким странкама"]
[481941,"Дотације осталим удружењима грађана"]
[481942,"Дотације политичким странкама"]
[481950,"Дотације привредним коморама"]
[481951,"Дотације привредним коморама"]
[481960,"Дотације приватним и алтернативним школама"]
[481961,"Дотације приватним и алтернативним основним школама"]
[481962,"Дотације приватним и алтернативним средњим школама"]
[481969,"Дотације осталим приватним и алтернативним школама"]
[481990,"Дотације осталим непрофитним институцијама"]
[481991,"Дотације осталим непрофитним институцијама"]
[482000,"ПОРЕЗИ, ОБАВЕЗНЕ ТАКСЕ, КАЗНЕ И ПЕНАЛИ"]
[482100,"Остали порези"]
[482110,"Порези на имовину"]
[482111,"Стални порез на имовину"]
[482112,"Порез на финансијске трансакције"]
[482120,"Порез на робе и услуге"]
[482121,"Порез на робу"]
[482122,"Порез на услуге"]
[482123,"Акцизе"]
[482130,"Порез на коришћење роба или обављање активности"]
[482131,"Регистрација возила"]
[482132,"Порез на мобилне телефоне"]
[482140,"Порези на међународну трговину"]
[482141,"Царине"]
[482190,"Остали порези"]
[482191,"Остали порези"]
[482200,"Обавезне таксе"]
[482210,"Републичке таксе"]
[482211,"Републичке таксе"]
[482220,"Покрајинске таксе"]
[482221,"Покрајинске таксе"]
[482230,"Градске таксе"]
[482231,"Градске таксе"]
[482240,"Општинске таксе"]
[482241,"Општинске таксе"]
[482250,"Судске таксе"]
[482251,"Судске таксе"]
[482300,"Новчане казне и пенали"]
[482310,"Републичке казне и пенали"]
[482311,"Републичке казне"]
[482312,"Пенали"]
[482320,"Покрајинске казне"]
[482321,"Покрајинске казне"]
[482330,"Градске казне"]
[482331,"Градске казне"]
[482340,"Општинске казне"]
[482341,"Општинске казне"]
[483000,"НОВЧАНЕ КАЗНЕ И ПЕНАЛИ ПО РЕШЕЊУ СУДОВА"]
[483100,"Новчане казне и пенали по решењу судова"]
[483110,"Новчане казне и пенали по решењу судова"]
[483111,"Новчане казне и пенали по решењу судова"]
[484000,"НАКНАДА ШТЕТЕ ЗА ПОВРЕДЕ ИЛИ ШТЕТУ НАСТАЛУ УСЛЕД ЕЛЕМЕНТАРНИХ НЕПОГОДА ИЛИ ДРУГИХ ПРИРОДНИХ УЗРОКА"]
[484100,"Накнада штете за повреде или штету насталу услед елементарних непогода"]
[484110,"Накнада штете за повреде или штету насталу услед елементарних непогода"]
[484111,"Накнада штете за повреде или штету насталу услед елементарних непогода"]
[484200,"Накнада штете од дивљачи"]
[484210,"Накнада штете од дивљачи"]
[484211,"Накнада штете од дивљачи"]
[485000,"НАКНАДА ШТЕТЕ ЗА ПОВРЕДЕ ИЛИ ШТЕТУ НАНЕТУ ОД СТРАНЕ ДРЖАВНИХ ОРГАНА"]
[485100,"Накнада штете за повреде или штету нанету од стране државних органа"]
[485110,"Накнада штете за повреде или штету нанету од стране државних органа"]
[485111,"Накнада штете неоправдано осуђених лица"]
[485119,"Остале накнаде штете"]
[489000,"РАСХОДИ КОЈИ СЕ ФИНАНСИРАЈУ ИЗ СРЕДСТАВА ЗА РЕАЛИЗАЦИЈУ НАЦИОНАЛНОГ ИНВЕСТИЦИОНОГ ПЛАНА"]
[489100,"Расходи који се финансирају из средстава за реализацију националног инвестиционог плана"]
[489110,"Расходи који се финансирају из средстава за реализацију националног инвестиционог плана"]
[489111,"Расходи који се финансирају из средстава за реализацију националног инвестиционог плана"]
[490000,"АДМИНИСТРАТИВНИ ТРАНСФЕРИ ИЗ БУЏЕТА, ОД ДИРЕКТНИХ БУЏЕТСКИХ КОРИСНИКА ИНДИРЕКТНИМ БУЏЕТСКИМ КОРИСНИЦИМА ИЛИ ИЗМЕЂУ БУЏЕТСКИХ КОРИСНИКА НА ИСТОМ НИВОУ И СРЕДСТВА РЕЗЕРВЕ"]
[494000,"ТЕКУЋИ РАСХОДИ"]
[494100,"Расходи за запослене"]
[494110,"Плате, додаци и накнаде запослених"]
[494111,"Плате, додаци и накнаде запослених"]
[494120,"Социјални доприноси на терет послодавца"]
[494121,"Допринос за пензијско и инвалидско осигурање"]
[494122,"Допринос за здравствено осигурање"]
[494123,"Допринос за случај незапослености"]
[494130,"Накнаде у натури"]
[494131,"Накнаде у натури"]
[494140,"Социјална давања запосленима"]
[494141,"Исплата накнада за време одсуствовања с посла"]
[494142,"Расходи за образовање деце запослених"]
[494143,"Отпремнине и помоћи"]
[494144,"Помоћ у медицинском лечењу запосленог или чланова уже породице и друге помоћи запосленом"]
[494150,"Накнаде трошкова за запослене"]
[494151,"Накнаде трошкова за запослене"]
[494160,"Награде запосленима и остали посебни расходи"]
[494161,"Награде запосленима и остали посебни расходи"]
[494170,"Посланички додатак"]
[494171,"Посланички додатак"]
[494180,"Судијски додатак"]
[494181,"Судијски додатак"]
[494200,"Коришћење услуга и роба"]
[494210,"Стални трошкови"]
[494211,"Трошкови платног промета и банкарских услуга"]
[494212,"Енергетске услуге"]
[494213,"Комуналне услуге"]
[494214,"Услуге комуникација"]
[494215,"Трошкови осигурања"]
[494216,"Закуп имовине и опреме"]
[494219,"Остали трошкови"]
[494220,"Трошкови путовања"]
[494221,"Трошкови службених путовања у земљи"]
[494222,"Трошкови службених путовања у иностранство"]
[494223,"Трошкови путовања у оквиру редовног рада"]
[494224,"Трошкови путовања ученика"]
[494229,"Остали трошкови транспорта"]
[494230,"Услуге по уговору"]
[494231,"Административне услуге"]
[494232,"Компјутерске услуге"]
[494233,"Услуге образовања и усавршавања запослених"]
[494234,"Услуге информисања"]
[494235,"Стручне услуге"]
[494236,"Услуге за домаћинство и угоститељство"]
[494237,"Репрезентација"]
[494239,"Остале опште услуге"]
[494240,"Специјализоване услуге"]
[494241,"Пољопривредне услуге"]
[494242,"Услуге образовања, културе и спорта"]
[494243,"Медицинске услуге"]
[494244,"Услуге одржавања аутопутева"]
[494245,"Услуге одржавања националних паркова и природних површина"]
[494246,"Услуге очувања животне средине, науке и геодетске услуге"]
[494249,"Остале специјализоване услуге"]
[494250,"Текуће поправке и одржавање"]
[494251,"Текуће поправке и одржавање зграда и објеката"]
[494252,"Текуће поправке и одржавање опреме"]
[494260,"Материјал"]
[494261,"Административни материјал"]
[494262,"Материјал за пољопривреду"]
[494263,"Материјал за образовање и усавршавање запослених"]
[494264,"Материјал за саобраћај"]
[494265,"Материјал за очување животне средине и науку"]
[494266,"Материјал за образовање, културу и спорт"]
[494267,"Медицински и лабораторијски материјали"]
[494268,"Материјал за одржавање хигијене и угоститељство"]
[494269,"Материјал за посебне намене"]
[494300,"Амортизација и употреба средстава за рад"]
[494310,"Амортизација некретнина и опреме"]
[494311,"Амортизација зграда и грађевинских објеката"]
[494312,"Амортизација опреме"]
[494313,"Амортизација осталих некретнина и опреме"]
[494320,"Амортизација култивисане имовине"]
[494321,"Амортизација култивисане имовине"]
[494330,"Употреба драгоцености"]
[494331,"Употреба драгоцености"]
[494340,"Употреба природне имовине"]
[494341,"Употреба земљишта"]
[494342,"Употреба подземног блага"]
[494343,"Употреба шума и вода"]
[494350,"Амортизација нематеријалне имовине"]
[494351,"Амортизација нематеријалне имовине"]
[494400,"Отплата камата и пратећи трошкови задуживања"]
[494410,"Отплата домаћих камата"]
[494411,"Отплата камата на домаће хартије од вредности"]
[494412,"Отплата камата осталим нивоима власти"]
[494413,"Отплата камата домаћим јавним финансијским институцијама"]
[494414,"Отплата камата пословним банкама"]
[494415,"Отплата камата осталим кредиторима"]
[494416,"Отплата камата домаћинствима"]
[494417,"Отплата камата на домаће финансијске деривате"]
[494418,"Отплата камата на менице"]
[494420,"Отплата страних камата"]
[494421,"Отплата камата на хартије од вредности емитоване на иностраном финансијском тржишту"]
[494422,"Отплата камата страним владама"]
[494423,"Отплата камата мултилатералним институцијама"]
[494424,"Отплата камата страним пословним банкама"]
[494425,"Отплата камата осталим страним кредиторима"]
[494426,"Отплата камата на стране финансијске деривате"]
[494430,"Отплата камата по гаранцијама"]
[494431,"Отплата камата по гаранцијама"]
[494440,"Пратећи трошкови задуживања"]
[494441,"Негативне курсне разлике"]
[494442,"Казне за кашњење"]
[494443,"Остали пратећи трошкови задуживања"]
[494500,"Субвенције"]
[494510,"Субвенције јавним нефинансијским предузећима и организацијама"]
[494511,"Текуће субвенције јавним нефинансијским предузећима и организацијама"]
[494512,"Капиталне субвенције јавним нефинансијским предузећима и организацијама"]
[494520,"Субвенције приватним финансијским институцијама"]
[494521,"Текуће субвенције приватним финансијским институцијама"]
[494522,"Капиталне субвенције приватним финансијским институцијама"]
[494530,"Субвенције јавним финансијским институцијама"]
[494531,"Текуће субвенције јавним финансијским институцијама"]
[494532,"Капиталне субвенције јавним финансијским институцијама"]
[494540,"Субвенције приватним предузећима"]
[494541,"Текуће субвенције приватним предузећима"]
[494542,"Капиталне субвенције приватним предузећима"]
[494700,"Права из социјалног осигурања"]
[494710,"Права из социјалног осигурања (организације за обавезно социјално осигурање)"]
[494711,"Права из социјалног осигурања која се исплаћују непосредно домаћинствима"]
[494712,"Права из социјалног осигурања која се исплаћују непосредно пружаоцима услуга"]
[494719,"Трансфери другим организацијама за обавезно социјално осигурање за доприносе за осигурање"]
[494720,"Накнаде за социјалну заштиту из буџета"]
[494721,"Накнаде из буџета у случају болести и инвалидности"]
[494722,"Накнаде из буџета за породиљско одсуство"]
[494723,"Накнаде из буџета за децу и породицу"]
[494724,"Накнаде из буџета за случај незапослености"]
[494725,"Старосне и породичне пензије из буџета"]
[494726,"Накнаде из буџета у случају смрти"]
[494727,"Накнаде из буџета за образовање, културу, науку и спорт"]
[494728,"Накнаде из буџета за становање и живот"]
[494729,"Остале накнаде за социјалну заштиту из буџета"]
[494800,"Остали расходи"]
[494810,"Дотације невладиним организацијама"]
[494811,"Дотације непрофитним организацијама које пружају помоћ домаћинствима"]
[494819,"Дотације осталим непрофитним институцијама"]
[494820,"Порези, обавезне таксе и казне"]
[494821,"Остали порези"]
[494822,"Обавезне таксе"]
[494823,"Новчане казне и пенали"]
[494830,"Новчане казне и пенали по решењу судова"]
[494831,"Новчане казне и пенали по решењу судова"]
[494840,"Накнада штете за повреде или штету насталу услед елементарних непогода или других природних узрока"]
[494841,"Накнада штете за повреде или штету насталу услед елементарних непогода"]
[494842,"Накнада штете од дивљачи"]
[494850,"Накнада штете за повреде или штету нанету од стране државних органа"]
[494851,"Накнада штете за повреде или штету нанету од стране државних органа"]
[495000,"ИЗДАЦИ ЗА НЕФИНАНСИЈСКУ ИМОВИНУ"]
[495100,"Основна средства"]
[495110,"Зграде и грађевински објекти"]
[495111,"Куповина зграда и објеката"]
[495112,"Изградња зграда и објеката"]
[495113,"Капитално одржавање зграда и објеката"]
[495114,"Пројектно планирање"]
[495120,"Машине и опрема"]
[495121,"Опрема за саобраћај"]
[495122,"Административна опрема"]
[495123,"Опрема за пољопривреду"]
[495124,"Опрема за заштиту животне средине"]
[495125,"Медицинска и лабораторијска опрема"]
[495126,"Опрема за образовање, науку, културу и спорт"]
[495127,"Опрема за војску"]
[495128,"Опрема за јавну безбедност"]
[495129,"Опрема за производњу, моторна, непокретна и немоторна опрема"]
[495130,"Остале некретнине и опрема"]
[495131,"Остале некретнине и опрема"]
[495140,"Култивисана имовина"]
[495141,"Култивисана имовина"]
[495150,"Нематеријална имовина"]
[495151,"Нематеријална имовина"]
[495200,"Залихе"]
[495210,"Робне резерве"]
[495211,"Робне резерве"]
[495220,"Залихе производње"]
[495221,"Залихе материјала"]
[495222,"Залихе недовршене производње"]
[495223,"Залихе готових производа"]
[495230,"Залихе робе за даљу продају"]
[495231,"Залихе робе за даљу продају"]
[495300,"Драгоцености"]
[495310,"Драгоцености"]
[495311,"Драгоцености"]
[495400,"Природна имовина"]
[495410,"Земљиште"]
[495411,"Земљиште"]
[495420,"Рудна богатства"]
[495421,"Копови"]
[495430,"Шуме и воде"]
[495431,"Шуме"]
[495432,"Воде"]
[496000,"ИЗДАЦИ ЗА ОТПЛАТУ ГЛАВНИЦЕ И НАБАВКУ ФИНАНСИЈСКЕ ИМОВИНЕ"]
[496100,"Отплата главнице"]
[496110,"Отплате главнице домаћим кредиторима"]
[496111,"Отплата главнице на домаће хартије од вредности, изузев акција"]
[496112,"Отплата главнице осталим нивоима власти"]
[496113,"Отплата главнице домаћим јавним финансијским институцијама"]
[496114,"Отплата главнице домаћим пословним банкама"]
[496115,"Отплата главнице осталим домаћим кредиторима"]
[496116,"Отплата главнице домаћинствима у земљи"]
[496117,"Отплата главнице на домаће финансијске деривате"]
[496118,"Отплата домаћих меница"]
[496119,"Исправка унутрашњег дуга"]
[496120,"Отплата главнице страним кредиторима"]
[496121,"Отплата главнице на хартије од вредности, изузев акција, емитоване на иностраном финансијском тржишту"]
[496122,"Отплата главнице страним владама"]
[496123,"Отплата главнице мултилатералним институцијама"]
[496124,"Отплате главнице страним пословним банкама"]
[496125,"Отплате главнице осталим страним кредиторима"]
[496126,"Отплата главнице на стране финансијске деривате"]
[496129,"Исправка спољног дуга"]
[496130,"Отплата главнице по гаранцијама"]
[496131,"Отплата главнице по гаранцијама"]
[496140,"Отплата главнице за финансијски лизинг"]
[496141,"Отплата главнице за финансијски лизинг"]
[496150,"Отплата гаранција по комерцијалним трансакцијама"]
[496151,"Отплата гаранција по комерцијалним трансакцијама"]
[496200,"Набавка финансијске имовине"]
[496210,"Набавка домаће финансијске имовине"]
[496211,"Набавка домаћих хартија од вредности, изузев акција"]
[496212,"Кредити осталим нивоима власти"]
[496213,"Кредити домаћим јавним финансијским институцијама"]
[496214,"Кредити домаћим пословним банкама"]
[496215,"Кредити домаћим јавним нефинансијским институцијама"]
[496216,"Кредити физичким лицима и домаћинствима у земљи"]
[496217,"Кредити домаћим невладиним организацијама у земљи"]
[496218,"Кредити домаћим нефинансијским приватним предузећима"]
[496219,"Набавка домаћих акција и осталог капитала"]
[496220,"Набавка стране финансијске имовине"]
[496221,"Набавка страних хартија од вредности, изузев акција"]
[496222,"Кредити страним владама"]
[496223,"Кредити међународним организацијама"]
[496224,"Кредити страним пословним банкама"]
[496225,"Кредити страним нефинансијским институцијама"]
[496226,"Кредити страним невладиним организацијама"]
[496227,"Набавка страних акција и осталог капитала"]
[496228,"Куповина стране валуте"]
[499000,"СРЕДСТВА РЕЗЕРВЕ"]
[499100,"Средства резерве"]
[499110,"Стална резерва"]
[499111,"Стална резерва"]
[499120,"Текућа резерва"]
[499121,"Текућа резерва"]
[500000,"ИЗДАЦИ ЗА НЕФИНАНСИЈСКУ ИМОВИНУ"]
[510000,"ОСНОВНА СРЕДСТВА"]
[511000,"ЗГРАДЕ И ГРАЂЕВИНСКИ ОБЈЕКТИ"]
[511100,"Куповина зграда и објеката"]
[511110,"Куповина стамбеног простора"]
[511111,"Куповина стамбеног простора за јавне службенике"]
[511112,"Куповина стамбеног простора за социјалне групе"]
[511113,"Куповина стамбеног простора за избеглице"]
[511118,"Куповина осталог стамбеног простора"]
[511119,"Лизинг стамбеног простора"]
[511120,"Куповина пословних зграда и пословног простора"]
[511121,"Куповина канцеларијских зграда и осталог простора"]
[511122,"Куповина болница, домова здравља и старачких домова"]
[511123,"Куповина објеката за потребе образовања"]
[511124,"Куповина ресторана"]
[511125,"Куповина одмаралишта"]
[511126,"Куповина складишта, силоса, гаража и сл."]
[511127,"Куповина фабричких хала"]
[511129,"Лизинг пословних зграда и пословног простора"]
[511190,"Куповина осталих објеката"]
[511191,"Куповина отворених спортских и рекреационих објеката"]
[511192,"Куповина установа културе"]
[511193,"Куповина затвора"]
[511199,"Лизинг осталих објеката"]
[511200,"Изградња зграда и објеката"]
[511210,"Изградња стамбеног простора"]
[511211,"Изградња стамбеног простора за јавне службенике"]
[511212,"Изградња стамбеног простора за социјалне групе"]
[511213,"Изградња стамбеног простора за избеглице"]
[511219,"Изградња осталих стамбених простора"]
[511220,"Изградња пословних зграда и пословног простора"]
[511221,"Канцеларијске зграде и пословни простор"]
[511222,"Болнице, домови здравља и старачки домови"]
[511223,"Објекти за потребе образовања"]
[511224,"Ресторани"]
[511225,"Одмаралишта"]
[511226,"Складишта, силоси, гараже и слично"]
[511227,"Гранични прелази"]
[511228,"Фабричке хале"]
[511230,"Изградња саобраћајних објеката"]
[511231,"Аутопутеви, путеви, мостови, надвожњаци и тунели"]
[511232,"Пруге"]
[511233,"Аеродромске писте"]
[511240,"Изградња водоводне инфраструктуре"]
[511241,"Водовод"]
[511242,"Канализација"]
[511243,"Луке"]
[511244,"Бране"]
[511290,"Изградња осталих објеката"]
[511291,"Плиновод и плинарски радови"]
[511292,"Комуникациони и електрични водови"]
[511293,"Отворени спортски и рекреациони објекти"]
[511294,"Установе културе"]
[511295,"Затвори"]
[511296,"Изградња система за наводњавање"]
[511299,"Изградња осталих објеката"]
[511300,"Капитално одржавање зграда и објеката"]
[511310,"Капитално одржавање стамбених простора"]
[511311,"Капитално одржавање стамбеног простора за јавне службенике"]
[511312,"Капитално одржавање стамбеног простора за социјалне групе"]
[511313,"Капитално одржавање стамбеног простора за избеглице"]
[511319,"Капитално одржавање другог стамбеног простора"]
[511320,"Капитално одржавање пословних зграда и пословног простора"]
[511321,"Капитално одржавање пословних зграда и пословног простора"]
[511322,"Капитално одржавање болница, домова здравља и старачких домова"]
[511323,"Капитално одржавање објеката за потребе образовања"]
[511324,"Капитално одржавање ресторана"]
[511325,"Капитално одржавање одмаралишта"]
[511326,"Капитално одржавање складишта, силоса, гаража и сл."]
[511327,"Капитално одржавање граничних прелаза"]
[511328,"Капитално одржавање фабричких хала"]
[511330,"Капитално одржавање саобраћајних објеката"]
[511331,"Капитално одржавање аутопутева, путева, мостова, надвожњака и тунела"]
[511332,"Капитално одржавање пруга"]
[511333,"Капитално одржавање аеродромских писта"]
[511340,"Капитално одржавање водоводне инфраструктуре"]
[511341,"Капитално одржавање водовода"]
[511342,"Капитално одржавање канализације"]
[511343,"Капитално одржавање лука"]
[511344,"Капитално одржавање брана"]
[511390,"Капитално одржавање осталих објеката"]
[511391,"Капитално одржавање плиновода и плинарских радова"]
[511392,"Капитално одржавање комуникационих и електричних водова"]
[511393,"Капитално одржавање отворених спортских и рекреационих објеката"]
[511394,"Капитално одржавање установа културе"]
[511395,"Капитално одржавање затвора"]
[511396,"Капитално одржавање и реконструкција система за наводњавање"]
[511399,"Капитално одржавање осталих објеката"]
[511400,"Пројектно планирање"]
[511410,"Планирање и праћење пројекта"]
[511411,"Планирање и праћење пројекта"]
[511420,"Процене изводљивости"]
[511421,"Процене изводљивости"]
[511430,"Идејни пројекат"]
[511431,"Идејни пројекат"]
[511440,"Стручна оцена и коментари"]
[511441,"Стручна оцена и коментари"]
[511450,"Пројектна документација"]
[511451,"Пројектна документација"]
[512000,"МАШИНЕ И ОПРЕМА"]
[512100,"Опрема за саобраћај"]
[512110,"Опрема за копнени саобраћај"]
[512111,"Аутомобили"]
[512112,"Трактори"]
[512113,"Комбији"]
[512114,"Камиони"]
[512115,"Теренска возила"]
[512116,"Мотоцикли"]
[512117,"Бицикли"]
[512120,"Пловни објекти"]
[512121,"Бродови и чамци"]
[512122,"Трајекти"]
[512130,"Опрема за ваздушни саобраћај"]
[512131,"Хеликоптери"]
[512132,"Авиони"]
[512140,"Лизинг опреме за саобраћај"]
[512141,"Лизинг опреме за саобраћај"]
[512200,"Административна опрема"]
[512210,"Канцеларијска опрема"]
[512211,"Намештај"]
[512212,"Уградна опрема"]
[512213,"Писаће машине"]
[512220,"Рачунарска опрема"]
[512221,"Рачунарска опрема"]
[512222,"Штампачи"]
[512223,"Мреже"]
[512230,"Комуникациона опрема"]
[512231,"Телефонске централе с припадајућим инсталацијама и апаратима"]
[512232,"Телефони"]
[512233,"Мобилни телефони"]
[512240,"Електронска и фотографска опрема"]
[512241,"Електронска опрема"]
[512242,"Фотографска опрема"]
[512250,"Опрема за домаћинство и угоститељство"]
[512251,"Опрема за домаћинство"]
[512252,"Опрема за угоститељство"]
[512260,"Лизинг административне опреме"]
[512261,"Лизинг административне опреме"]
[512300,"Опрема за пољопривреду"]
[512310,"Пољопривредна опрема"]
[512311,"Пољопривредна опрема"]
[512320,"Лизинг пољопривредне опреме"]
[512321,"Лизинг пољопривредне опреме"]
[512400,"Опрема за заштиту животне средине"]
[512410,"Опрема за заштиту животне средине"]
[512411,"Опрема за заштиту животне средине"]
[512420,"Лизинг опреме за заштиту животне средине"]
[512421,"Лизинг опреме за заштиту животне средине"]
[512500,"Медицинска и лабораторијска опрема"]
[512510,"Медицинска опрема"]
[512511,"Медицинска опрема"]
[512520,"Лабораторијска опрема"]
[512521,"Лабораторијска опрема"]
[512530,"Мерни и контролни инструменти"]
[512531,"Мерни и контролни инструменти"]
[512540,"Лизинг медицинске и лабораторијске опреме"]
[512541,"Лизинг медицинске и лабораторијске опреме"]
[512600,"Опрема за образовање, науку, културу и спорт"]
[512610,"Опрема за образовање"]
[512611,"Опрема за образовање"]
[512620,"Опрема за науку"]
[512621,"Опрема за науку"]
[512630,"Опрема за културу"]
[512631,"Опрема за културу"]
[512640,"Опрема за спорт"]
[512641,"Опрема за спорт"]
[512650,"Лизинг опреме за образовање, науку, културу и спорт"]
[512651,"Лизинг опреме за образовање, науку, културу и спорт"]
[512700,"Опрема за војску"]
[512710,"Опрема за војску"]
[512711,"Опрема за војску"]
[512720,"Лизинг опремe за војску"]
[512721,"Лизинг опремe за војску"]
[512800,"Опрема за јавну безбедност"]
[512810,"Опрема за јавну безбедност"]
[512811,"Опрема за јавну безбедност"]
[512820,"Лизинг опремe за јавну безбедност"]
[512821,"Лизинг опремe за јавну безбедност"]
[512900,"Опрема за производњу, моторна, непокретна и немоторна опрема"]
[512910,"Опрема за производњу"]
[512911,"Опрема за производњу"]
[512920,"Моторна опрема"]
[512921,"Моторна опрема"]
[512930,"Непокретна опрема"]
[512931,"Уграђена опрема"]
[512932,"Монтирана опрема"]
[512933,"Механичка опрема"]
[512940,"Немоторизовани алати"]
[512941,"Немоторизовани алати"]
[512950,"Лизинг опреме за производњу, моторна, непокретна и немоторна опрема"]
[512951,"Лизинг опреме за производњу, моторна, непокретна и немоторна опрема"]
[513000,"ОСТАЛЕ НЕКРЕТНИНЕ И ОПРЕМА"]
[513100,"Остале некретнине и опрема"]
[513110,"Остале некретнине и опрема"]
[513111,"Остале некретнине и опрема"]
[513119,"Лизинг остале некретнине и опрема"]
[514000,"КУЛТИВИСАНА ИМОВИНА"]
[514100,"Култивисана имовина"]
[514110,"Стока"]
[514111,"Говеда"]
[514112,"Коњи"]
[514113,"Магарци, муле, мазге"]
[514114,"Свиње"]
[514115,"Овце и козе"]
[514116,"Живина"]
[514117,"Рибе"]
[514118,"Пчелињаци"]
[514119,"Остала стока"]
[514120,"Вишегодишњи засади"]
[514121,"Вишегодишњи засади"]
[515000,"НЕМАТЕРИЈАЛНА ИМОВИНА"]
[515100,"Нематеријална имовина"]
[515110,"Компјутерски софтвер"]
[515111,"Компјутерски софтвер"]
[515120,"Књижевна и уметничка дела"]
[515121,"Књиге у библиотеци"]
[515122,"Музејски експонати и споменици културе"]
[515123,"Визуелна уметност"]
[515124,"Скулптуре"]
[515125,"Архивска грађа"]
[515126,"Природне реткости"]
[515129,"Остала књижевна и уметничка дела"]
[515190,"Остала нематеријална основна средства"]
[515191,"Издаци за патенте и технологију, техничку и технолошку документацију"]
[515192,"Лиценце"]
[515193,"Концесије"]
[515194,"Заштитни знак, индустријска заштитна права, занатска и слична права"]
[515195,"Остала заштићена права и интелектуална својина (компјутерски програми, трајна ауторска права и слично)"]
[515196,"Права кориштења имовине у туђем власништву"]
[515197,"Прикључак за телефонске линије"]
[515199,"Остала нематеријална основна средства"]
[520000,"ЗАЛИХЕ"]
[521000,"РОБНЕ РЕЗЕРВЕ"]
[521100,"Робне резерве"]
[521110,"Робне резерве"]
[521111,"Робне резерве"]
[522000,"ЗАЛИХЕ ПРОИЗВОДЊЕ"]
[522100,"Залихе материјала"]
[522110,"Залихе материјала"]
[522111,"Залихе материјала"]
[522200,"Залихе недовршене производње"]
[522210,"Залихе недовршене производње"]
[522211,"Залихе недовршене производње"]
[522300,"Залихе готових производа"]
[522310,"Залихе готових производа"]
[522311,"Залихе готових производа"]
[523000,"ЗАЛИХЕ РОБЕ ЗА ДАЉУ ПРОДАЈУ"]
[523100,"Залихе робе за даљу продају"]
[523110,"Залихе робе за даљу продају"]
[523111,"Залихе робе за даљу продају"]
[530000,"ДРАГОЦЕНОСТИ"]
[531000,"ДРАГОЦЕНОСТИ"]
[531100,"Драгоцености"]
[531110,"Драгоцености"]
[531111,"Драгоцености"]
[540000,"ПРИРОДНА ИМОВИНА"]
[541000,"ЗЕМЉИШТЕ"]
[541100,"Земљиште"]
[541110,"Набавка земљишта"]
[541111,"Набавка пољопривредног земљишта"]
[541112,"Набавка грађевинског земљишта"]
[541113,"Набавка земљишта које се налази испод зграда и објеката"]
[541114,"Набавка спортских терена и придружених водених површина"]
[541115,"Набавка другог земљишта и придружених водених површина"]
[541120,"Побољшања земљишта"]
[541121,"Побољшања пољопривредног земљишта"]
[541122,"Побољшања грађевинског земљишта"]
[541123,"Побољшања земљишта које се налази испод зграда и објеката"]
[541124,"Побољшања спортских терена и придружене водене површине"]
[541125,"Побољшања другог земљишта и придружене водене површине"]
[542000,"РУДНА БОГАТСТВА"]
[542100,"Копови"]
[542110,"Копови"]
[542111,"Копови"]
[542112,"Набавка угља, нафте и природног гаса"]
[542113,"Набавка минералних резерви метала"]
[542120,"Побољшања копова"]
[542121,"Побољшање копова"]
[542122,"Побољшања угља, нафте и природног гаса"]
[542123,"Побољшање металних минералних резерви"]
[543000,"ШУМЕ И ВОДЕ"]
[543100,"Шуме"]
[543110,"Шуме"]
[543111,"Набавка шума"]
[543120,"Побољшања шуме"]
[543121,"Побољшања шума"]
[543200,"Воде"]
[543210,"Воде"]
[543211,"Набавка воде"]
[543220,"Побољшања воде"]
[543221,"Побољшања воде"]
[550000,"НЕФИНАНСИЈСКА ИМОВИНА КОЈА СЕ ФИНАНСИРА ИЗ СРЕДСТАВА ЗА РЕАЛИЗАЦИЈУ НАЦИОНАЛНОГ ИНВЕСТИЦИОНОГ ПЛАНА"]
[551000,"НЕФИНАНСИЈСКА ИМОВИНА КОЈА СЕ ФИНАНСИРА ИЗ СРЕДСТАВА ЗА РЕАЛИЗАЦИЈУ НАЦИОНАЛНОГ ИНВЕСТИЦИОНОГ ПЛАНА"]
[551100,"Нефинансијска имовина која се финансира из средстава за реализацију националног инвестиционог плана"]
[551110,"Нефинансијска имовина која се финансира из средстава за реализацију националног инвестиционог плана"]
[551111,"Нефинансијска имовина која се финансира из средстава за реализацију националног инвестиционог плана"]
[551120,"Нефинансијска имовина која се финансира из средстава за реализацију националног инвестиционог плана на територији АП Војводине"]
[551121,"Нефинансијска имовина која се финансира из средстава за реализацију националног инвестиционог плана на територији АП Војводине"]
[600000,"ИЗДАЦИ ЗА ОТПЛАТУ ГЛАВНИЦЕ И НАБАВКУ ФИНАНСИЈСКЕ ИМОВИНЕ"]
[610000,"ОТПЛАТА ГЛАВНИЦЕ"]
[611000,"ОТПЛАТА ГЛАВНИЦЕ ДОМАЋИМ КРЕДИТОРИМА"]
[611100,"Отплата главнице на домаће хартије од вредности, изузев акција"]
[611110,"Отплата главнице на домаће краткорочне хартије од вредности, изузев акција"]
[611111,"Отплата главнице на домаће краткорочне хартије од вредности, изузев акција"]
[611120,"Отплата главнице на домаће дугорочне хартије од вредности, изузев акција"]
[611121,"Отплата главнице на домаће дугорочне хартије од вредности, изузев акција"]
[611122,"Дисконти на домаће дугорочне хартије од вредности, изузев акција"]
[611200,"Отплата главнице осталим нивоима власти"]
[611210,"Отплата главнице нивоу Републике"]
[611211,"Отплата главнице нивоу Републике"]
[611220,"Отплата главнице нивоу територијалних аутономија"]
[611221,"Отплата главнице нивоу територијалних аутономија"]
[611230,"Отплата главнице нивоу градова"]
[611231,"Отплата главнице нивоу градова"]
[611240,"Отплата главнице нивоу општина"]
[611241,"Отплата главнице нивоу општина"]
[611250,"Отплата главнице организацијама за обавезно социјално осигурање"]
[611251,"Отплата главнице Републичком фонду за здравствено осигурање"]
[611252,"Отплата главнице Републичком фонду за ПИО"]
[611255,"Отплата главнице Националној служби за запошљавање"]
[611256,"Отплата главнице Фонду за социјално осигурање војних осигураника"]
[611300,"Отплата главнице домаћим јавним финансијским институцијама"]
[611310,"Отплата главнице НБС"]
[611311,"Отплата главнице НБС"]
[611390,"Отплата главнице осталим домаћим јавним финансијским институцијама"]
[611391,"Отплата главнице осталим домаћим јавним финансијским институцијама"]
[611400,"Отплата главнице домаћим пословним банкама"]
[611410,"Отплата главнице домаћим пословним банкама"]
[611411,"Отплата главнице домаћим пословним банкама"]
[611500,"Отплата главнице осталим домаћим кредиторима"]
[611510,"Отплата главнице осталим домаћим кредиторима"]
[611511,"Отплата главнице осталим домаћим кредиторима"]
[611600,"Отплата главнице домаћинствима у земљи"]
[611610,"Отплата главнице домаћинствима у земљи"]
[611611,"Отплата главнице домаћинствима у земљи"]
[611700,"Отплата главнице на домаће финансијске деривате"]
[611710,"Отплата главнице на домаће финансијске деривате"]
[611711,"Отплата главнице на домаће финансијске деривате"]
[611800,"Отплата домаћих меница"]
[611810,"Отплата домаћих меница"]
[611811,"Отплата домаћих меница"]
[611900,"Исправка унутрашњег дуга"]
[611910,"Исправка унутрашњег дуга од осталих нивоа власти за средства отплаћена у току фискалне године"]
[611911,"Исправка унутрашњег дуга од осталих нивоа власти за средства отплаћена у току фискалне године"]
[611920,"Исправка унутрашњег дуга од осталих домаћих кредитора за средства отплаћена у току фискалне године"]
[611921,"Исправка унутрашњег дуга од осталих домаћих кредитора за средства отплаћена у току фискалне године"]
[612000,"ОТПЛАТА ГЛАВНИЦЕ СТРАНИМ КРЕДИТОРИМА"]
[612100,"Отплата главнице на хартије од вредности, изузев акција, емитоване на иностраном финансијском тржишту"]
[612110,"Отплата главнице на краткорочне хартије од вредности, изузев акција, емитоване на иностраном финансијском тржишту"]
[612111,"Отплата главнице на краткорочне хартије од вредности, изузев акција, емитоване на иностраном финансијском тржишту"]
[612120,"Отплата главнице на дугорочне хартије од вредности, изузев акција, емитоване на иностраном финансијском тржишту"]
[612121,"Отплата главнице на дугорочне хартије од вредности, изузев акција, емитоване на иностраном финансијском тржишту"]
[612122,"Дисконти на дугорочне хартије од вредности, изузев акција, емитоване на иностраном финансијском тржишту"]
[612200,"Отплата главнице страним владама"]
[612210,"Отплата главнице Париском клубу"]
[612211,"Отплата главнице Париском клубу"]
[612220,"Отплата главнице страним извозно-увозним банкама"]
[612221,"Отплата главнице страним извозно-увозним банкама"]
[612290,"Отплата главнице осталим страним владама"]
[612291,"Отплата главнице осталим страним владама"]
[612300,"Отплата главнице мултилатералним институцијама"]
[612310,"Отплата главнице Светској банци"]
[612311,"Отплата главнице Светској банци"]
[612320,"Отплата главнице IBRD"]
[612321,"Отплата главнице IBRD"]
[612330,"Отплата главнице EBRD"]
[612331,"Отплата главнице EBRD"]
[612340,"Отплата главнице EIB"]
[612341,"Отплата главнице EIB"]
[612350,"Отплата главнице CEB"]
[612351,"Отплата главнице CEB"]
[612390,"Отплата главнице осталим мултилатералним институцијама"]
[612391,"Отплата главнице осталим мултилатералним институцијама"]
[612400,"Отплата главнице страним пословним банкама"]
[612410,"Отплата главнице Лондонском клубу"]
[612411,"Отплата главнице Лондонском клубу"]
[612490,"Отплата главнице осталим страним пословним банкама"]
[612491,"Отплата главнице осталим страним пословним банкама"]
[612500,"Отплата главнице осталим страним кредиторима"]
[612510,"Отплата главнице осталим страним кредиторима"]
[612511,"Отплата главнице осталим страним кредиторима"]
[612600,"Отплата главнице на стране финансијске деривате"]
[612610,"Отплата главнице на стране финансијске деривате"]
[612611,"Отплата главнице на стране финансијске деривате"]
[612900,"Исправка спољног дуга"]
[612910,"Исправка спољног дуга за средства отплаћена у фискалној години"]
[612911,"Исправка спољног дуга за средства отплаћена у фискалној години"]
[613000,"ОТПЛАТА ГЛАВНИЦЕ ПО ГАРАНЦИЈАМА"]
[613100,"Отплата главнице по гаранцијама"]
[613110,"Отплата главнице по гаранцијама"]
[613111,"Отплата главнице по гаранцијама"]
[614000,"ОТПЛАТА ГЛАВНИЦЕ ЗА ФИНАНСИЈСКИ ЛИЗИНГ"]
[614100,"Отплата главнице за финансијски лизинг"]
[614110,"Отплата главнице за финансијски лизинг"]
[614111,"Отплата главнице зa финансијски лизинг"]
[615000,"ОТПЛАТА ГАРАНЦИЈА ПО КОМЕРЦИЈАЛНИМ ТРАНСАКЦИЈАМА"]
[615100,"Отплата гаранција по комерцијалним трансакцијама"]
[615110,"Отплата гаранција по комерцијалним трансакцијама"]
[615111,"Отплата гаранција по комерцијалним трансакцијама"]
[620000,"НАБАВКА ФИНАНСИЈСКЕ ИМОВИНЕ"]
[621000,"НАБАВКА ДОМАЋЕ ФИНАНСИЈСКЕ ИМОВИНЕ"]
[621100,"Набавка домаћих хартија од вредности, изузев акција"]
[621110,"Набавка домаћих краткорочних хартија од вредности, изузев акција"]
[621111,"Набавка домаћих краткорочних хартија од вредности, изузев акција"]
[621120,"Набавка домаћих дугорочних хартија од вредности, изузев акција"]
[621121,"Набавка домаћих дугорочних хартија од вредности, изузев акција"]
[621200,"Кредити осталим нивоима власти"]
[621210,"Кредити нивоу Републике"]
[621211,"Кредити нивоу Републике"]
[621220,"Кредити нивоу територијалних аутономија"]
[621221,"Кредити нивоу територијалних аутономија"]
[621230,"Кредити нивоу градова"]
[621231,"Кредити нивоу градова"]
[621240,"Кредити нивоу општина"]
[621241,"Кредити нивоу општина"]
[621250,"Кредити организацијама за обавезно социјално осигурање"]
[621251,"Кредити Републичком фонду за здравствено осигурање"]
[621252,"Кредити Републичком фонду за ПИО"]
[621255,"Кредити Националној служби за запошљавање"]
[621256,"Кредити Фонду за социјално осигурање војних осигураника"]
[621300,"Кредити домаћим јавним финансијским институцијама"]
[621310,"Кредити Народној банци Србије"]
[621311,"Кредити Народној банци Србије"]
[621390,"Кредити осталим домаћим јавним финансијским институцијама"]
[621391,"Кредити осталим домаћим јавним финансијским институцијама"]
[621400,"Кредити домаћим пословним банкама"]
[621410,"Кредити домаћим пословним банкама"]
[621411,"Кредити домаћим пословним банкама"]
[621500,"Кредити домаћим нефинансијским јавним институцијама"]
[621510,"Кредити домаћим нефинансијским јавним институцијама"]
[621511,"Кредити домаћим нефинансијским јавним институцијама"]
[621600,"Кредити физичким лицима и домаћинствима у земљи"]
[621610,"Кредити физичким лицима и домаћинствима у земљи"]
[621611,"Кредити физичким лицима у земљи, за потребе становања"]
[621612,"Кредити физичким лицима у земљи, за комерцијалне потребе"]
[621613,"Кредити студентима и ученицима у земљи"]
[621700,"Кредити невладиним организацијама у земљи"]
[621710,"Кредити невладиним организацијама у земљи"]
[621711,"Кредити удружењима грађана у земљи"]
[621712,"Кредити непрофитним организацијама у земљи"]
[621800,"Кредити домаћим нефинансијским приватним предузећима"]
[621810,"Кредити домаћим нефинансијским приватним предузећима"]
[621811,"Кредити домаћим нефинансијским приватним предузећима"]
[621900,"Набавка домаћих акција и осталог капитала"]
[621910,"Учешће капитала у домаћим нефинансијским јавним предузећима и институцијама"]
[621911,"Учешће капитала у домаћим нефинансијским јавним предузећима и институцијама"]
[621920,"Учешће капитала у домаћим јавним финансијским институцијама"]
[621921,"Учешће капитала у Народној банци Србије"]
[621922,"Учешће капитала у осталим јавним финансијским институцијама у земљи"]
[621930,"Учешће капитала у домаћим нефинансијским приватним предузећима"]
[621931,"Учешће капитала у домаћим нефинансијским приватним предузећима"]
[621940,"Учешће капитала у домаћим пословним банкама"]
[621941,"Учешће капитала у домаћим пословним банкама"]
[622000,"НАБАВКА СТРАНЕ ФИНАНСИЈСКЕ ИМОВИНЕ"]
[622100,"Набавка страних хартија од вредности, изузев акција"]
[622110,"Набавка страних краткорочних хартија од вредности, изузев акција"]
[622111,"Набавка страних краткорочних хартија од вредности, изузев акција"]
[622120,"Набавка страних дугорочних хартија од вредности, изузев акција"]
[622121,"Набавка страних дугорочних хартија од вредности, изузев акција"]
[622200,"Кредити страним владама"]
[622210,"Кредити страним владама"]
[622211,"Кредити страним владама"]
[622300,"Кредити међународним организацијама"]
[622310,"Кредити међународним организацијама"]
[622311,"Кредити међународним организацијама"]
[622312,"Кредити за премошћавање финансирања пројеката ЕУ"]
[622400,"Кредити страним пословним банкама"]
[622410,"Кредити страним пословним банкама"]
[622411,"Кредити страним пословним банкама"]
[622500,"Кредити страним нефинансијским институцијама"]
[622510,"Кредити страним нефинансијским институцијама"]
[622511,"Кредити страним нефинансијским институцијама"]
[622600,"Кредити страним невладиним организацијама"]
[622610,"Кредити страним невладиним организацијама"]
[622611,"Кредити страним удружењима грађана"]
[622612,"Кредити страним непрофитним институцијама"]
[622700,"Набавка страних акција и осталог капитала"]
[622710,"Учешће капитала у међународним финансијским институцијама"]
[622711,"Учешће капитала у међународним финансијским институцијама"]
[622720,"Учешће капитала у страним компанијама и нефинансијским институцијама"]
[622721,"Учешће капитала у страним компанијама и нефинансијским институцијама"]
[622800,"Куповина стране валуте"]
[622810,"Куповина стране валуте"]
[622811,"Куповина стране валуте"]
[623000,"НАБАВКА ФИНАНСИЈСКЕ ИМОВИНЕ КОЈА СЕ ФИНАНСИРА ИЗ СРЕДСТАВА ЗА РЕАЛИЗАЦИЈУ НАЦИОНАЛНОГ ИНВЕСТИЦИОНОГ ПЛАНА"]
[623100,"Набавка финансијске имовине која се финансира из средстава за реализацију националног инвестиционог плана"]
[623110,"Набавка финансијске имовине која се финансира из средстава за реализацију националног инвестиционог плана"]
[623111,"Набавка финансијске имовине која се финансира из средстава за реализацију националног инвестиционог плана"]
[690000,"КОНТРА КЊИЖЕЊЕ - ИЗДАЦИ ЗА ОТПЛАТУ ГЛАВНИЦЕ И НАБАВКУ ФИНАНСИЈСКЕ ИМОВИНЕ"]
[699000,"КОНТРА КЊИЖЕЊЕ - ИЗДАЦИ ЗА ОТПЛАТУ ГЛАВНИЦЕ И НАБАВКУ ФИНАНСИЈСКЕ ИМОВИНЕ"]
[699900,"Контра књижење - издаци за отплату главнице и набавку финансијске имовине"]
[699990,"Контра књижење - издаци за отплату главнице и набавку финансијске имовине"]
[699999,"Контра књижење - издаци за отплату главнице и набавку финансијске имовине"]
[700000,"ТЕКУЋИ ПРИХОДИ"]
[710000,"ПОРЕЗИ"]
[711000,"ПОРЕЗ НА ДОХОДАК, ДОБИТ И КАПИТАЛНЕ ДОБИТКЕ"]
[711100,"Порези на доходак и капиталне добитке које плаћају физичка лица"]
[711110,"Порез на зараде"]
[711111,"Порез на зараде"]
[711120,"Порез на приходе од самосталних делатности"]
[711121,"Порез на приходе од самосталних делатности који се плаћа према стварно оствареном приходу, по решењу Пореске управе"]
[711122,"Порез на приходе од самосталних делатности који се плаћа према паушално утврђеном приходу, по решењу Пореске управе"]
[711123,"Порез на приходе од самосталних делатности који се плаћа према стварно оствареном приходу самоопорезивањем"]
[711130,"Порез на приходе од ауторских права"]
[711131,"Порез на приходе од ауторских права, права сродних ауторском праву и права индустријске својине"]
[711140,"Порез на приходе од имовине"]
[711141,"Порез на дивиденде и уделе у добити"]
[711142,"Порез на приходе од камате"]
[711143,"Порез на приходе од непокретности"]
[711144,"Порез на капиталне добитке"]
[711145,"Порез на приходе од давања у закуп покретних ствари - по основу самоопорезивања и по решењу Пореске управе"]
[711146,"Порез на приход од пољопривреде и шумарства, по решењу Пореске управе"]
[711147,"Порез на земљиште"]
[711148,"Порез на приходе од непокретности, по решењу Пореске управе"]
[711149,"Порез на приходе од издавања сопствених непокретности и порез на приходе од капитала по другом основу"]
[711150,"Порез на добитке од игара на срећу"]
[711151,"Порез на добитке од игара на срећу"]
[711160,"Порез на приходе од осигурања лица"]
[711161,"Порез на приходе од осигурања лица"]
[711170,"Годишњи порез на доходак грађана"]
[711171,"Годишњи порез на доходак грађана"]
[711180,"Самодоприноси"]
[711181,"Самодопринос према зарадама запослених и по основу пензија на територији месне заједнице и општине"]
[711182,"Самодопринос према зарадама запослених и по основу пензија на територији града"]
[711183,"Самодопринос из прихода од пољопривреде и шумарства"]
[711184,"Самодопринос из прихода лица која се баве самосталном делатношћу"]
[711185,"Самодопринос на вредност имовине"]
[711190,"Порез на друге приходе"]
[711191,"Порез на остале приходе"]
[711192,"Порез на непријављени приход утврђен унакрсном проценом"]
[711193,"Порез на приходе спортиста и спортских стручњака"]
[711194,"Порез по одбитку за приходе по основу извођења естрадног, забавног, уметничког, спортског или сличног програма"]
[711195,"Порез по одбитку на накнаду исплаћену по основу промета секундарних сировина и отпада"]
[711200,"Порези на добит и капиталне добитке које плаћају правна лица"]
[711210,"Порез на добит правних лица"]
[711211,"Порез на добит правних лица"]
[711212,"Порез на добит правних лица који се као порез по одбитку обрачунава на дивиденде које се исплаћују резидентима"]
[711213,"Порез на добит правних лица који се обрачунава и наплаћује као порез по одбитку на дивиденде које се исплаћују нерезидентима"]
[711214,"Порез на добит правних лица који се као порез по одбитку обрачунава на камате које се исплаћују нерезидентима"]
[711215,"Порез на добит правних лица који се као порез по одбитку обрачунава на ауторске накнаде које се исплаћују нерезидентима"]
[711216,"Порез на добит правних лица који се обрачунава на капиталне добитке које остваре нерезиденти"]
[711217,"Порез на добит правних лица који се обрачунава на накнаде по основу закупа и подзакупа непокретности и покретних ствари које се исплаћују нерезидентима"]
[711218,"Порез на добит правних лица који се као порез по одбитку обрачунава на приходе које остварују нерезидентна правна лица, по основу вишка стечајне масе, односно расподеле ликвидационог остатка"]
[711219,"Порез на добит правних лица који се обрачунава на приходе које остварује нерезидентно правно лице из јурисдикције са преференцијалним пореским системом"]
[711220,"Порез на добит правних лица на накнаде од услуга"]
[711221,"Порез на добит који се као порез по одбитку обрачунава на накнаде од услуга које се пружају или користе на територији Републике које се исплаћују нерезидентима"]
[711300,"Порези на доходак, добит и капиталне добитке који се не могу разврстати између физичких и правних лица"]
[711310,"Порези на доходак, добит и капиталне добитке који се не могу разврстати између физичких и правних лица"]
[711311,"Порези на доходак, добит и капиталне добитке који се не могу разврстати између физичких и правних лица"]
[712000,"ПОРЕЗ НА ФОНД ЗАРАДА"]
[712100,"Порез на фонд зарада"]
[712110,"Порез на фонд зарада"]
[712111,"Порез на фонд зарада запослених који се финансира из буџета и фондова обавезног социјалног осигурања"]
[712112,"Порез на фонд зарада осталих запослених"]
[712113,"Порез на фонд зарада лица која остварују приходе од ауторских права и права индустријске својине"]
[713000,"ПОРЕЗ НА ИМОВИНУ"]
[713100,"Периодични порези на непокретности"]
[713110,"Посебан порез на необрађено обрадиво пољопривредно земљиште"]
[713111,"Посебан порез на необрађено обрадиво пољопривредно земљиште"]
[713120,"Порез на имовину"]
[713121,"Порез на имовину обвезника који не воде пословне књиге"]
[713122,"Порез на имовину обвезника који воде пословне књиге"]
[713200,"Периодични порези на нето имовину"]
[713210,"Периодични порези на нето имовину"]
[713211,"Периодични порези на нето имовину"]
[713300,"Порези на заоставштину, наслеђе и поклон"]
[713310,"Порез на наслеђе и поклон"]
[713311,"Порез на наслеђе и поклон, по решењу Пореске управе"]
[713400,"Порези на финансијске и капиталне трансакције"]
[713410,"Порез на финансијске трансакције"]
[713411,"Порез на финансијске трансакције"]
[713420,"Порез на капиталне трансакције"]
[713421,"Порез на пренос апсолутних права на непокретности, по решењу Пореске управе"]
[713422,"Порез на пренос апсолутних права на акцијама и другим хартијама од вредности, по решењу Пореске управе"]
[713423,"Порез на пренос апсолутних права на моторним возилима, пловилима и ваздухопловима, по решењу Пореске управе"]
[713424,"Порез на пренос апсолутних права у осталим случајевима, по решењу Пореске управе"]
[713425,"Порез на пренос апсолутних права на интелектуалној својини"]
[713426,"Порез на пренос апсолутних права код продаје стечајног дужника као правног лица"]
[713500,"Други једнократни порези на имовину"]
[713510,"Други једнократни порези на имовину"]
[713511,"Други једнократни порези на имовину"]
[713600,"Други периодични порези на имовину"]
[713610,"Порез на акције на име и уделе"]
[713611,"Порез на акције на име и уделе"]
[714000,"ПОРЕЗ НА ДОБРА И УСЛУГЕ"]
[714100,"Општи порези на добра и услуге"]
[714110,"Порези на додату вредност"]
[714111,"Порез на промет дуванских прерађевина, алкохолних пића и кафе"]
[714112,"Порез на додату вредност"]
[714113,"Порез на додату вредност при увозу"]
[714114,"Порез на додату вредност за промет добара са територије АП Косово и Метохија на територију Републике ван територије АП Косово и Метохија"]
[714120,"Једнофазни порези на промет"]
[714121,"Порез на промет производа (општи режим)"]
[714122,"Порез на промет лекова са посебне листе"]
[714123,"Порез на промет осталих лекова, медицинских средстава, ортопедских помагала и слично"]
[714124,"Порез на промет производа остварен при увозу"]
[714125,"Такса на продајну цену робе у слободним царинским продавницама"]
[714126,"Накнада за стављање у промет заштићених дивљих биљних и животињских врста"]
[714127,"Средства Црвеног крста Србије по члану 15. Закона о Црвеном крсту Србије током \"Недеље Црвеног крста\" од 8. до 15. маја и \"Недеље солидарности\" од 14. до 21. септембра"]
[714128,"Средства Црвеног крста Србије по члану 16. Закона о Црвеном крсту Србије од сваке продате карте за манифестације међународног карактера (културне, забавне, спортске и слично) током целе календарске године"]
[714129,"Порез на промет нових моторних возила"]
[714130,"Кумулативни вишефазни порези на промет"]
[714131,"Порез на промет услуга промета производа на велико"]
[714132,"Порез на промет комуналних услуга"]
[714133,"Порез на промет финансијских услуга (камате за дате кредите и позајмице, банкарске и друге услуге, услуге платног промета, берзанске услуге и услуге осигурања и реосигурања)"]
[714134,"Порез на промет угоститељских и туристичких услуга"]
[714135,"Порез на промет услуга организовања приредби и естрада"]
[714136,"Порез на промет услуга приређивања игара на срећу"]
[714137,"Порез на промет услуга од приређивања игара на срећу помоћу аутомата, који се плаћа у паушалном износу"]
[714138,"Порез на промет услуга у годишњем паушалном износу, по решењу Пореске управе"]
[714139,"Порез на промет осталих услуга"]
[714140,"Порез на премије неживотних осигурања"]
[714141,"Порез на премије неживотних осигурања"]
[714300,"Добит фискалних монопола"]
[714310,"Добит фискалних монопола"]
[714311,"Добит фискалних монопола"]
[714400,"Порези на појединачне услуге"]
[714420,"Комунална такса за приређивање музичког програма у угоститељским објектима"]
[714421,"Комунална такса за држање музичких уређаја и приређивање музичког програма у угоститељским објектима"]
[714430,"Комунална такса за коришћење рекламних паноа"]
[714431,"Комунална такса за коришћење рекламних паноа, укључујући и истицање и исписивање фирме ван пословног простора на објектима и просторима који припадају јединици локалне самоуправе (коловози, тротоари, зелене површине, бандере и сл.)"]
[714440,"Средства за ванредне ситуације"]
[714442,"Средства остварена на основу издвајања осигуравајућих друштава у висини 5% од наплаћене премије осигурања од пожара и других опасности у корист Буџетског фонда за ванредне ситуације"]
[714443,"Средства правних лица која за осигурање од пожара своје имовине оснивају властите осигуравајуће фондове у висини 3% од премије осигурања од пожара у корист Буџетског фонда за ванредне ситуације"]
[714444,"Средства остварена на основу издвајања осигуравајућих друштава у висини 5% од прихода наплаћеног обавезног осигурања транспорта опасних материја у друмском, железничком, речном и ваздушном саобраћају у корист Буџетског фонда за ванредне ситуације"]
[714445,"Средства наплаћена од привредних субјеката на годишњем нивоу, који се баве производњом, прерадом, ускладиштењем, дистрибуцијом и продајом запаљивих течности, експлозивних материја и гасова, по основу укупних инсталационих капацитета ускладиштења и главне мерне регулационе станице на магистралном гасоводу у корист Буџетског фонда за ванредне ситуације"]
[714446,"Средства остварена на основу издвајања надлежног органа за послове цивилног ваздухопловства, намењена, за потребе службе за трагање и спасавање у случају удеса ваздухоплова у корист Буџетског фонда за ванредне ситуације"]
[714447,"Средства остварена по основу 1% прихода од продаје улазница за спортске догађаје, по пријављеном догађају Министарству унутрашњих послова у корист Буџетског фонда за ванредне ситуације"]
[714448,"Средства у износу 10% од уплаћене премије осигурања усева и плодова за финансирање система одбране од града"]
[714500,"Порези, таксе и накнаде на употребу добара, на дозволу да се добра употребљавају или делатности обављају"]
[714510,"Порези, таксе и накнаде на моторна возила"]
[714511,"Порез на употребу моторних возила"]
[714512,"Посебна такса за регистрацију одређених моторних возила"]
[714513,"Комунална такса за држање моторних друмских и прикључних возила, осим пољопривредних возила и машина"]
[714514,"Годишња накнада за моторна возила, тракторе и прикључна возила"]
[714516,"Годишња накнада за остала возила на моторни погон"]
[714517,"Посебна накнада за регистрацију одређених возила"]
[714520,"Порези на употребу, држање и ношење добара"]
[714521,"Порез на употребу мобилног телефона"]
[714522,"Порез на употребу пловних објеката - пловила"]
[714523,"Порез на употребу ваздухоплова и летелица"]
[714524,"Порез на регистровано оружје"]
[714525,"Накнада за ванредни превоз на државном путу"]
[714530,"Републичке таксе и накнаде за посебне производе и посебне активности"]
[714531,"Такса за приказивање филмова на телевизији и у средствима јавног превоза"]
[714532,"Такса за контролну маркицу за видео касете"]
[714533,"Средства за увођење, функционисање и унапређење система за праћење, контролу и регулисање саобраћаја - видео надзор на путевима од 1,2% бруто премије осигурања од аутоодговорности"]
[714536,"Посебна накнада на цигарете из члана 70. став 2. Закона о дувану"]
[714540,"Накнаде за коришћење добара од општег интереса"]
[714541,"Накнада за коришћење вода"]
[714542,"Накнада за заштиту вода"]
[714543,"Накнада за промену намене обрадивог пољопривредног земљишта"]
[714544,"Накнада за формирање обавезних резерви нафте и деривата нафте при стављању у промет"]
[714545,"Накнада за формирање обавезних резерви нафте и деривата нафте при увозу"]
[714546,"Накнада за коришћење рибарских подручја"]
[714547,"Накнада за загађивање животне средине"]
[714548,"Накнада за супстанце које оштећују озонски омотач и накнада за пластичне кесе"]
[714549,"Накнада од емисије SO2, NO2, прашкастих материја и одложеног отпада"]
[714550,"Концесионе накнаде и боравишне таксе"]
[714551,"Концесиона накнада"]
[714552,"Боравишна такса"]
[714560,"Општинске и градске накнаде"]
[714562,"Посебна накнада за заштиту и унапређење животне средине"]
[714563,"Концесиона накнада за обављање комуналних делатности и приходи од других концесионих послова, које јединице локалне самоуправе закључе у складу са законом"]
[714564,"Накнада за постављање објеката, односно средстава за оглашавање и других објеката и средстава"]
[714570,"Општинске и градске комуналне таксе"]
[714571,"Комунална такса за држање кућних и егзотичних животиња"]
[714572,"Комунална такса за држање средстава за игру (\"забавне игре\")"]
[714573,"Комунална такса за коришћење витрина ради излагања робе ван пословне просторије"]
[714574,"Комунална такса за држање и коришћење пловних постројења, пловних направа и других објеката на води, осим пристана који се користе у пограничном речном саобраћају"]
[714575,"Комунална такса за држање и коришћење чамаца и сплавова на води, осим чамаца које користе организације које одржавају и обележавају пловне путеве"]
[714576,"Комунална такса за држање ресторана и других угоститељских и забавних објеката на води"]
[714580,"Накнаде за коришћење државних путева"]
[714581,"Посебна накнада за употребу државног пута, његовог дела или путног објекта (путарина)"]
[714582,"Накнада за прикључење прилазног пута на државни пут"]
[714583,"Накнада за постављање водовода, канализације, електричних, телефонских и телеграфских водова и сл. на државном путу"]
[714584,"Годишња накнада за коришћење комерцијалних објеката којима је омогућен приступ са државног пута"]
[714585,"Накнада за употребу државног пута за возила регистрована у иностранству"]
[714586,"Накнада за прекомерно коришћење државног пута, његовог дела или путног објекта"]
[714587,"Накнада за изградњу комерцијалних објеката којима је омогућен приступ са државног пута"]
[714590,"Накнаде за коришћење општинских путева и улица"]
[714591,"Посебна накнада за употребу општинског пута и улице, њиховог дела или путног објекта, ако је управљач пута надлежни орган локалне самоуправе"]
[714592,"Накнада за прикључење прилазног пута на општински пут и улицу, ако је управљач пута надлежни орган локалне самоуправе"]
[714593,"Накнада за постављање водовода, канализације, електричних, телефонских и телеграфских водова и сл. на општинском путу и улици, ако је управљач пута надлежни орган локалне самоуправе"]
[714594,"Годишња накнада за коришћење комерцијалних објеката којима је омогућен приступ са општинског пута и улице, ако је управљач пута надлежни орган локалне самоуправе"]
[714595,"Накнада за постављање објеката и средстава за оглашавање и обавештавање у пределу општинског пута и улице, ако је управљач пута надлежни орган локалне самоуправе"]
[714596,"Накнада за прекомерно коришћење општинског пута и улице, његовог дела или путног објекта, ако је управљач пута надлежни орган локалне самоуправе"]
[714597,"Накнада за изградњу комерцијалних објеката којима је омогућен приступ са општинског пута , ако је управљач пута надлежни орган локалне самоуправе"]
[714598,"Накнада за ванредни превоз на општинском путу и улици, ако је управљач пута надлежни орган локалне самоуправе"]
[714599,"Накнада за закуп делова земљишног појаса општинског пута и улице, ако је управљач пута надлежни орган локалне самоуправе"]
[714600,"Други порези на добра и услуге"]
[714610,"Други порези на добра и услуге"]
[714611,"Други порези на добра и услуге"]
[715000,"ПОРЕЗ НА МЕЂУНАРОДНУ ТРГОВИНУ И ТРАНСАКЦИЈЕ"]
[715100,"Царине и друге увозне дажбине"]
[715110,"Царинске таксе"]
[715111,"Царинске таксе"]
[715120,"Царинске дажбине"]
[715121,"Царинске дажбине"]
[715190,"Остале увозне дажбине и складиштење"]
[715191,"Посебна дажбина на увоз пољопривредних и прехрамбених производа"]
[715192,"Дажбина за царинско евидентирање"]
[715193,"Дажбина за држање роба у царинским магацинима и стовариштима"]
[715200,"Порези на извоз"]
[715210,"Порези на извоз"]
[715211,"Порези на извоз"]
[715300,"Добит извозних или увозних монопола"]
[715310,"Добит извозних или увозних монопола"]
[715311,"Добит извозних или увозних монопола"]
[715400,"Добит по основу разлике између куповног и продајног девизног курса"]
[715410,"Добит по основу разлике између куповног и продајног девизног курса"]
[715411,"Добит по основу разлике између куповног и продајног девизног курса"]
[715500,"Порези на продају или куповину девиза"]
[715510,"Порези на продају или куповину девиза"]
[715511,"Порези на продају или куповину девиза"]
[715600,"Други порези на међународну трговину и трансакције"]
[715610,"Други порези на међународну трговину и трансакције"]
[715611,"Други порези на међународну трговину и трансакције"]
[716000,"ДРУГИ ПОРЕЗИ"]
[716100,"Други порези које искључиво плаћају предузећа, односно предузетници"]
[716110,"Комунална такса на фирму"]
[716111,"Комунална такса за истицање фирме на пословном простору"]
[716112,"Комунална такса за истицање и исписивање фирме ван пословног простора на објектима и просторима који припадају јединици локалне самоуправе (коловози, тротоари, зелене површине, бандере и сл.)"]
[716200,"Други порези које плаћају остала лица или који се не могу идентификовати"]
[716210,"Средства прикупљена за време \"Дечије недеље\""]
[716211,"Средства прикупљена за време \"Дечије недеље\""]
[716220,"Средства остварена продајом доплатне поштанске марке"]
[716221,"Средства остварена продајом доплатне поштанске марке \"Борба против рака\""]
[716222,"Средства остварена продајом доплатне поштанске марке \"Борба против СИДЕ\""]
[716223,"Средства остварена продајом доплатне поштанске марке \"Изградња Спомен-храма Светог Саве\""]
[716224,"Средства остварена продајом доплатне поштанске марке \"Европско првенство у ватерполу 2016\""]
[716225,"Средства остварена продајом доплатне поштанске марке \"Школа без насиља“"]
[716226,"Средства остварена продајом доплатне поштанске марке \"Кров 2016“"]
[716227,"Средства остварена продајом доплатне поштанске марке \"МЕДАЉА СЕ ОСВАЈА СРЦЕМ - РИО 2016\""]
[716228,"Средства остварена продајом доплатне поштанске марке \"Народна библиотека Србије на врачарском платоу 1973-2013\""]
[716229,"Средства остварена продајом доплатне поштанске марке \"75 година бициклистичке трке кроз Србију\""]
[717000,"AКЦИЗЕ"]
[717100,"Акцизе на деривате нафте"]
[717110,"Акцизе на деривате нафте произведене у земљи"]
[717111,"Акциза на моторни бензин"]
[717112,"Акциза на дизел-горива"]
[717113,"Акциза на све врсте моторног бензина и све врсте дизел-горива који су продати купцима са територије АП Косово и Метохија"]
[717114,"Акциза на остале деривате нафте који се добијају од фракција нафте које имају распон дестилације до 380ºС"]
[717115,"Акциза на течни нафтни гас"]
[717116,"Акциза на оловни бензин"]
[717117,"Акциза на безоловни бензин"]
[717118,"Акциза на гасна уља"]
[717119,"Акциза на керозин"]
[717120,"Акцизе на деривате нафте при увозу"]
[717121,"Акциза при увозу моторног бензина"]
[717122,"Акциза при увозу дизел-горива"]
[717123,"Акциза при увозу лож уља"]
[717124,"Акциза при увозу осталих деривата нафте који се добијају од фракција нафте које имају распон дестилације до 380ºС"]
[717125,"Акциза при увозу течног нафтног гаса"]
[717126,"Акциза при увозу оловног бензина"]
[717127,"Акциза при увозу безоловног бензина"]
[717128,"Акциза при увозу гасних уља"]
[717129,"Акциза при увозу керозина"]
[717130,"Акцизе на адитиве и екстендере за додавање у погонска горива произведена у земљи"]
[717131,"Акциза на адитиве и екстендере за безоловни бензин"]
[717132,"Акциза на адитиве и екстендере за гасна уља"]
[717133,"Акциза на адитиве и екстендере за керозин"]
[717134,"Акциза на адитиве и екстендере за течни нафтни гас"]
[717140,"Акцизе при увозу адитива и екстендера за додавање у погонска горива"]
[717141,"Акциза при увозу адитива и екстендера за безоловни бензин"]
[717142,"Акциза при увозу адитива и екстендера за гасна уља"]
[717143,"Акциза при увозу адитива и екстендера за керозин"]
[717144,"Акциза при увозу адитива и екстендера за течни нафтни гас"]
[717150,"Акцизе на биогорива и биотечности"]
[717151,"Акциза на биогорива и биотечности произведене у земљи"]
[717152,"Акциза на биогорива и биотечности из увоза"]
[717200,"Акцизе на дуванске прерађевине"]
[717210,"Акцизе на дуванске прерађевине произведене у земљи"]
[717211,"Акциза на цигарете групе А"]
[717212,"Акциза на цигарете групе Б"]
[717213,"Акциза на цигарете групе Ц"]
[717214,"Акциза на цигарете произведене у земљи"]
[717215,"Акциза на остале дуванске прерађевине"]
[717220,"Акцизе на дуванске прерађевине при увозу"]
[717221,"Акциза при увозу цигарета групе А"]
[717222,"Акциза на цигарете из увоза"]
[717223,"Акциза при увозу осталих дуванских прерађевина"]
[717230,"Акцизе на течности за пуњење електронских цигарета"]
[717231,"Акциза на течности за пуњење електронских цигарета произведених у земљи"]
[717232,"Акциза на течности за пуњење електронских цигарета при увозу"]
[717300,"Акцизе на алкохолна пића"]
[717310,"Акцизе на алкохолна пића произведена у земљи"]
[717311,"Акциза на пиво"]
[717312,"Акциза на природну ракију и вињак"]
[717313,"Акциза на нискоалкохолна пића"]
[717314,"Акциза на жестока алкохолна пића и ликере"]
[717315,"Акциза на ракије од воћа, грожђа, специјалне ракије"]
[717316,"Акциза на ракије од житарица и осталих пољопривредних сировина"]
[717317,"Акциза на остала алкохолна пића"]
[717320,"Акцизе на алкохолна пића при увозу"]
[717321,"Акциза при увозу пива"]
[717322,"Акциза при увозу природне ракије и вињака"]
[717323,"Акциза на нискоалкохолна пића из увоза"]
[717324,"Акциза при увозу жестоких алкохолних пића и ликера"]
[717325,"Акциза при увозу вискија, џина, коњака и осталих алкохолних пића"]
[717326,"Акциза при увозу ракија од воћа, грожђа и специјалних ракија"]
[717327,"Акциза при увозу ракија од житарица и осталих пољопривредних сировина"]
[717400,"Акцизе на освежавајућа безалкохолна пића"]
[717410,"Акцизе при увозу освежавајућих безалкохолних пића"]
[717411,"Акциза при увозу освежавајућих безалкохолних пића"]
[717500,"Акцизе на кафу"]
[717510,"Акцизе при увозу кафе"]
[717511,"Акциза при увозу кафе (сирова, пржена, млевена и екстракт кафе)"]
[717512,"Акциза при увозу непржене кафе"]
[717513,"Акциза при увозу пржене кафе"]
[717514,"Акциза при увозу љуспица и опни од кафе"]
[717515,"Акциза при увозу екстракта, есенција и концентрата од кафе"]
[717516,"Акциза при увозу кафе из члана 14. став 1. тач. 5) до 8) Закона о акцизама"]
[717600,"Друге акцизе"]
[717610,"Друге акцизе"]
[717611,"Посебна такса за изравнање пореског оптерећења за робу која се упућује на територију АП Косово и Метохија"]
[717612,"Такса за добра која се допремају са територије АП Косово и Метохија, а на која се плаћа акциза"]
[717613,"Акциза на електричну енергију за крајњу потрошњу"]
[719000,"ЈЕДНОКРАТНИ ПОРЕЗ НА ЕКСТРА ПРОФИТ И ЕКСТРА ИМОВИНУ СТЕЧЕНУ КОРИШЋЕЊЕМ ПОСЕБНИХ ПОГОДНОСТИ"]
[719100,"Порез на доходак, добит и капиталну добит на терет физичких лица"]
[719110,"Једнократни порез по основу привилеговане исплате замрзнуте старе девизне штедње и штедње у пирамидалним банкама у износу већем од 10.000 DEM по штедном улогу"]
[719111,"Једнократни порез по основу привилеговане исплате замрзнуте старе девизне штедње и штедње у пирамидалним банкама у износу већем од 10.000 DEM по штедном улогу, по решењу Пореске управе"]
[719200,"Порез на доходак, добит и капиталну добит на терет предузећа и осталих правних лица"]
[719210,"Једнократни порез по основу коришћења средстава примарне и сиве емисије новца у финансијским трансакцијама"]
[719211,"Једнократни порез по основу коришћења средстава примарне и сиве емисије новца у финансијским трансакцијама, по решењу Пореске управе"]
[719220,"Једнократни порез по основу куповине девиза по званичном курсу Народне банке Југославије у ситуацији када је тржишни курс био виши"]
[719221,"Једнократни порез по основу куповине девиза по званичном курсу Народне банке Југославије у ситуацији када је тржишни курс био виши, по решењу Пореске управе"]
[719230,"Једнократни порез по основу изношења девиза по основу авансног плаћања увоза који касније није реализован, односно по основу фактурисаних, а неизвршених услуга"]
[719231,"Једнократни порез по основу изношења девиза по основу авансног плаћања увоза који касније није реализован, односно по основу фактурисаних, а неизвршених услуга, по решењу Пореске управе"]
[719240,"Једнократни порез по основу увоза и извоза производа на режиму контингента или квоте, остварен коришћењем посебних погодности за добијање контингента, односно квоте"]
[719241,"Једнократни порез по основу увоза и извоза производа на режиму контингента или квоте, остварен коришћењем посебних погодности за добијање контингента, односно квоте, по решењу Пореске управе"]
[719250,"Једнократни порез по основу коришћења средстава правног лица на која нису плаћене прописане јавне дажбине (коришћење средстава непредатог пазара, других средстава од наплаћених потраживања која нису приказана као приход и др.)"]
[719251,"Једнократни порез по основу коришћења средстава правног лица на која нису плаћене прописане јавне дажбине (коришћење средстава непредатог пазара, других средстава од наплаћених потраживања која нису приказана као приход и др.), по решењу Пореске управе"]
[719260,"Једнократни порез на екстра профит и екстра имовину стечену употребом јавних средстава или других јавних ресурса под привилегованим условима"]
[719261,"Једнократни порез по основу снабдевања робних резерви и куповине из робних резерви под привилегованим условима (без јавне лицитације, односно непосредном погодбом), по решењу Пореске управе"]
[719262,"Једнократни порез по основу располагања буџетским средствима, средствима организација за обавезно социјално осигурање, средствима јавних фондова и средствима јавних предузећа и јавних установа супротно прописима, односно утврђеној намени, по решењу Пореске управе"]
[719263,"Једнократни порез по основу коришћења средстава јавних прихода депонованих по камати нижој од камате која би се у тренутку депоновања могла постићи на тржишту, за пласман по вишој каматној стопи, по решењу Пореске управе"]
[719264,"Једнократни порез по основу ненаменског коришћења средстава додељених по основу дневница солидарности, средстава остварених од посебне таксе на пословне трансакције, доприноса солидарности на пословне трансакције за отклањање последица земљотреса у Колубарском округу и других јавних прихода са сличном наменом, по решењу Пореске управе"]
[719265,"Једнократни порез по основу коришћења средстава по основу Зајма за привредни развој Србије, по решењу Пореске управе"]
[719300,"Порез на доходак, добит и капиталну добит нераспоредив између физичких и правних лица"]
[719310,"Једнократни порез по основу коришћења кредита за стицање пословног простора или других непокретности, односно опреме, под условима повољнијим за дужника од тржишних"]
[719311,"Једнократни порез по основу коришћења кредита за стицање пословног простора или других непокретности, односно опреме, под условима повољнијим за дужника од тржишних, по решењу Пореске управе"]
[719320,"Једнократни порез по основу пословања јавним средствима или средствима друштвених, мешовитих, односно државних предузећа, или њихово коришћење, од стране физичког или правног лица, по основу трансферисања тих средстава у иностранство на рачун тога лица или на рачун другог физичког или правног лица"]
[719321,"Једнократни порез по основу пословања јавним средствима или средствима друштвених, мешовитих, односно државних предузећа или њихово коришћење од стране физичког или правног лица, по основу трансферисања тих средстава у иностранство на рачун тога лица или на рачун другог физичког или правног лица, по решењу Пореске управе"]
[719330,"Једнократни порез по основу коришћења средстава депонованих од стране грађана у пирамидалним банкама и штедионицама као позајмица"]
[719331,"Једнократни порез по основу коришћења средстава депонованих од стране грађана у пирамидалним банкама и штедионицама као позајмица, по решењу Пореске управе"]
[719400,"Остали једнократни порези на имовину"]
[719410,"Једнократни порез по основу злоупотреба у приватизацији предузећа од стране директора и чланова органа управљања или чланова њихових породица"]
[719411,"Једнократни порез по основу злоупотреба у приватизацији предузећа од стране директора и чланова органа управљања или чланова њихових породица, по решењу Пореске управе"]
[719412,"Једнократни порез по основу откупа стана (станова) укупне површине веће од 90 метара квадратних од стране изабраног, постављеног или именованог функционера, функционера политичке странке, директора или члана органа управљања правног лица у државној, друштвеној или мешовитој својини са претежним учешћем друштвеног капитала, осим ако одговарајућим општим актом није било предвиђено право на стан веће површине, у којем се случају као припадајућа узима тако предвиђена површина, по решењу Пореске управе"]
[719413,"Једнократни порез по основу коришћења кредита по посебним погодностима за куповину, односно за откуп стана (станова), по решењу Пореске управе"]
[719414,"Једнократни порез по основу изградње репрезентативног стамбеног, односно пословног објекта, чија је укупна површина већа од прописане и дозвољене, по решењу Пореске управе"]
[719415,"Једнократни порез по основу куповине градског грађевинског или пољопривредног земљишта које је било у друштвеној својини од стране изабраног, постављеног или именованог лица, односно функционера локалне самоуправе, те чланова његове породице, када је на лицитацији учествовало само једно лице, по решењу Пореске управе"]
[719500,"Остали порези које плаћају искључиво предузећа и предузетници"]
[719510,"Једнократни порез по основу увоза и дистрибуције акцизних производа без плаћања царина, других увозних дажбина, акциза, других пореза на потрошњу и пореза на промет"]
[719511,"Једнократни порез по основу увоза и дистрибуције акцизних производа без плаћања царина, других увозних дажбина, акциза, других пореза на потрошњу и пореза на промет, по решењу Пореске управе"]
[719600,"Остали порези које плаћају друга или неидентификована лица"]
[719610,"Једнократни порез по различитим основама"]
[719611,"Једнократни порез по различитим основама, по решењу Пореске управе"]
[720000,"СОЦИЈАЛНИ ДОПРИНОСИ"]
[721000,"ДОПРИНОСИ ЗА СОЦИЈАЛНО ОСИГУРАЊЕ"]
[721100,"Доприноси за социјално осигурање на терет запослених"]
[721110,"Доприноси за пензијско и инвалидско осигурање"]
[721111,"Допринос за пензијско и инвалидско осигурање запослених на терет запослених код правних лица"]
[721112,"Допринос за пензијско и инвалидско осигурање за запослене код физичких лица на терет запослених"]
[721113,"Допринос за пензијско и инвалидско осигурање запослених који су у радном односу код приватних послодаваца (самосталних делатности) на терет запослених"]
[721114,"Допринос за пензијско и инвалидско осигурање за лица на продуженом осигурању"]
[721115,"Допринос за пензијско и инвалидско осигурање за докуп стажа"]
[721116,"Допринос за пензијско и инвалидско осигурање запослених који обављају послове преко омладинских задруга на терет задругара"]
[721117,"Допринос за пензијско и инвалидско осигурање запослених који остварују накнаду по основу ауторског права, уговора о делу и других новчаних накнада на терет примаоца накнаде"]
[721118,"Допринос за пензијско и инвалидско осигурање на терет запослених - за војне осигуранике"]
[721119,"Допринос за пензијско и инвалидско осигурање војних осигураника који остварују накнаду по основу ауторског права, уговора о делу и других новчаних накнада на терет примаоца накнаде"]
[721120,"Доприноси за здравствено осигурање"]
[721121,"Допринос за здравствено осигурање запослених на терет запослених"]
[721122,"Допринос за здравствено осигурање запослених на терет запослених - за војне осигуранике"]
[721130,"Доприноси за случај незапослености"]
[721131,"Допринос за осигурање за случај незапослености на терет запослених"]
[721200,"Доприноси за социјално осигурање на терет послодавца"]
[721210,"Доприноси за пензијско и инвалидско осигурање"]
[721211,"Допринос за пензијско и инвалидско осигурање запослених на терет послодавца који се финансира из буџета и фондова обавезног социјалног осигурања"]
[721212,"Допринос за пензијско и инвалидско осигурање запослених на терет послодавца - правног лица које се не финансира из буџета и фондова обавезног социјалног осигурања"]
[721213,"Допринос за пензијско и инвалидско осигурање за запослене код физичких лица на терет послодавца"]
[721214,"Допринос за пензијско и инвалидско осигурање запослених који су у радном односу код приватних послодаваца (предузетника) на терет послодавца"]
[721215,"Додатни допринос за пензијско и инвалидско осигурање запослених на исплаћена лична примања и друге приходе запослених, којима се стаж осигурања рачуна са увећаним трајањем који плаћа послодавац"]
[721216,"Додатни допринос за пензијско и инвалидско осигурање запослених на исплаћена лична примања и друге приходе запослених, којима се стаж осигурања рачуна са увећаним трајањем који плаћа послодавац који се финансира из буџета и фондова обавезног социјалног осигурања"]
[721217,"Допринос за пензијско и инвалидско осигурање лица на породиљском одсуству који плаћа исплатилац накнаде зараде, односно плате"]
[721218,"Допринос за пензијско и инвалидско осигурање запослених који обављају послове преко омладинских задруга на терет послодавца"]
[721219,"Допринос за пензијско и инвалидско осигурање војних осигураника - на терет послодавца, додатни допринос за пензијско и инвалидско осигурање војних осигураника на исплаћена лична примања и друге приходе војних осигураника, којима се стаж осигурања рачуна са увећаним трајањем који плаћа послодавац и допринос за пензијско и инвалидско осигурање војних осигураника на породиљском одсуству који плаћа исплатилац накнаде зараде, односно плате"]
[721220,"Доприноси за здравствено осигурање"]
[721221,"Допринос за здравствено осигурање запослених на терет послодавца који се финансира из буџета и фондова обавезног социјалног осигурања"]
[721222,"Допринос за здравствено осигурање запослених на терет послодавца који се не финансира из буџета и фондова обавезног социјалног осигурања"]
[721223,"Допринос за здравствено осигурање лица на породиљском одсуству који плаћа исплатилац накнаде зараде, односно плате"]
[721224,"Допринос за здравствено осигурање за лица која остварују друге приходе на терет послодавца који се финансира из буџета и фондова обавезног социјалног осигурања"]
[721225,"Допринос за здравствено осигурање за лица која остварују друге приходе на терет послодавца који се не финансира из буџета и фондова обавезног социјалног осигурања"]
[721226,"Допринос за здравствено осигурање запослених на терет послодавца - за војне осигуранике"]
[721230,"Доприноси за случај незапослености"]
[721231,"Допринос за осигурање за случај незапослености на терет послодавца који се финансира из буџета и фондова обавезног социјалног осигурања"]
[721232,"Допринос за осигурање за случај незапослености на терет послодавца који се не финансира из буџета и фондова обавезног социјалног осигурања"]
[721233,"Допринос за осигурање од незапослености лица на породиљском одсуству који плаћа исплатилац накнаде, односно плате"]
[721300,"Доприноси за социјално осигурање лица која обављају самосталну делатност и незапослених лица"]
[721310,"Доприноси за пензијско и инвалидско осигурање"]
[721311,"Допринос за пензијско и инвалидско осигурање за лица којима се обезбеђују права за случај инвалидности и телесног оштећења проузрокованих повредом на раду или професионалном болешћу"]
[721312,"Допринос за пензијско и инвалидско осигурање лица која се баве пољопривредом (пољопривредник, члан домаћинства пољопривредника и мешовитог домаћинства, носилац или члан регистрованог пољопривредног газдинства), по решењу Пореске управе"]
[721313,"Допринос за пензијско и инвалидско осигурање за лица која у складу са законом самостално обављају привредну или другу делатност, свештеника и верских службеника, ако нису обавезно осигурани по основу запослења и лица која су оснивачи, односно власници привредних друштава који у њима раде, по решењу Пореске управе, као и лица која су оснивачи, односно чланови привредног друштва, за које привредно друштво обрачунава и плаћа допринос"]
[721314,"Допринос за пензијско и инвалидско осигурање лица која су оснивачи, односно чланови привредних друштава који су у радном односу у привредном друштву чији су оснивач, односно члан"]
[721315,"Допринос за пензијско и инвалидско осигурање осигураника самосталних делатности, који обављају послове по основу уговора о делу, ауторских уговора, односно других уговора"]
[721316,"Допринос за пензијско и инвалидско осигурање пољопривредника који остварују накнаду по основу ауторског права, патената и техничких унапређења, уговора о делу и других уговора"]
[721317,"Допринос за пензијско и инвалидско осигурање лица којима је обавеза плаћања доприноса утврђена од стране пензијског фонда у поступку утврђивања својства осигураника пољопривредника по члану 63. Закона о доприносима за обавезно социјално осигурање"]
[721318,"Допринос за пензијско и инвалидско осигурање лица којима је обавеза плаћања доприноса утврђена од стране пензијског фонда у поступку утврђивања својства осигураника самосталних делатности по члану 63. Закона о доприносима за обавезно социјално осигурање"]
[721319,"Додатни допринос за пензијско и инвалидско осигурање за стаж осигураника са увећаним трајањем лица која обављају самосталну делатност, по решењу Републичког фонда за пензијско и инвалидско осигурање"]
[721320,"Доприноси за здравствено осигурање"]
[721321,"Допринос за здравствено осигурање пољопривредника који се баве пољопривредом ако нису запослени или не обављају самосталну делатност као основно занимање, по решењу Пореске управе"]
[721322,"Допринос за здравствено осигурање других физичких лица која су власници, имаоци права коришћења или плодоуживања пољопривредног или шумског земљишта"]
[721323,"Допринос за здравствено осигурање лица која самостално обављају делатност као основно занимање, оснивача, односно чланова привредног друштва, за које привредно друштво обрачунава и плаћа допринос"]
[721324,"Допринос за здравствено осигурање лица која остварују приходе од ауторских права, патената или техничких унапређења"]
[721325,"Допринос за здравствено осигурање лица која самостално обављају делатност као основно занимање, оснивача, односно чланова привредног друштва, по решењу Пореске управе"]
[721330,"Доприноси за случај незапослености"]
[721331,"Допринос за осигурање за случај незапослености лица која самостално обављају делатност као основно занимање, оснивача, односно чланова привредног друштва, по решењу Пореске управе, као и лица која су оснивачи, односно чланови привредног друштва, за које привредно друштво обрачунава и плаћа допринос"]
[721332,"Допринос за осигурање за случај незапослености осигураника који остварују приходе од ауторских права, патената и техничких унапређења"]
[721340,"Доприноси за пензијско и инвалидско осигурање самоопорезивањем"]
[721341,"Допринос за пензијско и инвалидско осигурање самоопорезивањем лица која се баве пољопривредом (пољопривредник, члан домаћинства пољопривредника и мешовитог домаћинства, носилац или члан регистрованог пољопривредног газдинства)"]
[721342,"Допринос за пензијско и инвалидско осигурање самоопорезивањем за лица која, у складу са законом, самостално обављају привредну или другу делатност"]
[721350,"Доприноси за здравствено осигурање самоопорезивањем"]
[721351,"Допринос за здравствено осигурање лица која самостално обављају делатност као основно занимање, а порез плаћају самоопорезивањем"]
[721360,"Доприноси за случај незапослености самоопорезивањем"]
[721361,"Допринос за осигурање за случај незапослености самоопорезивањем лица која самостално обављају делатност"]
[721400,"Доприноси за социјално осигурање који се не могу разврстати"]
[721410,"Доприноси за пензијско и инвалидско осигурање"]
[721411,"Допринос за пензијско и инвалидско осигурање за осигуранике запослене, за лица којима се накнадно утврђује стаж осигурања, по решењу Републичког фонда за ПИО"]
[721412,"Допринос за пензијско и инвалидско осигурање за добровољно осигурање"]
[721413,"Допринос за пензијско и инвалидско осигурање запослених, за лица која се укључују у обавезно осигурање"]
[721414,"Допринос за пензијско и инвалидско осигурање по члану 120. Закона о пензијском и инвалидском осигурању, који за обвезнике, обуставом 1/3 месечног износа пензије, уплаћује Републички фонд за пензијско и инвалидско осигурање за осигуранике самосталних делатности, по решењу Пореске управе"]
[721415,"Допринос за пензијско и инвалидско осигурање по члану 13. Закона о уплати доприноса за пензијско и инвалидско осигурање за поједине категорије осигураника - запослених, који за осигуранике уплаћује Републички фонд за пензијско и инвалидско осигурање за осигуранике самосталних делатности"]
[721416,"Допринос за пензијско и инвалидско осигурање по члану 120. Закона о пензијском и инвалидском осигурању, који за обвезнике, обуставом 1/3 месечног износа пензије, уплаћује Републички фонд за пензијско и инвалидско осигурање за осигуранике пољопривреднике, по решењу Пореске управе"]
[721417,"Допринос за пензијско и инвалидско осигурање по члану 120. Закона о пензијском и инвалидском осигурању, који за обвезнике самосталних делатности, обуставом 1/3 месечног износа пензије, уплаћује Републички фонд за пензијско и инвалидско осигурање, по решењу Пореске управе"]
[721418,"Допринос за пензијско и инвалидско осигурање по члану 120. Закона о пензијском и инвалидском осигурању, који за обвезнике пољопривреднике, обуставом 1/3 месечног износа пензијe, уплаћује Републички фонд за пензијско и инвалидско осигурање, по решењу Пореске управе"]
[721419,"Допринос за пензијско и инвалидско осигурање за лица, која, у складу са законом, самостално обављају привредну или другу делатност, свештеника и верских службеника, а обавезно су осигурани по другом основу, по решењу Пореске управе"]
[721420,"Приходи по основу неуплаћеног доприноса за здравствено осигурање по судским решењима"]
[721421,"Приходи по основу неуплаћеног доприноса за здравствено осигурање по судским решењима"]
[721430,"Доприноси за здравствено осигурање страних држављана на школовању или стручном усавршавању"]
[721431,"Допринос за здравствено осигурање страних држављана на школовању или стручном усавршавању"]
[721432,"Допринос за здравствено осигурање лица која се укључују у обавезно здравствено осигурање"]
[722000,"ОСТАЛИ СОЦИЈАЛНИ ДОПРИНОСИ"]
[722100,"Социјални доприноси на терет осигураника"]
[722110,"Социјални доприноси на терет осигураника"]
[722111,"Социјални доприноси на терет осигураника"]
[722200,"Социјални доприноси на терет послодавца"]
[722210,"Социјални доприноси на терет послодавца"]
[722211,"Социјални доприноси на терет послодавца"]
[722300,"Импутирани социјални доприноси"]
[722310,"Импутирани социјални доприноси"]
[722311,"Импутирани социјални доприноси"]
[730000,"ДОНАЦИЈЕ, ПОМОЋИ И ТРАНСФЕРИ"]
[731000,"ДОНАЦИЈЕ ОД ИНОСТРАНИХ ДРЖАВА"]
[731100,"Текуће донације од иностраних држава"]
[731120,"Текуће донације од иностраних држава у корист нивоа Републике"]
[731121,"Текуће донације од иностраних држава у корист нивоа Републике"]
[731130,"Текуће донације од иностраних држава у корист нивоа територијалних аутономија"]
[731131,"Текуће донације од иностраних држава у корист нивоа АП Војводина"]
[731132,"Текуће донације од иностраних држава у корист нивоа АП Косово и Метохија"]
[731140,"Текуће донације од иностраних држава у корист нивоа градова"]
[731141,"Текуће донације од иностраних држава у корист нивоа градова"]
[731150,"Текуће донације од иностраних држава у корист нивоа општина"]
[731151,"Текуће донације од иностраних држава у корист нивоа општина"]
[731160,"Текуће донације од иностраних држава у корист организација за обавезно социјално осигурање"]
[731161,"Текуће донације од иностраних држава у корист Републичког фонда за здравствено осигурање"]
[731162,"Текуће донације од иностраних држава у корист Републичког фонда за ПИО"]
[731165,"Текуће донације од иностраних држава у корист Националне службе за запошљавање"]
[731166,"Текуће донације од иностраних држава у корист Фонда за социјално осигурање војних осигураника"]
[731200,"Капиталне донације од иностраних држава"]
[731220,"Капиталне донације од иностраних држава у корист нивоа Републике"]
[731221,"Капиталне донације од иностраних држава у корист нивоа Републике"]
[731230,"Капиталне донације од иностраних држава у корист нивоа територијалних аутономија"]
[731231,"Капиталне донације од иностраних држава у корист нивоа АП Војводина"]
[731232,"Капиталне донације од иностраних држава у корист нивоа АП Косово и Метохија"]
[731240,"Капиталне донације од иностраних држава у корист нивоа градова"]
[731241,"Капиталне донације од иностраних држава у корист нивоа градова"]
[731250,"Капиталне донације од иностраних држава у корист нивоа општина"]
[731251,"Капиталне донације од иностраних држава у корист нивоа општина"]
[731260,"Капиталне донације од иностраних држава у корист организација за обавезно социјално осигурање"]
[731261,"Капиталне донације од иностраних држава у корист Републичког фонда за здравствено осигурање"]
[731262,"Капиталне донације од иностраних држава у корист Републичког фонда за ПИО"]
[731265,"Капиталне донације од иностраних држава у корист Националне службе за запошљавање"]
[731266,"Капиталне донације од иностраних држава у корист Фонда за социјално осигурање војних осигураника"]
[732000,"ДОНАЦИЈЕ И ПОМОЋИ ОД МЕЂУНАРОДНИХ ОРГАНИЗАЦИЈА"]
[732100,"Текуће донације од међународних организација"]
[732120,"Текуће донације од међународних организација у корист нивоа Републике"]
[732121,"Текуће донације од међународних организација у корист нивоа Републике"]
[732130,"Текуће донације од међународних организација у корист нивоа територијалних аутономија"]
[732131,"Текуће донације од међународних организација у корист нивоа АП Војводина"]
[732132,"Текуће донације од међународних организација у корист нивоа АП Косово и Метохија"]
[732140,"Текуће донације од међународних организација у корист нивоа градова"]
[732141,"Текуће донације од међународних организација у корист нивоа градова"]
[732150,"Текуће донације од међународних организација у корист нивоа општина"]
[732151,"Текуће донације од међународних организација у корист нивоа општина"]
[732160,"Текуће донације од међународних организација у корист организација за обавезно социјално осигурање"]
[732161,"Текуће донације од међународних организација у корист Републичког фонда за здравствено осигурање"]
[732162,"Текуће донације од међународних организација у корист Републичког фонда за ПИО"]
[732165,"Текуће донације од међународних организација у корист Националнe службe за запошљавање"]
[732166,"Текуће донације од међународних организација у корист Фонда за социјално осигурање војних осигураника"]
[732200,"Капиталне донације од међународних организација"]
[732220,"Капиталне донације од међународних организација у корист нивоа Републике"]
[732221,"Капиталне донације од међународних организација у корист нивоа Републике"]
[732230,"Капиталне донације од међународних организација у корист нивоа територијалних аутономија"]
[732231,"Капиталне донације од међународних организација у корист нивоа АП Војводина"]
[732232,"Капиталне донације од међународних организација у корист нивоа АП Косово и Метохија"]
[732240,"Капиталне донације од међународних организација у корист нивоа градова"]
[732241,"Капиталне донације од међународних организација у корист нивоа градова"]
[732250,"Капиталне донације од међународних организација у корист нивоа општина"]
[732251,"Капиталне донације од међународних организација у корист нивоа општина"]
[732260,"Капиталне донације од међународних организација у корист организација за обавезно социјално осигурање"]
[732261,"Капиталне донације од међународних организација у корист Републичког фонда за здравствено осигурање"]
[732262,"Капиталне донације од међународних организација у корист Републичког фонда за ПИО"]
[732265,"Капиталне донације од међународних организација у корист Националне службе за запошљавање"]
[732266,"Капиталне донације од међународних организација у корист Фонда за социјално осигурање војних осигураника"]
[732300,"Текуће помоћи од ЕУ"]
[732310,"Текуће помоћи од ЕУ у корист нивоа Републике"]
[732311,"Текуће помоћи од ЕУ у корист нивоа Републике"]
[732320,"Текуће помоћи од ЕУ у корист нивоа територијалних аутономија"]
[732321,"Текуће помоћи од ЕУ у корист нивоа АП Војводина"]
[732322,"Текуће помоћи од ЕУ у корист нивоа АП Косово и Метохија"]
[732330,"Текуће помоћи од ЕУ у корист нивоа градова"]
[732331,"Текуће помоћи од ЕУ у корист нивоа градова"]
[732340,"Текуће помоћи од ЕУ у корист нивоа општина"]
[732341,"Текуће помоћи од ЕУ у корист нивоа општина"]
[732350,"Текуће помоћи од ЕУ у корист организација за обавезно социјално осигурање"]
[732351,"Текуће помоћи од ЕУ у корист Републичког фонда за здравствено осигурање"]
[732352,"Текуће помоћи од ЕУ у корист Републичког фонда за ПИО"]
[732353,"Текуће помоћи од ЕУ у корист Националне службе за запошљавање"]
[732356,"Текуће помоћи од ЕУ у корист Фонда за социјално осигурање војних осигураника"]
[732400,"Капиталне помоћи од ЕУ"]
[732410,"Капиталне помоћи од ЕУ у корист нивоа Републике"]
[732411,"Капиталне помоћи од ЕУ у корист нивоа Републике"]
[732420,"Капиталне помоћи од ЕУ у корист нивоа територијалних аутономија"]
[732421,"Капиталне помоћи од ЕУ у корист нивоа АП Војводина"]
[732422,"Капиталне помоћи од ЕУ у корист нивоа АП Косово и Метохија"]
[732430,"Капиталне помоћи од ЕУ у корист нивоа градова"]
[732431,"Капиталне помоћи од ЕУ у корист нивоа градова"]
[732440,"Капиталне помоћи од ЕУ у корист нивоа општина"]
[732441,"Капиталне помоћи од ЕУ у корист нивоа општина"]
[732450,"Капиталне помоћи од ЕУ у корист организација за обавезно социјално осигурање"]
[732451,"Капиталне помоћи од ЕУ у корист Републичког фонда за здравствено осигурање"]
[732452,"Капиталне помоћи од ЕУ у корист Републичког фонда за ПИО"]
[732453,"Капиталне помоћи од ЕУ у корист Националне службе за запошљавање"]
[732456,"Капиталне помоћи од ЕУ у корист Фонда за социјално осигурање војних осигураника"]
[733000,"ТРАНСФЕРИ ОД ДРУГИХ НИВОА ВЛАСТИ"]
[733100,"Текући трансфери од других нивоа власти"]
[733120,"Текући трансфери од других нивоа власти у корист нивоа Републике"]
[733121,"Текући трансфери од других нивоа власти у корист нивоа Републике"]
[733130,"Текући трансфери од других нивоа власти у корист нивоа територијалних аутономија"]
[733131,"Текући трансфери од Републике у корист нивоа АП Војводина"]
[733132,"Текући трансфери од Републике у корист нивоа АП Косово и Метохија"]
[733133,"Текући трансфери од градова у корист АП Војводина"]
[733134,"Текући трансфери од градова у корист АП Косово и Метохија"]
[733135,"Текући трансфери од општина у корист АП Војводина"]
[733136,"Текући трансфери од општина у корист АП Косово и Метохија"]
[733140,"Текући трансфери од других нивоа власти у корист нивоа градова"]
[733141,"Ненаменски трансфери од Републике у корист нивоа градова"]
[733142,"Други текући трансфери од Републике у корист нивоа градова"]
[733143,"Функционални трансфери од Републике у корист нивоа градова"]
[733144,"Текући наменски трансфери, у ужем смислу, од Републике у корист нивоа градова"]
[733145,"Функционални трансфери од АП Војводина у корист нивоа градова"]
[733146,"Текући наменски трансфери, у ужем смислу, од АП Војводина у корист нивоа градова"]
[733147,"Текући трансфери од општина у корист нивоа градова"]
[733148,"Ненаменски трансфери од АП Војводина у корист нивоа градова"]
[733150,"Текући трансфери од других нивоа власти у корист нивоа општина"]
[733151,"Ненаменски трансфери од Републике у корист нивоа општина"]
[733152,"Други текући трансфери од Републике у корист нивоа општина"]
[733153,"Функционални трансфери од Републике у корист нивоа општина"]
[733154,"Текући наменски трансфери, у ужем смислу, од Републике у корист нивоа општина"]
[733155,"Функционални трансфери од АП Војводина у корист нивоа општина"]
[733156,"Текући наменски трансфери, у ужем смислу, од АП Војводина у корист нивоа општина"]
[733157,"Текући трансфери од градова у корист нивоа општина"]
[733158,"Ненаменски трансфери од АП Војводина у корист нивоа општина"]
[733160,"Текући трансфери од других нивоа власти у корист организација за обавезно социјално осигурање"]
[733161,"Текући трансфери од других нивоа власти у корист Републичког фонда за здравствено осигурање"]
[733162,"Текући трансфери од других нивоа власти у корист Републичког фонда за ПИО осигураника запослених"]
[733163,"Текући трансфери од других нивоа власти у корист Републичког фонда за ПИО осигураника пољопривредника"]
[733164,"Текући трансфери од других нивоа власти у корист Републичког фонда за ПИО осигураника самосталних делатности"]
[733165,"Текући трансфери од других нивоа власти у корист Националне службе за запошљавање"]
[733166,"Текући трансфери по основу доприноса за пензијско и инвалидско осигурање за поједине категорије осигураника - запослених обезбеђен у буџету Републике"]
[733167,"Текући трансфери по основу доприноса за пензијско и инвалидско осигурање запослених за покриће разлике до најнижег износа пензије утврђене у члану 76. и члану 207. став 2. Закона о пензијском и инвалидском осигурању"]
[733168,"Допринос за пензијско и инвалидско осигурање пољопривредника за покриће разлике до најнижег износа пензије сагласно члану 76. и члану 207. став 2. Закона о пензијском и инвалидском осигурању"]
[733169,"Текући трансфери од других нивоа власти у корист Фонда за социјално осигурање војних осигураника"]
[733200,"Капитални трансфери од других нивоа власти"]
[733220,"Капитални трансфери од других нивоа власти у корист нивоа Републике"]
[733221,"Капитални трансфери од других нивоа власти у корист нивоа Републике"]
[733230,"Капитални трансфери од других нивоа власти у корист нивоа територијалних аутономија"]
[733231,"Капитални трансфери од Републике у корист нивоа АП Војводина"]
[733232,"Капитални трансфери од Републике у корист нивоа АП Косово и Метохија"]
[733233,"Капитални наменски трансфери, у ужем смислу, од градова у корист нивоа АП Војводина"]
[733234,"Капитални наменски трансфери, у ужем смислу, од градова у корист нивоа АП Косово и Метохија"]
[733235,"Капитални наменски трансфери, у ужем смислу, од општина у корист нивоа АП Војводина"]
[733236,"Капитални наменски трансфери, у ужем смислу, од општина у корист нивоа АП Косово и Метохија"]
[733240,"Капитални трансфери од других нивоа власти у корист нивоа градова"]
[733241,"Капитални наменски трансфери, у ужем смислу, од Републике у корист нивоа градова"]
[733242,"Капитални наменски трансфери, у ужем смислу, од АП Војводина у корист нивоа градова"]
[733243,"Капитални наменски трансфери, у ужем смислу, од општина у корист нивоа градова"]
[733250,"Капитални трансфери од других нивоа власти у корист нивоа општина"]
[733251,"Капитални наменски трансфери, у ужем смислу, од Републике у корист нивоа општина"]
[733252,"Капитални наменски трансфери, у ужем смислу, од АП Војводинa у корист нивоа општина"]
[733253,"Капитални трансфери од градова у корист нивоа општина"]
[733260,"Капитални трансфери од других нивоа власти у корист организација за обавезно социјално осигурање"]
[733261,"Капитални трансфери од других нивоа власти у корист Републичког фонда за здравствено осигурање"]
[733262,"Капитални трансфери од других нивоа власти у корист Републичког фонда за ПИО"]
[733265,"Капитални трансфери од других нивоа власти у корист Националне службе за запошљавање"]
[733266,"Капитални трансфери од других нивоа власти у корист Фонда за социјално осигурање војних осигураника"]
[740000,"ДРУГИ ПРИХОДИ"]
[741000,"ПРИХОДИ ОД ИМОВИНЕ"]
[741100,"Камате"]
[741120,"Камате на средства консолидованог рачуна трезора Републике"]
[741121,"Приходи буџета Републике од камата на средства консолидованог рачуна трезора укључена у депозит банака"]
[741122,"Приходи буџета Републике од камата на средства корисника буџета укључена у депозит банака"]
[741130,"Камате на средства консолидованог рачуна трезора територијалних аутономија"]
[741131,"Камате на средства консолидованог рачуна трезора АП Војводина укључена у депозит банака"]
[741132,"Камате на средства консолидованог рачуна трезора АП Косово и Метохија укључена у депозит банака"]
[741140,"Камате на средства консолидованог рачуна трезора града"]
[741141,"Приходи буџета града од камата на средства консолидованог рачуна трезора укључена у депозит банака"]
[741142,"Приходи од камата на средства корисника буџета града која су укључена у депозит пословне банке са којом надлежни орган града закључи уговор о депоновању средстава по виђењу"]
[741150,"Камате на средства консолидованог рачуна трезора општина"]
[741151,"Приходи буџета општине од камата на средства консолидованог рачуна трезора укључена у депозит банака"]
[741152,"Приходи од камата на средства корисника буџета општине укључена у депозите код пословних банака код којих овлашћени општински орган потписује уговор о депоновању средстава по виђењу"]
[741160,"Камате на средства организација за обавезно социјално осигурање"]
[741161,"Камате на средства Републичког фонда за здравствено осигурање"]
[741162,"Камате на средства Републичког фонда за ПИО"]
[741165,"Камате на средства Националне службе за запошљавање"]
[741166,"Камате на средства Фонда за социјално осигурање војних осигураника"]
[741200,"Дивиденде"]
[741210,"Дивиденде СЦГ и НБС"]
[741211,"Дивиденде СЦГ"]
[741212,"Вишак прихода по завршном рачуну НБС"]
[741220,"Дивиденде буџета Републике"]
[741221,"Дивиденде буџета Републике"]
[741222,"Вишак прихода над расходима јавне агенције"]
[741223,"Вишак прихода над расходима Регулаторне агенције за електрoнске комуникације и поштанске услуге"]
[741224,"Вишак прихода над расходима Републичке радиодифузне агенције"]
[741230,"Дивиденде буџета територијалних аутономија"]
[741231,"Дивиденде буџета АП Војводина"]
[741232,"Дивиденде буџета АП Косово и Метохија"]
[741240,"Дивиденде буџета градова"]
[741241,"Дивиденде буџета градова"]
[741250,"Дивиденде буџета општина"]
[741251,"Дивиденде буџета општина"]
[741260,"Дивиденде организација за обавезно социјално осигурање"]
[741261,"Дивиденде Републичког фонда за здравствено осигурање"]
[741262,"Дивиденде Републичког фонда за ПИО"]
[741265,"Дивиденде Националне службе за запошљавање"]
[741266,"Дивиденде Фонда за социјално осигурање војних осигураника"]
[741300,"Повлачење прихода од квази корпорација"]
[741310,"Повлачење прихода од квази корпорација"]
[741311,"Повлачење прихода од квази корпорација"]
[741400,"Приход од имовине који припада имаоцима полиса осигурања"]
[741410,"Приход од имовине који припада имаоцима полиса осигурања"]
[741411,"Приход од имовине који припада имаоцима полисе осигурања Републике Србије"]
[741412,"Приход од имовине који припада имаоцима полисе осигурања аутономне покрајине"]
[741413,"Приход од имовине који припада имаоцима полисе осигурања градова"]
[741414,"Приход од имовине који припада имаоцима полисе осигурања општина"]
[741500,"Закуп непроизведене имовине"]
[741510,"Накнаде за коришћење природних добара"]
[741511,"Накнада за коришћење минералних сировина и геотермалних ресурса"]
[741512,"Накнада за искрчену шуму"]
[741513,"Накнада за посечено дрво"]
[741514,"Накнада за коришћење шума и шумског земљишта кад се даје за испашу"]
[741515,"Накнада за извађени материјал из водотока"]
[741516,"Накнада за коришћење минералних сировина и геотермалних ресурса када се експлоатација врши на територији аутономне покрајине"]
[741517,"Накнада за примењена геолошка истраживања минералних и других геолошких ресурса"]
[741520,"Накнаде за коришћење шумског и пољопривредног земљишта"]
[741521,"Накнада за коришћење шумског земљишта кад се даје у закуп"]
[741522,"Средства остварена од давања у закуп пољопривредног земљишта, односно пољопривредног објекта у државној својини"]
[741523,"Накнада за умањену вредност вишегодишњих засада"]
[741524,"Накнада за коришћење ловостајем заштићених врста дивљачи"]
[741525,"Накнада за ловну карту"]
[741526,"Накнада за коришћење шума и шумског земљишта"]
[741528,"Накнада за промену намене шума"]
[741529,"Средства остварена отуђењем шума и шумског земљишта у државној својини"]
[741530,"Накнаде за коришћење простора и грађевинског земљишта"]
[741531,"Комунална такса за коришћење простора на јавним површинама или испред пословног простора у пословне сврхе, осим ради продаје штампе, књига и других публикација, производа старих и уметничких заната и домаће радиности"]
[741532,"Комунална такса за коришћење простора за паркирање друмских моторних и прикључних возила на уређеним и обележеним местима"]
[741533,"Комунална такса за коришћење слободних површина за кампове, постављање шатора или друге облике привременог коришћења"]
[741534,"Накнада за коришћење грађевинског земљишта"]
[741535,"Комунална такса за заузеће јавне површине грађевинским материјалом"]
[741536,"Приходи остварени по основу давања у закуп станова намењених за решавање стамбених потреба избеглица"]
[741537,"Приходи остварени по основу давања у закуп грађевинског земљишта у јавној својини Републике Србије"]
[741538,"Допринос за уређивање грађевинског земљишта"]
[741540,"Накнаде за коришћење речних обала, туристичких погодности и бања"]
[741541,"Комунална такса за коришћење обале у пословне и било које друге сврхе"]
[741542,"Накнада за коришћење природног лековитог фактора"]
[0]
[741550,"Накнаде за коришћење добара од општег интереса у производњи електричне енергије и производњи нафте и гаса"]
[741551,"Накнада за коришћење добара од општег интереса у производњи електричне енергије и производњи нафте и гаса"]
[741560,"Коришћење ваздухопловног простора и накнаде за воде"]
[741561,"Накнада за коришћење ваздухопловног простора"]
[741562,"Накнада за коришћење водног добра"]
[741563,"Накнада за испуштену воду"]
[741564,"Накнада за загађивање вода"]
[741565,"Накнада за одводњавање од физичких лица на основу решења Пореске управе"]
[741566,"Накнада за одводњавање од правних лица"]
[741567,"Накнада за коришћење водних објеката и система"]
[741568,"Сливна водна накнада од физичких лица на основу решења Пореске управе"]
[741569,"Сливна водна накнада од правних лица"]
[741570,"Накнаде за коришћење радио фреквенција и ТВ канала"]
[741571,"Накнада за коришћење радио фреквенција и ТВ канала"]
[741572,"Средства у износу од 1,5% од укупно остварене месечне претплате Радиодифузне установе за развој домаће кинематографије"]
[741580,"Накнаде за коришћење земљишта које припада државном путу"]
[741581,"Накнада за постављање рекламних табли, рекламних паноа, уређаја за сликовно и звучно обавештење или оглашавање на државном путу, односно на другом земљишту које користи управљач државног пута, у складу са прописима"]
[741582,"Накнада за закуп делова земљишног појаса државног пута"]
[741583,"Накнада за закуп другог земљишта које користи управљач државног пута"]
[741590,"Накнаде за заштиту животне средине"]
[741591,"Накнада за производе који после употребе постају посебни токови отпада"]
[741592,"Накнада за загађивање животне средине у подручјима од посебног државног интереса у области заштите животне средине"]
[741593,"Накнада за стављање амбалаже у промет"]
[741594,"Накнада за компензацијске мере"]
[741595,"Накнада за пружање стручних услуга Фонда за заштиту животне средине"]
[741600,"Финансијске промене на финансијским лизинзима"]
[741610,"Финансијске промене на финансијским лизинзима"]
[741611,"Финансијске промене на финансијским лизинзима"]
[742000,"ПРИХОДИ ОД ПРОДАЈЕ ДОБАРА И УСЛУГА"]
[742100,"Приходи од продаје добара и услуга или закупа од стране тржишних организација"]
[742120,"Приходи од продаје добара и услуга или закупа од стране тржишних организација у корист нивоа Републике"]
[742121,"Приходи од продаје добара и услуга од стране тржишних организација у корист нивоа Републике"]
[742122,"Приходи од давања у закуп, односно на коришћење непокретности у државној својини које користе државни органи и организације и установе - јавне службе које се финансирају из буџета Републике"]
[742123,"Приходи од давања у закуп станова које користе ратни војни инвалиди и породице палих бораца"]
[742124,"Накнада за лабораторијске анализе узорака хране и хране за животиње узетих током службених контрола"]
[742125,"Накнада за утврђивање испуњености услова за обављање производње и преглед пошиљки приликом увоза, односно извоза грожђа, шире, вина и других производа"]
[742126,"Накнада по основу конверзије права коришћења у право својине у корист Републике"]
[742127,"Накнада за упис у регистар сорти пољопривредног биља"]
[742128,"Приходи од давања у закуп непокретности чији је корисник Министарство одбране"]
[742129,"Накнада по основу конверзије права коришћења у право својине у корист Фонда за реституцију"]
[742130,"Приходи од продаје добара и услуга или закупа од стране тржишних организација у корист буџета територијалних аутономија"]
[742131,"Приходи од продаје добара и услуга од стране тржишних организација у корист буџета АП Војводина"]
[742132,"Приходи од давања у закуп, односно на коришћење непокретности у државној својини које користе органи АП Војводина"]
[742133,"Приходи од продаје добара и услуга од стране тржишних организација у корист буџета АП Косово и Метохија"]
[742134,"Приходи од давања у закуп, односно на коришћење непокретности у државној својини које користе органи АП Косово и Метохија"]
[742135,"Приходи од давања у закуп, односно на коришћење непокретности у покрајинској својини које користе органи АП Војводина"]
[742136,"Приходи од давања у закуп, односно на коришћење непокретности у покрајинској својини које користе органи АП Косово и Метохија"]
[742137,"Накнада по основу конверзије права коришћења у право својине у корист аутономне покрајине"]
[742140,"Приходи од продаје добара и услуга или закупа од стране тржишних организација у корист нивоа градова"]
[742141,"Приходи од продаје добара и услуга од стране тржишних организација у корист нивоа градова"]
[742142,"Приходи од давања у закуп, односно на коришћење непокретности у државној својини које користе градови и индиректни корисници њиховог буџета"]
[742143,"Приходи од закупнине за грађевинско земљиште у корист нивоа градова"]
[742144,"Накнада по основу конверзије права коришћења у право својине у корист нивоа градова"]
[742145,"Приходи од давања у закуп, односно на коришћење непокретности у градској својини које користе градови и индиректни корисници њиховог буџета"]
[742146,"Приходи остварени по основу пружања услуга боравка деце у предшколским установама у корист нивоа градова"]
[742150,"Приходи од продаје добара и услуга или закупа од стране тржишних организација у корист нивоа општина"]
[742151,"Приходи од продаје добара и услуга од стране тржишних организација у корист нивоа општина"]
[742152,"Приходи од давања у закуп, односно на коришћење непокретности у државној својини које користе општине и индиректни корисници њиховог буџета"]
[742153,"Приходи од закупнине за грађевинско земљиште у корист нивоа општина"]
[742154,"Накнада по основу конверзије права коришћења у право својине у корист нивоа општина"]
[742155,"Приходи од давања у закуп, односно на коришћење непокретности у општинској својини које користе општине и индиректни корисници њиховог буџета"]
[742156,"Приходи остварени по основу пружања услуга боравка деце у предшколским установама у корист нивоа општина"]
[742160,"Приходи од закупа од стране тржишних организација у корист организација за обавезно социјално осигурање"]
[742161,"Приходи од закупа од стране тржишних организација у корист Републичког фонда за здравствено осигурање"]
[742162,"Приходи од закупа од стране тржишних организација у корист Републичког фонда за ПИО"]
[742165,"Приходи од закупа од стране тржишних организација у корист Националнe службe за запошљавање"]
[742166,"Приходи од закупа од стране тржишних организација у корист Фонда за социјално осигурање војних осигураника"]
[742200,"Таксе и накнаде"]
[742210,"Конзуларне таксе"]
[742213,"Конзуларне таксе"]
[742220,"Таксе у корист нивоа Републике"]
[742221,"Републичке административне таксе"]
[742222,"Накнада за издавање и продужење уверења о здравственом стању животиња"]
[742223,"Накнада за извршене ветеринарско - санитарне прегледе"]
[742224,"Такса за озакоњење објеката у корист нивоа Републике"]
[742225,"Накнада за обележавање и евиденцију животиња"]
[742226,"Средства од наплаћених трошкова за утврђивање испуњености прописаних услова из заштите на раду"]
[742227,"Трошкови управног поступка"]
[742228,"Трошкови за издавање лиценци за обављање послова у области безбедности и здравља на раду"]
[742229,"Трошкови пореског поступка"]
[742230,"Таксе у корист нивоа територијалних аутономија"]
[742231,"Административне таксе у корист нивоа АП Војводина"]
[742232,"Административне таксе у корист нивоа АП Косово и Метохија"]
[742233,"Такса за озакоњење објеката у корист нивоа аутономне покрајине"]
[742240,"Таксе у корист нивоа градова"]
[742241,"Градске административне таксе"]
[742242,"Такса за озакоњење објеката у корист нивоа градова"]
[742250,"Таксе у корист нивоа општина"]
[742251,"Општинске административне таксе"]
[742252,"Накнада за обавезни здравствени преглед биља"]
[742253,"Накнада за уређивање грађевинског земљишта"]
[742254,"Трошкови пореског и прекршајног поступка изворних јавних прихода општина и градова"]
[742255,"Такса за озакоњење објеката у корист нивоа општина"]
[742260,"Таксе у корист организација за обавезно социјално осигурање"]
[742261,"Таксе у корист Републичког фонда за здравствено осигурање"]
[742262,"Таксе у корист Републичког фонда за ПИО"]
[742265,"Таксе у корист Националне службе за запошљавање"]
[742266,"Таксе у корист Фонда за социјално осигурање војних осигураника"]
[742270,"Таксе у корист републичких судова"]
[742271,"Републичке судске таксе"]
[742272,"Трошкови заступања у судским и управним поступцима"]
[742280,"Накнаде за приређивање игара на срећу"]
[742281,"Накнада за дозволу за посебне игре на срећу у играчницама"]
[742282,"Накнада за одобрење за посебне игрe на срећу на аутоматима"]
[742283,"Накнада за одобрење за посебне игрe на срећу - клађење"]
[742284,"Накнада за приређивање класичних игара на срећу"]
[742285,"Накнада за приређивање посебних игара на срећу у играчницама"]
[742286,"Накнада за приређивање посебних игара на срећу на аутоматима"]
[742287,"Накнада за приређивање посебних игара на срећу - клађење"]
[742288,"Накнада за приређивање наградне игре у роби и услугама"]
[742289,"Накнада за приређивање игара на срећу преко средстава електронске комуникације"]
[742290,"Друге накнаде"]
[742291,"Накнада за давање дозволе за обављање малопродаје дуванских производа"]
[742292,"Накнада за давање дозволе за обављање осталог промета дуванских производа"]
[742293,"Накнада за одобрење за игре на срећу преко средстава електронске комуникације"]
[742294,"Средства у износу од 30% наплаћене награде јавних бележника"]
[742295,"Накнада за упис у Регистар чланова Коморе социјалне заштите, за издавање и обнављање лиценце и за издавање легитимације и уверења"]
[742300,"Споредне продаје добара и услуга које врше државне нетржишне јединице"]
[742310,"Приходи од споредне продаје добара и услуга које врше државне нетржишне јединице"]
[742312,"Приходи Војске Србије од споредне продаје добара и услуга"]
[742313,"Приходи Војске Србије од специфичне делатности"]
[742320,"Приходи буџета Републике од споредне продаје добара и услуга које врше државне нетржишне јединице"]
[742321,"Приходи републичких органа и организација"]
[742322,"Накнада за коришћење података и документације основних геолошких истраживања"]
[742323,"Накнада за коришћење података премера, катастра непокретности и водова и за разгледање катастра непокретности, као и за услуге које пружа Републички геодетски завод"]
[742324,"Трошкови поступка санитарних и здравствених инспектора по захтеву странке"]
[742325,"Трошкови полагања стручног испита за здравствене раднике, трошкови доделе назива примаријус и други трошкови"]
[742326,"Приходи од продаје пригодног кованог новца"]
[742327,"Трошкови полагања стручних испита за обављање послова у области безбедности и здравља на раду"]
[742328,"Накнада нужних трошкова за издавање копије докумената на којима се налазе информације од јавног значаја"]
[742329,"Такса за вршење техничког надзора бродова унутрашње пловидбе"]
[742330,"Приходи територијалних аутономија од споредне продаје добара и услуга које врше државне нетржишне јединице"]
[742331,"Приходи које својом делатношћу остваре органи АП Војводина"]
[742332,"Приходи које својом делатношћу остваре органи АП Косово и Метохија"]
[742340,"Приходи буџета града од споредне продаје добара и услуга које врше државне нетржишне јединице"]
[742341,"Приходи које својом делатношћу остваре органи и организације градова"]
[742350,"Приходи општинских органа од споредне продаје добара и услуга које врше државне нетржишне јединице"]
[742351,"Приходи које својом делатношћу остваре органи и организације општина"]
[742360,"Приходи организација за обавезно социјално осигурање од споредне продаје добара и услуга које врше државне нетржишне јединице"]
[742361,"Приходи организација за обавезно социјално осигурање од споредне продаје добара и услуга које врше државне нетржишне јединице"]
[742362,"Приходи Републичког фонда за здравствено осигурање од средстава за издавање здравствених картица"]
[742366,"Приходи Фонда за социјално осигурање војних осигураника од средстава за издавање здравствених картица"]
[742370,"Приходи индиректних корисника буџетских средстава који се остварују додатним активностима"]
[742371,"Приходи индиректних корисника републичког буџета који се остварују додатним активностима"]
[742372,"Приходи индиректних корисника буџета локалне самоуправе који се остварују додатним активностима"]
[742373,"Приходи индиректних корисника Републичког фонда за здравствено осигурање који се остварују додатним активностима"]
[742378,"Родитељски динар за ваннаставне активности"]
[742400,"Импутиране продаје добара и услуга"]
[742410,"Импутиране продаје добара и услуга"]
[742411,"Импутиране продаје добара и услуга"]
[743000,"НОВЧАНЕ КАЗНЕ И ОДУЗЕТА ИМОВИНСКА КОРИСТ"]
[743100,"Приходи од новчаних казни за кривична дела"]
[743120,"Приходи од новчаних казни за кривична дела у корист нивоа Републике"]
[743121,"Приходи од новчаних казни за кривична дела"]
[743122,"Трошкови кривичног поступка и паушал код судова"]
[743123,"Приходи од новчаних казни које Повереник за информације од јавног значаја и заштиту података о личности изриче органима јавне власти у поступку административног извршења својих решења"]
[743124,"Приходи од новчаних казни за кривична дела којима је нанета штета шумама"]
[743130,"Приходи од новчаних казни за кривична дела у корист нивоа територијалних аутономија"]
[743131,"Приходи од новчаних казни за кривична дела у корист нивоа територијалних аутономија"]
[743140,"Приходи од новчаних казни за кривична дела у корист нивоа градова"]
[743141,"Приходи од новчаних казни за кривична дела у корист нивоа градова"]
[743150,"Приходи од новчаних казни за кривична дела у корист нивоа општина"]
[743151,"Приходи од новчаних казни за кривична дела у корист нивоа општина"]
[743160,"Приходи од новчаних казни за кривична дела у корист организација за обавезно социјално осигурање"]
[743161,"Приходи од новчаних казни за кривична дела у корист организација за обавезно социјално осигурање"]
[743200,"Приходи од новчаних казни за привредне преступе"]
[743220,"Приходи од новчаних казни за привредне преступе у корист нивоа Републике"]
[743221,"Приходи од новчаних казни за привредне преступе"]
[743222,"Приходи од новчаних казни за привредне преступе установљене прописима о здравственој заштити животиња"]
[743223,"Приходи од новчаних казни за привредне преступе или прекршаје установљене прописима о шумама и прописима којима се уређује обезбеђивање репродуктивног материјала шумског дрвећа и приходи од новчаних казни за привредне преступе или прекршаје установљене другим законом, ако је кажњивим делом нанета штета шуми"]
[743224,"Новчани износ мере заштите конкуренције"]
[743225,"Приходи од новчаних казни за привредне преступе или прекршаје установљене прописима о јавним набавкама"]
[743230,"Приходи од новчаних казни за привредне преступе у корист нивоа територијалних аутономија"]
[743231,"Приходи од новчаних казни за привредне преступе у корист нивоа територијалних аутономија"]
[743240,"Приходи од новчаних казни за привредне преступе у корист нивоа градова"]
[743241,"Приходи од новчаних казни за привредне преступе у корист нивоа градова"]
[743250,"Приходи од новчаних казни за привредне преступе у корист нивоа општина"]
[743251,"Приходи од новчаних казни за привредне преступе у корист нивоа општина"]
[743260,"Приходи од новчаних казни за привредне преступе у корист организација за обавезно социјално осигурање"]
[743261,"Приходи од новчаних казни за привредне преступе у корист организација за обавезно социјално осигурање"]
[743300,"Приходи од новчаних казни за прекршаје"]
[743320,"Приходи од новчаних казни за прекршаје у корист нивоа Републике"]
[743321,"Приходи од новчаних казни за прекршаје"]
[743322,"Приходи од новчаних казни за прекршаје у области рада (по пријавама инспекције рада)"]
[743323,"Приходи од новчаних казни за прекршаје које изриче инспекција рада (мандатне казне)"]
[743324,"Приходи од новчаних казни за прекршаје, предвиђене прописима о безбедности саобраћаја на путевима"]
[743325,"Разлика у цени уплаћена по решењима надлежних републичких органа"]
[743326,"Приходи од новчаних казни за прекршаје које изричу републички инспекцијски органи"]
[743327,"Приходи од новчаних казни за прекршаје установљене прописима о здравственој заштити животиња"]
[743328,"Приходи од новчаних казни за прекршаје које изриче републички орган управе надлежан за послове јавних прихода"]
[743329,"Приходи од новчаних казни за прекршаје предвиђене Законом о ванредним ситуацијама и законима који уређују област заштите од пожара, експлозивних и опасних материја"]
[743330,"Приходи од новчаних казни за прекршаје у корист нивоа територијалних аутономија"]
[743331,"Приходи од новчаних казни за прекршаје у корист нивоа АП Војводина"]
[743332,"Приходи од новчаних казни за прекршаје у корист нивоа АП Косово и Метохија"]
[743340,"Приходи од новчаних казни за прекршаје у корист нивоа градова"]
[743341,"Приходи од новчаних казни изречених у прекршајном поступку за прекршаје прописане актом скупштине града, као и одузета имовинска корист у том поступку"]
[743342,"Приходи од новчаних казни за прекршаје по прекршајном налогу и казни изречених у управном поступку у корист нивоа градова"]
[743343,"Приходи од новчаних казни за прекршаје које изриче градски орган управе надлежан за изворне јавне приходе"]
[743350,"Приходи од новчаних казни за прекршаје у корист нивоа општина"]
[743351,"Приходи од новчаних казни изречених у прекршајном поступку за прекршаје прописане актом скупштине општине, као и одузета имовинска корист у том поступку"]
[743353,"Приходи од новчаних казни за прекршаје по прекршајном налогу и казни изречених у управном поступку у корист нивоа општина"]
[743354,"Приходи од новчаних казни за прекршаје које изриче општински орган управе надлежан за изворне јавне приходе"]
[743360,"Приходи од новчаних казни за прекршаје у корист организација за обавезно социјално осигурање"]
[743361,"Приходи од новчаних казни за прекршаје у корист организација за обавезно социјално осигурање"]
[743400,"Приходи од пенала"]
[743420,"Приходи од пенала у корист нивоа Републике"]
[743421,"Приходи од пенала у корист нивоа Републике"]
[743422,"Приходи од пенала у корист Буџетског фонда за професионалну рехабилитацију и подстицање запошљавања особа са инвалидитетом"]
[743423,"Процесни пенал из Закона о заштити конкуренције"]
[743430,"Приходи од пенала у корист нивоа територијалних аутономија"]
[743431,"Приходи од пенала у корист нивоа територијалних аутономија"]
[743440,"Приходи од пенала у корист нивоа градова"]
[743441,"Приходи од пенала у корист нивоа градова"]
[743450,"Приходи од пенала у корист нивоа општина"]
[743451,"Приходи од пенала у корист нивоа општина"]
[743460,"Приходи од пенала у корист нивоа организација за обавезно социјално осигурање"]
[743461,"Приходи од пенала у корист нивоа организација за обавезно социјално осигурање"]
[743500,"Приходи од одузете имовинске користи"]
[743520,"Приходи од одузете имовинске користи у корист нивоа Републике"]
[743521,"Одузета имовинска корист и средства добијена продајом одузетих предмета у прекршајном, кривичном и другом поступку"]
[743522,"Средства од продаје одузете робе, наплаћених трошкова за утврђивање услова за обављање делатности и од мандатних казни које изричу тржишни инспектори"]
[743523,"Новчана казна за царинске преступе и средства остварена од продаје одузете робе"]
[743524,"Средства од продаје одузете робе у пореском поступку"]
[743525,"Новчана средства добијена продајом трајно одузете имовине"]
[743526,"Одузета имовинска корист и средства добијена продајом у поступцима за утврђивање одговорности за кажњива дела из члана 82. став 2. тачка 1) Закона о шумама"]
[743530,"Приходи од одузете имовинске користи у корист нивоа територијалних аутономија"]
[743531,"Приходи од одузете имовинске користи у корист нивоа територијалних аутономија"]
[743540,"Приходи од одузете имовинске користи у корист нивоа градова"]
[743541,"Приходи од одузете имовинске користи у корист нивоа градова"]
[743550,"Приходи од одузете имовинске користи у корист нивоа општина"]
[743551,"Приходи од одузете имовинске користи у корист нивоа општина"]
[743560,"Приходи од одузете имовинске користи у корист организација за обавезно социјално осигурање"]
[743561,"Приходи од одузете имовинске користи у корист организација за обавезно социјално осигурање"]
[743900,"Остале новчане казне, пенали и приходи од одузете имовинске користи"]
[743920,"Остале новчане казне, пенали и приходи од одузете имовинске користи у корист нивоа Републике"]
[743921,"Трошкови принудне наплате јавних прихода"]
[743922,"Трошкови поступка пред органима за прекршаје"]
[743923,"Приходи од увећања целокупног пореског дуга који је предмет принудне наплате за 5% на дан почетка поступка принудне наплате"]
[743924,"Приходи од увећања целокупног пореског дуга који је предмет принудне наплате за 5 % на дан почетка поступка принудне наплате, који је правна последица принудне наплате изворних прихода јединица локалне самоуправе"]
[743925,"Приходи од примене начела опортунитета наплате у кривичном поступку"]
[743926,"Приходи по прекршајним налозима које издаје републички орган управе надлежан за послове јавних прихода"]
[743929,"Остале новчане казне, пенали и приходи од одузете имовинске користи у корист нивоа Републике"]
[743930,"Остале новчане казне, пенали и приходи од одузете имовинске користи у корист нивоа територијалних аутономија"]
[743931,"Остале новчане казне, пенали и приходи од одузете имовинске користи у корист нивоа територијалних аутономија"]
[743940,"Остале новчане казне, пенали и приходи од одузете имовинске користи у корист нивоа градова"]
[743941,"Остале новчане казне, пенали и приходи од одузете имовинске користи у корист нивоа градова"]
[743950,"Остале новчане казне, пенали и приходи од одузете имовинске користи у корист нивоа општина"]
[743951,"Трошкови принудне наплате изворних јавних прихода општина и градова"]
[743960,"Остале новчане казне, пенали и приходи од одузете имовинске користи у корист организација за обавезно социјално осигурање"]
[743961,"Остале новчане казне, пенали и приходи од одузете имовинске користи у корист организација за обавезно социјално осигурање"]
[744000,"ДОБРОВОЉНИ ТРАНСФЕРИ ОД ФИЗИЧКИХ И ПРАВНИХ ЛИЦА"]
[744100,"Текући добровољни трансфери од физичких и правних лица"]
[744120,"Текући добровољни трансфери од физичких и правних лица у корист нивоа Републике"]
[744121,"Текући добровољни трансфери од физичких и правних лица у корист нивоа Републике"]
[744122,"Приходи по основу донација за санацију штета од елементарних непогода"]
[744130,"Текући добровољни трансфери од физичких и правних лица у корист нивоа територијалних аутономија"]
[744131,"Текући добровољни трансфери од физичких и правних лица у корист нивоа АП Војводина"]
[744132,"Текући добровољни трансфери од физичких и правних лица у корист нивоа АП Косово и Метохија"]
[744140,"Текући добровољни трансфери од физичких и правних лица у корист нивоа градова"]
[744141,"Текући добровољни трансфери од физичких и правних лица у корист нивоа градова"]
[744142,"Текући добровољни трансфери за одлагање кривичног гоњења у корист нивоа градова"]
[744150,"Текући добровољни трансфери од физичких и правних лица у корист нивоа општина"]
[744151,"Текући добровољни трансфери од физичких и правних лица у корист нивоа општина"]
[744160,"Текући добровољни трансфери од физичких и правних лица у корист организација за обавезно социјално осигурање"]
[744161,"Текући добровољни трансфери од физичких и правних лица у корист Републичког фонда за здравствено осигурање"]
[744162,"Текући добровољни трансфери од физичких и правних лица у корист Републичког фонда за ПИО"]
[744165,"Текући добровољни трансфери од физичких и правних лица у корист Националне службе за запошљавање"]
[744166,"Текући добровољни трансфери од физичких и правних лица у корист Фонда за социјално осигурање војних осигураника"]
[744200,"Капитални добровољни трансфери од физичких и правних лица"]
[744220,"Капитални добровољни трансфери од физичких и правних лица у корист нивоа Републике"]
[744221,"Капитални добровољни трансфери од физичких и правних лица у корист нивоа Републике"]
[744230,"Капитални добровољни трансфери од физичких и правних лица у корист нивоа територијалних аутономија"]
[744231,"Капитални добровољни трансфери од физичких и правних лица у корист нивоа АП Војводина"]
[744232,"Капитални добровољни трансфери у корист нивоа АП Косово и Метохија"]
[744240,"Капитални добровољни трансфери од физичких и правних лица у корист нивоа градова"]
[744241,"Капитални добровољни трансфери од физичких и правних лица у корист нивоа градова"]
[744250,"Капитални добровољни трансфери од физичких и правних лица у корист нивоа општина"]
[744251,"Капитални добровољни трансфери од физичких и правних лица у корист нивоа општина"]
[744260,"Капитални добровољни трансфери од физичких и правних лица у корист организација за обавезно социјално осигурање"]
[744261,"Капитални добровољни трансфери од физичких и правних лица у корист Републичког фонда за здравствено осигурање"]
[744262,"Капитални добровољни трансфери од физичких и правних лица у корист Републичког фонда за ПИО"]
[744265,"Капитални добровољни трансфери од физичких и правних лица у корист Националне службе за запошљавање"]
[744266,"Капитални добровољни трансфери од физичких и правних лица у корист Фонда за социјално осигурање војних осигураника"]
[745000,"МЕШОВИТИ И НЕОДРЕЂЕНИ ПРИХОДИ"]
[745100,"Мешовити и неодређени приходи"]
[745110,"Приходи по основу посебних прописа"]
[745111,"Средства по основу разлике за уплату нето прихода запосленог код исплатиоца прихода у јавном сектору"]
[745112,"Средства по основу разлике за уплату нето прихода запосленог код свих исплатилаца прихода у јавном сектору, на основу решења Пореске управе"]
[745113,"Средства по основу Закона о привременом уређивању основица за обрачун и исплату плата, односно зарада и других сталних примања код корисника јавних средстава"]
[745120,"Мешовити и неодређени приходи у корист нивоа Републике"]
[745121,"Укинути приходи буџета Републике"]
[745122,"Закупнина за стан у државној својини"]
[745123,"Део добити јавног предузећа, према одлуци управног одбора јавног предузећа"]
[745124,"Уплата средстава по основу више обрачунатих зарада према Закону о утврђивању максималне зараде у јавном сектору у корист буџета Републике Србије"]
[745125,"Приходи од Агенције за осигурање депозита по основу наплаћених потраживања"]
[745126,"Средства на име учешћа у финансирању зарада особа са инвалидитетом запослених у предузећу за професионалну рехабилитацију и запошљавање особа са инвалидитетом или социјалном предузећу или организацији"]
[745127,"Приходи од преузетих потраживања из стечајне масе од банака над којима је завршен стечајни поступак"]
[745128,"Остали приходи буџета Републике"]
[745130,"Мешовити и неодређени приходи у корист нивоа територијалних аутономија"]
[745131,"Мешовити и неодређени приходи у корист нивоа АП Војводина"]
[745132,"Мешовити и неодређени приходи у корист нивоа АП Косово и Метохија"]
[745133,"Закупнина за стан у државној својини у корист нивоа АП Војводина"]
[745134,"Закупнина за стан у државној својини у корист нивоа АП Косово и Метохија"]
[745135,"Део добити јавног предузећа, према одлуци управног одбора јавног предузећа, у корист нивоа АП Војводина"]
[745136,"Део добити јавног предузећа, према одлуци управног одбора јавног предузећа, у корист нивоа АП Косово и Метохија"]
[745137,"Закупнина за стан у покрајинској својини у корист нивоа АП Војводина"]
[745138,"Закупнина за стан у покрајинској својини у корист нивоа АП Косово и Метохија"]
[745139,"Приходи АП Војводина од Агенције за осигурање депозита по основу наплаћених потраживања"]
[745140,"Мешовити и неодређени приходи у корист нивоа градова"]
[745141,"Остали приходи у корист нивоа градова"]
[745142,"Закупнина за стан у државној својини у корист нивоа градова"]
[745143,"Део добити јавног предузећа, према одлуци управног одбора јавног предузећа, у корист нивоа градова"]
[745144,"Закупнина за стан у градској својини у корист нивоа градова"]
[745145,"Уплата средстава по основу више обрачунатих зарада према Закону о утврђивању максималне зараде у јавном сектору у корист буџета града"]
[745150,"Мешовити и неодређени приходи у корист нивоа општина"]
[745151,"Остали приходи у корист нивоа општина"]
[745152,"Закупнина за стан у државној својини у корист нивоа општина"]
[745153,"Део добити јавног предузећа, према одлуци управног одбора јавног предузећа, у корист нивоа општина"]
[745154,"Закупнина за стан у општинској својини у корист нивоа општина"]
[745155,"Уплата средстава по основу више обрачунатих зарада према Закону о утврђивању максималне зараде у јавном сектору у корист буџета општине"]
[745160,"Мешовити и неодређени приходи у корист организација за обавезно социјално осигурање"]
[745161,"Мешовити и неодређени приходи у корист Републичког фонда за здравствено осигурање"]
[745162,"Мешовити и неодређени приходи у корист Републичког фонда за ПИО"]
[745165,"Мешовити и неодређени приходи у корист Националне службе за запошљавање"]
[745166,"Средства од 5% бруто премије осигурања од аутоодговорности"]
[745167,"Мешовити и неодређени приходи у корист Фонда за социјално осигурање војних осигураника"]
[770000,"МЕМОРАНДУМСКЕ СТАВКЕ ЗА РЕФУНДАЦИЈУ РАСХОДА"]
[771000,"МЕМОРАНДУМСКЕ СТАВКЕ ЗА РЕФУНДАЦИЈУ РАСХОДА"]
[771100,"Меморандумске ставке за рефундацију расхода"]
[771110,"Меморандумске ставке за рефундацију расхода"]
[771111,"Меморандумске ставке за рефундацију расхода"]
[772000,"МЕМОРАНДУМСКЕ СТАВКЕ ЗА РЕФУНДАЦИЈУ РАСХОДА ИЗ ПРЕТХОДНЕ ГОДИНЕ"]
[772100,"Меморандумске ставке за рефундацију расхода из претходне године"]
[772110,"Меморандумске ставке за рефундацију расхода из претходне године"]
[772111,"Меморандумске ставке за рефундацију расхода буџета Републике из претходне године"]
[772112,"Меморандумске ставке за рефундацију расхода буџета АП Војводина из претходне године"]
[772113,"Меморандумске ставке за рефундацију расхода буџета града из претходне године"]
[772114,"Меморандумске ставке за рефундацију расхода буџета општине из претходне године"]
[772120,"Меморандумске ставке за рефундацију расхода из претходне године за финансиране пројекте из ЕУ"]
[772121,"Меморандумске ставке за рефундацију расхода буџета Републике из претходне године за финансиране пројекте из ЕУ"]
[772122,"Меморандумске ставке за рефундацију расхода буџета АП Војводина из претходне године за финансиране пројекте из ЕУ"]
[772123,"Меморандумске ставке за рефундацију расхода буџета АП Косово и Метохија из претходне године за финансиране пројекте из ЕУ"]
[772124,"Меморандумске ставке за рефундацију расхода буџета града из претходне године за финансиране пројекте из ЕУ"]
[772125,"Меморандумске ставке за рефундацију расхода буџета општине из претходне године за финансиране пројекте из ЕУ"]
[780000,"ТРАНСФЕРИ ИЗМЕЂУ БУЏЕТСКИХ КОРИСНИКА НА ИСТОМ НИВОУ"]
[781000,"ТРАНСФЕРИ ИЗМЕЂУ БУЏЕТСКИХ КОРИСНИКА НА ИСТОМ НИВОУ"]
[781100,"Трансфери између буџетских корисника на истом нивоу"]
[781110,"Трансфери између буџетских корисника на истом нивоу"]
[781111,"Трансфери између буџетских корисника на истом нивоу"]
[781112,"Трансфери од директних ка индиректним буџетским корисницима на истом нивоу"]
[781300,"Трансфери између организација за обавезно социјално осигурање"]
[781310,"Трансфери од организација за обавезно социјално осигурање у корист Републичког фонда за здравствено осигурање"]
[781311,"Допринос за здравствено осигурање незапослених лица који плаћа Национална служба за запошљавање"]
[781312,"Допринос за здравствено осигурање корисника пензија и корисника других новчаних накнада који плаћа Републички фонд за ПИО осигураника запослених"]
[781313,"Трансфери од Републичког фонда за ПИО осигураника пољопривредника у корист Републичког фонда за здравствено осигурање"]
[781314,"Трансфери од Републичког фонда за ПИО осигураника самосталних делатности у корист Републичког фонда за здравствено осигурање"]
[781315,"Допринос за здравствено осигурање корисника новчаних накнада из члана 224. Закона о пензијском и инвалидском осигурању"]
[781316,"Допринос за здравствено осигурање за лица која остварују накнаду зараде за време привремене спречености за рад (боловање) по прописима о здравственом осигурању, који плаћа Републички фонд за здравствено осигурање"]
[781317,"Допринос за здравствено осигурање који плаћа Национална служба за запошљавање по члану 45. Закона о доприносима за обавезно социјално осигурање"]
[781318,"Допринос за здравствено осигурање корисника војне пензије који плаћа Републички фонд за ПИО војних осигураника"]
[781320,"Трансфери од организација за обавезно социјално осигурање у корист Републичког фонда за ПИО осигураника запослених"]
[781321,"Допринос за пензијско и инвалидско осигурање незапослених који уплаћује Национална служба за запошљавање"]
[781322,"Допринос за пензијско и инвалидско осигурање запослених који примају накнаду за време привремене спречености за рад (боловање) по прописима о здравственом осигурању, који уплаћује Републички фонд за здравствено осигурање"]
[781323,"Допринос за пензијско и инвалидско осигурање који плаћа Национална служба за запошљавање по члану 45. Закона о доприносима за обавезно социјално осигурање"]
[781324,"Допринос за пензијско и инвалидско осигурање војних осигураника који примају накнаду за време привремене спречености за рад (боловање)"]
[781330,"Трансфери од организација за обавезно социјално осигурање у корист Републичког фонда за ПИО осигураника пољопривредника"]
[781331,"Трансфери од организација за обавезно социјално осигурање у корист Републичког фонда за ПИО осигураника пољопривредника"]
[781340,"Трансфери од организација за обавезно социјално осигурање у корист Републичког фонда за ПИО осигураника самосталних делатности"]
[781341,"Допринос за пензијско и инвалидско осигурање за лица која су престала да обављају самосталну делатност, док остварују новчану накнаду према прописима о раду и запошљавању"]
[781342,"Допринос за пензијско и инвалидско осигурање за физичка лица која, у складу са законом, самостално обављају привредну и другу делатност као основно занимање док примају накнаду за време привремене спречености за рад (боловање) по прописима о здравственом осигурању коју плаћа Републички фонд за здравствено осигурање или док су на породиљском одсуству"]
[781350,"Трансфери од организација за обавезно социјално осигурање у корист Националнe службe за запошљавање"]
[781351,"Трансфери од организација за обавезно социјално осигурање у корист Националнe службe за запошљавање"]
[781352,"Допринос за случај незапослености, који плаћа Национална служба за запошљавање по члану 45. Закона о доприносима за обавезно социјално осигурање"]
[781360,"Трансфери од организација за обавезно социјално осигурање у корист Фонда за социјално осигурање војних осигураника"]
[781361,"Трансфери од организација за обавезно социјално осигурање у корист Фонда за социјално осигурање војних осигураника"]
[790000,"ПРИХОДИ ИЗ БУЏЕТА"]
[791000,"ПРИХОДИ ИЗ БУЏЕТА"]
[791100,"Приходи из буџета"]
[791110,"Приходи из буџета"]
[791111,"Приходи из буџета"]
[800000,"ПРИМАЊА ОД ПРОДАЈЕ НЕФИНАНСИЈСКЕ ИМОВИНЕ"]
[810000,"ПРИМАЊА ОД ПРОДАЈЕ ОСНОВНИХ СРЕДСТАВА"]
[811000,"ПРИМАЊА ОД ПРОДАЈЕ НЕПОКРЕТНОСТИ"]
[811100,"Примања од продаје непокретности"]
[811120,"Примања од продаје непокретности у корист нивоа Републике"]
[811121,"Примања од продаје непокретности у државној својини, осим непокретности које користе органи АП"]
[811122,"Примања од откупа станова у државној својини"]
[811123,"Примања од продаје непокретности Војске Србије"]
[811124,"Примања од продаје станова у државној својини које користе државни органи и организације"]
[811125,"Примања остварена по основу продаје станова намењених за решавање стамбених потреба избеглица"]
[811130,"Примања од продаје непокретности у државној својини које користе органи територијалних аутономија"]
[811131,"Примања од продаје непокретности у државној својини које користе органи АП Војводина"]
[811132,"Примања од продаје непокретности у државној својини које користе органи АП Косово и Метохија"]
[811133,"Примања од продаје станова у корист нивоа територијалних аутономија"]
[811134,"Примања од отплате станова у корист нивоа територијалних аутономија"]
[811135,"Примања по основу обавеза за социјално становање у корист нивоа територијалних аутономија"]
[811140,"Примања од продаје непокретности у корист нивоа градова"]
[811141,"Примања од продаје непокретности у корист нивоа градова"]
[811142,"Примања од продаје станова у корист нивоа градова"]
[811143,"Примања од отплате станова у корист нивоа градова"]
[811144,"Примања по основу обавеза за социјално становање у корист нивоа градова"]
[811150,"Примања од продаје непокретности у корист нивоа општина"]
[811151,"Примања од продаје непокретности у корист нивоа општина"]
[811152,"Примања од продаје станова у корист нивоа општина"]
[811153,"Примања од отплате станова у корист нивоа општина"]
[811154,"Примања по основу обавеза за социјално становање у корист нивоа општина"]
[811160,"Примања од продаје непокретности у корист организација за обавезно социјално осигурање"]
[811161,"Примања од продаје непокретности у корист Републичког фонда за здравствено осигурање"]
[811162,"Примања од продаје непокретности у корист Републичког фонда за ПИО"]
[811165,"Примања од продаје непокретности у корист Националне службе за запошљавање"]
[811166,"Примања од продаје непокретности у корист Фонда за социјално осигурање војних осигураника"]
[811170,"Примања од продаје непокретности у покрајинској својини које користе органи територијалних аутономија"]
[811171,"Примања од продаје непокретности у покрајинској својини које користе органи АП Војводина"]
[811172,"Примања од продаје непокретности у покрајинској својини које користе органи АП Косово и Метохија"]
[812000,"ПРИМАЊА ОД ПРОДАЈЕ ПОКРЕТНЕ ИМОВИНЕ"]
[812100,"Примања од продаје покретне имовине"]
[812120,"Примања од продаје покретних ствари у корист нивоа Републике"]
[812121,"Примања од продаје покретних ствари у корист нивоа Републике"]
[812130,"Примања од продаје покретних ствари у корист нивоа територијалних аутономија"]
[812131,"Примања од продаје покретних ствари у корист нивоа АП Војводина"]
[812132,"Примања од продаје покретних ствари у корист нивоа АП Косово и Метохија"]
[812140,"Примања од продаје покретних ствари у корист нивоа градова"]
[812141,"Примања од продаје покретних ствари у корист нивоа градова"]
[812150,"Примања од продаје покретних ствари у корист нивоа општина"]
[812151,"Примања од продаје покретних ствари у корист нивоа општина"]
[812160,"Примања од продаје покретних ствари у корист организација за обавезно социјално осигурање"]
[812161,"Примања од продаје покретних ствари у корист Републичког фонда за здравствено осигурање"]
[812162,"Примања од продаје покретних ствари у корист Републичког фонда за ПИО"]
[812165,"Примања од продаје покретних ствари у корист Националне службе за запошљавање"]
[812166,"Примања од продаје покретних ствари у корист Фонда за социјално осигурање војних осигураника"]
[813000,"ПРИМАЊА ОД ПРОДАЈЕ ОСТАЛИХ ОСНОВНИХ СРЕДСТАВА"]
[813100,"Примања од продаје осталих основних средстава"]
[813120,"Примања од продаје осталих основних средстава у корист нивоа Републике"]
[813121,"Примања од продаје осталих основних средстава у корист нивоа Републике"]
[813130,"Примања од продаје осталих основних средстава у корист нивоа територијалних аутономија"]
[813131,"Примања од продаје осталих основних средстава у корист нивоа АП Војводина"]
[813132,"Примања од продаје осталих основних средстава у корист нивоа АП Косово и Метохија"]
[813140,"Примања од продаје осталих основних средстава у корист нивоа градова"]
[813141,"Примања од продаје осталих основних средстава у корист нивоа градова"]
[813150,"Примања од продаје осталих основних средстава у корист нивоа општина"]
[813151,"Примања од продаје осталих основних средстава у корист нивоа општина"]
[813160,"Примања од продаје осталих основних средстава у корист организација за обавезно социјално осигурање"]
[813161,"Примања од продаје осталих основних средстава у корист Републичког фонда за здравствено осигурање"]
[813162,"Примања од продаје осталих основних средстава у корист Републичког фонда за ПИО"]
[813165,"Примања од продаје осталих основних средстава у корист Националне службе за запошљавање"]
[813166,"Примања од продаје осталих основних средстава у корист Фонда за социјално осигурање војних осигураника"]
[820000,"ПРИМАЊА ОД ПРОДАЈЕ ЗАЛИХА"]
[821000,"ПРИМАЊА ОД ПРОДАЈЕ РОБНИХ РЕЗЕРВИ"]
[821100,"Примања од продаје робних резерви"]
[821120,"Примања од продаје робних резерви у корист буџета Републике"]
[821121,"Примања од продаје робних резерви у корист буџета Републике"]
[821130,"Примања од продаје робних резерви у корист нивоа територијалних аутономија"]
[821131,"Примања од продаје робних резерви у корист нивоа АП Војводина"]
[821132,"Примања од продаје робних резерви у корист нивоа АП Косово и Метохија"]
[821140,"Примања од продаје робних резерви у корист нивоа градова"]
[821141,"Примања од продаје робних резерви у корист нивоа градова"]
[821150,"Примања од продаје робних резерви у корист нивоа општина"]
[821151,"Примања од продаје робних резерви у корист нивоа општина"]
[821160,"Примања од продаје робних резерви у корист организација за обавезно социјално осигурање"]
[821161,"Примања од продаје робних резерви у корист Републичког фонда за здравствено осигурање"]
[821162,"Примања од продаје робних резерви у корист Републичког фонда за ПИО"]
[821165,"Примања од продаје робних резерви у корист Националне службе за запошљавање"]
[821166,"Примања од продаје робних резерви у корист Фонда за социјално осигурање војних осигураника"]
[822000,"ПРИМАЊА ОД ПРОДАЈЕ ЗАЛИХА ПРОИЗВОДЊЕ"]
[822100,"Примања од продаје залиха производње"]
[822120,"Примања од продаје залиха производње у корист нивоа Републике"]
[822121,"Примања од продаје залиха производње у корист нивоа Републике"]
[822130,"Примања од продаје залиха производње у корист нивоа територијалних аутономија"]
[822131,"Примања од продаје залиха производње у корист нивоа АП Војводина"]
[822132,"Примања од продаје залиха производње у корист нивоа АП Косово и Метохија"]
[822140,"Примања од продаје залиха производње у корист нивоа градова"]
[822141,"Примања од продаје залиха производње у корист нивоа градова"]
[822150,"Примања од продаје залиха производње у корист нивоа општина"]
[822151,"Примања од продаје залиха производње у корист нивоа општина"]
[822160,"Примања од продаје залиха производње у корист организација за обавезно социјално осигурање"]
[822161,"Примања од продаје залиха производње у корист Републичког фонда за здравствено осигурање"]
[822162,"Примања од продаје залиха производње у корист Републичког фонда за ПИО"]
[822165,"Примања од продаје залиха производње у корист Националне службе за запошљавање"]
[822166,"Примања од продаје залиха производње у корист Фонда за социјално осигурање војних осигураника"]
[823000,"ПРИМАЊА ОД ПРОДАЈЕ РОБЕ ЗА ДАЉУ ПРОДАЈУ"]
[823100,"Примања од продаје робе за даљу продају"]
[823120,"Примања од продаје робе за даљу продају у корист нивоа Републике"]
[823121,"Примања од продаје робе за даљу продају у корист нивоа Републике"]
[823130,"Примања од продаје робе за даљу продају у корист нивоа територијалних аутономија"]
[823131,"Примања од продаје робе за даљу продају у корист нивоа АП Војводина"]
[823132,"Примања од продаје робе за даљу продају у корист нивоа АП Косово и Метохија"]
[823140,"Примања од продаје робе за даљу продају у корист нивоа градова"]
[823141,"Примања од продаје робе за даљу продају у корист нивоа градова"]
[823150,"Примања од продаје робе за даљу продају у корист нивоа општина"]
[823151,"Примања од продаје робе за даљу продају у корист нивоа општина"]
[823160,"Примања од продаје робе за даљу продају у корист организација за обавезно социјално осигурање"]
[823161,"Примања од продаје робе за даљу продају у корист Републичког фонда за здравствено осигурање"]
[823162,"Примања од продаје робе за даљу продају у корист Републичког фонда за ПИО"]
[823165,"Примања од продаје робе за даљу продају у корист Националне службе за запошљавање"]
[823166,"Примања од продаје робе за даљу продају у корист Фонда за социјално осигурање војних осигураника"]
[830000,"ПРИМАЊА ОД ПРОДАЈЕ ДРАГОЦЕНОСТИ"]
[831000,"ПРИМАЊА ОД ПРОДАЈЕ ДРАГОЦЕНОСТИ"]
[831100,"Примања од продаје драгоцености"]
[831120,"Примања од продаје драгоцености у корист буџета Републике"]
[831121,"Примања од продаје драгоцености у корист буџета Републике"]
[831130,"Примања од продаје драгоцености у корист нивоа територијалних аутономија"]
[831131,"Примања од продаје драгоцености у корист нивоа АП Војводина"]
[831132,"Примања од продаје драгоцености у корист нивоа АП Косово и Метохија"]
[831140,"Примања од продаје драгоцености у корист нивоа градова"]
[831141,"Примања од продаје драгоцености у корист нивоа градова"]
[831150,"Примања од продаје драгоцености у корист нивоа општина"]
[831151,"Примања од продаје драгоцености у корист нивоа општина"]
[831160,"Примања од продаје драгоцености у корист организација за обавезно социјално осигурање"]
[831161,"Примања од продаје драгоцености у корист Републичког фонда за здравствено осигурање"]
[831162,"Примања од продаје драгоцености у корист Републичког фонда за ПИО"]
[831165,"Примања од продаје драгоцености у корист Националне службе за запошљавање"]
[831166,"Примања од продаје драгоцености у корист Фонда за социјално осигурање војних осигураника"]
[840000,"ПРИМАЊА ОД ПРОДАЈЕ ПРИРОДНЕ ИМОВИНЕ"]
[841000,"ПРИМАЊА ОД ПРОДАЈЕ ЗЕМЉИШТА"]
[841100,"Примања од продаје земљишта"]
[841120,"Примања од продаје земљишта у корист нивоа Републике"]
[841121,"Примања од продаје земљишта у корист нивоа Републике"]
[841130,"Примања од продаје земљишта у корист нивоа територијалних аутономија"]
[841131,"Примања од продаје земљишта у корист нивоа територијалних аутономија"]
[841140,"Примања од продаје земљишта у корист нивоа градова"]
[841141,"Примања од продаје земљишта у корист нивоа градова"]
[841150,"Примања од продаје земљишта у корист нивоа општина"]
[841151,"Примања од продаје земљишта у корист нивоа општина"]
[841160,"Примања од продаје земљишта у корист организација за обавезно социјално осигурање"]
[841161,"Примања од продаје земљишта у корист Републичког фонда за здравствено осигурање"]
[841162,"Примања од продаје земљишта у корист Републичког фонда за ПИО"]
[841165,"Примања од продаје земљишта у корист Националне службе за запошљавање"]
[841166,"Примања од продаје земљишта у корист Фонда за социјално осигурање војних осигураника"]
[842000,"ПРИМАЊА ОД ПРОДАЈЕ ПОДЗЕМНИХ БЛАГА"]
[842100,"Примања од продаје подземних блага"]
[842120,"Примања од продаје подземних блага у корист нивоа Републике"]
[842121,"Примања од продаје подземних блага у корист нивоа Републике"]
[842130,"Примања од продаје подземних блага у корист нивоа територијалних аутономија"]
[842131,"Примања од продаје подземних блага у корист нивоа територијалних аутономија"]
[842140,"Примања од продаје подземних блага у корист нивоа градова"]
[842141,"Примања од продаје подземних блага у корист нивоа градова"]
[842150,"Примања од продаје подземних блага у корист нивоа општина"]
[842151,"Примања од продаје подземних блага у корист нивоа општина"]
[842160,"Примања од продаје подземних блага у корист организација за обавезно социјално осигурање"]
[842161,"Примања од продаје подземних блага у корист Републичког фонда за здравствено осигурање"]
[842162,"Примања од продаје подземних блага у корист Републичког фонда за ПИО"]
[842165,"Примања од продаје подземних блага у корист Националне службе за запошљавање"]
[842166,"Примања од продаје подземних блага у корист Фонда за социјално осигурање војних осигураника"]
[843000,"ПРИМАЊА ОД ПРОДАЈЕ ШУМА И ВОДА"]
[843100,"Примања од продаје шума и вода"]
[843120,"Примања од продаје шума и вода у корист нивоа Републике"]
[843121,"Примања од продаје шума и вода у корист нивоа Републике"]
[843130,"Примања од продаје шума и вода у корист нивоа територијалних аутономија"]
[843131,"Примања од продаје шума и вода у корист нивоа територијалних аутономија"]
[843140,"Примања од продаје шума и вода у корист нивоа градова"]
[843141,"Примања од продаје шума и вода у корист нивоа градова"]
[843150,"Примања од продаје шума и вода у корист нивоа општина"]
[843151,"Примања од продаје шума и вода у корист нивоа општина"]
[843160,"Примања од продаје шума и вода у корист организација за обавезно социјално осигурање"]
[843161,"Примања од продаје шума и вода у корист Републичког фонда за здравствено осигурање"]
[843162,"Примања од продаје шума и вода у корист Републичког фонда за ПИО"]
[843165,"Примања од продаје шума и вода у корист Националне службе за запошљавање"]
[843166,"Примања од продаје шума и вода у корист Фонда за социјално осигурање војних осигураника"]
[900000,"ПРИМАЊА ОД ЗАДУЖИВАЊА И ПРОДАЈЕ ФИНАНСИЈСКЕ ИМОВИНЕ"]
[910000,"ПРИМАЊА ОД ЗАДУЖИВАЊА"]
[911000,"ПРИМАЊА ОД ДОМАЋИХ ЗАДУЖИВАЊА"]
[911100,"Примања од емитовања домаћих хартија од вредности, изузев акција"]
[911120,"Примања од емитовања домаћих хартија од вредности, изузев акција, у корист нивоа Републике"]
[911121,"Примања од емитовања домаћих хартија од вредности, изузев акција, у корист нивоа Републике"]
[911130,"Примања од емитовања домаћих хартија од вредности, изузев акција, у корист нивоа територијалних аутономија"]
[911131,"Примања од емитовања домаћих хартија од вредности, изузев акција, у корист нивоа АП Војводина"]
[911132,"Примања од емитовања домаћих хартија од вредности, изузев акција, у корист нивоа АП Косово и Метохија"]
[911140,"Примања од емитовања домаћих хартија од вредности, изузев акција, у корист нивоа градова"]
[911141,"Примања од емитовања домаћих хартија од вредности, изузев акција, у корист нивоа градова"]
[911150,"Примања од емитовања домаћих хартија од вредности, изузев акција, у корист нивоа општина"]
[911151,"Примања од емитовања домаћих хартија од вредности, изузев акција, у корист нивоа општина"]
[911160,"Примања од емитовања домаћих хартија од вредности, изузев акција, у корист организација за обавезно социјално осигурање"]
[911161,"Примања од емитовања домаћих хартија од вредности, изузев акција, у корист Републичког фонда за здравствено осигурање"]
[911162,"Примања од емитовања домаћих хартија од вредности, изузев акција, у корист Републичког фонда за ПИО"]
[911165,"Примања од емитовања домаћих хартија од вредности, изузев акција, у корист Националне службе за запошљавање"]
[911166,"Примања од емитовања домаћих хартија од вредности, изузев акција, у корист Фонда за социјално осигурање војних осигураника"]
[911200,"Примања од задуживања од осталих нивоа власти"]
[911220,"Примања од задуживања од осталих нивоа власти у корист нивоа Републике"]
[911221,"Примања од задуживања од осталих нивоа власти у корист нивоа Републике"]
[911230,"Примања од задуживања од осталих нивоа власти у корист нивоа територијалних аутономија"]
[911231,"Примања од задуживања од осталих нивоа власти у корист нивоа АП Војводина"]
[911232,"Примања од задуживања од осталих нивоа власти у корист нивоа АП Косово и Метохија"]
[911240,"Примања од задуживања од осталих нивоа власти у корист нивоа градова"]
[911241,"Примања од задуживања од осталих нивоа власти у корист нивоа градова"]
[911250,"Примања од задуживања од осталих нивоа власти у корист нивоа општина"]
[911251,"Примања од задуживања од осталих нивоа власти у корист нивоа општина"]
[911260,"Примања од задуживања од осталих нивоа власти у корист организација за обавезно социјално осигурање"]
[911261,"Примања од задуживања од осталих нивоа власти у корист Републичког фонда за здравствено осигурање"]
[911262,"Примања од задуживања од осталих нивоа власти у корист Републичког фонда за ПИО"]
[911265,"Примања од задуживања од осталих нивоа власти у корист Националне службе за запошљавање"]
[911266,"Примања од задуживања од осталих нивоа власти у корист Фонда за социјално осигурање војних осигураника"]
[911300,"Примања од задуживања од јавних финансијских институција у земљи"]
[911320,"Примања од задуживања од јавних финансијских институција у земљи у корист нивоа Републике"]
[911321,"Примања од задуживања од јавних финансијских институција у земљи у корист нивоа Републике"]
[911330,"Примања од задуживања од јавних финансијских институција у земљи у корист нивоа територијалних аутономија"]
[911331,"Примања од задуживања од јавних финансијских институција у земљи у корист нивоа територијалних аутономија"]
[911340,"Примања од задуживања од јавних финансијских институција у земљи у корист нивоа градова"]
[911341,"Примања од задуживања од јавних финансијских институција у земљи у корист нивоа градова"]
[911350,"Примања од задуживања од јавних финансијских институција у земљи у корист нивоа општина"]
[911351,"Примања од задуживања од јавних финансијских институција у земљи у корист нивоа општина"]
[911360,"Примања од задуживања од јавних финансијских институција у земљи у корист организација за обавезно социјално осигурање"]
[911361,"Примања од задуживања од јавних финансијских институција у земљи у корист Републичког фонда за здравствено осигурање"]
[911362,"Примања од задуживања од јавних финансијских институција у земљи у корист Републичког фонда за ПИО"]
[911365,"Примања од задуживања од јавних финансијских институција у земљи у корист Националне службе за запошљавање"]
[911366,"Примања од задуживања од јавних финансијских институција у земљи у корист Фонда за социјално осигурање војних осигураника"]
[911400,"Примања од задуживања од пословних банака у земљи"]
[911420,"Примања од задуживања од пословних банака у земљи у корист нивоа Републике"]
[911421,"Примања од задуживања од пословних банака у земљи у корист нивоа Републике"]
[911430,"Примања од задуживања од пословних банака у земљи у корист нивоа територијалних аутономија"]
[911431,"Примања од задуживања од пословних банака у земљи у корист нивоа АП Војводина"]
[911432,"Примања од задуживања од пословних банака у земљи у корист нивоа АП Косово и Метохија"]
[911440,"Примања од задуживања од пословних банака у земљи у корист нивоа градова"]
[911441,"Примања од задуживања од пословних банака у земљи у корист нивоа градова"]
[911450,"Примања од задуживања од пословних банака у земљи у корист нивоа општина"]
[911451,"Примања од задуживања од пословних банака у земљи у корист нивоа општина"]
[911460,"Примања од задуживања од пословних банака у земљи у корист организација за обавезно социјално осигурање"]
[911461,"Примања од задуживања од пословних банака у земљи у корист Републичког фонда за здравствено осигурање"]
[911462,"Примања од задуживања од пословних банака у земљи у корист Републичког фонда за ПИО"]
[911465,"Примања од задуживања од пословних банака у земљи у корист Националне службе за запошљавање"]
[911466,"Примања од задуживања од пословних банака у земљи у корист Фонда за социјално осигурање војних осигураника"]
[911500,"Примања од задуживања од осталих поверилаца у земљи"]
[911520,"Примања од задуживања од осталих поверилаца у земљи у корист нивоа Републике"]
[911521,"Примања од задуживања од осталих поверилаца у земљи у корист нивоа Републике"]
[911530,"Примања од задуживања од осталих поверилаца у земљи у корист нивоа територијалних аутономија"]
[911531,"Примања од задуживања од осталих поверилаца у земљи у корист нивоа АП Војводина"]
[911532,"Примања од задуживања од осталих поверилаца у земљи у корист нивоа АП Косово и Метохија"]
[911540,"Примања од задуживања од осталих поверилаца у земљи у корист нивоа градова"]
[911541,"Примања од задуживања од осталих поверилаца у земљи у корист нивоа градова"]
[911550,"Примања од задуживања од осталих поверилаца у земљи у корист нивоа општина"]
[911551,"Примања од задуживања од осталих поверилаца у земљи у корист нивоа општина"]
[911560,"Примања од задуживања од осталих поверилаца у земљи у корист организација за обавезно социјално осигурање"]
[911561,"Примања од задуживања од осталих поверилаца у земљи у корист Републичког фонда за здравствено осигурање"]
[911562,"Примања од задуживања од осталих поверилаца у земљи у корист Републичког фонда за ПИО"]
[911565,"Примања од задуживања од осталих поверилаца у земљи у корист Националне службе за запошљавање"]
[911566,"Примања од задуживања од осталих поверилаца у земљи у корист Фонда за социјално осигурање војних осигураника"]
[911600,"Примања од задуживања од домаћинстава у земљи"]
[911620,"Примања од задуживања од домаћинстава у земљи у корист нивоа Републике"]
[911621,"Примања од задуживања од домаћинстава у земљи у корист нивоа Републике"]
[911630,"Примања од задуживања од домаћинстава у земљи у корист нивоа територијалних аутономија"]
[911631,"Примања од задуживања од домаћинстава у земљи у корист нивоа територијалних аутономија"]
[911640,"Примања од задуживања од домаћинстава у земљи у корист нивоа градова"]
[911641,"Примања од задуживања од домаћинстава у земљи у корист нивоа градова"]
[911650,"Примања од задуживања од домаћинстава у земљи у корист нивоа општина"]
[911651,"Примања од задуживања од домаћинстава у земљи у корист нивоа општина"]
[911660,"Примања од задуживања од домаћинстава у земљи у корист организација за обавезно социјално осигурање"]
[911661,"Примања од задуживања од домаћинстава у земљи у корист Републичког фонда за здравствено осигурање"]
[911662,"Примања од задуживања од домаћинстава у земљи у корист Републичког фонда за ПИО"]
[911665,"Примања од задуживања од домаћинстава у земљи у корист Националне службе за запошљавање"]
[911666,"Примања од задуживања од домаћинстава у земљи у корист Фонда за социјално осигурање војних осигураника"]
[911700,"Примања од домаћих финансијских деривата"]
[911720,"Примања од домаћих финансијских деривата у корист нивоа Републике"]
[911721,"Примања од домаћих финансијских деривата у корист нивоа Републике"]
[911730,"Примања од домаћих финансијских деривата у корист нивоа територијалних аутономија"]
[911731,"Примања од домаћих финансијских деривата у корист нивоа територијалних аутономија"]
[911740,"Примања од домаћих финансијских деривата у корист нивоа градова"]
[911741,"Примања од домаћих финансијских деривата у корист нивоа градова"]
[911750,"Примања од домаћих финансијских деривата у корист нивоа општина"]
[911751,"Примања од домаћих финансијских деривата у корист нивоа општина"]
[911760,"Примања од домаћих финансијских деривата у корист организација за обавезно социјално осигурање"]
[911761,"Примања од домаћих финансијских деривата у корист Републичког фонда за здравствено осигурање"]
[911762,"Примања од домаћих финансијских деривата у корист Републичког фонда за ПИО"]
[911765,"Примања од домаћих финансијских деривата у корист Националне службе за запошљавање"]
[911766,"Примања од домаћих финансијских деривата у корист Фонда за социјално осигурање војних осигураника"]
[911800,"Примања од домаћих меница"]
[911820,"Примања од домаћих меница у корист нивоа Републике"]
[911821,"Примања од домаћих меница у корист нивоа Републике"]
[911830,"Примања од домаћих меница у корист нивоа територијалних аутономија"]
[911831,"Примања од домаћих меница у корист нивоа АП Војводина"]
[911832,"Примања од домаћих меница у корист нивоа АП Косово и Метохија"]
[911840,"Примања од домаћих меница у корист нивоа градова"]
[911841,"Примања од домаћих меница у корист нивоа градова"]
[911850,"Примања од домаћих меница у корист нивоа општина"]
[911851,"Примања од домаћих меница у корист нивоа општина"]
[911860,"Примања од домаћих меница у корист организација за обавезно социјално осигурање"]
[911861,"Примања од домаћих меница у корист Републичког фонда за здравствено осигурање"]
[911862,"Примања од домаћих меница у корист Републичког фонда за ПИО"]
[911865,"Примања од домаћих меница у корист Националне службе за запошљавање"]
[911866,"Примања од домаћих меница у корист Фонда за социјално осигурање војних осигураника"]
[911900,"Исправка унутрашњег дуга"]
[911920,"Примања од исправке унутрашњег дуга у корист нивоа Републике"]
[911921,"Примања од исправке унутрашњег дуга у корист нивоа Републике"]
[911930,"Примања од исправке унутрашњег дуга у корист нивоа територијалних аутономија"]
[911931,"Примања од исправке унутрашњег дуга у корист нивоа АП Војводина"]
[911932,"Примања од исправке унутрашњег дуга у корист нивоа АП Косово и Метохија"]
[911940,"Примања од исправке унутрашњег дуга у корист нивоа градова"]
[911941,"Примања од исправке унутрашњег дуга у корист нивоа градова"]
[911950,"Примања од исправке унутрашњег дуга у корист нивоа општина"]
[911951,"Примања од исправке унутрашњег дуга у корист нивоа општина"]
[911960,"Примања од исправке унутрашњег дуга у корист организација за обавезно социјално осигурање"]
[911961,"Примања од исправке унутрашњег дуга у корист Републичког фонда за здравствено осигурање"]
[911962,"Примања од исправке унутрашњег дуга у корист Републичког фонда за ПИО"]
[911965,"Примања од исправке унутрашњег дуга у корист Националне службе за запошљавање"]
[911966,"Примања од исправке унутрашњег дуга у корист Фонда за социјално осигурање војних осигураника"]
[912000,"ПРИМАЊА ОД ИНОСТРАНОГ ЗАДУЖИВАЊА"]
[912100,"Примања од емитовања хартија од вредности, изузев акција, на иностраном финансијском тржишту"]
[912120,"Примања од емитовања хартија од вредности, изузев акција, на иностраном финансијском тржишту у корист нивоа Републике"]
[912121,"Примања од емитовања хартија од вредности, изузев акција, на иностраном финансијском тржишту у корист нивоа Републике"]
[912130,"Примања од емитовања хартија од вредности, изузев акција, на иностраном финансијском тржишту у корист нивоа територијалних аутономија"]
[912131,"Примања од емитовања хартија од вредности, изузев акција, на иностраном финансијском тржишту у корист нивоа територијалних аутономија"]
[912140,"Примања од емитовања хартија од вредности, изузев акција, на иностраном финансијском тржишту у корист нивоа градова"]
[912141,"Примања од емитовања хартија од вредности, изузев акција, , на иностраном финансијском тржишту у корист нивоа градова"]
[912150,"Примања од емитовања хартија од вредности, изузев акција, на иностраном финансијском тржишту у корист нивоа општина"]
[912151,"Примања од емитовања хартија од вредности, изузев акција, на иностраном финансијском тржишту у корист нивоа општина"]
[912160,"Примања од емитовања хартија од вредности, изузев акција, на иностраном финансијском тржишту у корист организација за обавезно социјално осигурање"]
[912161,"Примања од емитовања хартија од вредности, изузев акција, на иностраном финансијском тржишту у корист Републичког фонда за здравствено осигурање"]
[912162,"Примања од емитовања хартија од вредности, изузев акција, на иностраном финансијском тржишту у корист Републичког фонда за ПИО"]
[912165,"Примања од емитовања хартија од вредности, изузев акција, на иностраном финансијском тржишту у корист Националне службе за запошљавање"]
[912166,"Примања од емитовања хартија од вредности, изузев акција, на иностраном финансијском тржишту у корист Фонда за социјално осигурање војних осигураника"]
[912200,"Примања од задуживања од иностраних држава"]
[912220,"Примања од задуживања од иностраних држава у корист нивоа Републике"]
[912221,"Примања од задуживања од иностраних држава у корист нивоа Републике"]
[912230,"Примања од задуживања од иностраних држава у корист нивоа територијалних аутономија"]
[912231,"Примања од задуживања од иностраних држава у корист нивоа АП Војводина"]
[912232,"Примања од задуживања од иностраних држава у корист нивоа АП Косово и Метохија"]
[912240,"Примања од задуживања од иностраних држава у корист нивоа градова"]
[912241,"Примања од задуживања од иностраних држава у корист нивоа градова"]
[912250,"Примања од задуживања од иностраних држава у корист нивоа општина"]
[912251,"Примања од задуживања од иностраних држава у корист нивоа општина"]
[912260,"Примања од задуживања од иностраних држава у корист организација за обавезно социјално осигурање"]
[912261,"Примања од задуживања од иностраних држава у корист Републичког фонда за здравствено осигурање"]
[912262,"Примања од задуживања од иностраних држава у корист Републичког фонда за ПИО"]
[912265,"Примања од задуживања од иностраних држава у корист Националне службе за запошљавање"]
[912266,"Примања од задуживања од иностраних држава у корист Фонда за социјално осигурање војних осигураника"]
[912300,"Примања од задуживања од мултилатералних институција"]
[912320,"Примања од задуживања од мултилатералних институција у корист нивоа Републике"]
[912321,"Примања од задуживања од мултилатералних институција у корист нивоа Републике"]
[912330,"Примања од задуживања од мултилатералних институција у корист нивоа територијалних аутономија"]
[912331,"Примања од задуживања од мултилатералних институција у корист нивоа АП Војводина"]
[912332,"Примања од задуживања од мултилатералних институција у корист нивоа АП Косово и Метохија"]
[912340,"Примања од задуживања од мултилатералних институција у корист нивоа градова"]
[912341,"Примања од задуживања од мултилатералних институција у корист нивоа градова"]
[912350,"Примања од задуживања од мултилатералних институција у корист нивоа општина"]
[912351,"Примања од задуживања од мултилатералних институција у корист нивоа општина"]
[912360,"Примања од задуживања од мултилатералних институција у корист организација за обавезно социјално осигурање"]
[912361,"Примања од задуживања од мултилатералних институција у корист Републичког фонда за здравствено осигурање"]
[912362,"Примања од задуживања од мултилатералних институција у корист Републичког фонда за ПИО"]
[912365,"Примања од задуживања од мултилатералних институција у корист Националне службе за запошљавање"]
[912366,"Примања од задуживања од мултилатералних институција у корист Фонда за социјално осигурање војних осигураника"]
[912400,"Примања од задуживања од иностраних пословних банака"]
[912420,"Примања од задуживања од иностраних пословних банака у корист нивоа Републике"]
[912421,"Примања од задуживања од иностраних пословних банака у корист нивоа Републике"]
[912430,"Примања од задуживања од иностраних пословних банака у корист нивоа територијалних аутономија"]
[912431,"Примања од задуживања од иностраних пословних банака у корист нивоа АП Војводина"]
[912432,"Примања од задуживања од иностраних пословних банака у корист нивоа АП Косово и Метохија"]
[912440,"Примања од задуживања од иностраних пословних банака у корист нивоа градова"]
[912441,"Примања од задуживања од иностраних пословних банака у корист нивоа градова"]
[912450,"Примања од задуживања од иностраних пословних банака у корист нивоа општина"]
[912451,"Примања од задуживања од иностраних пословних банака у корист нивоа општина"]
[912460,"Примања од задуживања од иностраних пословних банака у корист организација за обавезно социјално осигурање"]
[912461,"Примања од задуживања од иностраних пословних банака у корист Републичког фонда за здравствено осигурање"]
[912462,"Примања од задуживања од иностраних пословних банака у корист Републичког фонда за ПИО"]
[912465,"Примања од задуживања од иностраних пословних банака у корист Националне службе за запошљавање"]
[912466,"Примања од задуживања од иностраних пословних банака у корист Фонда за социјално осигурање војних осигураника"]
[912500,"Примања од задуживања од осталих иностраних поверилаца"]
[912520,"Примања од задуживања од осталих иностраних поверилаца у корист нивоа Републике"]
[912521,"Примања од задуживања од осталих иностраних поверилаца у корист нивоа Републике"]
[912530,"Примања од задуживања од осталих иностраних поверилаца у корист нивоа територијалних аутономија"]
[912531,"Примања од задуживања од осталих иностраних поверилаца у корист нивоа АП Војводина"]
[912532,"Примања од задуживања од осталих иностраних поверилаца у корист нивоа АП Косово и Метохија"]
[912540,"Примања од задуживања од осталих иностраних поверилаца у корист нивоа градова"]
[912541,"Примања од задуживања од осталих иностраних поверилаца у корист нивоа градова"]
[912550,"Примања од задуживања од осталих иностраних поверилаца у корист нивоа општина"]
[912551,"Примања од задуживања од осталих иностраних поверилаца у корист нивоа општина"]
[912560,"Примања од задуживања од осталих иностраних поверилаца у корист организација за обавезно социјално осигурање"]
[912561,"Примања од задуживања од осталих иностраних поверилаца у корист Републичког фонда за здравствено осигурање"]
[912562,"Примања од задуживања од осталих иностраних поверилаца у корист Републичког фонда за ПИО"]
[912565,"Примања од задуживања од осталих иностраних поверилаца у корист Националне службе за запошљавање"]
[912566,"Примања од задуживања од осталих иностраних поверилаца у корист Фонда за социјално осигурање војних осигураника"]
[912600,"Примања од иностраних финансијских деривата"]
[912620,"Примања од иностраних финансијских деривата у корист нивоа Републике"]
[912621,"Примања од иностраних финансијских деривата у корист нивоа Републике"]
[912630,"Примања од иностраних финансијских деривата у корист нивоа територијалних аутономија"]
[912631,"Примања од иностраних финансијских деривата у корист нивоа територијалних аутономија"]
[912640,"Примања од иностраних финансијских деривата у корист нивоа градова"]
[912641,"Примања од иностраних финансијских деривата у корист нивоа градова"]
[912650,"Примања од иностраних финансијских деривата у корист нивоа општина"]
[912651,"Примања од иностраних финансијских деривата у корист нивоа општина"]
[912660,"Примања од иностраних финансијских деривата у корист организација за обавезно социјално осигурање"]
[912661,"Примања од иностраних финансијских деривата у корист Републичког фонда за здравствено осигурање"]
[912662,"Примања од иностраних финансијских деривата у корист Републичког фонда за ПИО"]
[912665,"Примања од иностраних финансијских деривата у корист Националне службе за запошљавање"]
[912666,"Примања од иностраних финансијских деривата у корист Фонда за социјално осигурање војних осигураника"]
[912900,"Исправка спољног дуга"]
[912920,"Примања од исправке спољног дуга у корист нивоа Републике"]
[912921,"Примања од исправке спољног дуга у корист нивоа Републике"]
[912930,"Примања од исправке спољног дуга у корист нивоа територијалних аутономија"]
[912931,"Примања од исправке спољног дуга у корист нивоа АП Војводина"]
[912932,"Примања од исправке спољног дуга у корист нивоа АП Косово и Метохија"]
[912940,"Примања од исправке спољног дуга у корист нивоа градова"]
[912941,"Примања од исправке спољног дуга у корист нивоа градова"]
[912950,"Примања од исправке спољног дуга у корист нивоа општина"]
[912951,"Примања од исправке спољног дуга у корист нивоа општина"]
[912960,"Примања од исправке спољног дуга у корист организација за обавезно социјално осигурање"]
[912961,"Примања од исправке спољног дуга у корист Републичког фонда за здравствено осигурање"]
[912962,"Примања од исправке спољног дуга у корист Републичког фонда за ПИО"]
[912965,"Примања од исправке спољног дуга у корист Националне службе за запошљавање"]
[912966,"Примања од исправке спољног дуга у корист Фонда за социјално осигурање војних осигураника"]
[920000,"ПРИМАЊА ОД ПРОДАЈЕ ФИНАНСИЈСКЕ ИМОВИНЕ"]
[921000,"ПРИМАЊА ОД ПРОДАЈЕ ДОМАЋЕ ФИНАНСИЈСКЕ ИМОВИНЕ"]
[921100,"Примања од продаје домаћих хартија од вредности, изузев акција"]
[921120,"Примања од продаје домаћих хартија од вредности, изузев акција, у корист нивоа Републике"]
[921121,"Примања од продаје домаћих хартија од вредности, изузев акција, у корист нивоа Републике"]
[921130,"Примања од продаје домаћих хартија од вредности, изузев акција, у корист нивоа територијалних аутономија"]
[921131,"Примања од продаје домаћих хартија од вредности, изузев акција, у корист нивоа АП Војводина"]
[921132,"Примања од продаје домаћих хартија од вредности, изузев акција, у корист нивоа АП Косово и Метохија"]
[921140,"Примања од продаје домаћих хартија од вредности, изузев акција, у корист нивоа градова"]
[921141,"Примања од продаје домаћих хартија од вредности, изузев акција, у корист нивоа градова"]
[921150,"Примања од продаје домаћих хартија од вредности, изузев акција, у корист нивоа општина"]
[921151,"Примања од продаје домаћих хартија од вредности, изузев акција, у корист нивоа општина"]
[921160,"Примања од продаје домаћих хартија од вредности, изузев акција, у корист организација за обавезно социјално осигурање"]
[921161,"Примања од продаје домаћих хартија од вредности, изузев акција, у корист Републичког фонда за здравствено осигурање"]
[921162,"Примања од продаје домаћих хартија од вредности, изузев акција, у корист Републичког фонда за ПИО"]
[921165,"Примања од продаје домаћих хартија од вредности, изузев акција, у корист Националне службе за запошљавање"]
[921166,"Примања од продаје домаћих хартија од вредности, изузев акција, у корист Фонда за социјално осигурање војних осигураника"]
[921200,"Примања од отплате кредита датих осталим нивоима власти"]
[921220,"Примања од отплате кредита датих осталим нивоима власти у корист нивоа Републике"]
[921221,"Примања од отплате кредита датих осталим нивоима власти у корист нивоа Републике"]
[921230,"Примања од отплате кредита датих осталим нивоима власти у корист нивоа територијалних аутономија"]
[921231,"Примања од отплате кредита датих осталим нивоима власти у корист нивоа АП Војводина"]
[921232,"Примања од отплате кредита датих осталим нивоима власти у корист нивоа АП Косово и Метохија"]
[921240,"Примања од отплате кредита датих осталим нивоима власти у корист нивоа градова"]
[921241,"Примања од отплате кредита датих осталим нивоима власти у корист нивоа градова"]
[921250,"Примања од отплате кредита датих осталим нивоима власти у корист нивоа општина"]
[921251,"Примања од отплате кредита датих осталим нивоима власти у корист нивоа општина"]
[921260,"Примања од отплате кредита датих осталим нивоима власти у корист организација за обавезно социјално осигурање"]
[921261,"Примања од отплате кредита датих осталим нивоима власти у корист Републичког фонда за здравствено осигурање"]
[921262,"Примања од отплате кредита датих осталим нивоима власти у корист Републичког фонда за ПИО"]
[921265,"Примања од отплате кредита датих осталим нивоима власти у корист Националне службе за запошљавање"]
[921266,"Примања од отплате кредита датих осталим нивоима власти у корист Фонда за социјално осигурање војних осигураника"]
[921300,"Примања од отплате кредита датих домаћим јавним финансијским институцијама"]
[921320,"Примања од отплате кредита датих домаћим јавним финансијским институцијама у корист нивоа Републике"]
[921321,"Примања од отплате кредита датих домаћим јавним финансијским институцијама у корист нивоа Републике"]
[921330,"Примања од отплате кредита датих домаћим јавним финансијским институцијама у корист нивоа територијалних аутономија"]
[921331,"Примања од отплате кредита датих домаћим јавним финансијским институцијама у корист нивоа територијалних аутономија"]
[921340,"Примања од отплате кредита датих домаћим јавним финансијским институцијама у корист нивоа градова"]
[921341,"Примања од отплате кредита датих домаћим јавним финансијским институцијама у корист нивоа градова"]
[921350,"Примања од отплате кредита датих домаћим јавним финансијским институцијама у корист нивоа општина"]
[921351,"Примања од отплате кредита датих домаћим јавним финансијским институцијама у корист нивоа општина"]
[921360,"Примања од отплате кредита датих домаћим јавним финансијским институцијама у корист организација за обавезно социјално осигурање"]
[921361,"Примања од отплате кредита датих домаћим јавним финансијским институцијама у корист Републичког фонда за здравствено осигурање"]
[921362,"Примања од отплате кредита датих домаћим јавним финансијским институцијама у корист Републичког фонда за ПИО"]
[921365,"Примања од отплате кредита датих домаћим јавним финансијским институцијама у корист Националне службе за запошљавање"]
[921366,"Примања од отплате кредита датих домаћим јавним финансијским институцијама у корист Фонда за социјално осигурање војних осигураника"]
[921400,"Примања од отплате кредита датих домаћим пословним банкама"]
[921420,"Примања од отплате кредита датих домаћим пословним банкама у корист нивоа Републике"]
[921421,"Примања од отплате кредита датих домаћим пословним банкама у корист нивоа Републике"]
[921430,"Примања од отплате кредита датих домаћим пословним банкама у корист нивоа територијалних аутономија"]
[921431,"Примања од отплате кредита датих домаћим пословним банкама у корист нивоа територијалних аутономија"]
[921440,"Примања од отплате кредита датих домаћим пословним банкама у корист нивоа градова"]
[921441,"Примања од отплате кредита датих домаћим пословним банкама у корист нивоа градова"]
[921450,"Примања од отплате кредита датих домаћим пословним банкама у корист нивоа општина"]
[921451,"Примања од отплате кредита датих домаћим пословним банкама у корист нивоа општина"]
[921460,"Примања од отплате кредита датих домаћим пословним банкама у корист организација за обавезно социјално осигурање"]
[921461,"Примања од отплате кредита датих домаћим пословним банкама у корист Републичког фонда за здравствено осигурање"]
[921462,"Примања од отплате кредита датих домаћим пословним банкама у корист Републичког фонда за ПИО"]
[921465,"Примања од отплате кредита датих домаћим пословним банкама у корист Националне службе за запошљавање"]
[921466,"Примања од отплате кредита датих домаћим пословним банкама у корист Фонда за социјално осигурање војних осигураника"]
[921500,"Примања од отплате кредита датих домаћим јавним нефинансијским институцијама"]
[921520,"Примања од отплате кредита датих домаћим јавним нефинансијским институцијама у корист нивоа Републике"]
[921521,"Примања од отплате кредита датих домаћим јавним нефинансијским институцијама у корист нивоа Републике"]
[921530,"Примања од отплате кредита датих домаћим јавним нефинансијским институцијама у корист нивоа територијалних аутономија"]
[921531,"Примања од отплате кредита датих домаћим јавним нефинансијским институцијама у корист нивоа АП Војводина"]
[921532,"Примања од отплате кредита датих домаћим јавним нефинансијским институцијама у корист нивоа АП Косово и Метохија"]
[921540,"Примања од отплате кредита датих домаћим јавним нефинансијским институцијама у корист нивоа градова"]
[921541,"Примања од отплате кредита датих домаћим јавним нефинансијским институцијама у корист нивоа градова"]
[921550,"Примања од отплате кредита датих домаћим јавним нефинансијским институцијама у корист нивоа општина"]
[921551,"Примања од отплате кредита датих домаћим јавним нефинансијским институцијама у корист нивоа општина"]
[921560,"Примања од отплате кредита датих домаћим јавним нефинансијским институцијама у корист организација за обавезно социјално осигурање"]
[921561,"Примања од отплате кредита датих домаћим јавним нефинансијским институцијама у корист Републичког фонда за здравствено осигурање"]
[921562,"Примања од отплате кредита датих домаћим јавним нефинансијским институцијама у корист Републичког фонда за ПИО"]
[921565,"Примања од отплате кредита датих домаћим јавним нефинансијским институцијама у корист Националне службе за запошљавање"]
[921566,"Примања од отплате кредита датих домаћим јавним нефинансијским институцијама у корист Фонда за социјално осигурање војних осигураника"]
[921600,"Примања од отплате кредита датих физичким лицима и домаћинствима у земљи"]
[921620,"Примања од отплате кредита датих домаћинствима у земљи у корист нивоа Републике"]
[921621,"Примања од отплате кредита датих домаћинствима у земљи у корист нивоа Републике"]
[921630,"Примања од отплате кредита датих домаћинствима у земљи у корист нивоа територијалних аутономија"]
[921631,"Примања од отплате кредита датих домаћинствима у земљи у корист нивоа АП Војводина"]
[921632,"Примања од отплате кредита датих домаћинствима у земљи у корист нивоа АП Косово и Метохија"]
[921640,"Примања од отплате кредита датих домаћинствима у земљи у корист нивоа градова"]
[921641,"Примања од отплате кредита датих домаћинствима у земљи у корист нивоа градова"]
[921650,"Примања од отплате кредита датих домаћинствима у земљи у корист нивоа општина"]
[921651,"Примања од отплате кредита датих домаћинствима у земљи у корист нивоа општина"]
[921660,"Примања од отплате кредита датих домаћинствима у земљи у корист организација за обавезно социјално осигурање"]
[921661,"Примања од отплате кредита датих домаћинствима у земљи у корист Републичког фонда за здравствено осигурање"]
[921662,"Примања од отплате кредита датих домаћинствима у земљи у корист Републичког фонда за ПИО"]
[921665,"Примања од отплате кредита датих домаћинствима у земљи у корист Националне службе за запошљавање"]
[921666,"Примања од отплате кредита датих домаћинствима у земљи у корист Фонда за социјално осигурање војних осигураника"]
[921700,"Примања од отплате кредита датих удружењима грађана у земљи"]
[921720,"Примања од отплате кредита датих удружењима грађана у земљи у корист нивоа Републике"]
[921721,"Примања од отплате кредита датих удружењима грађана у земљи у корист нивоа Републике"]
[921730,"Примања од отплате кредита датих удружењима грађана у земљи у корист нивоа територијалних аутономија"]
[921731,"Примања од отплате кредита датих удружењима грађана у земљи у корист нивоа АП Војводина"]
[921732,"Примања од отплате кредита датих удружењима грађана у земљи у корист нивоа АП Косово и Метохија"]
[921740,"Примања од отплате кредита датих удружењима грађана у земљи у корист нивоа градова"]
[921741,"Примања од отплате кредита датих удружењима грађана у земљи у корист нивоа градова"]
[921750,"Примања од отплате кредита датих удружењима грађана у земљи у корист нивоа општина"]
[921751,"Примања од отплате кредита датих удружењима грађана у земљи у корист нивоа општина"]
[921760,"Примања од отплате кредита датих удружењима грађана у земљи у корист организација за обавезно социјално осигурање"]
[921761,"Примања од отплате кредита датих удружењима грађана у земљи у корист Републичког фонда за здравствено осигурање"]
[921762,"Примања од отплате кредита датих удружењима грађана у земљи у корист Републичког фонда за ПИО"]
[921765,"Примања од отплате кредита датих удружењима грађана у земљи у корист Националне службе за запошљавање"]
[921766,"Примања од отплате кредита датих удружењима грађана у земљи у корист Фонда за социјално осигурање војних осигураника"]
[921800,"Примања од отплате кредита датих нефинансијским приватним предузећима у земљи"]
[921820,"Примања од отплате кредита датих нефинансијским приватним предузећима у земљи у корист нивоа Републике"]
[921821,"Примања од отплате кредита датих нефинансијским приватним предузећима у земљи у корист нивоа Републике"]
[921830,"Примања од отплате кредита датих нефинансијским приватним предузећима у земљи у корист нивоа територијалних аутономија"]
[921831,"Примања од отплате кредита датих нефинансијским приватним предузећима у земљи у корист нивоа територијалних аутономија"]
[921840,"Примања од отплате кредита датих нефинансијским приватним предузећима у земљи у корист нивоа градова"]
[921841,"Примања од отплате кредита датих нефинансијским приватним предузећима у земљи у корист нивоа градова"]
[921850,"Примања од отплате кредита датих нефинансијским приватним предузећима у земљи у корист нивоа општина"]
[921851,"Примања од отплате кредита датих нефинансијским приватним предузећима у земљи у корист нивоа општина"]
[921860,"Примања од отплате кредита датих нефинансијским приватним предузећима у земљи у корист организација за обавезно социјално осигурање"]
[921861,"Примања од отплате кредита датих нефинансијским приватним предузећима у земљи у корист Републичког фонда за здравствено осигурање"]
[921862,"Примања од отплате кредита датих нефинансијским приватним предузећима у земљи у корист Републичког фонда за ПИО"]
[921865,"Примања од отплате кредита датих нефинансијским приватним предузећима у земљи у корист Националне службе за запошљавање"]
[921866,"Примања од отплате кредита датих нефинансијским приватним предузећима у земљи у корист Фонда за социјално осигурање војних осигураника"]
[921900,"Примања од продаје домаћих акција и осталог капитала"]
[921920,"Примања од продаје домаћих акција и осталог капитала у корист нивоа Републике"]
[921921,"Примања од приватизације од продаје акција"]
[921922,"Примања од аукцијске приватизације"]
[921923,"Примања од продаје капитала у поступку приватизације у корист Буџетског фонда за реституцију"]
[921930,"Примања од продаје домаћих акција и осталог капитала у корист нивоа територијалних аутономија"]
[921931,"Примања од продаје домаћих акција и осталог капитала у корист нивоа АП Војводина"]
[921932,"Примања од продаје домаћих акција и осталог капитала у корист нивоа АП Косово и Метохија"]
[921940,"Примања од продаје домаћих акција и осталог капитала у корист нивоа градова"]
[921941,"Примања од продаје домаћих акција и осталог капитала у корист нивоа градова"]
[921950,"Примања од продаје домаћих акција и осталог капитала у корист нивоа општина"]
[921951,"Примања од продаје домаћих акција и осталог капитала у корист нивоа општина"]
[921960,"Примања од продаје домаћих акција и осталог капитала у корист организација за обавезно социјално осигурање"]
[921961,"Примања од продаје домаћих акција и осталог капитала у корист Републичког фонда за здравствено осигурање"]
[921962,"Примања од продаје домаћих акција и осталог капитала у корист Републичког фонда за ПИО"]
[921965,"Примања од продаје домаћих акција и осталог капитала у корист Националне службе за запошљавање"]
[921966,"Примања од продаје домаћих акција и осталог капитала у корист Фонда за социјално осигурање војних осигураника"]
[922000,"ПРИМАЊА ОД ПРОДАЈЕ СТРАНЕ ФИНАНСИЈСКЕ ИМОВИНЕ"]
[922100,"Примања од продаје страних хартија од вредности, изузев акција"]
[922120,"Примања од продаје страних хартија од вредности, изузев акција, у корист нивоа Републике"]
[922121,"Примања од продаје страних хартија од вредности, изузев акција, у корист нивоа Републике"]
[922130,"Примања од продаје страних хартија од вредности, изузев акција, у корист нивоа територијалних аутономија"]
[922131,"Примања од продаје страних хартија од вредности, изузев акција, у корист нивоа АП Војводина"]
[922132,"Примања од продаје страних хартија од вредности, изузев акција, у корист нивоа АП Косово и Метохија"]
[922140,"Примања од продаје страних хартија од вредности, изузев акција, у корист нивоа градова"]
[922141,"Примања од продаје страних хартија од вредности, изузев акција, у корист нивоа градова"]
[922150,"Примања од продаје страних хартија од вредности, изузев акција, у корист нивоа општина"]
[922151,"Примања од продаје страних хартија од вредности, изузев акција, у корист нивоа општина"]
[922160,"Примања од продаје страних хартија од вредности, изузев акција, у корист организација за обавезно социјално осигурање"]
[922161,"Примања од продаје страних хартија од вредности, изузев акција, у корист Републичког фонда за здравствено осигурање"]
[922162,"Примања од продаје страних хартија од вредности, изузев акција, у корист Републичког фонда за ПИО"]
[922165,"Примања од продаје страних хартија од вредности, изузев акција, у корист Националне службе за запошљавање"]
[922166,"Примања од продаје страних хартија од вредности, изузев акција, у корист Фонда за социјално осигурање војних осигураника"]
[922200,"Примања од отплате кредита датих страним владама"]
[922220,"Примања од отплате кредита датих страним владама у корист нивоа Републике"]
[922221,"Примања од отплате кредита датих страним владама у корист нивоа Републике"]
[922230,"Примања од отплате кредита датих страним владама у корист нивоа територијалних аутономија"]
[922231,"Примања од отплате кредита датих страним владама у корист нивоа територијалних аутономија"]
[922240,"Примања од отплате кредита датих страним владама у корист нивоа градова"]
[922241,"Примања од отплате кредита датих страним владама у корист нивоа градова"]
[922250,"Примања од отплате кредита датих страним владама у корист нивоа општина"]
[922251,"Примања од отплате кредита датих страним владама у корист нивоа општина"]
[922260,"Примања од отплате кредита датих страним владама у корист организација за обавезно социјално осигурање"]
[922261,"Примања од отплате кредита датих страним владама у корист Републичког фонда за здравствено осигурање"]
[922262,"Примања од отплате кредита датих страним владама у корист Републичког фонда за ПИО"]
[922265,"Примања од отплате кредита датих страним владама у корист Националне службе за запошљавање"]
[922266,"Примања од отплате кредита датих страним владама у корист Фонда за социјално осигурање војних осигураника"]
[922300,"Примања од отплате кредита датих међународним организацијама"]
[922320,"Примања од отплате кредита датих међународним организацијама у корист нивоа Републике"]
[922321,"Примања од отплате кредита датих међународним организацијама у корист нивоа Републике"]
[922322,"Примања од отплате кредита датих за премошћавање финансирања пројеката ЕУ у корист нивоа Републике"]
[922330,"Примања од отплате кредита датих међународним организацијама у корист нивоа територијалних аутономија"]
[922331,"Примања од отплате кредита датих међународним организацијама у корист нивоа територијалних аутономија"]
[922340,"Примања од отплате кредита датих међународним организацијама у корист нивоа градова"]
[922341,"Примања од отплате кредита датих међународним организацијама у корист нивоа градова"]
[922350,"Примања од отплате кредита датих међународним организацијама у корист нивоа општина"]
[922351,"Примања од отплате кредита датих међународним организацијама у корист нивоа општина"]
[922360,"Примања од отплате кредита датих међународним организацијама у корист организација за обавезно социјално осигурање"]
[922361,"Примања од отплате кредита датих међународним организацијама у корист Републичког фонда за здравствено осигурање"]
[922362,"Примања од отплате кредита датих међународним организацијама у корист Републичког фонда за ПИО"]
[922365,"Примања од отплате кредита датих међународним организацијама у корист Националне службе за запошљавање"]
[922366,"Примања од отплате кредита датих међународним организацијама у корист Фонда за социјално осигурање војних осигураника"]
[922400,"Примања од отплате кредита датих страним пословним банкама"]
[922420,"Примања од отплате кредита датих страним пословним банкама у корист нивоа Републике"]
[922421,"Примања од отплате кредита датих страним пословним банкама у корист нивоа Републике"]
[922430,"Примања од отплате кредита датих страним пословним банкама у корист нивоа територијалних аутономија"]
[922431,"Примања од отплате кредита датих страним пословним банкама у корист нивоа територијалних аутономија"]
[922440,"Примања од отплате кредита датих страним пословним банкама у корист нивоа градова"]
[922441,"Примања од отплате кредита датих страним пословним банкама у корист нивоа градова"]
[922450,"Примања од отплате кредита датих страним пословним банкама у корист нивоа општина"]
[922451,"Примања од отплате кредита датих страним пословним банкама у корист нивоа општина"]
[922460,"Примања од отплате кредита датих страним пословним банкама у корист организација за обавезно социјално осигурањЕ"]
[922461,"Примања од отплате кредита датих страним пословним банкама у корист Републичког фонда за здравствено осигурање"]
[922462,"Примања од отплате кредита датих страним пословним банкама у корист Републичког фонда за ПИО"]
[922465,"Примања од отплате кредита датих страним пословним банкама у корист Националне службе за запошљавање"]
[922466,"Примања од отплате кредита датих страним пословним банкама у корист Фонда за социјално осигурање војних осигураника"]
[922500,"Примања од отплате кредита датих страним нефинансијским институцијама"]
[922520,"Примања од отплате кредита датих страним нефинансијским институцијама у корист нивоа Републике"]
[922521,"Примања од отплате кредита датих страним нефинансијским институцијама у корист нивоа Републике"]
[922530,"Примања од отплате кредита датих страним нефинансијским институцијама у корист нивоа територијалних аутономија"]
[922531,"Примања од отплате кредита датих страним нефинансијским институцијама у корист нивоа територијалних аутономија"]
[922540,"Примања од отплате кредита датих страним нефинансијским институцијама у корист нивоа градова"]
[922541,"Примања од отплате кредита датих страним нефинансијским институцијама у корист нивоа градова"]
[922550,"Примања од отплате кредита датих страним нефинансијским институцијама у корист нивоа општина"]
[922551,"Примања од отплате кредита датих страним нефинансијским институцијама у корист нивоа општина"]
[922560,"Примања од отплате кредита датих страним нефинансијским институцијама у корист организација за обавезно социјално осигурање"]
[922561,"Примања од отплате кредита датих страним нефинансијским институцијама у корист Републичког фонда за здравствено осигурање"]
[922562,"Примања од отплате кредита датих страним нефинансијским институцијама у корист Републичког фонда за ПИО"]
[922565,"Примања од отплате кредита датих страним нефинансијским институцијама у корист Националне службе за запошљавање"]
[922566,"Примања од отплате кредита датих страним нефинансијским институцијама у корист Фонда за социјално осигурање војних осигураника"]
[922600,"Примања од отплате кредита датих страним невладиним организацијама"]
[922620,"Примања од отплате кредита датих страним невладиним организацијама у корист нивоа Републике"]
[922621,"Примања од отплате кредита датих страним невладиним организацијама у корист нивоа Републике"]
[922630,"Примања од отплате кредита датих страним невладиним организацијама у корист нивоа територијалних аутономија"]
[922631,"Примања од отплате кредита датих страним невладиним организацијама у корист нивоа територијалних аутономија"]
[922640,"Примања од отплате кредита датих страним невладиним организацијама у корист нивоа градова"]
[922641,"Примања од отплате кредита датих страним невладиним организацијама у корист нивоа градова"]
[922650,"Примања од отплате кредита датих страним невладиним организацијама у корист нивоа општина"]
[922651,"Примања од отплате кредита датих страним невладиним организацијама у корист нивоа општина"]
[922660,"Примања од отплате кредита датих страним невладиним организацијама у корист организација за обавезно социјално осигурање"]
[922661,"Примања од отплате кредита датих страним невладиним организацијама у корист Републичког фонда за здравствено осигурање"]
[922662,"Примања од отплате кредита датих страним невладиним организацијама у корист Републичког фонда за ПИО"]
[922665,"Примања од отплате кредита датих страним невладиним организацијама у корист Националне службе за запошљавање"]
[922666,"Примања од отплате кредита датих страним невладиним организацијама у корист Фонда за социјално осигурање војних осигураника"]
[922700,"Примања од продаје страних акција и осталог капитала"]
[922720,"Примања од продаје страних акција и осталог капитала у корист нивоа Републике"]
[922721,"Примања од продаје страних акција и осталог капитала у корист нивоа Републике"]
[922730,"Примања од продаје страних акција и осталог капитала у корист нивоа територијалних аутономија"]
[922731,"Примања од продаје страних акција и осталог капитала у корист нивоа АП Војводина"]
[922732,"Примања од продаје страних акција и осталог капитала у корист нивоа АП Косово и Метохија"]
[922740,"Примања од продаје страних акција и осталог капитала у корист нивоа градова"]
[922741,"Примања од продаје страних акција и осталог капитала у корист нивоа градова"]
[922750,"Примања од продаје страних акција и осталог капитала у корист нивоа општина"]
[922751,"Примања од продаје страних акција и осталог капитала у корист нивоа општина"]
[922760,"Примања од продаје страних акција и осталог капитала у корист организација за обавезно социјално осигурање"]
[922761,"Примања од продаје страних акција и осталог капитала у корист Републичког фонда за здравствено осигурање"]
[922762,"Примања од продаје страних акција и осталог капитала у корист Републичког фонда за ПИО"]
[922765,"Примања од продаје страних акција и осталог капитала у корист Националне службе за запошљавање"]
[922766,"Примања од продаје страних акција и осталог капитала у корист Фонда за социјално осигурање војних осигураника"]
[922800,"Примања од продаје стране валуте"]
[922810,"Примања од продаје стране валуте"]
[922811,"Примања од продаје стране валуте"]
[990000,"КОНТРА КЊИЖЕЊЕ - ПРИМАЊА ОД ЗАДУЖИВАЊА И ПРОДАЈЕ ФИНАНСИЈСКЕ ИМОВИНЕ"]
[999000,"КОНТРА КЊИЖЕЊЕ - ПРИМАЊА ОД ЗАДУЖИВАЊА И ПРОДАЈЕ ФИНАНСИЈСКЕ ИМОВИНЕ"]
[999900,"Контра књижење - примања од задуживања и продаје финансијске имовине"]
[999990,"Контра књижење - примања од задуживања и продаје финансијске имовине"]
[999999,"Контра књижење - примања од задуживања и продаје финансијске имовине"]